{"text_format":"1","workbook":"xlsx","n_sheets":3,"sheets":["Ərizə","Qeydiyyat","Manual"],"not_rendered":{"charts":0,"images":1,"macros":1,"external_links":0,"defined_names":2,"comments":0,"pivot_tables":0},"unopened":[],"bounds":{"document_bytes":16777216,"sheet_cells":100000,"rows_first":2000,"rows_last":500,"rows_between":2000,"halvings":0,"cell_chars":16384,"cell_head_chars":4096},"cells_cut":0,"cells_raw":0,"read":"whole","date_system":"1900"}

{"sheet":"Ərizə","index":0,"n_rows":1052,"n_cols":15,"rows_kept":1052,"cut":false,"hidden":false,"merged":[[1014,9,1014,10],[1015,9,1015,10],[1016,9,1016,10],[1017,9,1017,10],[1009,9,1009,10],[1010,9,1010,10],[1011,9,1011,10],[1012,9,1012,10],[1013,9,1013,10],[1004,9,1004,10],[1005,9,1005,10],[1006,9,1006,10],[1007,9,1007,10],[1008,9,1008,10],[999,9,999,10],[1000,9,1000,10],[1001,9,1001,10],[1002,9,1002,10],[1003,9,1003,10],[994,9,994,10],[995,9,995,10],[996,9,996,10],[997,9,997,10],[998,9,998,10],[989,9,989,10],[990,9,990,10],[991,9,991,10],[992,9,992,10],[993,9,993,10],[984,9,984,10],[985,9,985,10],[986,9,986,10],[987,9,987,10],[988,9,988,10],[979,9,979,10],[980,9,980,10],[981,9,981,10],[982,9,982,10],[983,9,983,10],[974,9,974,10],[975,9,975,10],[976,9,976,10],[977,9,977,10],[978,9,978,10],[969,9,969,10],[970,9,970,10],[971,9,971,10],[972,9,972,10],[973,9,973,10],[964,9,964,10],[965,9,965,10],[966,9,966,10],[967,9,967,10],[968,9,968,10],[959,9,959,10],[960,9,960,10],[961,9,961,10],[962,9,962,10],[963,9,963,10],[954,9,954,10],[955,9,955,10],[956,9,956,10],[957,9,957,10],[958,9,958,10],[949,9,949,10],[950,9,950,10],[951,9,951,10],[952,9,952,10],[953,9,953,10],[944,9,944,10],[945,9,945,10],[946,9,946,10],[947,9,947,10],[948,9,948,10],[939,9,939,10],[940,9,940,10],[941,9,941,10],[942,9,942,10],[943,9,943,10],[934,9,934,10],[935,9,935,10],[936,9,936,10],[937,9,937,10],[938,9,938,10],[929,9,929,10],[930,9,930,10],[931,9,931,10],[932,9,932,10],[933,9,933,10],[924,9,924,10],[925,9,925,10],[926,9,926,10],[927,9,927,10],[928,9,928,10],[919,9,919,10],[920,9,920,10],[921,9,921,10],[922,9,922,10],[923,9,923,10],[914,9,914,10],[915,9,915,10],[916,9,916,10],[917,9,917,10],[918,9,918,10],[909,9,909,10],[910,9,910,10],[911,9,911,10],[912,9,912,10],[913,9,913,10],[904,9,904,10],[905,9,905,10],[906,9,906,10],[907,9,907,10],[908,9,908,10],[899,9,899,10],[900,9,900,10],[901,9,901,10],[902,9,902,10],[903,9,903,10],[894,9,894,10],[895,9,895,10],[896,9,896,10],[897,9,897,10],[898,9,898,10],[889,9,889,10],[890,9,890,10],[891,9,891,10],[892,9,892,10],[893,9,893,10],[884,9,884,10],[885,9,885,10],[886,9,886,10],[887,9,887,10],[888,9,888,10],[879,9,879,10],[880,9,880,10],[881,9,881,10],[882,9,882,10],[883,9,883,10],[874,9,874,10],[875,9,875,10],[876,9,876,10],[877,9,877,10],[878,9,878,10],[869,9,869,10],[870,9,870,10],[871,9,871,10],[872,9,872,10],[873,9,873,10],[864,9,864,10],[865,9,865,10],[866,9,866,10],[867,9,867,10],[868,9,868,10],[859,9,859,10],[860,9,860,10],[861,9,861,10],[862,9,862,10],[863,9,863,10],[854,9,854,10],[855,9,855,10],[856,9,856,10],[857,9,857,10],[858,9,858,10],[849,9,849,10],[850,9,850,10],[851,9,851,10],[852,9,852,10],[853,9,853,10],[844,9,844,10],[845,9,845,10],[846,9,846,10],[847,9,847,10],[848,9,848,10],[839,9,839,10],[840,9,840,10],[841,9,841,10],[842,9,842,10],[843,9,843,10],[834,9,834,10],[835,9,835,10],[836,9,836,10],[837,9,837,10],[838,9,838,10],[829,9,829,10],[830,9,830,10],[831,9,831,10],[832,9,832,10],[833,9,833,10],[824,9,824,10],[825,9,825,10],[826,9,826,10],[827,9,827,10],[828,9,828,10],[819,9,819,10],[820,9,820,10],[821,9,821,10],[822,9,822,10],[823,9,823,10],[814,9,814,10],[815,9,815,10],[816,9,816,10],[817,9,817,10],[818,9,818,10],[809,9,809,10],[810,9,810,10],[811,9,811,10],[812,9,812,10],[813,9,813,10],[804,9,804,10],[805,9,805,10],[806,9,806,10],[807,9,807,10],[808,9,808,10],[799,9,799,10],[800,9,800,10],[801,9,801,10],[802,9,802,10],[803,9,803,10],[794,9,794,10],[795,9,795,10],[796,9,796,10],[797,9,797,10],[798,9,798,10],[789,9,789,10],[790,9,790,10],[791,9,791,10],[792,9,792,10],[793,9,793,10],[784,9,784,10],[785,9,785,10],[786,9,786,10],[787,9,787,10],[788,9,788,10],[779,9,779,10],[780,9,780,10],[781,9,781,10],[782,9,782,10],[783,9,783,10],[774,9,774,10],[775,9,775,10],[776,9,776,10],[777,9,777,10],[778,9,778,10],[769,9,769,10],[770,9,770,10],[771,9,771,10],[772,9,772,10],[773,9,773,10],[764,9,764,10],[765,9,765,10],[766,9,766,10],[767,9,767,10],[768,9,768,10],[759,9,759,10],[760,9,760,10],[761,9,761,10],[762,9,762,10],[763,9,763,10],[754,9,754,10],[755,9,755,10],[756,9,756,10],[757,9,757,10],[758,9,758,10],[749,9,749,10],[750,9,750,10],[751,9,751,10],[752,9,752,10],[753,9,753,10],[744,9,744,10],[745,9,745,10],[746,9,746,10],[747,9,747,10],[748,9,748,10],[739,9,739,10],[740,9,740,10],[741,9,741,10],[742,9,742,10],[743,9,743,10],[734,9,734,10],[735,9,735,10],[736,9,736,10],[737,9,737,10],[738,9,738,10],[729,9,729,10],[730,9,730,10],[731,9,731,10],[732,9,732,10],[733,9,733,10],[724,9,724,10],[725,9,725,10],[726,9,726,10],[727,9,727,10],[728,9,728,10],[719,9,719,10],[720,9,720,10],[721,9,721,10],[722,9,722,10],[723,9,723,10],[714,9,714,10],[715,9,715,10],[716,9,716,10],[717,9,717,10],[718,9,718,10],[709,9,709,10],[710,9,710,10],[711,9,711,10],[712,9,712,10],[713,9,713,10],[704,9,704,10],[705,9,705,10],[706,9,706,10],[707,9,707,10],[708,9,708,10],[699,9,699,10],[700,9,700,10],[701,9,701,10],[702,9,702,10],[703,9,703,10],[694,9,694,10],[695,9,695,10],[696,9,696,10],[697,9,697,10],[698,9,698,10],[689,9,689,10],[690,9,690,10],[691,9,691,10],[692,9,692,10],[693,9,693,10],[684,9,684,10],[685,9,685,10],[686,9,686,10],[687,9,687,10],[688,9,688,10],[679,9,679,10],[680,9,680,10],[681,9,681,10],[682,9,682,10],[683,9,683,10],[674,9,674,10],[675,9,675,10],[676,9,676,10],[677,9,677,10],[678,9,678,10],[669,9,669,10],[670,9,670,10],[671,9,671,10],[672,9,672,10],[673,9,673,10],[664,9,664,10],[665,9,665,10],[666,9,666,10],[667,9,667,10],[668,9,668,10],[659,9,659,10],[660,9,660,10],[661,9,661,10],[662,9,662,10],[663,9,663,10],[654,9,654,10],[655,9,655,10],[656,9,656,10],[657,9,657,10],[658,9,658,10],[649,9,649,10],[650,9,650,10],[651,9,651,10],[652,9,652,10],[653,9,653,10],[644,9,644,10],[645,9,645,10],[646,9,646,10],[647,9,647,10],[648,9,648,10],[639,9,639,10],[640,9,640,10],[641,9,641,10],[642,9,642,10],[643,9,643,10],[634,9,634,10],[635,9,635,10],[636,9,636,10],[637,9,637,10],[638,9,638,10],[629,9,629,10],[630,9,630,10],[631,9,631,10],[632,9,632,10],[633,9,633,10],[624,9,624,10],[625,9,625,10],[626,9,626,10],[627,9,627,10],[628,9,628,10],[619,9,619,10],[620,9,620,10],[621,9,621,10],[622,9,622,10],[623,9,623,10],[614,9,614,10],[615,9,615,10],[616,9,616,10],[617,9,617,10],[618,9,618,10],[609,9,609,10],[610,9,610,10],[611,9,611,10],[612,9,612,10],[613,9,613,10],[604,9,604,10],[605,9,605,10],[606,9,606,10],[607,9,607,10],[608,9,608,10],[599,9,599,10],[600,9,600,10],[601,9,601,10],[602,9,602,10],[603,9,603,10],[594,9,594,10],[595,9,595,10],[596,9,596,10],[597,9,597,10],[598,9,598,10],[589,9,589,10],[590,9,590,10],[591,9,591,10],[592,9,592,10],[593,9,593,10],[584,9,584,10],[585,9,585,10],[586,9,586,10],[587,9,587,10],[588,9,588,10],[579,9,579,10],[580,9,580,10],[581,9,581,10],[582,9,582,10],[583,9,583,10],[574,9,574,10],[575,9,575,10],[576,9,576,10],[577,9,577,10],[578,9,578,10],[569,9,569,10],[570,9,570,10],[571,9,571,10],[572,9,572,10],[573,9,573,10],[564,9,564,10],[565,9,565,10],[566,9,566,10],[567,9,567,10],[568,9,568,10],[559,9,559,10],[560,9,560,10],[561,9,561,10],[562,9,562,10],[563,9,563,10],[554,9,554,10],[555,9,555,10],[556,9,556,10],[557,9,557,10],[558,9,558,10],[549,9,549,10],[550,9,550,10],[551,9,551,10],[552,9,552,10],[553,9,553,10],[544,9,544,10],[545,9,545,10],[546,9,546,10],[547,9,547,10],[548,9,548,10],[539,9,539,10],[540,9,540,10],[541,9,541,10],[542,9,542,10],[543,9,543,10],[534,9,534,10],[535,9,535,10],[536,9,536,10],[537,9,537,10],[538,9,538,10],[529,9,529,10],[530,9,530,10],[531,9,531,10],[532,9,532,10],[533,9,533,10],[524,9,524,10],[525,9,525,10],[526,9,526,10],[527,9,527,10],[528,9,528,10],[519,9,519,10],[520,9,520,10],[521,9,521,10],[522,9,522,10],[523,9,523,10],[514,9,514,10],[515,9,515,10],[516,9,516,10],[517,9,517,10],[518,9,518,10],[509,9,509,10],[510,9,510,10],[511,9,511,10],[512,9,512,10],[513,9,513,10],[504,9,504,10],[505,9,505,10],[506,9,506,10],[507,9,507,10],[508,9,508,10],[499,9,499,10],[500,9,500,10],[501,9,501,10],[502,9,502,10],[503,9,503,10],[494,9,494,10],[495,9,495,10],[496,9,496,10],[497,9,497,10],[498,9,498,10],[489,9,489,10],[490,9,490,10],[491,9,491,10],[492,9,492,10],[493,9,493,10],[484,9,484,10],[485,9,485,10],[486,9,486,10],[487,9,487,10],[488,9,488,10],[479,9,479,10],[480,9,480,10],[481,9,481,10],[482,9,482,10],[483,9,483,10],[474,9,474,10],[475,9,475,10],[476,9,476,10],[477,9,477,10],[478,9,478,10],[469,9,469,10],[470,9,470,10],[471,9,471,10],[472,9,472,10],[473,9,473,10],[464,9,464,10],[465,9,465,10],[466,9,466,10],[467,9,467,10],[468,9,468,10],[459,9,459,10],[460,9,460,10],[461,9,461,10],[462,9,462,10],[463,9,463,10],[454,9,454,10],[455,9,455,10],[456,9,456,10],[457,9,457,10],[458,9,458,10],[449,9,449,10],[450,9,450,10],[451,9,451,10],[452,9,452,10],[453,9,453,10],[444,9,444,10],[445,9,445,10],[446,9,446,10],[447,9,447,10],[448,9,448,10],[439,9,439,10],[440,9,440,10],[441,9,441,10],[442,9,442,10],[443,9,443,10],[434,9,434,10],[435,9,435,10],[436,9,436,10],[437,9,437,10],[438,9,438,10],[429,9,429,10],[430,9,430,10],[431,9,431,10],[432,9,432,10],[433,9,433,10],[424,9,424,10],[425,9,425,10],[426,9,426,10],[427,9,427,10],[428,9,428,10],[419,9,419,10],[420,9,420,10],[421,9,421,10],[422,9,422,10],[423,9,423,10],[414,9,414,10],[415,9,415,10],[416,9,416,10],[417,9,417,10],[418,9,418,10],[409,9,409,10],[410,9,410,10],[411,9,411,10],[412,9,412,10],[413,9,413,10],[404,9,404,10],[405,9,405,10],[406,9,406,10],[407,9,407,10],[408,9,408,10],[399,9,399,10],[400,9,400,10],[401,9,401,10],[402,9,402,10],[403,9,403,10],[394,9,394,10],[395,9,395,10],[396,9,396,10],[397,9,397,10],[398,9,398,10],[389,9,389,10],[390,9,390,10],[391,9,391,10],[392,9,392,10],[393,9,393,10],[384,9,384,10],[385,9,385,10],[386,9,386,10],[387,9,387,10],[388,9,388,10],[379,9,379,10],[380,9,380,10],[381,9,381,10],[382,9,382,10],[383,9,383,10],[374,9,374,10],[375,9,375,10],[376,9,376,10],[377,9,377,10],[378,9,378,10],[369,9,369,10],[370,9,370,10],[371,9,371,10],[372,9,372,10],[373,9,373,10],[364,9,364,10],[365,9,365,10],[366,9,366,10],[367,9,367,10],[368,9,368,10],[359,9,359,10],[360,9,360,10],[361,9,361,10],[362,9,362,10],[363,9,363,10],[354,9,354,10],[355,9,355,10],[356,9,356,10],[357,9,357,10],[358,9,358,10],[349,9,349,10],[350,9,350,10],[351,9,351,10],[352,9,352,10],[353,9,353,10],[344,9,344,10],[345,9,345,10],[346,9,346,10],[347,9,347,10],[348,9,348,10],[339,9,339,10],[340,9,340,10],[341,9,341,10],[342,9,342,10],[343,9,343,10],[334,9,334,10],[335,9,335,10],[336,9,336,10],[337,9,337,10],[338,9,338,10],[329,9,329,10],[330,9,330,10],[331,9,331,10],[332,9,332,10],[333,9,333,10],[324,9,324,10],[325,9,325,10],[326,9,326,10],[327,9,327,10],[328,9,328,10],[319,9,319,10],[320,9,320,10],[321,9,321,10],[322,9,322,10],[323,9,323,10],[314,9,314,10],[315,9,315,10],[316,9,316,10],[317,9,317,10],[318,9,318,10],[309,9,309,10],[310,9,310,10],[311,9,311,10],[312,9,312,10],[313,9,313,10],[304,9,304,10],[305,9,305,10],[306,9,306,10],[307,9,307,10],[308,9,308,10],[299,9,299,10],[300,9,300,10],[301,9,301,10],[302,9,302,10],[303,9,303,10],[294,9,294,10],[295,9,295,10],[296,9,296,10],[297,9,297,10],[298,9,298,10],[289,9,289,10],[290,9,290,10],[291,9,291,10],[292,9,292,10],[293,9,293,10],[284,9,284,10],[285,9,285,10],[286,9,286,10],[287,9,287,10],[288,9,288,10],[279,9,279,10],[280,9,280,10],[281,9,281,10],[282,9,282,10],[283,9,283,10],[274,9,274,10],[275,9,275,10],[276,9,276,10],[277,9,277,10],[278,9,278,10],[269,9,269,10],[270,9,270,10],[271,9,271,10],[272,9,272,10],[273,9,273,10],[264,9,264,10],[265,9,265,10],[266,9,266,10],[267,9,267,10],[268,9,268,10],[259,9,259,10],[260,9,260,10],[261,9,261,10],[262,9,262,10],[263,9,263,10],[254,9,254,10],[255,9,255,10],[256,9,256,10],[257,9,257,10],[258,9,258,10],[249,9,249,10],[250,9,250,10],[251,9,251,10],[252,9,252,10],[253,9,253,10],[244,9,244,10],[245,9,245,10],[246,9,246,10],[247,9,247,10],[248,9,248,10],[239,9,239,10],[240,9,240,10],[241,9,241,10],[242,9,242,10],[243,9,243,10],[234,9,234,10],[235,9,235,10],[236,9,236,10],[237,9,237,10],[238,9,238,10],[229,9,229,10],[230,9,230,10],[231,9,231,10],[232,9,232,10],[233,9,233,10],[224,9,224,10],[225,9,225,10],[226,9,226,10],[227,9,227,10],[228,9,228,10],[219,9,219,10],[220,9,220,10],[221,9,221,10],[222,9,222,10],[223,9,223,10],[214,9,214,10],[215,9,215,10],[216,9,216,10],[217,9,217,10],[218,9,218,10],[209,9,209,10],[210,9,210,10],[211,9,211,10],[212,9,212,10],[213,9,213,10],[204,9,204,10],[205,9,205,10],[206,9,206,10],[207,9,207,10],[208,9,208,10],[199,9,199,10],[200,9,200,10],[201,9,201,10],[202,9,202,10],[203,9,203,10],[194,9,194,10],[195,9,195,10],[196,9,196,10],[197,9,197,10],[198,9,198,10],[189,9,189,10],[190,9,190,10],[191,9,191,10],[192,9,192,10],[193,9,193,10],[184,9,184,10],[185,9,185,10],[186,9,186,10],[187,9,187,10],[188,9,188,10],[179,9,179,10],[180,9,180,10],[181,9,181,10],[182,9,182,10],[183,9,183,10],[174,9,174,10],[175,9,175,10],[176,9,176,10],[177,9,177,10],[178,9,178,10],[169,9,169,10],[170,9,170,10],[171,9,171,10],[172,9,172,10],[173,9,173,10],[164,9,164,10],[165,9,165,10],[166,9,166,10],[167,9,167,10],[168,9,168,10],[159,9,159,10],[160,9,160,10],[161,9,161,10],[162,9,162,10],[163,9,163,10],[154,9,154,10],[155,9,155,10],[156,9,156,10],[157,9,157,10],[158,9,158,10],[149,9,149,10],[150,9,150,10],[151,9,151,10],[152,9,152,10],[153,9,153,10],[144,9,144,10],[145,9,145,10],[146,9,146,10],[147,9,147,10],[148,9,148,10],[139,9,139,10],[140,9,140,10],[141,9,141,10],[142,9,142,10],[143,9,143,10],[134,9,134,10],[135,9,135,10],[136,9,136,10],[137,9,137,10],[138,9,138,10],[129,9,129,10],[130,9,130,10],[131,9,131,10],[132,9,132,10],[133,9,133,10],[124,9,124,10],[125,9,125,10],[126,9,126,10],[127,9,127,10],[128,9,128,10],[119,9,119,10],[120,9,120,10],[121,9,121,10],[122,9,122,10],[123,9,123,10],[114,9,114,10],[115,9,115,10],[116,9,116,10],[117,9,117,10],[118,9,118,10],[109,9,109,10],[110,9,110,10],[111,9,111,10],[112,9,112,10],[113,9,113,10],[104,9,104,10],[105,9,105,10],[106,9,106,10],[107,9,107,10],[108,9,108,10],[99,9,99,10],[100,9,100,10],[101,9,101,10],[102,9,102,10],[103,9,103,10],[95,9,95,10],[96,9,96,10],[97,9,97,10],[98,9,98,10],[89,9,89,10],[90,9,90,10],[91,9,91,10],[92,9,92,10],[93,9,93,10],[84,9,84,10],[85,9,85,10],[86,9,86,10],[87,9,87,10],[88,9,88,10],[79,9,79,10],[80,9,80,10],[81,9,81,10],[82,9,82,10],[83,9,83,10],[78,9,78,10],[69,9,69,10],[70,9,70,10],[71,9,71,10],[72,9,72,10],[73,9,73,10],[64,9,64,10],[65,9,65,10],[66,9,66,10],[67,9,67,10],[68,9,68,10],[59,9,59,10],[60,9,60,10],[61,9,61,10],[62,9,62,10],[63,9,63,10],[94,9,94,10],[1028,1,1028,14],[6,1,6,14],[15,9,15,10],[19,9,19,10],[20,9,20,10],[21,9,21,10],[22,9,22,10],[23,9,23,10],[54,9,54,10],[55,9,55,10],[56,9,56,10],[57,9,57,10],[58,9,58,10],[49,9,49,10],[50,9,50,10],[51,9,51,10],[52,9,52,10],[53,9,53,10],[44,9,44,10],[45,9,45,10],[46,9,46,10],[47,9,47,10],[48,9,48,10],[39,9,39,10],[40,9,40,10],[41,9,41,10],[42,9,42,10],[43,9,43,10],[74,9,74,10],[75,9,75,10],[76,9,76,10],[77,9,77,10],[3,3,3,9],[0,10,0,14],[1,10,2,14],[17,9,17,10],[18,9,18,10],[34,9,34,10],[35,9,35,10],[36,9,36,10],[37,9,37,10],[38,9,38,10],[29,9,29,10],[30,9,30,10],[31,9,31,10]],"merged_total":1007,"flags":["merged_cut"]}
[null,null,null,null,null,null,null,null,null,null,"Tarix: _______________ No ___"]
[]
[]
[null,null,null,"ÖDƏNİŞ KARTLARI ÜZRƏ XİDMƏTLƏRİN GÖSTƏRİLMƏSİ ÜÇÜN ƏRİZƏYƏ ƏLAVƏ \nƏMƏK HAQQI KART HESABLARIN AÇILMASI ÜÇÜN ƏRİZƏ"]
[null,null,"                                       __________________nömrəli __________________  tarixli Ümumi Şərtlər Toplusuna əlavə"]
[null,"MÜŞTƏRİ"]
[null,"Xahiş edirəm aşağıda qeyd edilən xidməti göstərəsiniz "]
[null,"XİDMƏT NÖVÜ"]
[null,{"$f":"\"Yeni əmək haqqı kartlarının sifarişi. Kartların ümumi sayı \"&COUNTA(Qeydiyyat!B250:B1250)","v":"Yeni əmək haqqı kartlarının sifarişi. Kartların ümumi sayı 1"}]
[null,"Əmək haqqı kartlarının əvəzolunması. Kartların ümumi sayı _______"]
[null,"Əmək haqqı kartların yenilənməsi. Kartların ümumi sayı _______"]
[null,"Əmək haqqı kart hesablarının bağlanması. Kartların ümumi sayı ________"]
[null,"Əmək haqqı kart hesabları üzrə digər xidmətlər ________________________________"]
[]
[]
[null,"No","Adı","Soyadı","Atasının\n adı ","Ş/V FİN kod","Məxfi şifrə","E -poçt \n","Mobil telefon\n nömrəsi","Əlavə xidmətlər \n (tariflərlə tanış olun)",null,"Aylıq Ə/H 5000 AZN və ya daha yüksəkdir?","Əvəzolunma","Karta görə xidmət haqqı Şirkətin/ kart sahibinin hesabından tutulsun (əvəzolunma olduqda)","Təcili "]
[]
[null,null,null,null,null,null,null,null,null,"SMS Banking ",null,"Bəli / Xeyr","Bəli ","Kart sahibi","Bəli "]
[null,1,{"$f":"IF(Qeydiyyat!C250=\"\",\"\",Qeydiyyat!C250)","v":"NIGAR"},{"$f":"IF(Qeydiyyat!B250=\"\",\"\",Qeydiyyat!B250)","v":"MƏMMƏDOVA"},{"$f":"IF(Qeydiyyat!D250=\"\",\"\",Qeydiyyat!D250)","v":"FAIQ"},{"$f":"IF(Qeydiyyat!K250=\"\",\"\",Qeydiyyat!K250)","v":"1XJH123"},{"$f":"IF(Qeydiyyat!AB250=\"\",\"\",Qeydiyyat!AB250)","v":1234567},{"$f":"IF(Qeydiyyat!AA250=\"\",\"\",Qeydiyyat!AA250)","v":"nigar@mail.ru"},{"$f":"IF(Qeydiyyat!X250=\"\",\"\",Qeydiyyat!X250)","v":"+994501234567"},{"$f":"IF(Qeydiyyat!Y250=\"\",\"\",Qeydiyyat!Y250)","v":"Bəli"},null,{"$f":"IF(Qeydiyyat!AC250=\"\",\"\",Qeydiyyat!AC250)","v":"Bəli"}]
[null,{"$f":"B19+1","v":2},{"$f":"IF(Qeydiyyat!C251=\"\",\"\",Qeydiyyat!C251)","v":""},{"$f":"IF(Qeydiyyat!B251=\"\",\"\",Qeydiyyat!B251)","v":""},{"$f":"IF(Qeydiyyat!D251=\"\",\"\",Qeydiyyat!D251)","v":""},{"$f":"IF(Qeydiyyat!K251=\"\",\"\",Qeydiyyat!K251)","v":""},{"$f":"IF(Qeydiyyat!AB251=\"\",\"\",Qeydiyyat!AB251)","v":""},{"$f":"IF(Qeydiyyat!AA251=\"\",\"\",Qeydiyyat!AA251)","v":""},{"$f":"IF(Qeydiyyat!X251=\"\",\"\",Qeydiyyat!X251)","v":""},{"$f":"IF(Qeydiyyat!Y251=\"\",\"\",Qeydiyyat!Y251)","v":""},null,{"$f":"IF(Qeydiyyat!AC251=\"\",\"\",Qeydiyyat!AC251)","v":""}]
[null,{"$f":"B20+1","v":3},{"$f":"IF(Qeydiyyat!C252=\"\",\"\",Qeydiyyat!C252)","v":""},{"$f":"IF(Qeydiyyat!B252=\"\",\"\",Qeydiyyat!B252)","v":""},{"$f":"IF(Qeydiyyat!D252=\"\",\"\",Qeydiyyat!D252)","v":""},{"$f":"IF(Qeydiyyat!K252=\"\",\"\",Qeydiyyat!K252)","v":""},{"$f":"IF(Qeydiyyat!AB252=\"\",\"\",Qeydiyyat!AB252)","v":""},{"$f":"IF(Qeydiyyat!AA252=\"\",\"\",Qeydiyyat!AA252)","v":""},{"$f":"IF(Qeydiyyat!X252=\"\",\"\",Qeydiyyat!X252)","v":""},{"$f":"IF(Qeydiyyat!Y252=\"\",\"\",Qeydiyyat!Y252)","v":""},null,{"$f":"IF(Qeydiyyat!AC252=\"\",\"\",Qeydiyyat!AC252)","v":""}]
[null,4,{"$f":"IF(Qeydiyyat!C253=\"\",\"\",Qeydiyyat!C253)","v":""},{"$f":"IF(Qeydiyyat!B253=\"\",\"\",Qeydiyyat!B253)","v":""},{"$f":"IF(Qeydiyyat!D253=\"\",\"\",Qeydiyyat!D253)","v":""},{"$f":"IF(Qeydiyyat!K253=\"\",\"\",Qeydiyyat!K253)","v":""},{"$f":"IF(Qeydiyyat!AB253=\"\",\"\",Qeydiyyat!AB253)","v":""},{"$f":"IF(Qeydiyyat!AA253=\"\",\"\",Qeydiyyat!AA253)","v":""},{"$f":"IF(Qeydiyyat!X253=\"\",\"\",Qeydiyyat!X253)","v":""},{"$f":"IF(Qeydiyyat!Y253=\"\",\"\",Qeydiyyat!Y253)","v":""},null,{"$f":"IF(Qeydiyyat!AC253=\"\",\"\",Qeydiyyat!AC253)","v":""}]
[null,5,{"$f":"IF(Qeydiyyat!C254=\"\",\"\",Qeydiyyat!C254)","v":""},{"$f":"IF(Qeydiyyat!B254=\"\",\"\",Qeydiyyat!B254)","v":""},{"$f":"IF(Qeydiyyat!D254=\"\",\"\",Qeydiyyat!D254)","v":""},{"$f":"IF(Qeydiyyat!K254=\"\",\"\",Qeydiyyat!K254)","v":""},{"$f":"IF(Qeydiyyat!AB254=\"\",\"\",Qeydiyyat!AB254)","v":""},{"$f":"IF(Qeydiyyat!AA254=\"\",\"\",Qeydiyyat!AA254)","v":""},{"$f":"IF(Qeydiyyat!X254=\"\",\"\",Qeydiyyat!X254)","v":""},{"$f":"IF(Qeydiyyat!Y254=\"\",\"\",Qeydiyyat!Y254)","v":""},null,{"$f":"IF(Qeydiyyat!AC254=\"\",\"\",Qeydiyyat!AC254)","v":""}]
[null,6,{"$f":"IF(Qeydiyyat!C255=\"\",\"\",Qeydiyyat!C255)","v":""},{"$f":"IF(Qeydiyyat!B255=\"\",\"\",Qeydiyyat!B255)","v":""},{"$f":"IF(Qeydiyyat!D255=\"\",\"\",Qeydiyyat!D255)","v":""},{"$f":"IF(Qeydiyyat!K255=\"\",\"\",Qeydiyyat!K255)","v":""},{"$f":"IF(Qeydiyyat!AB255=\"\",\"\",Qeydiyyat!AB255)","v":""},{"$f":"IF(Qeydiyyat!AA255=\"\",\"\",Qeydiyyat!AA255)","v":""},{"$f":"IF(Qeydiyyat!X255=\"\",\"\",Qeydiyyat!X255)","v":""},{"$f":"IF(Qeydiyyat!Y255=\"\",\"\",Qeydiyyat!Y255)","v":""},null,{"$f":"IF(Qeydiyyat!AC255=\"\",\"\",Qeydiyyat!AC255)","v":""}]
[null,7,{"$f":"IF(Qeydiyyat!C256=\"\",\"\",Qeydiyyat!C256)","v":""},{"$f":"IF(Qeydiyyat!B256=\"\",\"\",Qeydiyyat!B256)","v":""},{"$f":"IF(Qeydiyyat!D256=\"\",\"\",Qeydiyyat!D256)","v":""},{"$f":"IF(Qeydiyyat!K256=\"\",\"\",Qeydiyyat!K256)","v":""},{"$f":"IF(Qeydiyyat!AB256=\"\",\"\",Qeydiyyat!AB256)","v":""},{"$f":"IF(Qeydiyyat!AA256=\"\",\"\",Qeydiyyat!AA256)","v":""},{"$f":"IF(Qeydiyyat!X256=\"\",\"\",Qeydiyyat!X256)","v":""},{"$f":"IF(Qeydiyyat!Y256=\"\",\"\",Qeydiyyat!Y256)","v":""},null,{"$f":"IF(Qeydiyyat!AC256=\"\",\"\",Qeydiyyat!AC256)","v":""}]
[null,8,{"$f":"IF(Qeydiyyat!C257=\"\",\"\",Qeydiyyat!C257)","v":""},{"$f":"IF(Qeydiyyat!B257=\"\",\"\",Qeydiyyat!B257)","v":""},{"$f":"IF(Qeydiyyat!D257=\"\",\"\",Qeydiyyat!D257)","v":""},{"$f":"IF(Qeydiyyat!K257=\"\",\"\",Qeydiyyat!K257)","v":""},{"$f":"IF(Qeydiyyat!AB257=\"\",\"\",Qeydiyyat!AB257)","v":""},{"$f":"IF(Qeydiyyat!AA257=\"\",\"\",Qeydiyyat!AA257)","v":""},{"$f":"IF(Qeydiyyat!X257=\"\",\"\",Qeydiyyat!X257)","v":""},{"$f":"IF(Qeydiyyat!Y257=\"\",\"\",Qeydiyyat!Y257)","v":""},null,{"$f":"IF(Qeydiyyat!AC257=\"\",\"\",Qeydiyyat!AC257)","v":""}]
[null,9,{"$f":"IF(Qeydiyyat!C258=\"\",\"\",Qeydiyyat!C258)","v":""},{"$f":"IF(Qeydiyyat!B258=\"\",\"\",Qeydiyyat!B258)","v":""},{"$f":"IF(Qeydiyyat!D258=\"\",\"\",Qeydiyyat!D258)","v":""},{"$f":"IF(Qeydiyyat!K258=\"\",\"\",Qeydiyyat!K258)","v":""},{"$f":"IF(Qeydiyyat!AB258=\"\",\"\",Qeydiyyat!AB258)","v":""},{"$f":"IF(Qeydiyyat!AA258=\"\",\"\",Qeydiyyat!AA258)","v":""},{"$f":"IF(Qeydiyyat!X258=\"\",\"\",Qeydiyyat!X258)","v":""},{"$f":"IF(Qeydiyyat!Y258=\"\",\"\",Qeydiyyat!Y258)","v":""},null,{"$f":"IF(Qeydiyyat!AC258=\"\",\"\",Qeydiyyat!AC258)","v":""}]
[null,10,{"$f":"IF(Qeydiyyat!C259=\"\",\"\",Qeydiyyat!C259)","v":""},{"$f":"IF(Qeydiyyat!B259=\"\",\"\",Qeydiyyat!B259)","v":""},{"$f":"IF(Qeydiyyat!D259=\"\",\"\",Qeydiyyat!D259)","v":""},{"$f":"IF(Qeydiyyat!K259=\"\",\"\",Qeydiyyat!K259)","v":""},{"$f":"IF(Qeydiyyat!AB259=\"\",\"\",Qeydiyyat!AB259)","v":""},{"$f":"IF(Qeydiyyat!AA259=\"\",\"\",Qeydiyyat!AA259)","v":""},{"$f":"IF(Qeydiyyat!X259=\"\",\"\",Qeydiyyat!X259)","v":""},{"$f":"IF(Qeydiyyat!Y259=\"\",\"\",Qeydiyyat!Y259)","v":""},null,{"$f":"IF(Qeydiyyat!AC259=\"\",\"\",Qeydiyyat!AC259)","v":""}]
[null,11,{"$f":"IF(Qeydiyyat!C260=\"\",\"\",Qeydiyyat!C260)","v":""},{"$f":"IF(Qeydiyyat!B260=\"\",\"\",Qeydiyyat!B260)","v":""},{"$f":"IF(Qeydiyyat!D260=\"\",\"\",Qeydiyyat!D260)","v":""},{"$f":"IF(Qeydiyyat!K260=\"\",\"\",Qeydiyyat!K260)","v":""},{"$f":"IF(Qeydiyyat!AB260=\"\",\"\",Qeydiyyat!AB260)","v":""},{"$f":"IF(Qeydiyyat!AA260=\"\",\"\",Qeydiyyat!AA260)","v":""},{"$f":"IF(Qeydiyyat!X260=\"\",\"\",Qeydiyyat!X260)","v":""},{"$f":"IF(Qeydiyyat!Y260=\"\",\"\",Qeydiyyat!Y260)","v":""},null,{"$f":"IF(Qeydiyyat!AC260=\"\",\"\",Qeydiyyat!AC260)","v":""}]
[null,12,{"$f":"IF(Qeydiyyat!C261=\"\",\"\",Qeydiyyat!C261)","v":""},{"$f":"IF(Qeydiyyat!B261=\"\",\"\",Qeydiyyat!B261)","v":""},{"$f":"IF(Qeydiyyat!D261=\"\",\"\",Qeydiyyat!D261)","v":""},{"$f":"IF(Qeydiyyat!K261=\"\",\"\",Qeydiyyat!K261)","v":""},{"$f":"IF(Qeydiyyat!AB261=\"\",\"\",Qeydiyyat!AB261)","v":""},{"$f":"IF(Qeydiyyat!AA261=\"\",\"\",Qeydiyyat!AA261)","v":""},{"$f":"IF(Qeydiyyat!X261=\"\",\"\",Qeydiyyat!X261)","v":""},{"$f":"IF(Qeydiyyat!Y261=\"\",\"\",Qeydiyyat!Y261)","v":""},null,{"$f":"IF(Qeydiyyat!AC261=\"\",\"\",Qeydiyyat!AC261)","v":""}]
[null,13,{"$f":"IF(Qeydiyyat!C262=\"\",\"\",Qeydiyyat!C262)","v":""},{"$f":"IF(Qeydiyyat!B262=\"\",\"\",Qeydiyyat!B262)","v":""},{"$f":"IF(Qeydiyyat!D262=\"\",\"\",Qeydiyyat!D262)","v":""},{"$f":"IF(Qeydiyyat!K262=\"\",\"\",Qeydiyyat!K262)","v":""},{"$f":"IF(Qeydiyyat!AB262=\"\",\"\",Qeydiyyat!AB262)","v":""},{"$f":"IF(Qeydiyyat!AA262=\"\",\"\",Qeydiyyat!AA262)","v":""},{"$f":"IF(Qeydiyyat!X262=\"\",\"\",Qeydiyyat!X262)","v":""},{"$f":"IF(Qeydiyyat!Y262=\"\",\"\",Qeydiyyat!Y262)","v":""},null,{"$f":"IF(Qeydiyyat!AC262=\"\",\"\",Qeydiyyat!AC262)","v":""}]
[null,14,{"$f":"IF(Qeydiyyat!C263=\"\",\"\",Qeydiyyat!C263)","v":""},{"$f":"IF(Qeydiyyat!B263=\"\",\"\",Qeydiyyat!B263)","v":""},{"$f":"IF(Qeydiyyat!D263=\"\",\"\",Qeydiyyat!D263)","v":""},{"$f":"IF(Qeydiyyat!K263=\"\",\"\",Qeydiyyat!K263)","v":""},{"$f":"IF(Qeydiyyat!AB263=\"\",\"\",Qeydiyyat!AB263)","v":""},{"$f":"IF(Qeydiyyat!AA263=\"\",\"\",Qeydiyyat!AA263)","v":""},{"$f":"IF(Qeydiyyat!X263=\"\",\"\",Qeydiyyat!X263)","v":""},{"$f":"IF(Qeydiyyat!Y263=\"\",\"\",Qeydiyyat!Y263)","v":""},null,{"$f":"IF(Qeydiyyat!AC263=\"\",\"\",Qeydiyyat!AC263)","v":""}]
[null,15,{"$f":"IF(Qeydiyyat!C264=\"\",\"\",Qeydiyyat!C264)","v":""},{"$f":"IF(Qeydiyyat!B264=\"\",\"\",Qeydiyyat!B264)","v":""},{"$f":"IF(Qeydiyyat!D264=\"\",\"\",Qeydiyyat!D264)","v":""},{"$f":"IF(Qeydiyyat!K264=\"\",\"\",Qeydiyyat!K264)","v":""},{"$f":"IF(Qeydiyyat!AB264=\"\",\"\",Qeydiyyat!AB264)","v":""},{"$f":"IF(Qeydiyyat!AA264=\"\",\"\",Qeydiyyat!AA264)","v":""},{"$f":"IF(Qeydiyyat!X264=\"\",\"\",Qeydiyyat!X264)","v":""},{"$f":"IF(Qeydiyyat!Y264=\"\",\"\",Qeydiyyat!Y264)","v":""},null,{"$f":"IF(Qeydiyyat!AC264=\"\",\"\",Qeydiyyat!AC264)","v":""}]
[null,16,{"$f":"IF(Qeydiyyat!C265=\"\",\"\",Qeydiyyat!C265)","v":""},{"$f":"IF(Qeydiyyat!B265=\"\",\"\",Qeydiyyat!B265)","v":""},{"$f":"IF(Qeydiyyat!D265=\"\",\"\",Qeydiyyat!D265)","v":""},{"$f":"IF(Qeydiyyat!K265=\"\",\"\",Qeydiyyat!K265)","v":""},{"$f":"IF(Qeydiyyat!AB265=\"\",\"\",Qeydiyyat!AB265)","v":""},{"$f":"IF(Qeydiyyat!AA265=\"\",\"\",Qeydiyyat!AA265)","v":""},{"$f":"IF(Qeydiyyat!X265=\"\",\"\",Qeydiyyat!X265)","v":""},{"$f":"IF(Qeydiyyat!Y265=\"\",\"\",Qeydiyyat!Y265)","v":""},null,{"$f":"IF(Qeydiyyat!AC265=\"\",\"\",Qeydiyyat!AC265)","v":""}]
[null,17,{"$f":"IF(Qeydiyyat!C266=\"\",\"\",Qeydiyyat!C266)","v":""},{"$f":"IF(Qeydiyyat!B266=\"\",\"\",Qeydiyyat!B266)","v":""},{"$f":"IF(Qeydiyyat!D266=\"\",\"\",Qeydiyyat!D266)","v":""},{"$f":"IF(Qeydiyyat!K266=\"\",\"\",Qeydiyyat!K266)","v":""},{"$f":"IF(Qeydiyyat!AB266=\"\",\"\",Qeydiyyat!AB266)","v":""},{"$f":"IF(Qeydiyyat!AA266=\"\",\"\",Qeydiyyat!AA266)","v":""},{"$f":"IF(Qeydiyyat!X266=\"\",\"\",Qeydiyyat!X266)","v":""},{"$f":"IF(Qeydiyyat!Y266=\"\",\"\",Qeydiyyat!Y266)","v":""},null,{"$f":"IF(Qeydiyyat!AC266=\"\",\"\",Qeydiyyat!AC266)","v":""}]
[null,18,{"$f":"IF(Qeydiyyat!C267=\"\",\"\",Qeydiyyat!C267)","v":""},{"$f":"IF(Qeydiyyat!B267=\"\",\"\",Qeydiyyat!B267)","v":""},{"$f":"IF(Qeydiyyat!D267=\"\",\"\",Qeydiyyat!D267)","v":""},{"$f":"IF(Qeydiyyat!K267=\"\",\"\",Qeydiyyat!K267)","v":""},{"$f":"IF(Qeydiyyat!AB267=\"\",\"\",Qeydiyyat!AB267)","v":""},{"$f":"IF(Qeydiyyat!AA267=\"\",\"\",Qeydiyyat!AA267)","v":""},{"$f":"IF(Qeydiyyat!X267=\"\",\"\",Qeydiyyat!X267)","v":""},{"$f":"IF(Qeydiyyat!Y267=\"\",\"\",Qeydiyyat!Y267)","v":""},null,{"$f":"IF(Qeydiyyat!AC267=\"\",\"\",Qeydiyyat!AC267)","v":""}]
[null,19,{"$f":"IF(Qeydiyyat!C268=\"\",\"\",Qeydiyyat!C268)","v":""},{"$f":"IF(Qeydiyyat!B268=\"\",\"\",Qeydiyyat!B268)","v":""},{"$f":"IF(Qeydiyyat!D268=\"\",\"\",Qeydiyyat!D268)","v":""},{"$f":"IF(Qeydiyyat!K268=\"\",\"\",Qeydiyyat!K268)","v":""},{"$f":"IF(Qeydiyyat!AB268=\"\",\"\",Qeydiyyat!AB268)","v":""},{"$f":"IF(Qeydiyyat!AA268=\"\",\"\",Qeydiyyat!AA268)","v":""},{"$f":"IF(Qeydiyyat!X268=\"\",\"\",Qeydiyyat!X268)","v":""},{"$f":"IF(Qeydiyyat!Y268=\"\",\"\",Qeydiyyat!Y268)","v":""},null,{"$f":"IF(Qeydiyyat!AC268=\"\",\"\",Qeydiyyat!AC268)","v":""}]
[null,20,{"$f":"IF(Qeydiyyat!C269=\"\",\"\",Qeydiyyat!C269)","v":""},{"$f":"IF(Qeydiyyat!B269=\"\",\"\",Qeydiyyat!B269)","v":""},{"$f":"IF(Qeydiyyat!D269=\"\",\"\",Qeydiyyat!D269)","v":""},{"$f":"IF(Qeydiyyat!K269=\"\",\"\",Qeydiyyat!K269)","v":""},{"$f":"IF(Qeydiyyat!AB269=\"\",\"\",Qeydiyyat!AB269)","v":""},{"$f":"IF(Qeydiyyat!AA269=\"\",\"\",Qeydiyyat!AA269)","v":""},{"$f":"IF(Qeydiyyat!X269=\"\",\"\",Qeydiyyat!X269)","v":""},{"$f":"IF(Qeydiyyat!Y269=\"\",\"\",Qeydiyyat!Y269)","v":""},null,{"$f":"IF(Qeydiyyat!AC269=\"\",\"\",Qeydiyyat!AC269)","v":""}]
[null,21,{"$f":"IF(Qeydiyyat!C270=\"\",\"\",Qeydiyyat!C270)","v":""},{"$f":"IF(Qeydiyyat!B270=\"\",\"\",Qeydiyyat!B270)","v":""},{"$f":"IF(Qeydiyyat!D270=\"\",\"\",Qeydiyyat!D270)","v":""},{"$f":"IF(Qeydiyyat!K270=\"\",\"\",Qeydiyyat!K270)","v":""},{"$f":"IF(Qeydiyyat!AB270=\"\",\"\",Qeydiyyat!AB270)","v":""},{"$f":"IF(Qeydiyyat!AA270=\"\",\"\",Qeydiyyat!AA270)","v":""},{"$f":"IF(Qeydiyyat!X270=\"\",\"\",Qeydiyyat!X270)","v":""},{"$f":"IF(Qeydiyyat!Y270=\"\",\"\",Qeydiyyat!Y270)","v":""},null,{"$f":"IF(Qeydiyyat!AC270=\"\",\"\",Qeydiyyat!AC270)","v":""}]
[null,22,{"$f":"IF(Qeydiyyat!C271=\"\",\"\",Qeydiyyat!C271)","v":""},{"$f":"IF(Qeydiyyat!B271=\"\",\"\",Qeydiyyat!B271)","v":""},{"$f":"IF(Qeydiyyat!D271=\"\",\"\",Qeydiyyat!D271)","v":""},{"$f":"IF(Qeydiyyat!K271=\"\",\"\",Qeydiyyat!K271)","v":""},{"$f":"IF(Qeydiyyat!AB271=\"\",\"\",Qeydiyyat!AB271)","v":""},{"$f":"IF(Qeydiyyat!AA271=\"\",\"\",Qeydiyyat!AA271)","v":""},{"$f":"IF(Qeydiyyat!X271=\"\",\"\",Qeydiyyat!X271)","v":""},{"$f":"IF(Qeydiyyat!Y271=\"\",\"\",Qeydiyyat!Y271)","v":""},null,{"$f":"IF(Qeydiyyat!AC271=\"\",\"\",Qeydiyyat!AC271)","v":""}]
[null,23,{"$f":"IF(Qeydiyyat!C272=\"\",\"\",Qeydiyyat!C272)","v":""},{"$f":"IF(Qeydiyyat!B272=\"\",\"\",Qeydiyyat!B272)","v":""},{"$f":"IF(Qeydiyyat!D272=\"\",\"\",Qeydiyyat!D272)","v":""},{"$f":"IF(Qeydiyyat!K272=\"\",\"\",Qeydiyyat!K272)","v":""},{"$f":"IF(Qeydiyyat!AB272=\"\",\"\",Qeydiyyat!AB272)","v":""},{"$f":"IF(Qeydiyyat!AA272=\"\",\"\",Qeydiyyat!AA272)","v":""},{"$f":"IF(Qeydiyyat!X272=\"\",\"\",Qeydiyyat!X272)","v":""},{"$f":"IF(Qeydiyyat!Y272=\"\",\"\",Qeydiyyat!Y272)","v":""},null,{"$f":"IF(Qeydiyyat!AC272=\"\",\"\",Qeydiyyat!AC272)","v":""}]
[null,24,{"$f":"IF(Qeydiyyat!C273=\"\",\"\",Qeydiyyat!C273)","v":""},{"$f":"IF(Qeydiyyat!B273=\"\",\"\",Qeydiyyat!B273)","v":""},{"$f":"IF(Qeydiyyat!D273=\"\",\"\",Qeydiyyat!D273)","v":""},{"$f":"IF(Qeydiyyat!K273=\"\",\"\",Qeydiyyat!K273)","v":""},{"$f":"IF(Qeydiyyat!AB273=\"\",\"\",Qeydiyyat!AB273)","v":""},{"$f":"IF(Qeydiyyat!AA273=\"\",\"\",Qeydiyyat!AA273)","v":""},{"$f":"IF(Qeydiyyat!X273=\"\",\"\",Qeydiyyat!X273)","v":""},{"$f":"IF(Qeydiyyat!Y273=\"\",\"\",Qeydiyyat!Y273)","v":""},null,{"$f":"IF(Qeydiyyat!AC273=\"\",\"\",Qeydiyyat!AC273)","v":""}]
[null,25,{"$f":"IF(Qeydiyyat!C274=\"\",\"\",Qeydiyyat!C274)","v":""},{"$f":"IF(Qeydiyyat!B274=\"\",\"\",Qeydiyyat!B274)","v":""},{"$f":"IF(Qeydiyyat!D274=\"\",\"\",Qeydiyyat!D274)","v":""},{"$f":"IF(Qeydiyyat!K274=\"\",\"\",Qeydiyyat!K274)","v":""},{"$f":"IF(Qeydiyyat!AB274=\"\",\"\",Qeydiyyat!AB274)","v":""},{"$f":"IF(Qeydiyyat!AA274=\"\",\"\",Qeydiyyat!AA274)","v":""},{"$f":"IF(Qeydiyyat!X274=\"\",\"\",Qeydiyyat!X274)","v":""},{"$f":"IF(Qeydiyyat!Y274=\"\",\"\",Qeydiyyat!Y274)","v":""},null,{"$f":"IF(Qeydiyyat!AC274=\"\",\"\",Qeydiyyat!AC274)","v":""}]
[null,26,{"$f":"IF(Qeydiyyat!C275=\"\",\"\",Qeydiyyat!C275)","v":""},{"$f":"IF(Qeydiyyat!B275=\"\",\"\",Qeydiyyat!B275)","v":""},{"$f":"IF(Qeydiyyat!D275=\"\",\"\",Qeydiyyat!D275)","v":""},{"$f":"IF(Qeydiyyat!K275=\"\",\"\",Qeydiyyat!K275)","v":""},{"$f":"IF(Qeydiyyat!AB275=\"\",\"\",Qeydiyyat!AB275)","v":""},{"$f":"IF(Qeydiyyat!AA275=\"\",\"\",Qeydiyyat!AA275)","v":""},{"$f":"IF(Qeydiyyat!X275=\"\",\"\",Qeydiyyat!X275)","v":""},{"$f":"IF(Qeydiyyat!Y275=\"\",\"\",Qeydiyyat!Y275)","v":""},null,{"$f":"IF(Qeydiyyat!AC275=\"\",\"\",Qeydiyyat!AC275)","v":""}]
[null,27,{"$f":"IF(Qeydiyyat!C276=\"\",\"\",Qeydiyyat!C276)","v":""},{"$f":"IF(Qeydiyyat!B276=\"\",\"\",Qeydiyyat!B276)","v":""},{"$f":"IF(Qeydiyyat!D276=\"\",\"\",Qeydiyyat!D276)","v":""},{"$f":"IF(Qeydiyyat!K276=\"\",\"\",Qeydiyyat!K276)","v":""},{"$f":"IF(Qeydiyyat!AB276=\"\",\"\",Qeydiyyat!AB276)","v":""},{"$f":"IF(Qeydiyyat!AA276=\"\",\"\",Qeydiyyat!AA276)","v":""},{"$f":"IF(Qeydiyyat!X276=\"\",\"\",Qeydiyyat!X276)","v":""},{"$f":"IF(Qeydiyyat!Y276=\"\",\"\",Qeydiyyat!Y276)","v":""},null,{"$f":"IF(Qeydiyyat!AC276=\"\",\"\",Qeydiyyat!AC276)","v":""}]
[null,28,{"$f":"IF(Qeydiyyat!C277=\"\",\"\",Qeydiyyat!C277)","v":""},{"$f":"IF(Qeydiyyat!B277=\"\",\"\",Qeydiyyat!B277)","v":""},{"$f":"IF(Qeydiyyat!D277=\"\",\"\",Qeydiyyat!D277)","v":""},{"$f":"IF(Qeydiyyat!K277=\"\",\"\",Qeydiyyat!K277)","v":""},{"$f":"IF(Qeydiyyat!AB277=\"\",\"\",Qeydiyyat!AB277)","v":""},{"$f":"IF(Qeydiyyat!AA277=\"\",\"\",Qeydiyyat!AA277)","v":""},{"$f":"IF(Qeydiyyat!X277=\"\",\"\",Qeydiyyat!X277)","v":""},{"$f":"IF(Qeydiyyat!Y277=\"\",\"\",Qeydiyyat!Y277)","v":""},null,{"$f":"IF(Qeydiyyat!AC277=\"\",\"\",Qeydiyyat!AC277)","v":""}]
[null,29,{"$f":"IF(Qeydiyyat!C278=\"\",\"\",Qeydiyyat!C278)","v":""},{"$f":"IF(Qeydiyyat!B278=\"\",\"\",Qeydiyyat!B278)","v":""},{"$f":"IF(Qeydiyyat!D278=\"\",\"\",Qeydiyyat!D278)","v":""},{"$f":"IF(Qeydiyyat!K278=\"\",\"\",Qeydiyyat!K278)","v":""},{"$f":"IF(Qeydiyyat!AB278=\"\",\"\",Qeydiyyat!AB278)","v":""},{"$f":"IF(Qeydiyyat!AA278=\"\",\"\",Qeydiyyat!AA278)","v":""},{"$f":"IF(Qeydiyyat!X278=\"\",\"\",Qeydiyyat!X278)","v":""},{"$f":"IF(Qeydiyyat!Y278=\"\",\"\",Qeydiyyat!Y278)","v":""},null,{"$f":"IF(Qeydiyyat!AC278=\"\",\"\",Qeydiyyat!AC278)","v":""}]
[null,30,{"$f":"IF(Qeydiyyat!C279=\"\",\"\",Qeydiyyat!C279)","v":""},{"$f":"IF(Qeydiyyat!B279=\"\",\"\",Qeydiyyat!B279)","v":""},{"$f":"IF(Qeydiyyat!D279=\"\",\"\",Qeydiyyat!D279)","v":""},{"$f":"IF(Qeydiyyat!K279=\"\",\"\",Qeydiyyat!K279)","v":""},{"$f":"IF(Qeydiyyat!AB279=\"\",\"\",Qeydiyyat!AB279)","v":""},{"$f":"IF(Qeydiyyat!AA279=\"\",\"\",Qeydiyyat!AA279)","v":""},{"$f":"IF(Qeydiyyat!X279=\"\",\"\",Qeydiyyat!X279)","v":""},{"$f":"IF(Qeydiyyat!Y279=\"\",\"\",Qeydiyyat!Y279)","v":""},null,{"$f":"IF(Qeydiyyat!AC279=\"\",\"\",Qeydiyyat!AC279)","v":""}]
[null,31,{"$f":"IF(Qeydiyyat!C280=\"\",\"\",Qeydiyyat!C280)","v":""},{"$f":"IF(Qeydiyyat!B280=\"\",\"\",Qeydiyyat!B280)","v":""},{"$f":"IF(Qeydiyyat!D280=\"\",\"\",Qeydiyyat!D280)","v":""},{"$f":"IF(Qeydiyyat!K280=\"\",\"\",Qeydiyyat!K280)","v":""},{"$f":"IF(Qeydiyyat!AB280=\"\",\"\",Qeydiyyat!AB280)","v":""},{"$f":"IF(Qeydiyyat!AA280=\"\",\"\",Qeydiyyat!AA280)","v":""},{"$f":"IF(Qeydiyyat!X280=\"\",\"\",Qeydiyyat!X280)","v":""},{"$f":"IF(Qeydiyyat!Y280=\"\",\"\",Qeydiyyat!Y280)","v":""},null,{"$f":"IF(Qeydiyyat!AC280=\"\",\"\",Qeydiyyat!AC280)","v":""}]
[null,32,{"$f":"IF(Qeydiyyat!C281=\"\",\"\",Qeydiyyat!C281)","v":""},{"$f":"IF(Qeydiyyat!B281=\"\",\"\",Qeydiyyat!B281)","v":""},{"$f":"IF(Qeydiyyat!D281=\"\",\"\",Qeydiyyat!D281)","v":""},{"$f":"IF(Qeydiyyat!K281=\"\",\"\",Qeydiyyat!K281)","v":""},{"$f":"IF(Qeydiyyat!AB281=\"\",\"\",Qeydiyyat!AB281)","v":""},{"$f":"IF(Qeydiyyat!AA281=\"\",\"\",Qeydiyyat!AA281)","v":""},{"$f":"IF(Qeydiyyat!X281=\"\",\"\",Qeydiyyat!X281)","v":""},{"$f":"IF(Qeydiyyat!Y281=\"\",\"\",Qeydiyyat!Y281)","v":""},null,{"$f":"IF(Qeydiyyat!AC281=\"\",\"\",Qeydiyyat!AC281)","v":""}]
[null,33,{"$f":"IF(Qeydiyyat!C282=\"\",\"\",Qeydiyyat!C282)","v":""},{"$f":"IF(Qeydiyyat!B282=\"\",\"\",Qeydiyyat!B282)","v":""},{"$f":"IF(Qeydiyyat!D282=\"\",\"\",Qeydiyyat!D282)","v":""},{"$f":"IF(Qeydiyyat!K282=\"\",\"\",Qeydiyyat!K282)","v":""},{"$f":"IF(Qeydiyyat!AB282=\"\",\"\",Qeydiyyat!AB282)","v":""},{"$f":"IF(Qeydiyyat!AA282=\"\",\"\",Qeydiyyat!AA282)","v":""},{"$f":"IF(Qeydiyyat!X282=\"\",\"\",Qeydiyyat!X282)","v":""},{"$f":"IF(Qeydiyyat!Y282=\"\",\"\",Qeydiyyat!Y282)","v":""},null,{"$f":"IF(Qeydiyyat!AC282=\"\",\"\",Qeydiyyat!AC282)","v":""}]
[null,34,{"$f":"IF(Qeydiyyat!C283=\"\",\"\",Qeydiyyat!C283)","v":""},{"$f":"IF(Qeydiyyat!B283=\"\",\"\",Qeydiyyat!B283)","v":""},{"$f":"IF(Qeydiyyat!D283=\"\",\"\",Qeydiyyat!D283)","v":""},{"$f":"IF(Qeydiyyat!K283=\"\",\"\",Qeydiyyat!K283)","v":""},{"$f":"IF(Qeydiyyat!AB283=\"\",\"\",Qeydiyyat!AB283)","v":""},{"$f":"IF(Qeydiyyat!AA283=\"\",\"\",Qeydiyyat!AA283)","v":""},{"$f":"IF(Qeydiyyat!X283=\"\",\"\",Qeydiyyat!X283)","v":""},{"$f":"IF(Qeydiyyat!Y283=\"\",\"\",Qeydiyyat!Y283)","v":""},null,{"$f":"IF(Qeydiyyat!AC283=\"\",\"\",Qeydiyyat!AC283)","v":""}]
[null,35,{"$f":"IF(Qeydiyyat!C284=\"\",\"\",Qeydiyyat!C284)","v":""},{"$f":"IF(Qeydiyyat!B284=\"\",\"\",Qeydiyyat!B284)","v":""},{"$f":"IF(Qeydiyyat!D284=\"\",\"\",Qeydiyyat!D284)","v":""},{"$f":"IF(Qeydiyyat!K284=\"\",\"\",Qeydiyyat!K284)","v":""},{"$f":"IF(Qeydiyyat!AB284=\"\",\"\",Qeydiyyat!AB284)","v":""},{"$f":"IF(Qeydiyyat!AA284=\"\",\"\",Qeydiyyat!AA284)","v":""},{"$f":"IF(Qeydiyyat!X284=\"\",\"\",Qeydiyyat!X284)","v":""},{"$f":"IF(Qeydiyyat!Y284=\"\",\"\",Qeydiyyat!Y284)","v":""},null,{"$f":"IF(Qeydiyyat!AC284=\"\",\"\",Qeydiyyat!AC284)","v":""}]
[null,36,{"$f":"IF(Qeydiyyat!C285=\"\",\"\",Qeydiyyat!C285)","v":""},{"$f":"IF(Qeydiyyat!B285=\"\",\"\",Qeydiyyat!B285)","v":""},{"$f":"IF(Qeydiyyat!D285=\"\",\"\",Qeydiyyat!D285)","v":""},{"$f":"IF(Qeydiyyat!K285=\"\",\"\",Qeydiyyat!K285)","v":""},{"$f":"IF(Qeydiyyat!AB285=\"\",\"\",Qeydiyyat!AB285)","v":""},{"$f":"IF(Qeydiyyat!AA285=\"\",\"\",Qeydiyyat!AA285)","v":""},{"$f":"IF(Qeydiyyat!X285=\"\",\"\",Qeydiyyat!X285)","v":""},{"$f":"IF(Qeydiyyat!Y285=\"\",\"\",Qeydiyyat!Y285)","v":""},null,{"$f":"IF(Qeydiyyat!AC285=\"\",\"\",Qeydiyyat!AC285)","v":""}]
[null,37,{"$f":"IF(Qeydiyyat!C286=\"\",\"\",Qeydiyyat!C286)","v":""},{"$f":"IF(Qeydiyyat!B286=\"\",\"\",Qeydiyyat!B286)","v":""},{"$f":"IF(Qeydiyyat!D286=\"\",\"\",Qeydiyyat!D286)","v":""},{"$f":"IF(Qeydiyyat!K286=\"\",\"\",Qeydiyyat!K286)","v":""},{"$f":"IF(Qeydiyyat!AB286=\"\",\"\",Qeydiyyat!AB286)","v":""},{"$f":"IF(Qeydiyyat!AA286=\"\",\"\",Qeydiyyat!AA286)","v":""},{"$f":"IF(Qeydiyyat!X286=\"\",\"\",Qeydiyyat!X286)","v":""},{"$f":"IF(Qeydiyyat!Y286=\"\",\"\",Qeydiyyat!Y286)","v":""},null,{"$f":"IF(Qeydiyyat!AC286=\"\",\"\",Qeydiyyat!AC286)","v":""}]
[null,38,{"$f":"IF(Qeydiyyat!C287=\"\",\"\",Qeydiyyat!C287)","v":""},{"$f":"IF(Qeydiyyat!B287=\"\",\"\",Qeydiyyat!B287)","v":""},{"$f":"IF(Qeydiyyat!D287=\"\",\"\",Qeydiyyat!D287)","v":""},{"$f":"IF(Qeydiyyat!K287=\"\",\"\",Qeydiyyat!K287)","v":""},{"$f":"IF(Qeydiyyat!AB287=\"\",\"\",Qeydiyyat!AB287)","v":""},{"$f":"IF(Qeydiyyat!AA287=\"\",\"\",Qeydiyyat!AA287)","v":""},{"$f":"IF(Qeydiyyat!X287=\"\",\"\",Qeydiyyat!X287)","v":""},{"$f":"IF(Qeydiyyat!Y287=\"\",\"\",Qeydiyyat!Y287)","v":""},null,{"$f":"IF(Qeydiyyat!AC287=\"\",\"\",Qeydiyyat!AC287)","v":""}]
[null,39,{"$f":"IF(Qeydiyyat!C288=\"\",\"\",Qeydiyyat!C288)","v":""},{"$f":"IF(Qeydiyyat!B288=\"\",\"\",Qeydiyyat!B288)","v":""},{"$f":"IF(Qeydiyyat!D288=\"\",\"\",Qeydiyyat!D288)","v":""},{"$f":"IF(Qeydiyyat!K288=\"\",\"\",Qeydiyyat!K288)","v":""},{"$f":"IF(Qeydiyyat!AB288=\"\",\"\",Qeydiyyat!AB288)","v":""},{"$f":"IF(Qeydiyyat!AA288=\"\",\"\",Qeydiyyat!AA288)","v":""},{"$f":"IF(Qeydiyyat!X288=\"\",\"\",Qeydiyyat!X288)","v":""},{"$f":"IF(Qeydiyyat!Y288=\"\",\"\",Qeydiyyat!Y288)","v":""},null,{"$f":"IF(Qeydiyyat!AC288=\"\",\"\",Qeydiyyat!AC288)","v":""}]
[null,40,{"$f":"IF(Qeydiyyat!C289=\"\",\"\",Qeydiyyat!C289)","v":""},{"$f":"IF(Qeydiyyat!B289=\"\",\"\",Qeydiyyat!B289)","v":""},{"$f":"IF(Qeydiyyat!D289=\"\",\"\",Qeydiyyat!D289)","v":""},{"$f":"IF(Qeydiyyat!K289=\"\",\"\",Qeydiyyat!K289)","v":""},{"$f":"IF(Qeydiyyat!AB289=\"\",\"\",Qeydiyyat!AB289)","v":""},{"$f":"IF(Qeydiyyat!AA289=\"\",\"\",Qeydiyyat!AA289)","v":""},{"$f":"IF(Qeydiyyat!X289=\"\",\"\",Qeydiyyat!X289)","v":""},{"$f":"IF(Qeydiyyat!Y289=\"\",\"\",Qeydiyyat!Y289)","v":""},null,{"$f":"IF(Qeydiyyat!AC289=\"\",\"\",Qeydiyyat!AC289)","v":""}]
[null,41,{"$f":"IF(Qeydiyyat!C290=\"\",\"\",Qeydiyyat!C290)","v":""},{"$f":"IF(Qeydiyyat!B290=\"\",\"\",Qeydiyyat!B290)","v":""},{"$f":"IF(Qeydiyyat!D290=\"\",\"\",Qeydiyyat!D290)","v":""},{"$f":"IF(Qeydiyyat!K290=\"\",\"\",Qeydiyyat!K290)","v":""},{"$f":"IF(Qeydiyyat!AB290=\"\",\"\",Qeydiyyat!AB290)","v":""},{"$f":"IF(Qeydiyyat!AA290=\"\",\"\",Qeydiyyat!AA290)","v":""},{"$f":"IF(Qeydiyyat!X290=\"\",\"\",Qeydiyyat!X290)","v":""},{"$f":"IF(Qeydiyyat!Y290=\"\",\"\",Qeydiyyat!Y290)","v":""},null,{"$f":"IF(Qeydiyyat!AC290=\"\",\"\",Qeydiyyat!AC290)","v":""}]
[null,42,{"$f":"IF(Qeydiyyat!C291=\"\",\"\",Qeydiyyat!C291)","v":""},{"$f":"IF(Qeydiyyat!B291=\"\",\"\",Qeydiyyat!B291)","v":""},{"$f":"IF(Qeydiyyat!D291=\"\",\"\",Qeydiyyat!D291)","v":""},{"$f":"IF(Qeydiyyat!K291=\"\",\"\",Qeydiyyat!K291)","v":""},{"$f":"IF(Qeydiyyat!AB291=\"\",\"\",Qeydiyyat!AB291)","v":""},{"$f":"IF(Qeydiyyat!AA291=\"\",\"\",Qeydiyyat!AA291)","v":""},{"$f":"IF(Qeydiyyat!X291=\"\",\"\",Qeydiyyat!X291)","v":""},{"$f":"IF(Qeydiyyat!Y291=\"\",\"\",Qeydiyyat!Y291)","v":""},null,{"$f":"IF(Qeydiyyat!AC291=\"\",\"\",Qeydiyyat!AC291)","v":""}]
[null,43,{"$f":"IF(Qeydiyyat!C292=\"\",\"\",Qeydiyyat!C292)","v":""},{"$f":"IF(Qeydiyyat!B292=\"\",\"\",Qeydiyyat!B292)","v":""},{"$f":"IF(Qeydiyyat!D292=\"\",\"\",Qeydiyyat!D292)","v":""},{"$f":"IF(Qeydiyyat!K292=\"\",\"\",Qeydiyyat!K292)","v":""},{"$f":"IF(Qeydiyyat!AB292=\"\",\"\",Qeydiyyat!AB292)","v":""},{"$f":"IF(Qeydiyyat!AA292=\"\",\"\",Qeydiyyat!AA292)","v":""},{"$f":"IF(Qeydiyyat!X292=\"\",\"\",Qeydiyyat!X292)","v":""},{"$f":"IF(Qeydiyyat!Y292=\"\",\"\",Qeydiyyat!Y292)","v":""},null,{"$f":"IF(Qeydiyyat!AC292=\"\",\"\",Qeydiyyat!AC292)","v":""}]
[null,44,{"$f":"IF(Qeydiyyat!C293=\"\",\"\",Qeydiyyat!C293)","v":""},{"$f":"IF(Qeydiyyat!B293=\"\",\"\",Qeydiyyat!B293)","v":""},{"$f":"IF(Qeydiyyat!D293=\"\",\"\",Qeydiyyat!D293)","v":""},{"$f":"IF(Qeydiyyat!K293=\"\",\"\",Qeydiyyat!K293)","v":""},{"$f":"IF(Qeydiyyat!AB293=\"\",\"\",Qeydiyyat!AB293)","v":""},{"$f":"IF(Qeydiyyat!AA293=\"\",\"\",Qeydiyyat!AA293)","v":""},{"$f":"IF(Qeydiyyat!X293=\"\",\"\",Qeydiyyat!X293)","v":""},{"$f":"IF(Qeydiyyat!Y293=\"\",\"\",Qeydiyyat!Y293)","v":""},null,{"$f":"IF(Qeydiyyat!AC293=\"\",\"\",Qeydiyyat!AC293)","v":""}]
[null,45,{"$f":"IF(Qeydiyyat!C294=\"\",\"\",Qeydiyyat!C294)","v":""},{"$f":"IF(Qeydiyyat!B294=\"\",\"\",Qeydiyyat!B294)","v":""},{"$f":"IF(Qeydiyyat!D294=\"\",\"\",Qeydiyyat!D294)","v":""},{"$f":"IF(Qeydiyyat!K294=\"\",\"\",Qeydiyyat!K294)","v":""},{"$f":"IF(Qeydiyyat!AB294=\"\",\"\",Qeydiyyat!AB294)","v":""},{"$f":"IF(Qeydiyyat!AA294=\"\",\"\",Qeydiyyat!AA294)","v":""},{"$f":"IF(Qeydiyyat!X294=\"\",\"\",Qeydiyyat!X294)","v":""},{"$f":"IF(Qeydiyyat!Y294=\"\",\"\",Qeydiyyat!Y294)","v":""},null,{"$f":"IF(Qeydiyyat!AC294=\"\",\"\",Qeydiyyat!AC294)","v":""}]
[null,46,{"$f":"IF(Qeydiyyat!C295=\"\",\"\",Qeydiyyat!C295)","v":""},{"$f":"IF(Qeydiyyat!B295=\"\",\"\",Qeydiyyat!B295)","v":""},{"$f":"IF(Qeydiyyat!D295=\"\",\"\",Qeydiyyat!D295)","v":""},{"$f":"IF(Qeydiyyat!K295=\"\",\"\",Qeydiyyat!K295)","v":""},{"$f":"IF(Qeydiyyat!AB295=\"\",\"\",Qeydiyyat!AB295)","v":""},{"$f":"IF(Qeydiyyat!AA295=\"\",\"\",Qeydiyyat!AA295)","v":""},{"$f":"IF(Qeydiyyat!X295=\"\",\"\",Qeydiyyat!X295)","v":""},{"$f":"IF(Qeydiyyat!Y295=\"\",\"\",Qeydiyyat!Y295)","v":""},null,{"$f":"IF(Qeydiyyat!AC295=\"\",\"\",Qeydiyyat!AC295)","v":""}]
[null,47,{"$f":"IF(Qeydiyyat!C296=\"\",\"\",Qeydiyyat!C296)","v":""},{"$f":"IF(Qeydiyyat!B296=\"\",\"\",Qeydiyyat!B296)","v":""},{"$f":"IF(Qeydiyyat!D296=\"\",\"\",Qeydiyyat!D296)","v":""},{"$f":"IF(Qeydiyyat!K296=\"\",\"\",Qeydiyyat!K296)","v":""},{"$f":"IF(Qeydiyyat!AB296=\"\",\"\",Qeydiyyat!AB296)","v":""},{"$f":"IF(Qeydiyyat!AA296=\"\",\"\",Qeydiyyat!AA296)","v":""},{"$f":"IF(Qeydiyyat!X296=\"\",\"\",Qeydiyyat!X296)","v":""},{"$f":"IF(Qeydiyyat!Y296=\"\",\"\",Qeydiyyat!Y296)","v":""},null,{"$f":"IF(Qeydiyyat!AC296=\"\",\"\",Qeydiyyat!AC296)","v":""}]
[null,48,{"$f":"IF(Qeydiyyat!C297=\"\",\"\",Qeydiyyat!C297)","v":""},{"$f":"IF(Qeydiyyat!B297=\"\",\"\",Qeydiyyat!B297)","v":""},{"$f":"IF(Qeydiyyat!D297=\"\",\"\",Qeydiyyat!D297)","v":""},{"$f":"IF(Qeydiyyat!K297=\"\",\"\",Qeydiyyat!K297)","v":""},{"$f":"IF(Qeydiyyat!AB297=\"\",\"\",Qeydiyyat!AB297)","v":""},{"$f":"IF(Qeydiyyat!AA297=\"\",\"\",Qeydiyyat!AA297)","v":""},{"$f":"IF(Qeydiyyat!X297=\"\",\"\",Qeydiyyat!X297)","v":""},{"$f":"IF(Qeydiyyat!Y297=\"\",\"\",Qeydiyyat!Y297)","v":""},null,{"$f":"IF(Qeydiyyat!AC297=\"\",\"\",Qeydiyyat!AC297)","v":""}]
[null,49,{"$f":"IF(Qeydiyyat!C298=\"\",\"\",Qeydiyyat!C298)","v":""},{"$f":"IF(Qeydiyyat!B298=\"\",\"\",Qeydiyyat!B298)","v":""},{"$f":"IF(Qeydiyyat!D298=\"\",\"\",Qeydiyyat!D298)","v":""},{"$f":"IF(Qeydiyyat!K298=\"\",\"\",Qeydiyyat!K298)","v":""},{"$f":"IF(Qeydiyyat!AB298=\"\",\"\",Qeydiyyat!AB298)","v":""},{"$f":"IF(Qeydiyyat!AA298=\"\",\"\",Qeydiyyat!AA298)","v":""},{"$f":"IF(Qeydiyyat!X298=\"\",\"\",Qeydiyyat!X298)","v":""},{"$f":"IF(Qeydiyyat!Y298=\"\",\"\",Qeydiyyat!Y298)","v":""},null,{"$f":"IF(Qeydiyyat!AC298=\"\",\"\",Qeydiyyat!AC298)","v":""}]
[null,50,{"$f":"IF(Qeydiyyat!C299=\"\",\"\",Qeydiyyat!C299)","v":""},{"$f":"IF(Qeydiyyat!B299=\"\",\"\",Qeydiyyat!B299)","v":""},{"$f":"IF(Qeydiyyat!D299=\"\",\"\",Qeydiyyat!D299)","v":""},{"$f":"IF(Qeydiyyat!K299=\"\",\"\",Qeydiyyat!K299)","v":""},{"$f":"IF(Qeydiyyat!AB299=\"\",\"\",Qeydiyyat!AB299)","v":""},{"$f":"IF(Qeydiyyat!AA299=\"\",\"\",Qeydiyyat!AA299)","v":""},{"$f":"IF(Qeydiyyat!X299=\"\",\"\",Qeydiyyat!X299)","v":""},{"$f":"IF(Qeydiyyat!Y299=\"\",\"\",Qeydiyyat!Y299)","v":""},null,{"$f":"IF(Qeydiyyat!AC299=\"\",\"\",Qeydiyyat!AC299)","v":""}]
[null,51,{"$f":"IF(Qeydiyyat!C300=\"\",\"\",Qeydiyyat!C300)","v":""},{"$f":"IF(Qeydiyyat!B300=\"\",\"\",Qeydiyyat!B300)","v":""},{"$f":"IF(Qeydiyyat!D300=\"\",\"\",Qeydiyyat!D300)","v":""},{"$f":"IF(Qeydiyyat!K300=\"\",\"\",Qeydiyyat!K300)","v":""},{"$f":"IF(Qeydiyyat!AB300=\"\",\"\",Qeydiyyat!AB300)","v":""},{"$f":"IF(Qeydiyyat!AA300=\"\",\"\",Qeydiyyat!AA300)","v":""},{"$f":"IF(Qeydiyyat!X300=\"\",\"\",Qeydiyyat!X300)","v":""},{"$f":"IF(Qeydiyyat!Y300=\"\",\"\",Qeydiyyat!Y300)","v":""},null,{"$f":"IF(Qeydiyyat!AC300=\"\",\"\",Qeydiyyat!AC300)","v":""}]
[null,52,{"$f":"IF(Qeydiyyat!C301=\"\",\"\",Qeydiyyat!C301)","v":""},{"$f":"IF(Qeydiyyat!B301=\"\",\"\",Qeydiyyat!B301)","v":""},{"$f":"IF(Qeydiyyat!D301=\"\",\"\",Qeydiyyat!D301)","v":""},{"$f":"IF(Qeydiyyat!K301=\"\",\"\",Qeydiyyat!K301)","v":""},{"$f":"IF(Qeydiyyat!AB301=\"\",\"\",Qeydiyyat!AB301)","v":""},{"$f":"IF(Qeydiyyat!AA301=\"\",\"\",Qeydiyyat!AA301)","v":""},{"$f":"IF(Qeydiyyat!X301=\"\",\"\",Qeydiyyat!X301)","v":""},{"$f":"IF(Qeydiyyat!Y301=\"\",\"\",Qeydiyyat!Y301)","v":""},null,{"$f":"IF(Qeydiyyat!AC301=\"\",\"\",Qeydiyyat!AC301)","v":""}]
[null,53,{"$f":"IF(Qeydiyyat!C302=\"\",\"\",Qeydiyyat!C302)","v":""},{"$f":"IF(Qeydiyyat!B302=\"\",\"\",Qeydiyyat!B302)","v":""},{"$f":"IF(Qeydiyyat!D302=\"\",\"\",Qeydiyyat!D302)","v":""},{"$f":"IF(Qeydiyyat!K302=\"\",\"\",Qeydiyyat!K302)","v":""},{"$f":"IF(Qeydiyyat!AB302=\"\",\"\",Qeydiyyat!AB302)","v":""},{"$f":"IF(Qeydiyyat!AA302=\"\",\"\",Qeydiyyat!AA302)","v":""},{"$f":"IF(Qeydiyyat!X302=\"\",\"\",Qeydiyyat!X302)","v":""},{"$f":"IF(Qeydiyyat!Y302=\"\",\"\",Qeydiyyat!Y302)","v":""},null,{"$f":"IF(Qeydiyyat!AC302=\"\",\"\",Qeydiyyat!AC302)","v":""}]
[null,54,{"$f":"IF(Qeydiyyat!C303=\"\",\"\",Qeydiyyat!C303)","v":""},{"$f":"IF(Qeydiyyat!B303=\"\",\"\",Qeydiyyat!B303)","v":""},{"$f":"IF(Qeydiyyat!D303=\"\",\"\",Qeydiyyat!D303)","v":""},{"$f":"IF(Qeydiyyat!K303=\"\",\"\",Qeydiyyat!K303)","v":""},{"$f":"IF(Qeydiyyat!AB303=\"\",\"\",Qeydiyyat!AB303)","v":""},{"$f":"IF(Qeydiyyat!AA303=\"\",\"\",Qeydiyyat!AA303)","v":""},{"$f":"IF(Qeydiyyat!X303=\"\",\"\",Qeydiyyat!X303)","v":""},{"$f":"IF(Qeydiyyat!Y303=\"\",\"\",Qeydiyyat!Y303)","v":""},null,{"$f":"IF(Qeydiyyat!AC303=\"\",\"\",Qeydiyyat!AC303)","v":""}]
[null,55,{"$f":"IF(Qeydiyyat!C304=\"\",\"\",Qeydiyyat!C304)","v":""},{"$f":"IF(Qeydiyyat!B304=\"\",\"\",Qeydiyyat!B304)","v":""},{"$f":"IF(Qeydiyyat!D304=\"\",\"\",Qeydiyyat!D304)","v":""},{"$f":"IF(Qeydiyyat!K304=\"\",\"\",Qeydiyyat!K304)","v":""},{"$f":"IF(Qeydiyyat!AB304=\"\",\"\",Qeydiyyat!AB304)","v":""},{"$f":"IF(Qeydiyyat!AA304=\"\",\"\",Qeydiyyat!AA304)","v":""},{"$f":"IF(Qeydiyyat!X304=\"\",\"\",Qeydiyyat!X304)","v":""},{"$f":"IF(Qeydiyyat!Y304=\"\",\"\",Qeydiyyat!Y304)","v":""},null,{"$f":"IF(Qeydiyyat!AC304=\"\",\"\",Qeydiyyat!AC304)","v":""}]
[null,56,{"$f":"IF(Qeydiyyat!C305=\"\",\"\",Qeydiyyat!C305)","v":""},{"$f":"IF(Qeydiyyat!B305=\"\",\"\",Qeydiyyat!B305)","v":""},{"$f":"IF(Qeydiyyat!D305=\"\",\"\",Qeydiyyat!D305)","v":""},{"$f":"IF(Qeydiyyat!K305=\"\",\"\",Qeydiyyat!K305)","v":""},{"$f":"IF(Qeydiyyat!AB305=\"\",\"\",Qeydiyyat!AB305)","v":""},{"$f":"IF(Qeydiyyat!AA305=\"\",\"\",Qeydiyyat!AA305)","v":""},{"$f":"IF(Qeydiyyat!X305=\"\",\"\",Qeydiyyat!X305)","v":""},{"$f":"IF(Qeydiyyat!Y305=\"\",\"\",Qeydiyyat!Y305)","v":""},null,{"$f":"IF(Qeydiyyat!AC305=\"\",\"\",Qeydiyyat!AC305)","v":""}]
[null,57,{"$f":"IF(Qeydiyyat!C306=\"\",\"\",Qeydiyyat!C306)","v":""},{"$f":"IF(Qeydiyyat!B306=\"\",\"\",Qeydiyyat!B306)","v":""},{"$f":"IF(Qeydiyyat!D306=\"\",\"\",Qeydiyyat!D306)","v":""},{"$f":"IF(Qeydiyyat!K306=\"\",\"\",Qeydiyyat!K306)","v":""},{"$f":"IF(Qeydiyyat!AB306=\"\",\"\",Qeydiyyat!AB306)","v":""},{"$f":"IF(Qeydiyyat!AA306=\"\",\"\",Qeydiyyat!AA306)","v":""},{"$f":"IF(Qeydiyyat!X306=\"\",\"\",Qeydiyyat!X306)","v":""},{"$f":"IF(Qeydiyyat!Y306=\"\",\"\",Qeydiyyat!Y306)","v":""},null,{"$f":"IF(Qeydiyyat!AC306=\"\",\"\",Qeydiyyat!AC306)","v":""}]
[null,58,{"$f":"IF(Qeydiyyat!C307=\"\",\"\",Qeydiyyat!C307)","v":""},{"$f":"IF(Qeydiyyat!B307=\"\",\"\",Qeydiyyat!B307)","v":""},{"$f":"IF(Qeydiyyat!D307=\"\",\"\",Qeydiyyat!D307)","v":""},{"$f":"IF(Qeydiyyat!K307=\"\",\"\",Qeydiyyat!K307)","v":""},{"$f":"IF(Qeydiyyat!AB307=\"\",\"\",Qeydiyyat!AB307)","v":""},{"$f":"IF(Qeydiyyat!AA307=\"\",\"\",Qeydiyyat!AA307)","v":""},{"$f":"IF(Qeydiyyat!X307=\"\",\"\",Qeydiyyat!X307)","v":""},{"$f":"IF(Qeydiyyat!Y307=\"\",\"\",Qeydiyyat!Y307)","v":""},null,{"$f":"IF(Qeydiyyat!AC307=\"\",\"\",Qeydiyyat!AC307)","v":""}]
[null,59,{"$f":"IF(Qeydiyyat!C308=\"\",\"\",Qeydiyyat!C308)","v":""},{"$f":"IF(Qeydiyyat!B308=\"\",\"\",Qeydiyyat!B308)","v":""},{"$f":"IF(Qeydiyyat!D308=\"\",\"\",Qeydiyyat!D308)","v":""},{"$f":"IF(Qeydiyyat!K308=\"\",\"\",Qeydiyyat!K308)","v":""},{"$f":"IF(Qeydiyyat!AB308=\"\",\"\",Qeydiyyat!AB308)","v":""},{"$f":"IF(Qeydiyyat!AA308=\"\",\"\",Qeydiyyat!AA308)","v":""},{"$f":"IF(Qeydiyyat!X308=\"\",\"\",Qeydiyyat!X308)","v":""},{"$f":"IF(Qeydiyyat!Y308=\"\",\"\",Qeydiyyat!Y308)","v":""},null,{"$f":"IF(Qeydiyyat!AC308=\"\",\"\",Qeydiyyat!AC308)","v":""}]
[null,60,{"$f":"IF(Qeydiyyat!C309=\"\",\"\",Qeydiyyat!C309)","v":""},{"$f":"IF(Qeydiyyat!B309=\"\",\"\",Qeydiyyat!B309)","v":""},{"$f":"IF(Qeydiyyat!D309=\"\",\"\",Qeydiyyat!D309)","v":""},{"$f":"IF(Qeydiyyat!K309=\"\",\"\",Qeydiyyat!K309)","v":""},{"$f":"IF(Qeydiyyat!AB309=\"\",\"\",Qeydiyyat!AB309)","v":""},{"$f":"IF(Qeydiyyat!AA309=\"\",\"\",Qeydiyyat!AA309)","v":""},{"$f":"IF(Qeydiyyat!X309=\"\",\"\",Qeydiyyat!X309)","v":""},{"$f":"IF(Qeydiyyat!Y309=\"\",\"\",Qeydiyyat!Y309)","v":""},null,{"$f":"IF(Qeydiyyat!AC309=\"\",\"\",Qeydiyyat!AC309)","v":""}]
[null,61,{"$f":"IF(Qeydiyyat!C310=\"\",\"\",Qeydiyyat!C310)","v":""},{"$f":"IF(Qeydiyyat!B310=\"\",\"\",Qeydiyyat!B310)","v":""},{"$f":"IF(Qeydiyyat!D310=\"\",\"\",Qeydiyyat!D310)","v":""},{"$f":"IF(Qeydiyyat!K310=\"\",\"\",Qeydiyyat!K310)","v":""},{"$f":"IF(Qeydiyyat!AB310=\"\",\"\",Qeydiyyat!AB310)","v":""},{"$f":"IF(Qeydiyyat!AA310=\"\",\"\",Qeydiyyat!AA310)","v":""},{"$f":"IF(Qeydiyyat!X310=\"\",\"\",Qeydiyyat!X310)","v":""},{"$f":"IF(Qeydiyyat!Y310=\"\",\"\",Qeydiyyat!Y310)","v":""},null,{"$f":"IF(Qeydiyyat!AC310=\"\",\"\",Qeydiyyat!AC310)","v":""}]
[null,62,{"$f":"IF(Qeydiyyat!C311=\"\",\"\",Qeydiyyat!C311)","v":""},{"$f":"IF(Qeydiyyat!B311=\"\",\"\",Qeydiyyat!B311)","v":""},{"$f":"IF(Qeydiyyat!D311=\"\",\"\",Qeydiyyat!D311)","v":""},{"$f":"IF(Qeydiyyat!K311=\"\",\"\",Qeydiyyat!K311)","v":""},{"$f":"IF(Qeydiyyat!AB311=\"\",\"\",Qeydiyyat!AB311)","v":""},{"$f":"IF(Qeydiyyat!AA311=\"\",\"\",Qeydiyyat!AA311)","v":""},{"$f":"IF(Qeydiyyat!X311=\"\",\"\",Qeydiyyat!X311)","v":""},{"$f":"IF(Qeydiyyat!Y311=\"\",\"\",Qeydiyyat!Y311)","v":""},null,{"$f":"IF(Qeydiyyat!AC311=\"\",\"\",Qeydiyyat!AC311)","v":""}]
[null,63,{"$f":"IF(Qeydiyyat!C312=\"\",\"\",Qeydiyyat!C312)","v":""},{"$f":"IF(Qeydiyyat!B312=\"\",\"\",Qeydiyyat!B312)","v":""},{"$f":"IF(Qeydiyyat!D312=\"\",\"\",Qeydiyyat!D312)","v":""},{"$f":"IF(Qeydiyyat!K312=\"\",\"\",Qeydiyyat!K312)","v":""},{"$f":"IF(Qeydiyyat!AB312=\"\",\"\",Qeydiyyat!AB312)","v":""},{"$f":"IF(Qeydiyyat!AA312=\"\",\"\",Qeydiyyat!AA312)","v":""},{"$f":"IF(Qeydiyyat!X312=\"\",\"\",Qeydiyyat!X312)","v":""},{"$f":"IF(Qeydiyyat!Y312=\"\",\"\",Qeydiyyat!Y312)","v":""},null,{"$f":"IF(Qeydiyyat!AC312=\"\",\"\",Qeydiyyat!AC312)","v":""}]
[null,64,{"$f":"IF(Qeydiyyat!C313=\"\",\"\",Qeydiyyat!C313)","v":""},{"$f":"IF(Qeydiyyat!B313=\"\",\"\",Qeydiyyat!B313)","v":""},{"$f":"IF(Qeydiyyat!D313=\"\",\"\",Qeydiyyat!D313)","v":""},{"$f":"IF(Qeydiyyat!K313=\"\",\"\",Qeydiyyat!K313)","v":""},{"$f":"IF(Qeydiyyat!AB313=\"\",\"\",Qeydiyyat!AB313)","v":""},{"$f":"IF(Qeydiyyat!AA313=\"\",\"\",Qeydiyyat!AA313)","v":""},{"$f":"IF(Qeydiyyat!X313=\"\",\"\",Qeydiyyat!X313)","v":""},{"$f":"IF(Qeydiyyat!Y313=\"\",\"\",Qeydiyyat!Y313)","v":""},null,{"$f":"IF(Qeydiyyat!AC313=\"\",\"\",Qeydiyyat!AC313)","v":""}]
[null,65,{"$f":"IF(Qeydiyyat!C314=\"\",\"\",Qeydiyyat!C314)","v":""},{"$f":"IF(Qeydiyyat!B314=\"\",\"\",Qeydiyyat!B314)","v":""},{"$f":"IF(Qeydiyyat!D314=\"\",\"\",Qeydiyyat!D314)","v":""},{"$f":"IF(Qeydiyyat!K314=\"\",\"\",Qeydiyyat!K314)","v":""},{"$f":"IF(Qeydiyyat!AB314=\"\",\"\",Qeydiyyat!AB314)","v":""},{"$f":"IF(Qeydiyyat!AA314=\"\",\"\",Qeydiyyat!AA314)","v":""},{"$f":"IF(Qeydiyyat!X314=\"\",\"\",Qeydiyyat!X314)","v":""},{"$f":"IF(Qeydiyyat!Y314=\"\",\"\",Qeydiyyat!Y314)","v":""},null,{"$f":"IF(Qeydiyyat!AC314=\"\",\"\",Qeydiyyat!AC314)","v":""}]
[null,66,{"$f":"IF(Qeydiyyat!C315=\"\",\"\",Qeydiyyat!C315)","v":""},{"$f":"IF(Qeydiyyat!B315=\"\",\"\",Qeydiyyat!B315)","v":""},{"$f":"IF(Qeydiyyat!D315=\"\",\"\",Qeydiyyat!D315)","v":""},{"$f":"IF(Qeydiyyat!K315=\"\",\"\",Qeydiyyat!K315)","v":""},{"$f":"IF(Qeydiyyat!AB315=\"\",\"\",Qeydiyyat!AB315)","v":""},{"$f":"IF(Qeydiyyat!AA315=\"\",\"\",Qeydiyyat!AA315)","v":""},{"$f":"IF(Qeydiyyat!X315=\"\",\"\",Qeydiyyat!X315)","v":""},{"$f":"IF(Qeydiyyat!Y315=\"\",\"\",Qeydiyyat!Y315)","v":""},null,{"$f":"IF(Qeydiyyat!AC315=\"\",\"\",Qeydiyyat!AC315)","v":""}]
[null,67,{"$f":"IF(Qeydiyyat!C316=\"\",\"\",Qeydiyyat!C316)","v":""},{"$f":"IF(Qeydiyyat!B316=\"\",\"\",Qeydiyyat!B316)","v":""},{"$f":"IF(Qeydiyyat!D316=\"\",\"\",Qeydiyyat!D316)","v":""},{"$f":"IF(Qeydiyyat!K316=\"\",\"\",Qeydiyyat!K316)","v":""},{"$f":"IF(Qeydiyyat!AB316=\"\",\"\",Qeydiyyat!AB316)","v":""},{"$f":"IF(Qeydiyyat!AA316=\"\",\"\",Qeydiyyat!AA316)","v":""},{"$f":"IF(Qeydiyyat!X316=\"\",\"\",Qeydiyyat!X316)","v":""},{"$f":"IF(Qeydiyyat!Y316=\"\",\"\",Qeydiyyat!Y316)","v":""},null,{"$f":"IF(Qeydiyyat!AC316=\"\",\"\",Qeydiyyat!AC316)","v":""}]
[null,68,{"$f":"IF(Qeydiyyat!C317=\"\",\"\",Qeydiyyat!C317)","v":""},{"$f":"IF(Qeydiyyat!B317=\"\",\"\",Qeydiyyat!B317)","v":""},{"$f":"IF(Qeydiyyat!D317=\"\",\"\",Qeydiyyat!D317)","v":""},{"$f":"IF(Qeydiyyat!K317=\"\",\"\",Qeydiyyat!K317)","v":""},{"$f":"IF(Qeydiyyat!AB317=\"\",\"\",Qeydiyyat!AB317)","v":""},{"$f":"IF(Qeydiyyat!AA317=\"\",\"\",Qeydiyyat!AA317)","v":""},{"$f":"IF(Qeydiyyat!X317=\"\",\"\",Qeydiyyat!X317)","v":""},{"$f":"IF(Qeydiyyat!Y317=\"\",\"\",Qeydiyyat!Y317)","v":""},null,{"$f":"IF(Qeydiyyat!AC317=\"\",\"\",Qeydiyyat!AC317)","v":""}]
[null,69,{"$f":"IF(Qeydiyyat!C318=\"\",\"\",Qeydiyyat!C318)","v":""},{"$f":"IF(Qeydiyyat!B318=\"\",\"\",Qeydiyyat!B318)","v":""},{"$f":"IF(Qeydiyyat!D318=\"\",\"\",Qeydiyyat!D318)","v":""},{"$f":"IF(Qeydiyyat!K318=\"\",\"\",Qeydiyyat!K318)","v":""},{"$f":"IF(Qeydiyyat!AB318=\"\",\"\",Qeydiyyat!AB318)","v":""},{"$f":"IF(Qeydiyyat!AA318=\"\",\"\",Qeydiyyat!AA318)","v":""},{"$f":"IF(Qeydiyyat!X318=\"\",\"\",Qeydiyyat!X318)","v":""},{"$f":"IF(Qeydiyyat!Y318=\"\",\"\",Qeydiyyat!Y318)","v":""},null,{"$f":"IF(Qeydiyyat!AC318=\"\",\"\",Qeydiyyat!AC318)","v":""}]
[null,70,{"$f":"IF(Qeydiyyat!C319=\"\",\"\",Qeydiyyat!C319)","v":""},{"$f":"IF(Qeydiyyat!B319=\"\",\"\",Qeydiyyat!B319)","v":""},{"$f":"IF(Qeydiyyat!D319=\"\",\"\",Qeydiyyat!D319)","v":""},{"$f":"IF(Qeydiyyat!K319=\"\",\"\",Qeydiyyat!K319)","v":""},{"$f":"IF(Qeydiyyat!AB319=\"\",\"\",Qeydiyyat!AB319)","v":""},{"$f":"IF(Qeydiyyat!AA319=\"\",\"\",Qeydiyyat!AA319)","v":""},{"$f":"IF(Qeydiyyat!X319=\"\",\"\",Qeydiyyat!X319)","v":""},{"$f":"IF(Qeydiyyat!Y319=\"\",\"\",Qeydiyyat!Y319)","v":""},null,{"$f":"IF(Qeydiyyat!AC319=\"\",\"\",Qeydiyyat!AC319)","v":""}]
[null,71,{"$f":"IF(Qeydiyyat!C320=\"\",\"\",Qeydiyyat!C320)","v":""},{"$f":"IF(Qeydiyyat!B320=\"\",\"\",Qeydiyyat!B320)","v":""},{"$f":"IF(Qeydiyyat!D320=\"\",\"\",Qeydiyyat!D320)","v":""},{"$f":"IF(Qeydiyyat!K320=\"\",\"\",Qeydiyyat!K320)","v":""},{"$f":"IF(Qeydiyyat!AB320=\"\",\"\",Qeydiyyat!AB320)","v":""},{"$f":"IF(Qeydiyyat!AA320=\"\",\"\",Qeydiyyat!AA320)","v":""},{"$f":"IF(Qeydiyyat!X320=\"\",\"\",Qeydiyyat!X320)","v":""},{"$f":"IF(Qeydiyyat!Y320=\"\",\"\",Qeydiyyat!Y320)","v":""},null,{"$f":"IF(Qeydiyyat!AC320=\"\",\"\",Qeydiyyat!AC320)","v":""}]
[null,72,{"$f":"IF(Qeydiyyat!C321=\"\",\"\",Qeydiyyat!C321)","v":""},{"$f":"IF(Qeydiyyat!B321=\"\",\"\",Qeydiyyat!B321)","v":""},{"$f":"IF(Qeydiyyat!D321=\"\",\"\",Qeydiyyat!D321)","v":""},{"$f":"IF(Qeydiyyat!K321=\"\",\"\",Qeydiyyat!K321)","v":""},{"$f":"IF(Qeydiyyat!AB321=\"\",\"\",Qeydiyyat!AB321)","v":""},{"$f":"IF(Qeydiyyat!AA321=\"\",\"\",Qeydiyyat!AA321)","v":""},{"$f":"IF(Qeydiyyat!X321=\"\",\"\",Qeydiyyat!X321)","v":""},{"$f":"IF(Qeydiyyat!Y321=\"\",\"\",Qeydiyyat!Y321)","v":""},null,{"$f":"IF(Qeydiyyat!AC321=\"\",\"\",Qeydiyyat!AC321)","v":""}]
[null,73,{"$f":"IF(Qeydiyyat!C322=\"\",\"\",Qeydiyyat!C322)","v":""},{"$f":"IF(Qeydiyyat!B322=\"\",\"\",Qeydiyyat!B322)","v":""},{"$f":"IF(Qeydiyyat!D322=\"\",\"\",Qeydiyyat!D322)","v":""},{"$f":"IF(Qeydiyyat!K322=\"\",\"\",Qeydiyyat!K322)","v":""},{"$f":"IF(Qeydiyyat!AB322=\"\",\"\",Qeydiyyat!AB322)","v":""},{"$f":"IF(Qeydiyyat!AA322=\"\",\"\",Qeydiyyat!AA322)","v":""},{"$f":"IF(Qeydiyyat!X322=\"\",\"\",Qeydiyyat!X322)","v":""},{"$f":"IF(Qeydiyyat!Y322=\"\",\"\",Qeydiyyat!Y322)","v":""},null,{"$f":"IF(Qeydiyyat!AC322=\"\",\"\",Qeydiyyat!AC322)","v":""}]
[null,74,{"$f":"IF(Qeydiyyat!C323=\"\",\"\",Qeydiyyat!C323)","v":""},{"$f":"IF(Qeydiyyat!B323=\"\",\"\",Qeydiyyat!B323)","v":""},{"$f":"IF(Qeydiyyat!D323=\"\",\"\",Qeydiyyat!D323)","v":""},{"$f":"IF(Qeydiyyat!K323=\"\",\"\",Qeydiyyat!K323)","v":""},{"$f":"IF(Qeydiyyat!AB323=\"\",\"\",Qeydiyyat!AB323)","v":""},{"$f":"IF(Qeydiyyat!AA323=\"\",\"\",Qeydiyyat!AA323)","v":""},{"$f":"IF(Qeydiyyat!X323=\"\",\"\",Qeydiyyat!X323)","v":""},{"$f":"IF(Qeydiyyat!Y323=\"\",\"\",Qeydiyyat!Y323)","v":""},null,{"$f":"IF(Qeydiyyat!AC323=\"\",\"\",Qeydiyyat!AC323)","v":""}]
[null,75,{"$f":"IF(Qeydiyyat!C324=\"\",\"\",Qeydiyyat!C324)","v":""},{"$f":"IF(Qeydiyyat!B324=\"\",\"\",Qeydiyyat!B324)","v":""},{"$f":"IF(Qeydiyyat!D324=\"\",\"\",Qeydiyyat!D324)","v":""},{"$f":"IF(Qeydiyyat!K324=\"\",\"\",Qeydiyyat!K324)","v":""},{"$f":"IF(Qeydiyyat!AB324=\"\",\"\",Qeydiyyat!AB324)","v":""},{"$f":"IF(Qeydiyyat!AA324=\"\",\"\",Qeydiyyat!AA324)","v":""},{"$f":"IF(Qeydiyyat!X324=\"\",\"\",Qeydiyyat!X324)","v":""},{"$f":"IF(Qeydiyyat!Y324=\"\",\"\",Qeydiyyat!Y324)","v":""},null,{"$f":"IF(Qeydiyyat!AC324=\"\",\"\",Qeydiyyat!AC324)","v":""}]
[null,76,{"$f":"IF(Qeydiyyat!C325=\"\",\"\",Qeydiyyat!C325)","v":""},{"$f":"IF(Qeydiyyat!B325=\"\",\"\",Qeydiyyat!B325)","v":""},{"$f":"IF(Qeydiyyat!D325=\"\",\"\",Qeydiyyat!D325)","v":""},{"$f":"IF(Qeydiyyat!K325=\"\",\"\",Qeydiyyat!K325)","v":""},{"$f":"IF(Qeydiyyat!AB325=\"\",\"\",Qeydiyyat!AB325)","v":""},{"$f":"IF(Qeydiyyat!AA325=\"\",\"\",Qeydiyyat!AA325)","v":""},{"$f":"IF(Qeydiyyat!X325=\"\",\"\",Qeydiyyat!X325)","v":""},{"$f":"IF(Qeydiyyat!Y325=\"\",\"\",Qeydiyyat!Y325)","v":""},null,{"$f":"IF(Qeydiyyat!AC325=\"\",\"\",Qeydiyyat!AC325)","v":""}]
[null,77,{"$f":"IF(Qeydiyyat!C326=\"\",\"\",Qeydiyyat!C326)","v":""},{"$f":"IF(Qeydiyyat!B326=\"\",\"\",Qeydiyyat!B326)","v":""},{"$f":"IF(Qeydiyyat!D326=\"\",\"\",Qeydiyyat!D326)","v":""},{"$f":"IF(Qeydiyyat!K326=\"\",\"\",Qeydiyyat!K326)","v":""},{"$f":"IF(Qeydiyyat!AB326=\"\",\"\",Qeydiyyat!AB326)","v":""},{"$f":"IF(Qeydiyyat!AA326=\"\",\"\",Qeydiyyat!AA326)","v":""},{"$f":"IF(Qeydiyyat!X326=\"\",\"\",Qeydiyyat!X326)","v":""},{"$f":"IF(Qeydiyyat!Y326=\"\",\"\",Qeydiyyat!Y326)","v":""},null,{"$f":"IF(Qeydiyyat!AC326=\"\",\"\",Qeydiyyat!AC326)","v":""}]
[null,78,{"$f":"IF(Qeydiyyat!C327=\"\",\"\",Qeydiyyat!C327)","v":""},{"$f":"IF(Qeydiyyat!B327=\"\",\"\",Qeydiyyat!B327)","v":""},{"$f":"IF(Qeydiyyat!D327=\"\",\"\",Qeydiyyat!D327)","v":""},{"$f":"IF(Qeydiyyat!K327=\"\",\"\",Qeydiyyat!K327)","v":""},{"$f":"IF(Qeydiyyat!AB327=\"\",\"\",Qeydiyyat!AB327)","v":""},{"$f":"IF(Qeydiyyat!AA327=\"\",\"\",Qeydiyyat!AA327)","v":""},{"$f":"IF(Qeydiyyat!X327=\"\",\"\",Qeydiyyat!X327)","v":""},{"$f":"IF(Qeydiyyat!Y327=\"\",\"\",Qeydiyyat!Y327)","v":""},null,{"$f":"IF(Qeydiyyat!AC327=\"\",\"\",Qeydiyyat!AC327)","v":""}]
[null,79,{"$f":"IF(Qeydiyyat!C328=\"\",\"\",Qeydiyyat!C328)","v":""},{"$f":"IF(Qeydiyyat!B328=\"\",\"\",Qeydiyyat!B328)","v":""},{"$f":"IF(Qeydiyyat!D328=\"\",\"\",Qeydiyyat!D328)","v":""},{"$f":"IF(Qeydiyyat!K328=\"\",\"\",Qeydiyyat!K328)","v":""},{"$f":"IF(Qeydiyyat!AB328=\"\",\"\",Qeydiyyat!AB328)","v":""},{"$f":"IF(Qeydiyyat!AA328=\"\",\"\",Qeydiyyat!AA328)","v":""},{"$f":"IF(Qeydiyyat!X328=\"\",\"\",Qeydiyyat!X328)","v":""},{"$f":"IF(Qeydiyyat!Y328=\"\",\"\",Qeydiyyat!Y328)","v":""},null,{"$f":"IF(Qeydiyyat!AC328=\"\",\"\",Qeydiyyat!AC328)","v":""}]
[null,80,{"$f":"IF(Qeydiyyat!C329=\"\",\"\",Qeydiyyat!C329)","v":""},{"$f":"IF(Qeydiyyat!B329=\"\",\"\",Qeydiyyat!B329)","v":""},{"$f":"IF(Qeydiyyat!D329=\"\",\"\",Qeydiyyat!D329)","v":""},{"$f":"IF(Qeydiyyat!K329=\"\",\"\",Qeydiyyat!K329)","v":""},{"$f":"IF(Qeydiyyat!AB329=\"\",\"\",Qeydiyyat!AB329)","v":""},{"$f":"IF(Qeydiyyat!AA329=\"\",\"\",Qeydiyyat!AA329)","v":""},{"$f":"IF(Qeydiyyat!X329=\"\",\"\",Qeydiyyat!X329)","v":""},{"$f":"IF(Qeydiyyat!Y329=\"\",\"\",Qeydiyyat!Y329)","v":""},null,{"$f":"IF(Qeydiyyat!AC329=\"\",\"\",Qeydiyyat!AC329)","v":""}]
[null,81,{"$f":"IF(Qeydiyyat!C330=\"\",\"\",Qeydiyyat!C330)","v":""},{"$f":"IF(Qeydiyyat!B330=\"\",\"\",Qeydiyyat!B330)","v":""},{"$f":"IF(Qeydiyyat!D330=\"\",\"\",Qeydiyyat!D330)","v":""},{"$f":"IF(Qeydiyyat!K330=\"\",\"\",Qeydiyyat!K330)","v":""},{"$f":"IF(Qeydiyyat!AB330=\"\",\"\",Qeydiyyat!AB330)","v":""},{"$f":"IF(Qeydiyyat!AA330=\"\",\"\",Qeydiyyat!AA330)","v":""},{"$f":"IF(Qeydiyyat!X330=\"\",\"\",Qeydiyyat!X330)","v":""},{"$f":"IF(Qeydiyyat!Y330=\"\",\"\",Qeydiyyat!Y330)","v":""},null,{"$f":"IF(Qeydiyyat!AC330=\"\",\"\",Qeydiyyat!AC330)","v":""}]
[null,82,{"$f":"IF(Qeydiyyat!C331=\"\",\"\",Qeydiyyat!C331)","v":""},{"$f":"IF(Qeydiyyat!B331=\"\",\"\",Qeydiyyat!B331)","v":""},{"$f":"IF(Qeydiyyat!D331=\"\",\"\",Qeydiyyat!D331)","v":""},{"$f":"IF(Qeydiyyat!K331=\"\",\"\",Qeydiyyat!K331)","v":""},{"$f":"IF(Qeydiyyat!AB331=\"\",\"\",Qeydiyyat!AB331)","v":""},{"$f":"IF(Qeydiyyat!AA331=\"\",\"\",Qeydiyyat!AA331)","v":""},{"$f":"IF(Qeydiyyat!X331=\"\",\"\",Qeydiyyat!X331)","v":""},{"$f":"IF(Qeydiyyat!Y331=\"\",\"\",Qeydiyyat!Y331)","v":""},null,{"$f":"IF(Qeydiyyat!AC331=\"\",\"\",Qeydiyyat!AC331)","v":""}]
[null,83,{"$f":"IF(Qeydiyyat!C332=\"\",\"\",Qeydiyyat!C332)","v":""},{"$f":"IF(Qeydiyyat!B332=\"\",\"\",Qeydiyyat!B332)","v":""},{"$f":"IF(Qeydiyyat!D332=\"\",\"\",Qeydiyyat!D332)","v":""},{"$f":"IF(Qeydiyyat!K332=\"\",\"\",Qeydiyyat!K332)","v":""},{"$f":"IF(Qeydiyyat!AB332=\"\",\"\",Qeydiyyat!AB332)","v":""},{"$f":"IF(Qeydiyyat!AA332=\"\",\"\",Qeydiyyat!AA332)","v":""},{"$f":"IF(Qeydiyyat!X332=\"\",\"\",Qeydiyyat!X332)","v":""},{"$f":"IF(Qeydiyyat!Y332=\"\",\"\",Qeydiyyat!Y332)","v":""},null,{"$f":"IF(Qeydiyyat!AC332=\"\",\"\",Qeydiyyat!AC332)","v":""}]
[null,84,{"$f":"IF(Qeydiyyat!C333=\"\",\"\",Qeydiyyat!C333)","v":""},{"$f":"IF(Qeydiyyat!B333=\"\",\"\",Qeydiyyat!B333)","v":""},{"$f":"IF(Qeydiyyat!D333=\"\",\"\",Qeydiyyat!D333)","v":""},{"$f":"IF(Qeydiyyat!K333=\"\",\"\",Qeydiyyat!K333)","v":""},{"$f":"IF(Qeydiyyat!AB333=\"\",\"\",Qeydiyyat!AB333)","v":""},{"$f":"IF(Qeydiyyat!AA333=\"\",\"\",Qeydiyyat!AA333)","v":""},{"$f":"IF(Qeydiyyat!X333=\"\",\"\",Qeydiyyat!X333)","v":""},{"$f":"IF(Qeydiyyat!Y333=\"\",\"\",Qeydiyyat!Y333)","v":""},null,{"$f":"IF(Qeydiyyat!AC333=\"\",\"\",Qeydiyyat!AC333)","v":""}]
[null,85,{"$f":"IF(Qeydiyyat!C334=\"\",\"\",Qeydiyyat!C334)","v":""},{"$f":"IF(Qeydiyyat!B334=\"\",\"\",Qeydiyyat!B334)","v":""},{"$f":"IF(Qeydiyyat!D334=\"\",\"\",Qeydiyyat!D334)","v":""},{"$f":"IF(Qeydiyyat!K334=\"\",\"\",Qeydiyyat!K334)","v":""},{"$f":"IF(Qeydiyyat!AB334=\"\",\"\",Qeydiyyat!AB334)","v":""},{"$f":"IF(Qeydiyyat!AA334=\"\",\"\",Qeydiyyat!AA334)","v":""},{"$f":"IF(Qeydiyyat!X334=\"\",\"\",Qeydiyyat!X334)","v":""},{"$f":"IF(Qeydiyyat!Y334=\"\",\"\",Qeydiyyat!Y334)","v":""},null,{"$f":"IF(Qeydiyyat!AC334=\"\",\"\",Qeydiyyat!AC334)","v":""}]
[null,86,{"$f":"IF(Qeydiyyat!C335=\"\",\"\",Qeydiyyat!C335)","v":""},{"$f":"IF(Qeydiyyat!B335=\"\",\"\",Qeydiyyat!B335)","v":""},{"$f":"IF(Qeydiyyat!D335=\"\",\"\",Qeydiyyat!D335)","v":""},{"$f":"IF(Qeydiyyat!K335=\"\",\"\",Qeydiyyat!K335)","v":""},{"$f":"IF(Qeydiyyat!AB335=\"\",\"\",Qeydiyyat!AB335)","v":""},{"$f":"IF(Qeydiyyat!AA335=\"\",\"\",Qeydiyyat!AA335)","v":""},{"$f":"IF(Qeydiyyat!X335=\"\",\"\",Qeydiyyat!X335)","v":""},{"$f":"IF(Qeydiyyat!Y335=\"\",\"\",Qeydiyyat!Y335)","v":""},null,{"$f":"IF(Qeydiyyat!AC335=\"\",\"\",Qeydiyyat!AC335)","v":""}]
[null,87,{"$f":"IF(Qeydiyyat!C336=\"\",\"\",Qeydiyyat!C336)","v":""},{"$f":"IF(Qeydiyyat!B336=\"\",\"\",Qeydiyyat!B336)","v":""},{"$f":"IF(Qeydiyyat!D336=\"\",\"\",Qeydiyyat!D336)","v":""},{"$f":"IF(Qeydiyyat!K336=\"\",\"\",Qeydiyyat!K336)","v":""},{"$f":"IF(Qeydiyyat!AB336=\"\",\"\",Qeydiyyat!AB336)","v":""},{"$f":"IF(Qeydiyyat!AA336=\"\",\"\",Qeydiyyat!AA336)","v":""},{"$f":"IF(Qeydiyyat!X336=\"\",\"\",Qeydiyyat!X336)","v":""},{"$f":"IF(Qeydiyyat!Y336=\"\",\"\",Qeydiyyat!Y336)","v":""},null,{"$f":"IF(Qeydiyyat!AC336=\"\",\"\",Qeydiyyat!AC336)","v":""}]
[null,88,{"$f":"IF(Qeydiyyat!C337=\"\",\"\",Qeydiyyat!C337)","v":""},{"$f":"IF(Qeydiyyat!B337=\"\",\"\",Qeydiyyat!B337)","v":""},{"$f":"IF(Qeydiyyat!D337=\"\",\"\",Qeydiyyat!D337)","v":""},{"$f":"IF(Qeydiyyat!K337=\"\",\"\",Qeydiyyat!K337)","v":""},{"$f":"IF(Qeydiyyat!AB337=\"\",\"\",Qeydiyyat!AB337)","v":""},{"$f":"IF(Qeydiyyat!AA337=\"\",\"\",Qeydiyyat!AA337)","v":""},{"$f":"IF(Qeydiyyat!X337=\"\",\"\",Qeydiyyat!X337)","v":""},{"$f":"IF(Qeydiyyat!Y337=\"\",\"\",Qeydiyyat!Y337)","v":""},null,{"$f":"IF(Qeydiyyat!AC337=\"\",\"\",Qeydiyyat!AC337)","v":""}]
[null,89,{"$f":"IF(Qeydiyyat!C338=\"\",\"\",Qeydiyyat!C338)","v":""},{"$f":"IF(Qeydiyyat!B338=\"\",\"\",Qeydiyyat!B338)","v":""},{"$f":"IF(Qeydiyyat!D338=\"\",\"\",Qeydiyyat!D338)","v":""},{"$f":"IF(Qeydiyyat!K338=\"\",\"\",Qeydiyyat!K338)","v":""},{"$f":"IF(Qeydiyyat!AB338=\"\",\"\",Qeydiyyat!AB338)","v":""},{"$f":"IF(Qeydiyyat!AA338=\"\",\"\",Qeydiyyat!AA338)","v":""},{"$f":"IF(Qeydiyyat!X338=\"\",\"\",Qeydiyyat!X338)","v":""},{"$f":"IF(Qeydiyyat!Y338=\"\",\"\",Qeydiyyat!Y338)","v":""},null,{"$f":"IF(Qeydiyyat!AC338=\"\",\"\",Qeydiyyat!AC338)","v":""}]
[null,90,{"$f":"IF(Qeydiyyat!C339=\"\",\"\",Qeydiyyat!C339)","v":""},{"$f":"IF(Qeydiyyat!B339=\"\",\"\",Qeydiyyat!B339)","v":""},{"$f":"IF(Qeydiyyat!D339=\"\",\"\",Qeydiyyat!D339)","v":""},{"$f":"IF(Qeydiyyat!K339=\"\",\"\",Qeydiyyat!K339)","v":""},{"$f":"IF(Qeydiyyat!AB339=\"\",\"\",Qeydiyyat!AB339)","v":""},{"$f":"IF(Qeydiyyat!AA339=\"\",\"\",Qeydiyyat!AA339)","v":""},{"$f":"IF(Qeydiyyat!X339=\"\",\"\",Qeydiyyat!X339)","v":""},{"$f":"IF(Qeydiyyat!Y339=\"\",\"\",Qeydiyyat!Y339)","v":""},null,{"$f":"IF(Qeydiyyat!AC339=\"\",\"\",Qeydiyyat!AC339)","v":""}]
[null,91,{"$f":"IF(Qeydiyyat!C340=\"\",\"\",Qeydiyyat!C340)","v":""},{"$f":"IF(Qeydiyyat!B340=\"\",\"\",Qeydiyyat!B340)","v":""},{"$f":"IF(Qeydiyyat!D340=\"\",\"\",Qeydiyyat!D340)","v":""},{"$f":"IF(Qeydiyyat!K340=\"\",\"\",Qeydiyyat!K340)","v":""},{"$f":"IF(Qeydiyyat!AB340=\"\",\"\",Qeydiyyat!AB340)","v":""},{"$f":"IF(Qeydiyyat!AA340=\"\",\"\",Qeydiyyat!AA340)","v":""},{"$f":"IF(Qeydiyyat!X340=\"\",\"\",Qeydiyyat!X340)","v":""},{"$f":"IF(Qeydiyyat!Y340=\"\",\"\",Qeydiyyat!Y340)","v":""},null,{"$f":"IF(Qeydiyyat!AC340=\"\",\"\",Qeydiyyat!AC340)","v":""}]
[null,92,{"$f":"IF(Qeydiyyat!C341=\"\",\"\",Qeydiyyat!C341)","v":""},{"$f":"IF(Qeydiyyat!B341=\"\",\"\",Qeydiyyat!B341)","v":""},{"$f":"IF(Qeydiyyat!D341=\"\",\"\",Qeydiyyat!D341)","v":""},{"$f":"IF(Qeydiyyat!K341=\"\",\"\",Qeydiyyat!K341)","v":""},{"$f":"IF(Qeydiyyat!AB341=\"\",\"\",Qeydiyyat!AB341)","v":""},{"$f":"IF(Qeydiyyat!AA341=\"\",\"\",Qeydiyyat!AA341)","v":""},{"$f":"IF(Qeydiyyat!X341=\"\",\"\",Qeydiyyat!X341)","v":""},{"$f":"IF(Qeydiyyat!Y341=\"\",\"\",Qeydiyyat!Y341)","v":""},null,{"$f":"IF(Qeydiyyat!AC341=\"\",\"\",Qeydiyyat!AC341)","v":""}]
[null,93,{"$f":"IF(Qeydiyyat!C342=\"\",\"\",Qeydiyyat!C342)","v":""},{"$f":"IF(Qeydiyyat!B342=\"\",\"\",Qeydiyyat!B342)","v":""},{"$f":"IF(Qeydiyyat!D342=\"\",\"\",Qeydiyyat!D342)","v":""},{"$f":"IF(Qeydiyyat!K342=\"\",\"\",Qeydiyyat!K342)","v":""},{"$f":"IF(Qeydiyyat!AB342=\"\",\"\",Qeydiyyat!AB342)","v":""},{"$f":"IF(Qeydiyyat!AA342=\"\",\"\",Qeydiyyat!AA342)","v":""},{"$f":"IF(Qeydiyyat!X342=\"\",\"\",Qeydiyyat!X342)","v":""},{"$f":"IF(Qeydiyyat!Y342=\"\",\"\",Qeydiyyat!Y342)","v":""},null,{"$f":"IF(Qeydiyyat!AC342=\"\",\"\",Qeydiyyat!AC342)","v":""}]
[null,94,{"$f":"IF(Qeydiyyat!C343=\"\",\"\",Qeydiyyat!C343)","v":""},{"$f":"IF(Qeydiyyat!B343=\"\",\"\",Qeydiyyat!B343)","v":""},{"$f":"IF(Qeydiyyat!D343=\"\",\"\",Qeydiyyat!D343)","v":""},{"$f":"IF(Qeydiyyat!K343=\"\",\"\",Qeydiyyat!K343)","v":""},{"$f":"IF(Qeydiyyat!AB343=\"\",\"\",Qeydiyyat!AB343)","v":""},{"$f":"IF(Qeydiyyat!AA343=\"\",\"\",Qeydiyyat!AA343)","v":""},{"$f":"IF(Qeydiyyat!X343=\"\",\"\",Qeydiyyat!X343)","v":""},{"$f":"IF(Qeydiyyat!Y343=\"\",\"\",Qeydiyyat!Y343)","v":""},null,{"$f":"IF(Qeydiyyat!AC343=\"\",\"\",Qeydiyyat!AC343)","v":""}]
[null,95,{"$f":"IF(Qeydiyyat!C344=\"\",\"\",Qeydiyyat!C344)","v":""},{"$f":"IF(Qeydiyyat!B344=\"\",\"\",Qeydiyyat!B344)","v":""},{"$f":"IF(Qeydiyyat!D344=\"\",\"\",Qeydiyyat!D344)","v":""},{"$f":"IF(Qeydiyyat!K344=\"\",\"\",Qeydiyyat!K344)","v":""},{"$f":"IF(Qeydiyyat!AB344=\"\",\"\",Qeydiyyat!AB344)","v":""},{"$f":"IF(Qeydiyyat!AA344=\"\",\"\",Qeydiyyat!AA344)","v":""},{"$f":"IF(Qeydiyyat!X344=\"\",\"\",Qeydiyyat!X344)","v":""},{"$f":"IF(Qeydiyyat!Y344=\"\",\"\",Qeydiyyat!Y344)","v":""},null,{"$f":"IF(Qeydiyyat!AC344=\"\",\"\",Qeydiyyat!AC344)","v":""}]
[null,96,{"$f":"IF(Qeydiyyat!C345=\"\",\"\",Qeydiyyat!C345)","v":""},{"$f":"IF(Qeydiyyat!B345=\"\",\"\",Qeydiyyat!B345)","v":""},{"$f":"IF(Qeydiyyat!D345=\"\",\"\",Qeydiyyat!D345)","v":""},{"$f":"IF(Qeydiyyat!K345=\"\",\"\",Qeydiyyat!K345)","v":""},{"$f":"IF(Qeydiyyat!AB345=\"\",\"\",Qeydiyyat!AB345)","v":""},{"$f":"IF(Qeydiyyat!AA345=\"\",\"\",Qeydiyyat!AA345)","v":""},{"$f":"IF(Qeydiyyat!X345=\"\",\"\",Qeydiyyat!X345)","v":""},{"$f":"IF(Qeydiyyat!Y345=\"\",\"\",Qeydiyyat!Y345)","v":""},null,{"$f":"IF(Qeydiyyat!AC345=\"\",\"\",Qeydiyyat!AC345)","v":""}]
[null,97,{"$f":"IF(Qeydiyyat!C346=\"\",\"\",Qeydiyyat!C346)","v":""},{"$f":"IF(Qeydiyyat!B346=\"\",\"\",Qeydiyyat!B346)","v":""},{"$f":"IF(Qeydiyyat!D346=\"\",\"\",Qeydiyyat!D346)","v":""},{"$f":"IF(Qeydiyyat!K346=\"\",\"\",Qeydiyyat!K346)","v":""},{"$f":"IF(Qeydiyyat!AB346=\"\",\"\",Qeydiyyat!AB346)","v":""},{"$f":"IF(Qeydiyyat!AA346=\"\",\"\",Qeydiyyat!AA346)","v":""},{"$f":"IF(Qeydiyyat!X346=\"\",\"\",Qeydiyyat!X346)","v":""},{"$f":"IF(Qeydiyyat!Y346=\"\",\"\",Qeydiyyat!Y346)","v":""},null,{"$f":"IF(Qeydiyyat!AC346=\"\",\"\",Qeydiyyat!AC346)","v":""}]
[null,98,{"$f":"IF(Qeydiyyat!C347=\"\",\"\",Qeydiyyat!C347)","v":""},{"$f":"IF(Qeydiyyat!B347=\"\",\"\",Qeydiyyat!B347)","v":""},{"$f":"IF(Qeydiyyat!D347=\"\",\"\",Qeydiyyat!D347)","v":""},{"$f":"IF(Qeydiyyat!K347=\"\",\"\",Qeydiyyat!K347)","v":""},{"$f":"IF(Qeydiyyat!AB347=\"\",\"\",Qeydiyyat!AB347)","v":""},{"$f":"IF(Qeydiyyat!AA347=\"\",\"\",Qeydiyyat!AA347)","v":""},{"$f":"IF(Qeydiyyat!X347=\"\",\"\",Qeydiyyat!X347)","v":""},{"$f":"IF(Qeydiyyat!Y347=\"\",\"\",Qeydiyyat!Y347)","v":""},null,{"$f":"IF(Qeydiyyat!AC347=\"\",\"\",Qeydiyyat!AC347)","v":""}]
[null,99,{"$f":"IF(Qeydiyyat!C348=\"\",\"\",Qeydiyyat!C348)","v":""},{"$f":"IF(Qeydiyyat!B348=\"\",\"\",Qeydiyyat!B348)","v":""},{"$f":"IF(Qeydiyyat!D348=\"\",\"\",Qeydiyyat!D348)","v":""},{"$f":"IF(Qeydiyyat!K348=\"\",\"\",Qeydiyyat!K348)","v":""},{"$f":"IF(Qeydiyyat!AB348=\"\",\"\",Qeydiyyat!AB348)","v":""},{"$f":"IF(Qeydiyyat!AA348=\"\",\"\",Qeydiyyat!AA348)","v":""},{"$f":"IF(Qeydiyyat!X348=\"\",\"\",Qeydiyyat!X348)","v":""},{"$f":"IF(Qeydiyyat!Y348=\"\",\"\",Qeydiyyat!Y348)","v":""},null,{"$f":"IF(Qeydiyyat!AC348=\"\",\"\",Qeydiyyat!AC348)","v":""}]
[null,100,{"$f":"IF(Qeydiyyat!C349=\"\",\"\",Qeydiyyat!C349)","v":""},{"$f":"IF(Qeydiyyat!B349=\"\",\"\",Qeydiyyat!B349)","v":""},{"$f":"IF(Qeydiyyat!D349=\"\",\"\",Qeydiyyat!D349)","v":""},{"$f":"IF(Qeydiyyat!K349=\"\",\"\",Qeydiyyat!K349)","v":""},{"$f":"IF(Qeydiyyat!AB349=\"\",\"\",Qeydiyyat!AB349)","v":""},{"$f":"IF(Qeydiyyat!AA349=\"\",\"\",Qeydiyyat!AA349)","v":""},{"$f":"IF(Qeydiyyat!X349=\"\",\"\",Qeydiyyat!X349)","v":""},{"$f":"IF(Qeydiyyat!Y349=\"\",\"\",Qeydiyyat!Y349)","v":""},null,{"$f":"IF(Qeydiyyat!AC349=\"\",\"\",Qeydiyyat!AC349)","v":""}]
[null,101,{"$f":"IF(Qeydiyyat!C350=\"\",\"\",Qeydiyyat!C350)","v":""},{"$f":"IF(Qeydiyyat!B350=\"\",\"\",Qeydiyyat!B350)","v":""},{"$f":"IF(Qeydiyyat!D350=\"\",\"\",Qeydiyyat!D350)","v":""},{"$f":"IF(Qeydiyyat!K350=\"\",\"\",Qeydiyyat!K350)","v":""},{"$f":"IF(Qeydiyyat!AB350=\"\",\"\",Qeydiyyat!AB350)","v":""},{"$f":"IF(Qeydiyyat!AA350=\"\",\"\",Qeydiyyat!AA350)","v":""},{"$f":"IF(Qeydiyyat!X350=\"\",\"\",Qeydiyyat!X350)","v":""},{"$f":"IF(Qeydiyyat!Y350=\"\",\"\",Qeydiyyat!Y350)","v":""},null,{"$f":"IF(Qeydiyyat!AC350=\"\",\"\",Qeydiyyat!AC350)","v":""}]
[null,102,{"$f":"IF(Qeydiyyat!C351=\"\",\"\",Qeydiyyat!C351)","v":""},{"$f":"IF(Qeydiyyat!B351=\"\",\"\",Qeydiyyat!B351)","v":""},{"$f":"IF(Qeydiyyat!D351=\"\",\"\",Qeydiyyat!D351)","v":""},{"$f":"IF(Qeydiyyat!K351=\"\",\"\",Qeydiyyat!K351)","v":""},{"$f":"IF(Qeydiyyat!AB351=\"\",\"\",Qeydiyyat!AB351)","v":""},{"$f":"IF(Qeydiyyat!AA351=\"\",\"\",Qeydiyyat!AA351)","v":""},{"$f":"IF(Qeydiyyat!X351=\"\",\"\",Qeydiyyat!X351)","v":""},{"$f":"IF(Qeydiyyat!Y351=\"\",\"\",Qeydiyyat!Y351)","v":""},null,{"$f":"IF(Qeydiyyat!AC351=\"\",\"\",Qeydiyyat!AC351)","v":""}]
[null,103,{"$f":"IF(Qeydiyyat!C352=\"\",\"\",Qeydiyyat!C352)","v":""},{"$f":"IF(Qeydiyyat!B352=\"\",\"\",Qeydiyyat!B352)","v":""},{"$f":"IF(Qeydiyyat!D352=\"\",\"\",Qeydiyyat!D352)","v":""},{"$f":"IF(Qeydiyyat!K352=\"\",\"\",Qeydiyyat!K352)","v":""},{"$f":"IF(Qeydiyyat!AB352=\"\",\"\",Qeydiyyat!AB352)","v":""},{"$f":"IF(Qeydiyyat!AA352=\"\",\"\",Qeydiyyat!AA352)","v":""},{"$f":"IF(Qeydiyyat!X352=\"\",\"\",Qeydiyyat!X352)","v":""},{"$f":"IF(Qeydiyyat!Y352=\"\",\"\",Qeydiyyat!Y352)","v":""},null,{"$f":"IF(Qeydiyyat!AC352=\"\",\"\",Qeydiyyat!AC352)","v":""}]
[null,104,{"$f":"IF(Qeydiyyat!C353=\"\",\"\",Qeydiyyat!C353)","v":""},{"$f":"IF(Qeydiyyat!B353=\"\",\"\",Qeydiyyat!B353)","v":""},{"$f":"IF(Qeydiyyat!D353=\"\",\"\",Qeydiyyat!D353)","v":""},{"$f":"IF(Qeydiyyat!K353=\"\",\"\",Qeydiyyat!K353)","v":""},{"$f":"IF(Qeydiyyat!AB353=\"\",\"\",Qeydiyyat!AB353)","v":""},{"$f":"IF(Qeydiyyat!AA353=\"\",\"\",Qeydiyyat!AA353)","v":""},{"$f":"IF(Qeydiyyat!X353=\"\",\"\",Qeydiyyat!X353)","v":""},{"$f":"IF(Qeydiyyat!Y353=\"\",\"\",Qeydiyyat!Y353)","v":""},null,{"$f":"IF(Qeydiyyat!AC353=\"\",\"\",Qeydiyyat!AC353)","v":""}]
[null,105,{"$f":"IF(Qeydiyyat!C354=\"\",\"\",Qeydiyyat!C354)","v":""},{"$f":"IF(Qeydiyyat!B354=\"\",\"\",Qeydiyyat!B354)","v":""},{"$f":"IF(Qeydiyyat!D354=\"\",\"\",Qeydiyyat!D354)","v":""},{"$f":"IF(Qeydiyyat!K354=\"\",\"\",Qeydiyyat!K354)","v":""},{"$f":"IF(Qeydiyyat!AB354=\"\",\"\",Qeydiyyat!AB354)","v":""},{"$f":"IF(Qeydiyyat!AA354=\"\",\"\",Qeydiyyat!AA354)","v":""},{"$f":"IF(Qeydiyyat!X354=\"\",\"\",Qeydiyyat!X354)","v":""},{"$f":"IF(Qeydiyyat!Y354=\"\",\"\",Qeydiyyat!Y354)","v":""},null,{"$f":"IF(Qeydiyyat!AC354=\"\",\"\",Qeydiyyat!AC354)","v":""}]
[null,106,{"$f":"IF(Qeydiyyat!C355=\"\",\"\",Qeydiyyat!C355)","v":""},{"$f":"IF(Qeydiyyat!B355=\"\",\"\",Qeydiyyat!B355)","v":""},{"$f":"IF(Qeydiyyat!D355=\"\",\"\",Qeydiyyat!D355)","v":""},{"$f":"IF(Qeydiyyat!K355=\"\",\"\",Qeydiyyat!K355)","v":""},{"$f":"IF(Qeydiyyat!AB355=\"\",\"\",Qeydiyyat!AB355)","v":""},{"$f":"IF(Qeydiyyat!AA355=\"\",\"\",Qeydiyyat!AA355)","v":""},{"$f":"IF(Qeydiyyat!X355=\"\",\"\",Qeydiyyat!X355)","v":""},{"$f":"IF(Qeydiyyat!Y355=\"\",\"\",Qeydiyyat!Y355)","v":""},null,{"$f":"IF(Qeydiyyat!AC355=\"\",\"\",Qeydiyyat!AC355)","v":""}]
[null,107,{"$f":"IF(Qeydiyyat!C356=\"\",\"\",Qeydiyyat!C356)","v":""},{"$f":"IF(Qeydiyyat!B356=\"\",\"\",Qeydiyyat!B356)","v":""},{"$f":"IF(Qeydiyyat!D356=\"\",\"\",Qeydiyyat!D356)","v":""},{"$f":"IF(Qeydiyyat!K356=\"\",\"\",Qeydiyyat!K356)","v":""},{"$f":"IF(Qeydiyyat!AB356=\"\",\"\",Qeydiyyat!AB356)","v":""},{"$f":"IF(Qeydiyyat!AA356=\"\",\"\",Qeydiyyat!AA356)","v":""},{"$f":"IF(Qeydiyyat!X356=\"\",\"\",Qeydiyyat!X356)","v":""},{"$f":"IF(Qeydiyyat!Y356=\"\",\"\",Qeydiyyat!Y356)","v":""},null,{"$f":"IF(Qeydiyyat!AC356=\"\",\"\",Qeydiyyat!AC356)","v":""}]
[null,108,{"$f":"IF(Qeydiyyat!C357=\"\",\"\",Qeydiyyat!C357)","v":""},{"$f":"IF(Qeydiyyat!B357=\"\",\"\",Qeydiyyat!B357)","v":""},{"$f":"IF(Qeydiyyat!D357=\"\",\"\",Qeydiyyat!D357)","v":""},{"$f":"IF(Qeydiyyat!K357=\"\",\"\",Qeydiyyat!K357)","v":""},{"$f":"IF(Qeydiyyat!AB357=\"\",\"\",Qeydiyyat!AB357)","v":""},{"$f":"IF(Qeydiyyat!AA357=\"\",\"\",Qeydiyyat!AA357)","v":""},{"$f":"IF(Qeydiyyat!X357=\"\",\"\",Qeydiyyat!X357)","v":""},{"$f":"IF(Qeydiyyat!Y357=\"\",\"\",Qeydiyyat!Y357)","v":""},null,{"$f":"IF(Qeydiyyat!AC357=\"\",\"\",Qeydiyyat!AC357)","v":""}]
[null,109,{"$f":"IF(Qeydiyyat!C358=\"\",\"\",Qeydiyyat!C358)","v":""},{"$f":"IF(Qeydiyyat!B358=\"\",\"\",Qeydiyyat!B358)","v":""},{"$f":"IF(Qeydiyyat!D358=\"\",\"\",Qeydiyyat!D358)","v":""},{"$f":"IF(Qeydiyyat!K358=\"\",\"\",Qeydiyyat!K358)","v":""},{"$f":"IF(Qeydiyyat!AB358=\"\",\"\",Qeydiyyat!AB358)","v":""},{"$f":"IF(Qeydiyyat!AA358=\"\",\"\",Qeydiyyat!AA358)","v":""},{"$f":"IF(Qeydiyyat!X358=\"\",\"\",Qeydiyyat!X358)","v":""},{"$f":"IF(Qeydiyyat!Y358=\"\",\"\",Qeydiyyat!Y358)","v":""},null,{"$f":"IF(Qeydiyyat!AC358=\"\",\"\",Qeydiyyat!AC358)","v":""}]
[null,110,{"$f":"IF(Qeydiyyat!C359=\"\",\"\",Qeydiyyat!C359)","v":""},{"$f":"IF(Qeydiyyat!B359=\"\",\"\",Qeydiyyat!B359)","v":""},{"$f":"IF(Qeydiyyat!D359=\"\",\"\",Qeydiyyat!D359)","v":""},{"$f":"IF(Qeydiyyat!K359=\"\",\"\",Qeydiyyat!K359)","v":""},{"$f":"IF(Qeydiyyat!AB359=\"\",\"\",Qeydiyyat!AB359)","v":""},{"$f":"IF(Qeydiyyat!AA359=\"\",\"\",Qeydiyyat!AA359)","v":""},{"$f":"IF(Qeydiyyat!X359=\"\",\"\",Qeydiyyat!X359)","v":""},{"$f":"IF(Qeydiyyat!Y359=\"\",\"\",Qeydiyyat!Y359)","v":""},null,{"$f":"IF(Qeydiyyat!AC359=\"\",\"\",Qeydiyyat!AC359)","v":""}]
[null,111,{"$f":"IF(Qeydiyyat!C360=\"\",\"\",Qeydiyyat!C360)","v":""},{"$f":"IF(Qeydiyyat!B360=\"\",\"\",Qeydiyyat!B360)","v":""},{"$f":"IF(Qeydiyyat!D360=\"\",\"\",Qeydiyyat!D360)","v":""},{"$f":"IF(Qeydiyyat!K360=\"\",\"\",Qeydiyyat!K360)","v":""},{"$f":"IF(Qeydiyyat!AB360=\"\",\"\",Qeydiyyat!AB360)","v":""},{"$f":"IF(Qeydiyyat!AA360=\"\",\"\",Qeydiyyat!AA360)","v":""},{"$f":"IF(Qeydiyyat!X360=\"\",\"\",Qeydiyyat!X360)","v":""},{"$f":"IF(Qeydiyyat!Y360=\"\",\"\",Qeydiyyat!Y360)","v":""},null,{"$f":"IF(Qeydiyyat!AC360=\"\",\"\",Qeydiyyat!AC360)","v":""}]
[null,112,{"$f":"IF(Qeydiyyat!C361=\"\",\"\",Qeydiyyat!C361)","v":""},{"$f":"IF(Qeydiyyat!B361=\"\",\"\",Qeydiyyat!B361)","v":""},{"$f":"IF(Qeydiyyat!D361=\"\",\"\",Qeydiyyat!D361)","v":""},{"$f":"IF(Qeydiyyat!K361=\"\",\"\",Qeydiyyat!K361)","v":""},{"$f":"IF(Qeydiyyat!AB361=\"\",\"\",Qeydiyyat!AB361)","v":""},{"$f":"IF(Qeydiyyat!AA361=\"\",\"\",Qeydiyyat!AA361)","v":""},{"$f":"IF(Qeydiyyat!X361=\"\",\"\",Qeydiyyat!X361)","v":""},{"$f":"IF(Qeydiyyat!Y361=\"\",\"\",Qeydiyyat!Y361)","v":""},null,{"$f":"IF(Qeydiyyat!AC361=\"\",\"\",Qeydiyyat!AC361)","v":""}]
[null,113,{"$f":"IF(Qeydiyyat!C362=\"\",\"\",Qeydiyyat!C362)","v":""},{"$f":"IF(Qeydiyyat!B362=\"\",\"\",Qeydiyyat!B362)","v":""},{"$f":"IF(Qeydiyyat!D362=\"\",\"\",Qeydiyyat!D362)","v":""},{"$f":"IF(Qeydiyyat!K362=\"\",\"\",Qeydiyyat!K362)","v":""},{"$f":"IF(Qeydiyyat!AB362=\"\",\"\",Qeydiyyat!AB362)","v":""},{"$f":"IF(Qeydiyyat!AA362=\"\",\"\",Qeydiyyat!AA362)","v":""},{"$f":"IF(Qeydiyyat!X362=\"\",\"\",Qeydiyyat!X362)","v":""},{"$f":"IF(Qeydiyyat!Y362=\"\",\"\",Qeydiyyat!Y362)","v":""},null,{"$f":"IF(Qeydiyyat!AC362=\"\",\"\",Qeydiyyat!AC362)","v":""}]
[null,114,{"$f":"IF(Qeydiyyat!C363=\"\",\"\",Qeydiyyat!C363)","v":""},{"$f":"IF(Qeydiyyat!B363=\"\",\"\",Qeydiyyat!B363)","v":""},{"$f":"IF(Qeydiyyat!D363=\"\",\"\",Qeydiyyat!D363)","v":""},{"$f":"IF(Qeydiyyat!K363=\"\",\"\",Qeydiyyat!K363)","v":""},{"$f":"IF(Qeydiyyat!AB363=\"\",\"\",Qeydiyyat!AB363)","v":""},{"$f":"IF(Qeydiyyat!AA363=\"\",\"\",Qeydiyyat!AA363)","v":""},{"$f":"IF(Qeydiyyat!X363=\"\",\"\",Qeydiyyat!X363)","v":""},{"$f":"IF(Qeydiyyat!Y363=\"\",\"\",Qeydiyyat!Y363)","v":""},null,{"$f":"IF(Qeydiyyat!AC363=\"\",\"\",Qeydiyyat!AC363)","v":""}]
[null,115,{"$f":"IF(Qeydiyyat!C364=\"\",\"\",Qeydiyyat!C364)","v":""},{"$f":"IF(Qeydiyyat!B364=\"\",\"\",Qeydiyyat!B364)","v":""},{"$f":"IF(Qeydiyyat!D364=\"\",\"\",Qeydiyyat!D364)","v":""},{"$f":"IF(Qeydiyyat!K364=\"\",\"\",Qeydiyyat!K364)","v":""},{"$f":"IF(Qeydiyyat!AB364=\"\",\"\",Qeydiyyat!AB364)","v":""},{"$f":"IF(Qeydiyyat!AA364=\"\",\"\",Qeydiyyat!AA364)","v":""},{"$f":"IF(Qeydiyyat!X364=\"\",\"\",Qeydiyyat!X364)","v":""},{"$f":"IF(Qeydiyyat!Y364=\"\",\"\",Qeydiyyat!Y364)","v":""},null,{"$f":"IF(Qeydiyyat!AC364=\"\",\"\",Qeydiyyat!AC364)","v":""}]
[null,116,{"$f":"IF(Qeydiyyat!C365=\"\",\"\",Qeydiyyat!C365)","v":""},{"$f":"IF(Qeydiyyat!B365=\"\",\"\",Qeydiyyat!B365)","v":""},{"$f":"IF(Qeydiyyat!D365=\"\",\"\",Qeydiyyat!D365)","v":""},{"$f":"IF(Qeydiyyat!K365=\"\",\"\",Qeydiyyat!K365)","v":""},{"$f":"IF(Qeydiyyat!AB365=\"\",\"\",Qeydiyyat!AB365)","v":""},{"$f":"IF(Qeydiyyat!AA365=\"\",\"\",Qeydiyyat!AA365)","v":""},{"$f":"IF(Qeydiyyat!X365=\"\",\"\",Qeydiyyat!X365)","v":""},{"$f":"IF(Qeydiyyat!Y365=\"\",\"\",Qeydiyyat!Y365)","v":""},null,{"$f":"IF(Qeydiyyat!AC365=\"\",\"\",Qeydiyyat!AC365)","v":""}]
[null,117,{"$f":"IF(Qeydiyyat!C366=\"\",\"\",Qeydiyyat!C366)","v":""},{"$f":"IF(Qeydiyyat!B366=\"\",\"\",Qeydiyyat!B366)","v":""},{"$f":"IF(Qeydiyyat!D366=\"\",\"\",Qeydiyyat!D366)","v":""},{"$f":"IF(Qeydiyyat!K366=\"\",\"\",Qeydiyyat!K366)","v":""},{"$f":"IF(Qeydiyyat!AB366=\"\",\"\",Qeydiyyat!AB366)","v":""},{"$f":"IF(Qeydiyyat!AA366=\"\",\"\",Qeydiyyat!AA366)","v":""},{"$f":"IF(Qeydiyyat!X366=\"\",\"\",Qeydiyyat!X366)","v":""},{"$f":"IF(Qeydiyyat!Y366=\"\",\"\",Qeydiyyat!Y366)","v":""},null,{"$f":"IF(Qeydiyyat!AC366=\"\",\"\",Qeydiyyat!AC366)","v":""}]
[null,118,{"$f":"IF(Qeydiyyat!C367=\"\",\"\",Qeydiyyat!C367)","v":""},{"$f":"IF(Qeydiyyat!B367=\"\",\"\",Qeydiyyat!B367)","v":""},{"$f":"IF(Qeydiyyat!D367=\"\",\"\",Qeydiyyat!D367)","v":""},{"$f":"IF(Qeydiyyat!K367=\"\",\"\",Qeydiyyat!K367)","v":""},{"$f":"IF(Qeydiyyat!AB367=\"\",\"\",Qeydiyyat!AB367)","v":""},{"$f":"IF(Qeydiyyat!AA367=\"\",\"\",Qeydiyyat!AA367)","v":""},{"$f":"IF(Qeydiyyat!X367=\"\",\"\",Qeydiyyat!X367)","v":""},{"$f":"IF(Qeydiyyat!Y367=\"\",\"\",Qeydiyyat!Y367)","v":""},null,{"$f":"IF(Qeydiyyat!AC367=\"\",\"\",Qeydiyyat!AC367)","v":""}]
[null,119,{"$f":"IF(Qeydiyyat!C368=\"\",\"\",Qeydiyyat!C368)","v":""},{"$f":"IF(Qeydiyyat!B368=\"\",\"\",Qeydiyyat!B368)","v":""},{"$f":"IF(Qeydiyyat!D368=\"\",\"\",Qeydiyyat!D368)","v":""},{"$f":"IF(Qeydiyyat!K368=\"\",\"\",Qeydiyyat!K368)","v":""},{"$f":"IF(Qeydiyyat!AB368=\"\",\"\",Qeydiyyat!AB368)","v":""},{"$f":"IF(Qeydiyyat!AA368=\"\",\"\",Qeydiyyat!AA368)","v":""},{"$f":"IF(Qeydiyyat!X368=\"\",\"\",Qeydiyyat!X368)","v":""},{"$f":"IF(Qeydiyyat!Y368=\"\",\"\",Qeydiyyat!Y368)","v":""},null,{"$f":"IF(Qeydiyyat!AC368=\"\",\"\",Qeydiyyat!AC368)","v":""}]
[null,120,{"$f":"IF(Qeydiyyat!C369=\"\",\"\",Qeydiyyat!C369)","v":""},{"$f":"IF(Qeydiyyat!B369=\"\",\"\",Qeydiyyat!B369)","v":""},{"$f":"IF(Qeydiyyat!D369=\"\",\"\",Qeydiyyat!D369)","v":""},{"$f":"IF(Qeydiyyat!K369=\"\",\"\",Qeydiyyat!K369)","v":""},{"$f":"IF(Qeydiyyat!AB369=\"\",\"\",Qeydiyyat!AB369)","v":""},{"$f":"IF(Qeydiyyat!AA369=\"\",\"\",Qeydiyyat!AA369)","v":""},{"$f":"IF(Qeydiyyat!X369=\"\",\"\",Qeydiyyat!X369)","v":""},{"$f":"IF(Qeydiyyat!Y369=\"\",\"\",Qeydiyyat!Y369)","v":""},null,{"$f":"IF(Qeydiyyat!AC369=\"\",\"\",Qeydiyyat!AC369)","v":""}]
[null,121,{"$f":"IF(Qeydiyyat!C370=\"\",\"\",Qeydiyyat!C370)","v":""},{"$f":"IF(Qeydiyyat!B370=\"\",\"\",Qeydiyyat!B370)","v":""},{"$f":"IF(Qeydiyyat!D370=\"\",\"\",Qeydiyyat!D370)","v":""},{"$f":"IF(Qeydiyyat!K370=\"\",\"\",Qeydiyyat!K370)","v":""},{"$f":"IF(Qeydiyyat!AB370=\"\",\"\",Qeydiyyat!AB370)","v":""},{"$f":"IF(Qeydiyyat!AA370=\"\",\"\",Qeydiyyat!AA370)","v":""},{"$f":"IF(Qeydiyyat!X370=\"\",\"\",Qeydiyyat!X370)","v":""},{"$f":"IF(Qeydiyyat!Y370=\"\",\"\",Qeydiyyat!Y370)","v":""},null,{"$f":"IF(Qeydiyyat!AC370=\"\",\"\",Qeydiyyat!AC370)","v":""}]
[null,122,{"$f":"IF(Qeydiyyat!C371=\"\",\"\",Qeydiyyat!C371)","v":""},{"$f":"IF(Qeydiyyat!B371=\"\",\"\",Qeydiyyat!B371)","v":""},{"$f":"IF(Qeydiyyat!D371=\"\",\"\",Qeydiyyat!D371)","v":""},{"$f":"IF(Qeydiyyat!K371=\"\",\"\",Qeydiyyat!K371)","v":""},{"$f":"IF(Qeydiyyat!AB371=\"\",\"\",Qeydiyyat!AB371)","v":""},{"$f":"IF(Qeydiyyat!AA371=\"\",\"\",Qeydiyyat!AA371)","v":""},{"$f":"IF(Qeydiyyat!X371=\"\",\"\",Qeydiyyat!X371)","v":""},{"$f":"IF(Qeydiyyat!Y371=\"\",\"\",Qeydiyyat!Y371)","v":""},null,{"$f":"IF(Qeydiyyat!AC371=\"\",\"\",Qeydiyyat!AC371)","v":""}]
[null,123,{"$f":"IF(Qeydiyyat!C372=\"\",\"\",Qeydiyyat!C372)","v":""},{"$f":"IF(Qeydiyyat!B372=\"\",\"\",Qeydiyyat!B372)","v":""},{"$f":"IF(Qeydiyyat!D372=\"\",\"\",Qeydiyyat!D372)","v":""},{"$f":"IF(Qeydiyyat!K372=\"\",\"\",Qeydiyyat!K372)","v":""},{"$f":"IF(Qeydiyyat!AB372=\"\",\"\",Qeydiyyat!AB372)","v":""},{"$f":"IF(Qeydiyyat!AA372=\"\",\"\",Qeydiyyat!AA372)","v":""},{"$f":"IF(Qeydiyyat!X372=\"\",\"\",Qeydiyyat!X372)","v":""},{"$f":"IF(Qeydiyyat!Y372=\"\",\"\",Qeydiyyat!Y372)","v":""},null,{"$f":"IF(Qeydiyyat!AC372=\"\",\"\",Qeydiyyat!AC372)","v":""}]
[null,124,{"$f":"IF(Qeydiyyat!C373=\"\",\"\",Qeydiyyat!C373)","v":""},{"$f":"IF(Qeydiyyat!B373=\"\",\"\",Qeydiyyat!B373)","v":""},{"$f":"IF(Qeydiyyat!D373=\"\",\"\",Qeydiyyat!D373)","v":""},{"$f":"IF(Qeydiyyat!K373=\"\",\"\",Qeydiyyat!K373)","v":""},{"$f":"IF(Qeydiyyat!AB373=\"\",\"\",Qeydiyyat!AB373)","v":""},{"$f":"IF(Qeydiyyat!AA373=\"\",\"\",Qeydiyyat!AA373)","v":""},{"$f":"IF(Qeydiyyat!X373=\"\",\"\",Qeydiyyat!X373)","v":""},{"$f":"IF(Qeydiyyat!Y373=\"\",\"\",Qeydiyyat!Y373)","v":""},null,{"$f":"IF(Qeydiyyat!AC373=\"\",\"\",Qeydiyyat!AC373)","v":""}]
[null,125,{"$f":"IF(Qeydiyyat!C374=\"\",\"\",Qeydiyyat!C374)","v":""},{"$f":"IF(Qeydiyyat!B374=\"\",\"\",Qeydiyyat!B374)","v":""},{"$f":"IF(Qeydiyyat!D374=\"\",\"\",Qeydiyyat!D374)","v":""},{"$f":"IF(Qeydiyyat!K374=\"\",\"\",Qeydiyyat!K374)","v":""},{"$f":"IF(Qeydiyyat!AB374=\"\",\"\",Qeydiyyat!AB374)","v":""},{"$f":"IF(Qeydiyyat!AA374=\"\",\"\",Qeydiyyat!AA374)","v":""},{"$f":"IF(Qeydiyyat!X374=\"\",\"\",Qeydiyyat!X374)","v":""},{"$f":"IF(Qeydiyyat!Y374=\"\",\"\",Qeydiyyat!Y374)","v":""},null,{"$f":"IF(Qeydiyyat!AC374=\"\",\"\",Qeydiyyat!AC374)","v":""}]
[null,126,{"$f":"IF(Qeydiyyat!C375=\"\",\"\",Qeydiyyat!C375)","v":""},{"$f":"IF(Qeydiyyat!B375=\"\",\"\",Qeydiyyat!B375)","v":""},{"$f":"IF(Qeydiyyat!D375=\"\",\"\",Qeydiyyat!D375)","v":""},{"$f":"IF(Qeydiyyat!K375=\"\",\"\",Qeydiyyat!K375)","v":""},{"$f":"IF(Qeydiyyat!AB375=\"\",\"\",Qeydiyyat!AB375)","v":""},{"$f":"IF(Qeydiyyat!AA375=\"\",\"\",Qeydiyyat!AA375)","v":""},{"$f":"IF(Qeydiyyat!X375=\"\",\"\",Qeydiyyat!X375)","v":""},{"$f":"IF(Qeydiyyat!Y375=\"\",\"\",Qeydiyyat!Y375)","v":""},null,{"$f":"IF(Qeydiyyat!AC375=\"\",\"\",Qeydiyyat!AC375)","v":""}]
[null,127,{"$f":"IF(Qeydiyyat!C376=\"\",\"\",Qeydiyyat!C376)","v":""},{"$f":"IF(Qeydiyyat!B376=\"\",\"\",Qeydiyyat!B376)","v":""},{"$f":"IF(Qeydiyyat!D376=\"\",\"\",Qeydiyyat!D376)","v":""},{"$f":"IF(Qeydiyyat!K376=\"\",\"\",Qeydiyyat!K376)","v":""},{"$f":"IF(Qeydiyyat!AB376=\"\",\"\",Qeydiyyat!AB376)","v":""},{"$f":"IF(Qeydiyyat!AA376=\"\",\"\",Qeydiyyat!AA376)","v":""},{"$f":"IF(Qeydiyyat!X376=\"\",\"\",Qeydiyyat!X376)","v":""},{"$f":"IF(Qeydiyyat!Y376=\"\",\"\",Qeydiyyat!Y376)","v":""},null,{"$f":"IF(Qeydiyyat!AC376=\"\",\"\",Qeydiyyat!AC376)","v":""}]
[null,128,{"$f":"IF(Qeydiyyat!C377=\"\",\"\",Qeydiyyat!C377)","v":""},{"$f":"IF(Qeydiyyat!B377=\"\",\"\",Qeydiyyat!B377)","v":""},{"$f":"IF(Qeydiyyat!D377=\"\",\"\",Qeydiyyat!D377)","v":""},{"$f":"IF(Qeydiyyat!K377=\"\",\"\",Qeydiyyat!K377)","v":""},{"$f":"IF(Qeydiyyat!AB377=\"\",\"\",Qeydiyyat!AB377)","v":""},{"$f":"IF(Qeydiyyat!AA377=\"\",\"\",Qeydiyyat!AA377)","v":""},{"$f":"IF(Qeydiyyat!X377=\"\",\"\",Qeydiyyat!X377)","v":""},{"$f":"IF(Qeydiyyat!Y377=\"\",\"\",Qeydiyyat!Y377)","v":""},null,{"$f":"IF(Qeydiyyat!AC377=\"\",\"\",Qeydiyyat!AC377)","v":""}]
[null,129,{"$f":"IF(Qeydiyyat!C378=\"\",\"\",Qeydiyyat!C378)","v":""},{"$f":"IF(Qeydiyyat!B378=\"\",\"\",Qeydiyyat!B378)","v":""},{"$f":"IF(Qeydiyyat!D378=\"\",\"\",Qeydiyyat!D378)","v":""},{"$f":"IF(Qeydiyyat!K378=\"\",\"\",Qeydiyyat!K378)","v":""},{"$f":"IF(Qeydiyyat!AB378=\"\",\"\",Qeydiyyat!AB378)","v":""},{"$f":"IF(Qeydiyyat!AA378=\"\",\"\",Qeydiyyat!AA378)","v":""},{"$f":"IF(Qeydiyyat!X378=\"\",\"\",Qeydiyyat!X378)","v":""},{"$f":"IF(Qeydiyyat!Y378=\"\",\"\",Qeydiyyat!Y378)","v":""},null,{"$f":"IF(Qeydiyyat!AC378=\"\",\"\",Qeydiyyat!AC378)","v":""}]
[null,130,{"$f":"IF(Qeydiyyat!C379=\"\",\"\",Qeydiyyat!C379)","v":""},{"$f":"IF(Qeydiyyat!B379=\"\",\"\",Qeydiyyat!B379)","v":""},{"$f":"IF(Qeydiyyat!D379=\"\",\"\",Qeydiyyat!D379)","v":""},{"$f":"IF(Qeydiyyat!K379=\"\",\"\",Qeydiyyat!K379)","v":""},{"$f":"IF(Qeydiyyat!AB379=\"\",\"\",Qeydiyyat!AB379)","v":""},{"$f":"IF(Qeydiyyat!AA379=\"\",\"\",Qeydiyyat!AA379)","v":""},{"$f":"IF(Qeydiyyat!X379=\"\",\"\",Qeydiyyat!X379)","v":""},{"$f":"IF(Qeydiyyat!Y379=\"\",\"\",Qeydiyyat!Y379)","v":""},null,{"$f":"IF(Qeydiyyat!AC379=\"\",\"\",Qeydiyyat!AC379)","v":""}]
[null,131,{"$f":"IF(Qeydiyyat!C380=\"\",\"\",Qeydiyyat!C380)","v":""},{"$f":"IF(Qeydiyyat!B380=\"\",\"\",Qeydiyyat!B380)","v":""},{"$f":"IF(Qeydiyyat!D380=\"\",\"\",Qeydiyyat!D380)","v":""},{"$f":"IF(Qeydiyyat!K380=\"\",\"\",Qeydiyyat!K380)","v":""},{"$f":"IF(Qeydiyyat!AB380=\"\",\"\",Qeydiyyat!AB380)","v":""},{"$f":"IF(Qeydiyyat!AA380=\"\",\"\",Qeydiyyat!AA380)","v":""},{"$f":"IF(Qeydiyyat!X380=\"\",\"\",Qeydiyyat!X380)","v":""},{"$f":"IF(Qeydiyyat!Y380=\"\",\"\",Qeydiyyat!Y380)","v":""},null,{"$f":"IF(Qeydiyyat!AC380=\"\",\"\",Qeydiyyat!AC380)","v":""}]
[null,132,{"$f":"IF(Qeydiyyat!C381=\"\",\"\",Qeydiyyat!C381)","v":""},{"$f":"IF(Qeydiyyat!B381=\"\",\"\",Qeydiyyat!B381)","v":""},{"$f":"IF(Qeydiyyat!D381=\"\",\"\",Qeydiyyat!D381)","v":""},{"$f":"IF(Qeydiyyat!K381=\"\",\"\",Qeydiyyat!K381)","v":""},{"$f":"IF(Qeydiyyat!AB381=\"\",\"\",Qeydiyyat!AB381)","v":""},{"$f":"IF(Qeydiyyat!AA381=\"\",\"\",Qeydiyyat!AA381)","v":""},{"$f":"IF(Qeydiyyat!X381=\"\",\"\",Qeydiyyat!X381)","v":""},{"$f":"IF(Qeydiyyat!Y381=\"\",\"\",Qeydiyyat!Y381)","v":""},null,{"$f":"IF(Qeydiyyat!AC381=\"\",\"\",Qeydiyyat!AC381)","v":""}]
[null,133,{"$f":"IF(Qeydiyyat!C382=\"\",\"\",Qeydiyyat!C382)","v":""},{"$f":"IF(Qeydiyyat!B382=\"\",\"\",Qeydiyyat!B382)","v":""},{"$f":"IF(Qeydiyyat!D382=\"\",\"\",Qeydiyyat!D382)","v":""},{"$f":"IF(Qeydiyyat!K382=\"\",\"\",Qeydiyyat!K382)","v":""},{"$f":"IF(Qeydiyyat!AB382=\"\",\"\",Qeydiyyat!AB382)","v":""},{"$f":"IF(Qeydiyyat!AA382=\"\",\"\",Qeydiyyat!AA382)","v":""},{"$f":"IF(Qeydiyyat!X382=\"\",\"\",Qeydiyyat!X382)","v":""},{"$f":"IF(Qeydiyyat!Y382=\"\",\"\",Qeydiyyat!Y382)","v":""},null,{"$f":"IF(Qeydiyyat!AC382=\"\",\"\",Qeydiyyat!AC382)","v":""}]
[null,134,{"$f":"IF(Qeydiyyat!C383=\"\",\"\",Qeydiyyat!C383)","v":""},{"$f":"IF(Qeydiyyat!B383=\"\",\"\",Qeydiyyat!B383)","v":""},{"$f":"IF(Qeydiyyat!D383=\"\",\"\",Qeydiyyat!D383)","v":""},{"$f":"IF(Qeydiyyat!K383=\"\",\"\",Qeydiyyat!K383)","v":""},{"$f":"IF(Qeydiyyat!AB383=\"\",\"\",Qeydiyyat!AB383)","v":""},{"$f":"IF(Qeydiyyat!AA383=\"\",\"\",Qeydiyyat!AA383)","v":""},{"$f":"IF(Qeydiyyat!X383=\"\",\"\",Qeydiyyat!X383)","v":""},{"$f":"IF(Qeydiyyat!Y383=\"\",\"\",Qeydiyyat!Y383)","v":""},null,{"$f":"IF(Qeydiyyat!AC383=\"\",\"\",Qeydiyyat!AC383)","v":""}]
[null,135,{"$f":"IF(Qeydiyyat!C384=\"\",\"\",Qeydiyyat!C384)","v":""},{"$f":"IF(Qeydiyyat!B384=\"\",\"\",Qeydiyyat!B384)","v":""},{"$f":"IF(Qeydiyyat!D384=\"\",\"\",Qeydiyyat!D384)","v":""},{"$f":"IF(Qeydiyyat!K384=\"\",\"\",Qeydiyyat!K384)","v":""},{"$f":"IF(Qeydiyyat!AB384=\"\",\"\",Qeydiyyat!AB384)","v":""},{"$f":"IF(Qeydiyyat!AA384=\"\",\"\",Qeydiyyat!AA384)","v":""},{"$f":"IF(Qeydiyyat!X384=\"\",\"\",Qeydiyyat!X384)","v":""},{"$f":"IF(Qeydiyyat!Y384=\"\",\"\",Qeydiyyat!Y384)","v":""},null,{"$f":"IF(Qeydiyyat!AC384=\"\",\"\",Qeydiyyat!AC384)","v":""}]
[null,136,{"$f":"IF(Qeydiyyat!C385=\"\",\"\",Qeydiyyat!C385)","v":""},{"$f":"IF(Qeydiyyat!B385=\"\",\"\",Qeydiyyat!B385)","v":""},{"$f":"IF(Qeydiyyat!D385=\"\",\"\",Qeydiyyat!D385)","v":""},{"$f":"IF(Qeydiyyat!K385=\"\",\"\",Qeydiyyat!K385)","v":""},{"$f":"IF(Qeydiyyat!AB385=\"\",\"\",Qeydiyyat!AB385)","v":""},{"$f":"IF(Qeydiyyat!AA385=\"\",\"\",Qeydiyyat!AA385)","v":""},{"$f":"IF(Qeydiyyat!X385=\"\",\"\",Qeydiyyat!X385)","v":""},{"$f":"IF(Qeydiyyat!Y385=\"\",\"\",Qeydiyyat!Y385)","v":""},null,{"$f":"IF(Qeydiyyat!AC385=\"\",\"\",Qeydiyyat!AC385)","v":""}]
[null,137,{"$f":"IF(Qeydiyyat!C386=\"\",\"\",Qeydiyyat!C386)","v":""},{"$f":"IF(Qeydiyyat!B386=\"\",\"\",Qeydiyyat!B386)","v":""},{"$f":"IF(Qeydiyyat!D386=\"\",\"\",Qeydiyyat!D386)","v":""},{"$f":"IF(Qeydiyyat!K386=\"\",\"\",Qeydiyyat!K386)","v":""},{"$f":"IF(Qeydiyyat!AB386=\"\",\"\",Qeydiyyat!AB386)","v":""},{"$f":"IF(Qeydiyyat!AA386=\"\",\"\",Qeydiyyat!AA386)","v":""},{"$f":"IF(Qeydiyyat!X386=\"\",\"\",Qeydiyyat!X386)","v":""},{"$f":"IF(Qeydiyyat!Y386=\"\",\"\",Qeydiyyat!Y386)","v":""},null,{"$f":"IF(Qeydiyyat!AC386=\"\",\"\",Qeydiyyat!AC386)","v":""}]
[null,138,{"$f":"IF(Qeydiyyat!C387=\"\",\"\",Qeydiyyat!C387)","v":""},{"$f":"IF(Qeydiyyat!B387=\"\",\"\",Qeydiyyat!B387)","v":""},{"$f":"IF(Qeydiyyat!D387=\"\",\"\",Qeydiyyat!D387)","v":""},{"$f":"IF(Qeydiyyat!K387=\"\",\"\",Qeydiyyat!K387)","v":""},{"$f":"IF(Qeydiyyat!AB387=\"\",\"\",Qeydiyyat!AB387)","v":""},{"$f":"IF(Qeydiyyat!AA387=\"\",\"\",Qeydiyyat!AA387)","v":""},{"$f":"IF(Qeydiyyat!X387=\"\",\"\",Qeydiyyat!X387)","v":""},{"$f":"IF(Qeydiyyat!Y387=\"\",\"\",Qeydiyyat!Y387)","v":""},null,{"$f":"IF(Qeydiyyat!AC387=\"\",\"\",Qeydiyyat!AC387)","v":""}]
[null,139,{"$f":"IF(Qeydiyyat!C388=\"\",\"\",Qeydiyyat!C388)","v":""},{"$f":"IF(Qeydiyyat!B388=\"\",\"\",Qeydiyyat!B388)","v":""},{"$f":"IF(Qeydiyyat!D388=\"\",\"\",Qeydiyyat!D388)","v":""},{"$f":"IF(Qeydiyyat!K388=\"\",\"\",Qeydiyyat!K388)","v":""},{"$f":"IF(Qeydiyyat!AB388=\"\",\"\",Qeydiyyat!AB388)","v":""},{"$f":"IF(Qeydiyyat!AA388=\"\",\"\",Qeydiyyat!AA388)","v":""},{"$f":"IF(Qeydiyyat!X388=\"\",\"\",Qeydiyyat!X388)","v":""},{"$f":"IF(Qeydiyyat!Y388=\"\",\"\",Qeydiyyat!Y388)","v":""},null,{"$f":"IF(Qeydiyyat!AC388=\"\",\"\",Qeydiyyat!AC388)","v":""}]
[null,140,{"$f":"IF(Qeydiyyat!C389=\"\",\"\",Qeydiyyat!C389)","v":""},{"$f":"IF(Qeydiyyat!B389=\"\",\"\",Qeydiyyat!B389)","v":""},{"$f":"IF(Qeydiyyat!D389=\"\",\"\",Qeydiyyat!D389)","v":""},{"$f":"IF(Qeydiyyat!K389=\"\",\"\",Qeydiyyat!K389)","v":""},{"$f":"IF(Qeydiyyat!AB389=\"\",\"\",Qeydiyyat!AB389)","v":""},{"$f":"IF(Qeydiyyat!AA389=\"\",\"\",Qeydiyyat!AA389)","v":""},{"$f":"IF(Qeydiyyat!X389=\"\",\"\",Qeydiyyat!X389)","v":""},{"$f":"IF(Qeydiyyat!Y389=\"\",\"\",Qeydiyyat!Y389)","v":""},null,{"$f":"IF(Qeydiyyat!AC389=\"\",\"\",Qeydiyyat!AC389)","v":""}]
[null,141,{"$f":"IF(Qeydiyyat!C390=\"\",\"\",Qeydiyyat!C390)","v":""},{"$f":"IF(Qeydiyyat!B390=\"\",\"\",Qeydiyyat!B390)","v":""},{"$f":"IF(Qeydiyyat!D390=\"\",\"\",Qeydiyyat!D390)","v":""},{"$f":"IF(Qeydiyyat!K390=\"\",\"\",Qeydiyyat!K390)","v":""},{"$f":"IF(Qeydiyyat!AB390=\"\",\"\",Qeydiyyat!AB390)","v":""},{"$f":"IF(Qeydiyyat!AA390=\"\",\"\",Qeydiyyat!AA390)","v":""},{"$f":"IF(Qeydiyyat!X390=\"\",\"\",Qeydiyyat!X390)","v":""},{"$f":"IF(Qeydiyyat!Y390=\"\",\"\",Qeydiyyat!Y390)","v":""},null,{"$f":"IF(Qeydiyyat!AC390=\"\",\"\",Qeydiyyat!AC390)","v":""}]
[null,142,{"$f":"IF(Qeydiyyat!C391=\"\",\"\",Qeydiyyat!C391)","v":""},{"$f":"IF(Qeydiyyat!B391=\"\",\"\",Qeydiyyat!B391)","v":""},{"$f":"IF(Qeydiyyat!D391=\"\",\"\",Qeydiyyat!D391)","v":""},{"$f":"IF(Qeydiyyat!K391=\"\",\"\",Qeydiyyat!K391)","v":""},{"$f":"IF(Qeydiyyat!AB391=\"\",\"\",Qeydiyyat!AB391)","v":""},{"$f":"IF(Qeydiyyat!AA391=\"\",\"\",Qeydiyyat!AA391)","v":""},{"$f":"IF(Qeydiyyat!X391=\"\",\"\",Qeydiyyat!X391)","v":""},{"$f":"IF(Qeydiyyat!Y391=\"\",\"\",Qeydiyyat!Y391)","v":""},null,{"$f":"IF(Qeydiyyat!AC391=\"\",\"\",Qeydiyyat!AC391)","v":""}]
[null,143,{"$f":"IF(Qeydiyyat!C392=\"\",\"\",Qeydiyyat!C392)","v":""},{"$f":"IF(Qeydiyyat!B392=\"\",\"\",Qeydiyyat!B392)","v":""},{"$f":"IF(Qeydiyyat!D392=\"\",\"\",Qeydiyyat!D392)","v":""},{"$f":"IF(Qeydiyyat!K392=\"\",\"\",Qeydiyyat!K392)","v":""},{"$f":"IF(Qeydiyyat!AB392=\"\",\"\",Qeydiyyat!AB392)","v":""},{"$f":"IF(Qeydiyyat!AA392=\"\",\"\",Qeydiyyat!AA392)","v":""},{"$f":"IF(Qeydiyyat!X392=\"\",\"\",Qeydiyyat!X392)","v":""},{"$f":"IF(Qeydiyyat!Y392=\"\",\"\",Qeydiyyat!Y392)","v":""},null,{"$f":"IF(Qeydiyyat!AC392=\"\",\"\",Qeydiyyat!AC392)","v":""}]
[null,144,{"$f":"IF(Qeydiyyat!C393=\"\",\"\",Qeydiyyat!C393)","v":""},{"$f":"IF(Qeydiyyat!B393=\"\",\"\",Qeydiyyat!B393)","v":""},{"$f":"IF(Qeydiyyat!D393=\"\",\"\",Qeydiyyat!D393)","v":""},{"$f":"IF(Qeydiyyat!K393=\"\",\"\",Qeydiyyat!K393)","v":""},{"$f":"IF(Qeydiyyat!AB393=\"\",\"\",Qeydiyyat!AB393)","v":""},{"$f":"IF(Qeydiyyat!AA393=\"\",\"\",Qeydiyyat!AA393)","v":""},{"$f":"IF(Qeydiyyat!X393=\"\",\"\",Qeydiyyat!X393)","v":""},{"$f":"IF(Qeydiyyat!Y393=\"\",\"\",Qeydiyyat!Y393)","v":""},null,{"$f":"IF(Qeydiyyat!AC393=\"\",\"\",Qeydiyyat!AC393)","v":""}]
[null,145,{"$f":"IF(Qeydiyyat!C394=\"\",\"\",Qeydiyyat!C394)","v":""},{"$f":"IF(Qeydiyyat!B394=\"\",\"\",Qeydiyyat!B394)","v":""},{"$f":"IF(Qeydiyyat!D394=\"\",\"\",Qeydiyyat!D394)","v":""},{"$f":"IF(Qeydiyyat!K394=\"\",\"\",Qeydiyyat!K394)","v":""},{"$f":"IF(Qeydiyyat!AB394=\"\",\"\",Qeydiyyat!AB394)","v":""},{"$f":"IF(Qeydiyyat!AA394=\"\",\"\",Qeydiyyat!AA394)","v":""},{"$f":"IF(Qeydiyyat!X394=\"\",\"\",Qeydiyyat!X394)","v":""},{"$f":"IF(Qeydiyyat!Y394=\"\",\"\",Qeydiyyat!Y394)","v":""},null,{"$f":"IF(Qeydiyyat!AC394=\"\",\"\",Qeydiyyat!AC394)","v":""}]
[null,146,{"$f":"IF(Qeydiyyat!C395=\"\",\"\",Qeydiyyat!C395)","v":""},{"$f":"IF(Qeydiyyat!B395=\"\",\"\",Qeydiyyat!B395)","v":""},{"$f":"IF(Qeydiyyat!D395=\"\",\"\",Qeydiyyat!D395)","v":""},{"$f":"IF(Qeydiyyat!K395=\"\",\"\",Qeydiyyat!K395)","v":""},{"$f":"IF(Qeydiyyat!AB395=\"\",\"\",Qeydiyyat!AB395)","v":""},{"$f":"IF(Qeydiyyat!AA395=\"\",\"\",Qeydiyyat!AA395)","v":""},{"$f":"IF(Qeydiyyat!X395=\"\",\"\",Qeydiyyat!X395)","v":""},{"$f":"IF(Qeydiyyat!Y395=\"\",\"\",Qeydiyyat!Y395)","v":""},null,{"$f":"IF(Qeydiyyat!AC395=\"\",\"\",Qeydiyyat!AC395)","v":""}]
[null,147,{"$f":"IF(Qeydiyyat!C396=\"\",\"\",Qeydiyyat!C396)","v":""},{"$f":"IF(Qeydiyyat!B396=\"\",\"\",Qeydiyyat!B396)","v":""},{"$f":"IF(Qeydiyyat!D396=\"\",\"\",Qeydiyyat!D396)","v":""},{"$f":"IF(Qeydiyyat!K396=\"\",\"\",Qeydiyyat!K396)","v":""},{"$f":"IF(Qeydiyyat!AB396=\"\",\"\",Qeydiyyat!AB396)","v":""},{"$f":"IF(Qeydiyyat!AA396=\"\",\"\",Qeydiyyat!AA396)","v":""},{"$f":"IF(Qeydiyyat!X396=\"\",\"\",Qeydiyyat!X396)","v":""},{"$f":"IF(Qeydiyyat!Y396=\"\",\"\",Qeydiyyat!Y396)","v":""},null,{"$f":"IF(Qeydiyyat!AC396=\"\",\"\",Qeydiyyat!AC396)","v":""}]
[null,148,{"$f":"IF(Qeydiyyat!C397=\"\",\"\",Qeydiyyat!C397)","v":""},{"$f":"IF(Qeydiyyat!B397=\"\",\"\",Qeydiyyat!B397)","v":""},{"$f":"IF(Qeydiyyat!D397=\"\",\"\",Qeydiyyat!D397)","v":""},{"$f":"IF(Qeydiyyat!K397=\"\",\"\",Qeydiyyat!K397)","v":""},{"$f":"IF(Qeydiyyat!AB397=\"\",\"\",Qeydiyyat!AB397)","v":""},{"$f":"IF(Qeydiyyat!AA397=\"\",\"\",Qeydiyyat!AA397)","v":""},{"$f":"IF(Qeydiyyat!X397=\"\",\"\",Qeydiyyat!X397)","v":""},{"$f":"IF(Qeydiyyat!Y397=\"\",\"\",Qeydiyyat!Y397)","v":""},null,{"$f":"IF(Qeydiyyat!AC397=\"\",\"\",Qeydiyyat!AC397)","v":""}]
[null,149,{"$f":"IF(Qeydiyyat!C398=\"\",\"\",Qeydiyyat!C398)","v":""},{"$f":"IF(Qeydiyyat!B398=\"\",\"\",Qeydiyyat!B398)","v":""},{"$f":"IF(Qeydiyyat!D398=\"\",\"\",Qeydiyyat!D398)","v":""},{"$f":"IF(Qeydiyyat!K398=\"\",\"\",Qeydiyyat!K398)","v":""},{"$f":"IF(Qeydiyyat!AB398=\"\",\"\",Qeydiyyat!AB398)","v":""},{"$f":"IF(Qeydiyyat!AA398=\"\",\"\",Qeydiyyat!AA398)","v":""},{"$f":"IF(Qeydiyyat!X398=\"\",\"\",Qeydiyyat!X398)","v":""},{"$f":"IF(Qeydiyyat!Y398=\"\",\"\",Qeydiyyat!Y398)","v":""},null,{"$f":"IF(Qeydiyyat!AC398=\"\",\"\",Qeydiyyat!AC398)","v":""}]
[null,150,{"$f":"IF(Qeydiyyat!C399=\"\",\"\",Qeydiyyat!C399)","v":""},{"$f":"IF(Qeydiyyat!B399=\"\",\"\",Qeydiyyat!B399)","v":""},{"$f":"IF(Qeydiyyat!D399=\"\",\"\",Qeydiyyat!D399)","v":""},{"$f":"IF(Qeydiyyat!K399=\"\",\"\",Qeydiyyat!K399)","v":""},{"$f":"IF(Qeydiyyat!AB399=\"\",\"\",Qeydiyyat!AB399)","v":""},{"$f":"IF(Qeydiyyat!AA399=\"\",\"\",Qeydiyyat!AA399)","v":""},{"$f":"IF(Qeydiyyat!X399=\"\",\"\",Qeydiyyat!X399)","v":""},{"$f":"IF(Qeydiyyat!Y399=\"\",\"\",Qeydiyyat!Y399)","v":""},null,{"$f":"IF(Qeydiyyat!AC399=\"\",\"\",Qeydiyyat!AC399)","v":""}]
[null,151,{"$f":"IF(Qeydiyyat!C400=\"\",\"\",Qeydiyyat!C400)","v":""},{"$f":"IF(Qeydiyyat!B400=\"\",\"\",Qeydiyyat!B400)","v":""},{"$f":"IF(Qeydiyyat!D400=\"\",\"\",Qeydiyyat!D400)","v":""},{"$f":"IF(Qeydiyyat!K400=\"\",\"\",Qeydiyyat!K400)","v":""},{"$f":"IF(Qeydiyyat!AB400=\"\",\"\",Qeydiyyat!AB400)","v":""},{"$f":"IF(Qeydiyyat!AA400=\"\",\"\",Qeydiyyat!AA400)","v":""},{"$f":"IF(Qeydiyyat!X400=\"\",\"\",Qeydiyyat!X400)","v":""},{"$f":"IF(Qeydiyyat!Y400=\"\",\"\",Qeydiyyat!Y400)","v":""},null,{"$f":"IF(Qeydiyyat!AC400=\"\",\"\",Qeydiyyat!AC400)","v":""}]
[null,152,{"$f":"IF(Qeydiyyat!C401=\"\",\"\",Qeydiyyat!C401)","v":""},{"$f":"IF(Qeydiyyat!B401=\"\",\"\",Qeydiyyat!B401)","v":""},{"$f":"IF(Qeydiyyat!D401=\"\",\"\",Qeydiyyat!D401)","v":""},{"$f":"IF(Qeydiyyat!K401=\"\",\"\",Qeydiyyat!K401)","v":""},{"$f":"IF(Qeydiyyat!AB401=\"\",\"\",Qeydiyyat!AB401)","v":""},{"$f":"IF(Qeydiyyat!AA401=\"\",\"\",Qeydiyyat!AA401)","v":""},{"$f":"IF(Qeydiyyat!X401=\"\",\"\",Qeydiyyat!X401)","v":""},{"$f":"IF(Qeydiyyat!Y401=\"\",\"\",Qeydiyyat!Y401)","v":""},null,{"$f":"IF(Qeydiyyat!AC401=\"\",\"\",Qeydiyyat!AC401)","v":""}]
[null,153,{"$f":"IF(Qeydiyyat!C402=\"\",\"\",Qeydiyyat!C402)","v":""},{"$f":"IF(Qeydiyyat!B402=\"\",\"\",Qeydiyyat!B402)","v":""},{"$f":"IF(Qeydiyyat!D402=\"\",\"\",Qeydiyyat!D402)","v":""},{"$f":"IF(Qeydiyyat!K402=\"\",\"\",Qeydiyyat!K402)","v":""},{"$f":"IF(Qeydiyyat!AB402=\"\",\"\",Qeydiyyat!AB402)","v":""},{"$f":"IF(Qeydiyyat!AA402=\"\",\"\",Qeydiyyat!AA402)","v":""},{"$f":"IF(Qeydiyyat!X402=\"\",\"\",Qeydiyyat!X402)","v":""},{"$f":"IF(Qeydiyyat!Y402=\"\",\"\",Qeydiyyat!Y402)","v":""},null,{"$f":"IF(Qeydiyyat!AC402=\"\",\"\",Qeydiyyat!AC402)","v":""}]
[null,154,{"$f":"IF(Qeydiyyat!C403=\"\",\"\",Qeydiyyat!C403)","v":""},{"$f":"IF(Qeydiyyat!B403=\"\",\"\",Qeydiyyat!B403)","v":""},{"$f":"IF(Qeydiyyat!D403=\"\",\"\",Qeydiyyat!D403)","v":""},{"$f":"IF(Qeydiyyat!K403=\"\",\"\",Qeydiyyat!K403)","v":""},{"$f":"IF(Qeydiyyat!AB403=\"\",\"\",Qeydiyyat!AB403)","v":""},{"$f":"IF(Qeydiyyat!AA403=\"\",\"\",Qeydiyyat!AA403)","v":""},{"$f":"IF(Qeydiyyat!X403=\"\",\"\",Qeydiyyat!X403)","v":""},{"$f":"IF(Qeydiyyat!Y403=\"\",\"\",Qeydiyyat!Y403)","v":""},null,{"$f":"IF(Qeydiyyat!AC403=\"\",\"\",Qeydiyyat!AC403)","v":""}]
[null,155,{"$f":"IF(Qeydiyyat!C404=\"\",\"\",Qeydiyyat!C404)","v":""},{"$f":"IF(Qeydiyyat!B404=\"\",\"\",Qeydiyyat!B404)","v":""},{"$f":"IF(Qeydiyyat!D404=\"\",\"\",Qeydiyyat!D404)","v":""},{"$f":"IF(Qeydiyyat!K404=\"\",\"\",Qeydiyyat!K404)","v":""},{"$f":"IF(Qeydiyyat!AB404=\"\",\"\",Qeydiyyat!AB404)","v":""},{"$f":"IF(Qeydiyyat!AA404=\"\",\"\",Qeydiyyat!AA404)","v":""},{"$f":"IF(Qeydiyyat!X404=\"\",\"\",Qeydiyyat!X404)","v":""},{"$f":"IF(Qeydiyyat!Y404=\"\",\"\",Qeydiyyat!Y404)","v":""},null,{"$f":"IF(Qeydiyyat!AC404=\"\",\"\",Qeydiyyat!AC404)","v":""}]
[null,156,{"$f":"IF(Qeydiyyat!C405=\"\",\"\",Qeydiyyat!C405)","v":""},{"$f":"IF(Qeydiyyat!B405=\"\",\"\",Qeydiyyat!B405)","v":""},{"$f":"IF(Qeydiyyat!D405=\"\",\"\",Qeydiyyat!D405)","v":""},{"$f":"IF(Qeydiyyat!K405=\"\",\"\",Qeydiyyat!K405)","v":""},{"$f":"IF(Qeydiyyat!AB405=\"\",\"\",Qeydiyyat!AB405)","v":""},{"$f":"IF(Qeydiyyat!AA405=\"\",\"\",Qeydiyyat!AA405)","v":""},{"$f":"IF(Qeydiyyat!X405=\"\",\"\",Qeydiyyat!X405)","v":""},{"$f":"IF(Qeydiyyat!Y405=\"\",\"\",Qeydiyyat!Y405)","v":""},null,{"$f":"IF(Qeydiyyat!AC405=\"\",\"\",Qeydiyyat!AC405)","v":""}]
[null,157,{"$f":"IF(Qeydiyyat!C406=\"\",\"\",Qeydiyyat!C406)","v":""},{"$f":"IF(Qeydiyyat!B406=\"\",\"\",Qeydiyyat!B406)","v":""},{"$f":"IF(Qeydiyyat!D406=\"\",\"\",Qeydiyyat!D406)","v":""},{"$f":"IF(Qeydiyyat!K406=\"\",\"\",Qeydiyyat!K406)","v":""},{"$f":"IF(Qeydiyyat!AB406=\"\",\"\",Qeydiyyat!AB406)","v":""},{"$f":"IF(Qeydiyyat!AA406=\"\",\"\",Qeydiyyat!AA406)","v":""},{"$f":"IF(Qeydiyyat!X406=\"\",\"\",Qeydiyyat!X406)","v":""},{"$f":"IF(Qeydiyyat!Y406=\"\",\"\",Qeydiyyat!Y406)","v":""},null,{"$f":"IF(Qeydiyyat!AC406=\"\",\"\",Qeydiyyat!AC406)","v":""}]
[null,158,{"$f":"IF(Qeydiyyat!C407=\"\",\"\",Qeydiyyat!C407)","v":""},{"$f":"IF(Qeydiyyat!B407=\"\",\"\",Qeydiyyat!B407)","v":""},{"$f":"IF(Qeydiyyat!D407=\"\",\"\",Qeydiyyat!D407)","v":""},{"$f":"IF(Qeydiyyat!K407=\"\",\"\",Qeydiyyat!K407)","v":""},{"$f":"IF(Qeydiyyat!AB407=\"\",\"\",Qeydiyyat!AB407)","v":""},{"$f":"IF(Qeydiyyat!AA407=\"\",\"\",Qeydiyyat!AA407)","v":""},{"$f":"IF(Qeydiyyat!X407=\"\",\"\",Qeydiyyat!X407)","v":""},{"$f":"IF(Qeydiyyat!Y407=\"\",\"\",Qeydiyyat!Y407)","v":""},null,{"$f":"IF(Qeydiyyat!AC407=\"\",\"\",Qeydiyyat!AC407)","v":""}]
[null,159,{"$f":"IF(Qeydiyyat!C408=\"\",\"\",Qeydiyyat!C408)","v":""},{"$f":"IF(Qeydiyyat!B408=\"\",\"\",Qeydiyyat!B408)","v":""},{"$f":"IF(Qeydiyyat!D408=\"\",\"\",Qeydiyyat!D408)","v":""},{"$f":"IF(Qeydiyyat!K408=\"\",\"\",Qeydiyyat!K408)","v":""},{"$f":"IF(Qeydiyyat!AB408=\"\",\"\",Qeydiyyat!AB408)","v":""},{"$f":"IF(Qeydiyyat!AA408=\"\",\"\",Qeydiyyat!AA408)","v":""},{"$f":"IF(Qeydiyyat!X408=\"\",\"\",Qeydiyyat!X408)","v":""},{"$f":"IF(Qeydiyyat!Y408=\"\",\"\",Qeydiyyat!Y408)","v":""},null,{"$f":"IF(Qeydiyyat!AC408=\"\",\"\",Qeydiyyat!AC408)","v":""}]
[null,160,{"$f":"IF(Qeydiyyat!C409=\"\",\"\",Qeydiyyat!C409)","v":""},{"$f":"IF(Qeydiyyat!B409=\"\",\"\",Qeydiyyat!B409)","v":""},{"$f":"IF(Qeydiyyat!D409=\"\",\"\",Qeydiyyat!D409)","v":""},{"$f":"IF(Qeydiyyat!K409=\"\",\"\",Qeydiyyat!K409)","v":""},{"$f":"IF(Qeydiyyat!AB409=\"\",\"\",Qeydiyyat!AB409)","v":""},{"$f":"IF(Qeydiyyat!AA409=\"\",\"\",Qeydiyyat!AA409)","v":""},{"$f":"IF(Qeydiyyat!X409=\"\",\"\",Qeydiyyat!X409)","v":""},{"$f":"IF(Qeydiyyat!Y409=\"\",\"\",Qeydiyyat!Y409)","v":""},null,{"$f":"IF(Qeydiyyat!AC409=\"\",\"\",Qeydiyyat!AC409)","v":""}]
[null,161,{"$f":"IF(Qeydiyyat!C410=\"\",\"\",Qeydiyyat!C410)","v":""},{"$f":"IF(Qeydiyyat!B410=\"\",\"\",Qeydiyyat!B410)","v":""},{"$f":"IF(Qeydiyyat!D410=\"\",\"\",Qeydiyyat!D410)","v":""},{"$f":"IF(Qeydiyyat!K410=\"\",\"\",Qeydiyyat!K410)","v":""},{"$f":"IF(Qeydiyyat!AB410=\"\",\"\",Qeydiyyat!AB410)","v":""},{"$f":"IF(Qeydiyyat!AA410=\"\",\"\",Qeydiyyat!AA410)","v":""},{"$f":"IF(Qeydiyyat!X410=\"\",\"\",Qeydiyyat!X410)","v":""},{"$f":"IF(Qeydiyyat!Y410=\"\",\"\",Qeydiyyat!Y410)","v":""},null,{"$f":"IF(Qeydiyyat!AC410=\"\",\"\",Qeydiyyat!AC410)","v":""}]
[null,162,{"$f":"IF(Qeydiyyat!C411=\"\",\"\",Qeydiyyat!C411)","v":""},{"$f":"IF(Qeydiyyat!B411=\"\",\"\",Qeydiyyat!B411)","v":""},{"$f":"IF(Qeydiyyat!D411=\"\",\"\",Qeydiyyat!D411)","v":""},{"$f":"IF(Qeydiyyat!K411=\"\",\"\",Qeydiyyat!K411)","v":""},{"$f":"IF(Qeydiyyat!AB411=\"\",\"\",Qeydiyyat!AB411)","v":""},{"$f":"IF(Qeydiyyat!AA411=\"\",\"\",Qeydiyyat!AA411)","v":""},{"$f":"IF(Qeydiyyat!X411=\"\",\"\",Qeydiyyat!X411)","v":""},{"$f":"IF(Qeydiyyat!Y411=\"\",\"\",Qeydiyyat!Y411)","v":""},null,{"$f":"IF(Qeydiyyat!AC411=\"\",\"\",Qeydiyyat!AC411)","v":""}]
[null,163,{"$f":"IF(Qeydiyyat!C412=\"\",\"\",Qeydiyyat!C412)","v":""},{"$f":"IF(Qeydiyyat!B412=\"\",\"\",Qeydiyyat!B412)","v":""},{"$f":"IF(Qeydiyyat!D412=\"\",\"\",Qeydiyyat!D412)","v":""},{"$f":"IF(Qeydiyyat!K412=\"\",\"\",Qeydiyyat!K412)","v":""},{"$f":"IF(Qeydiyyat!AB412=\"\",\"\",Qeydiyyat!AB412)","v":""},{"$f":"IF(Qeydiyyat!AA412=\"\",\"\",Qeydiyyat!AA412)","v":""},{"$f":"IF(Qeydiyyat!X412=\"\",\"\",Qeydiyyat!X412)","v":""},{"$f":"IF(Qeydiyyat!Y412=\"\",\"\",Qeydiyyat!Y412)","v":""},null,{"$f":"IF(Qeydiyyat!AC412=\"\",\"\",Qeydiyyat!AC412)","v":""}]
[null,164,{"$f":"IF(Qeydiyyat!C413=\"\",\"\",Qeydiyyat!C413)","v":""},{"$f":"IF(Qeydiyyat!B413=\"\",\"\",Qeydiyyat!B413)","v":""},{"$f":"IF(Qeydiyyat!D413=\"\",\"\",Qeydiyyat!D413)","v":""},{"$f":"IF(Qeydiyyat!K413=\"\",\"\",Qeydiyyat!K413)","v":""},{"$f":"IF(Qeydiyyat!AB413=\"\",\"\",Qeydiyyat!AB413)","v":""},{"$f":"IF(Qeydiyyat!AA413=\"\",\"\",Qeydiyyat!AA413)","v":""},{"$f":"IF(Qeydiyyat!X413=\"\",\"\",Qeydiyyat!X413)","v":""},{"$f":"IF(Qeydiyyat!Y413=\"\",\"\",Qeydiyyat!Y413)","v":""},null,{"$f":"IF(Qeydiyyat!AC413=\"\",\"\",Qeydiyyat!AC413)","v":""}]
[null,165,{"$f":"IF(Qeydiyyat!C414=\"\",\"\",Qeydiyyat!C414)","v":""},{"$f":"IF(Qeydiyyat!B414=\"\",\"\",Qeydiyyat!B414)","v":""},{"$f":"IF(Qeydiyyat!D414=\"\",\"\",Qeydiyyat!D414)","v":""},{"$f":"IF(Qeydiyyat!K414=\"\",\"\",Qeydiyyat!K414)","v":""},{"$f":"IF(Qeydiyyat!AB414=\"\",\"\",Qeydiyyat!AB414)","v":""},{"$f":"IF(Qeydiyyat!AA414=\"\",\"\",Qeydiyyat!AA414)","v":""},{"$f":"IF(Qeydiyyat!X414=\"\",\"\",Qeydiyyat!X414)","v":""},{"$f":"IF(Qeydiyyat!Y414=\"\",\"\",Qeydiyyat!Y414)","v":""},null,{"$f":"IF(Qeydiyyat!AC414=\"\",\"\",Qeydiyyat!AC414)","v":""}]
[null,166,{"$f":"IF(Qeydiyyat!C415=\"\",\"\",Qeydiyyat!C415)","v":""},{"$f":"IF(Qeydiyyat!B415=\"\",\"\",Qeydiyyat!B415)","v":""},{"$f":"IF(Qeydiyyat!D415=\"\",\"\",Qeydiyyat!D415)","v":""},{"$f":"IF(Qeydiyyat!K415=\"\",\"\",Qeydiyyat!K415)","v":""},{"$f":"IF(Qeydiyyat!AB415=\"\",\"\",Qeydiyyat!AB415)","v":""},{"$f":"IF(Qeydiyyat!AA415=\"\",\"\",Qeydiyyat!AA415)","v":""},{"$f":"IF(Qeydiyyat!X415=\"\",\"\",Qeydiyyat!X415)","v":""},{"$f":"IF(Qeydiyyat!Y415=\"\",\"\",Qeydiyyat!Y415)","v":""},null,{"$f":"IF(Qeydiyyat!AC415=\"\",\"\",Qeydiyyat!AC415)","v":""}]
[null,167,{"$f":"IF(Qeydiyyat!C416=\"\",\"\",Qeydiyyat!C416)","v":""},{"$f":"IF(Qeydiyyat!B416=\"\",\"\",Qeydiyyat!B416)","v":""},{"$f":"IF(Qeydiyyat!D416=\"\",\"\",Qeydiyyat!D416)","v":""},{"$f":"IF(Qeydiyyat!K416=\"\",\"\",Qeydiyyat!K416)","v":""},{"$f":"IF(Qeydiyyat!AB416=\"\",\"\",Qeydiyyat!AB416)","v":""},{"$f":"IF(Qeydiyyat!AA416=\"\",\"\",Qeydiyyat!AA416)","v":""},{"$f":"IF(Qeydiyyat!X416=\"\",\"\",Qeydiyyat!X416)","v":""},{"$f":"IF(Qeydiyyat!Y416=\"\",\"\",Qeydiyyat!Y416)","v":""},null,{"$f":"IF(Qeydiyyat!AC416=\"\",\"\",Qeydiyyat!AC416)","v":""}]
[null,168,{"$f":"IF(Qeydiyyat!C417=\"\",\"\",Qeydiyyat!C417)","v":""},{"$f":"IF(Qeydiyyat!B417=\"\",\"\",Qeydiyyat!B417)","v":""},{"$f":"IF(Qeydiyyat!D417=\"\",\"\",Qeydiyyat!D417)","v":""},{"$f":"IF(Qeydiyyat!K417=\"\",\"\",Qeydiyyat!K417)","v":""},{"$f":"IF(Qeydiyyat!AB417=\"\",\"\",Qeydiyyat!AB417)","v":""},{"$f":"IF(Qeydiyyat!AA417=\"\",\"\",Qeydiyyat!AA417)","v":""},{"$f":"IF(Qeydiyyat!X417=\"\",\"\",Qeydiyyat!X417)","v":""},{"$f":"IF(Qeydiyyat!Y417=\"\",\"\",Qeydiyyat!Y417)","v":""},null,{"$f":"IF(Qeydiyyat!AC417=\"\",\"\",Qeydiyyat!AC417)","v":""}]
[null,169,{"$f":"IF(Qeydiyyat!C418=\"\",\"\",Qeydiyyat!C418)","v":""},{"$f":"IF(Qeydiyyat!B418=\"\",\"\",Qeydiyyat!B418)","v":""},{"$f":"IF(Qeydiyyat!D418=\"\",\"\",Qeydiyyat!D418)","v":""},{"$f":"IF(Qeydiyyat!K418=\"\",\"\",Qeydiyyat!K418)","v":""},{"$f":"IF(Qeydiyyat!AB418=\"\",\"\",Qeydiyyat!AB418)","v":""},{"$f":"IF(Qeydiyyat!AA418=\"\",\"\",Qeydiyyat!AA418)","v":""},{"$f":"IF(Qeydiyyat!X418=\"\",\"\",Qeydiyyat!X418)","v":""},{"$f":"IF(Qeydiyyat!Y418=\"\",\"\",Qeydiyyat!Y418)","v":""},null,{"$f":"IF(Qeydiyyat!AC418=\"\",\"\",Qeydiyyat!AC418)","v":""}]
[null,170,{"$f":"IF(Qeydiyyat!C419=\"\",\"\",Qeydiyyat!C419)","v":""},{"$f":"IF(Qeydiyyat!B419=\"\",\"\",Qeydiyyat!B419)","v":""},{"$f":"IF(Qeydiyyat!D419=\"\",\"\",Qeydiyyat!D419)","v":""},{"$f":"IF(Qeydiyyat!K419=\"\",\"\",Qeydiyyat!K419)","v":""},{"$f":"IF(Qeydiyyat!AB419=\"\",\"\",Qeydiyyat!AB419)","v":""},{"$f":"IF(Qeydiyyat!AA419=\"\",\"\",Qeydiyyat!AA419)","v":""},{"$f":"IF(Qeydiyyat!X419=\"\",\"\",Qeydiyyat!X419)","v":""},{"$f":"IF(Qeydiyyat!Y419=\"\",\"\",Qeydiyyat!Y419)","v":""},null,{"$f":"IF(Qeydiyyat!AC419=\"\",\"\",Qeydiyyat!AC419)","v":""}]
[null,171,{"$f":"IF(Qeydiyyat!C420=\"\",\"\",Qeydiyyat!C420)","v":""},{"$f":"IF(Qeydiyyat!B420=\"\",\"\",Qeydiyyat!B420)","v":""},{"$f":"IF(Qeydiyyat!D420=\"\",\"\",Qeydiyyat!D420)","v":""},{"$f":"IF(Qeydiyyat!K420=\"\",\"\",Qeydiyyat!K420)","v":""},{"$f":"IF(Qeydiyyat!AB420=\"\",\"\",Qeydiyyat!AB420)","v":""},{"$f":"IF(Qeydiyyat!AA420=\"\",\"\",Qeydiyyat!AA420)","v":""},{"$f":"IF(Qeydiyyat!X420=\"\",\"\",Qeydiyyat!X420)","v":""},{"$f":"IF(Qeydiyyat!Y420=\"\",\"\",Qeydiyyat!Y420)","v":""},null,{"$f":"IF(Qeydiyyat!AC420=\"\",\"\",Qeydiyyat!AC420)","v":""}]
[null,172,{"$f":"IF(Qeydiyyat!C421=\"\",\"\",Qeydiyyat!C421)","v":""},{"$f":"IF(Qeydiyyat!B421=\"\",\"\",Qeydiyyat!B421)","v":""},{"$f":"IF(Qeydiyyat!D421=\"\",\"\",Qeydiyyat!D421)","v":""},{"$f":"IF(Qeydiyyat!K421=\"\",\"\",Qeydiyyat!K421)","v":""},{"$f":"IF(Qeydiyyat!AB421=\"\",\"\",Qeydiyyat!AB421)","v":""},{"$f":"IF(Qeydiyyat!AA421=\"\",\"\",Qeydiyyat!AA421)","v":""},{"$f":"IF(Qeydiyyat!X421=\"\",\"\",Qeydiyyat!X421)","v":""},{"$f":"IF(Qeydiyyat!Y421=\"\",\"\",Qeydiyyat!Y421)","v":""},null,{"$f":"IF(Qeydiyyat!AC421=\"\",\"\",Qeydiyyat!AC421)","v":""}]
[null,173,{"$f":"IF(Qeydiyyat!C422=\"\",\"\",Qeydiyyat!C422)","v":""},{"$f":"IF(Qeydiyyat!B422=\"\",\"\",Qeydiyyat!B422)","v":""},{"$f":"IF(Qeydiyyat!D422=\"\",\"\",Qeydiyyat!D422)","v":""},{"$f":"IF(Qeydiyyat!K422=\"\",\"\",Qeydiyyat!K422)","v":""},{"$f":"IF(Qeydiyyat!AB422=\"\",\"\",Qeydiyyat!AB422)","v":""},{"$f":"IF(Qeydiyyat!AA422=\"\",\"\",Qeydiyyat!AA422)","v":""},{"$f":"IF(Qeydiyyat!X422=\"\",\"\",Qeydiyyat!X422)","v":""},{"$f":"IF(Qeydiyyat!Y422=\"\",\"\",Qeydiyyat!Y422)","v":""},null,{"$f":"IF(Qeydiyyat!AC422=\"\",\"\",Qeydiyyat!AC422)","v":""}]
[null,174,{"$f":"IF(Qeydiyyat!C423=\"\",\"\",Qeydiyyat!C423)","v":""},{"$f":"IF(Qeydiyyat!B423=\"\",\"\",Qeydiyyat!B423)","v":""},{"$f":"IF(Qeydiyyat!D423=\"\",\"\",Qeydiyyat!D423)","v":""},{"$f":"IF(Qeydiyyat!K423=\"\",\"\",Qeydiyyat!K423)","v":""},{"$f":"IF(Qeydiyyat!AB423=\"\",\"\",Qeydiyyat!AB423)","v":""},{"$f":"IF(Qeydiyyat!AA423=\"\",\"\",Qeydiyyat!AA423)","v":""},{"$f":"IF(Qeydiyyat!X423=\"\",\"\",Qeydiyyat!X423)","v":""},{"$f":"IF(Qeydiyyat!Y423=\"\",\"\",Qeydiyyat!Y423)","v":""},null,{"$f":"IF(Qeydiyyat!AC423=\"\",\"\",Qeydiyyat!AC423)","v":""}]
[null,175,{"$f":"IF(Qeydiyyat!C424=\"\",\"\",Qeydiyyat!C424)","v":""},{"$f":"IF(Qeydiyyat!B424=\"\",\"\",Qeydiyyat!B424)","v":""},{"$f":"IF(Qeydiyyat!D424=\"\",\"\",Qeydiyyat!D424)","v":""},{"$f":"IF(Qeydiyyat!K424=\"\",\"\",Qeydiyyat!K424)","v":""},{"$f":"IF(Qeydiyyat!AB424=\"\",\"\",Qeydiyyat!AB424)","v":""},{"$f":"IF(Qeydiyyat!AA424=\"\",\"\",Qeydiyyat!AA424)","v":""},{"$f":"IF(Qeydiyyat!X424=\"\",\"\",Qeydiyyat!X424)","v":""},{"$f":"IF(Qeydiyyat!Y424=\"\",\"\",Qeydiyyat!Y424)","v":""},null,{"$f":"IF(Qeydiyyat!AC424=\"\",\"\",Qeydiyyat!AC424)","v":""}]
[null,176,{"$f":"IF(Qeydiyyat!C425=\"\",\"\",Qeydiyyat!C425)","v":""},{"$f":"IF(Qeydiyyat!B425=\"\",\"\",Qeydiyyat!B425)","v":""},{"$f":"IF(Qeydiyyat!D425=\"\",\"\",Qeydiyyat!D425)","v":""},{"$f":"IF(Qeydiyyat!K425=\"\",\"\",Qeydiyyat!K425)","v":""},{"$f":"IF(Qeydiyyat!AB425=\"\",\"\",Qeydiyyat!AB425)","v":""},{"$f":"IF(Qeydiyyat!AA425=\"\",\"\",Qeydiyyat!AA425)","v":""},{"$f":"IF(Qeydiyyat!X425=\"\",\"\",Qeydiyyat!X425)","v":""},{"$f":"IF(Qeydiyyat!Y425=\"\",\"\",Qeydiyyat!Y425)","v":""},null,{"$f":"IF(Qeydiyyat!AC425=\"\",\"\",Qeydiyyat!AC425)","v":""}]
[null,177,{"$f":"IF(Qeydiyyat!C426=\"\",\"\",Qeydiyyat!C426)","v":""},{"$f":"IF(Qeydiyyat!B426=\"\",\"\",Qeydiyyat!B426)","v":""},{"$f":"IF(Qeydiyyat!D426=\"\",\"\",Qeydiyyat!D426)","v":""},{"$f":"IF(Qeydiyyat!K426=\"\",\"\",Qeydiyyat!K426)","v":""},{"$f":"IF(Qeydiyyat!AB426=\"\",\"\",Qeydiyyat!AB426)","v":""},{"$f":"IF(Qeydiyyat!AA426=\"\",\"\",Qeydiyyat!AA426)","v":""},{"$f":"IF(Qeydiyyat!X426=\"\",\"\",Qeydiyyat!X426)","v":""},{"$f":"IF(Qeydiyyat!Y426=\"\",\"\",Qeydiyyat!Y426)","v":""},null,{"$f":"IF(Qeydiyyat!AC426=\"\",\"\",Qeydiyyat!AC426)","v":""}]
[null,178,{"$f":"IF(Qeydiyyat!C427=\"\",\"\",Qeydiyyat!C427)","v":""},{"$f":"IF(Qeydiyyat!B427=\"\",\"\",Qeydiyyat!B427)","v":""},{"$f":"IF(Qeydiyyat!D427=\"\",\"\",Qeydiyyat!D427)","v":""},{"$f":"IF(Qeydiyyat!K427=\"\",\"\",Qeydiyyat!K427)","v":""},{"$f":"IF(Qeydiyyat!AB427=\"\",\"\",Qeydiyyat!AB427)","v":""},{"$f":"IF(Qeydiyyat!AA427=\"\",\"\",Qeydiyyat!AA427)","v":""},{"$f":"IF(Qeydiyyat!X427=\"\",\"\",Qeydiyyat!X427)","v":""},{"$f":"IF(Qeydiyyat!Y427=\"\",\"\",Qeydiyyat!Y427)","v":""},null,{"$f":"IF(Qeydiyyat!AC427=\"\",\"\",Qeydiyyat!AC427)","v":""}]
[null,179,{"$f":"IF(Qeydiyyat!C428=\"\",\"\",Qeydiyyat!C428)","v":""},{"$f":"IF(Qeydiyyat!B428=\"\",\"\",Qeydiyyat!B428)","v":""},{"$f":"IF(Qeydiyyat!D428=\"\",\"\",Qeydiyyat!D428)","v":""},{"$f":"IF(Qeydiyyat!K428=\"\",\"\",Qeydiyyat!K428)","v":""},{"$f":"IF(Qeydiyyat!AB428=\"\",\"\",Qeydiyyat!AB428)","v":""},{"$f":"IF(Qeydiyyat!AA428=\"\",\"\",Qeydiyyat!AA428)","v":""},{"$f":"IF(Qeydiyyat!X428=\"\",\"\",Qeydiyyat!X428)","v":""},{"$f":"IF(Qeydiyyat!Y428=\"\",\"\",Qeydiyyat!Y428)","v":""},null,{"$f":"IF(Qeydiyyat!AC428=\"\",\"\",Qeydiyyat!AC428)","v":""}]
[null,180,{"$f":"IF(Qeydiyyat!C429=\"\",\"\",Qeydiyyat!C429)","v":""},{"$f":"IF(Qeydiyyat!B429=\"\",\"\",Qeydiyyat!B429)","v":""},{"$f":"IF(Qeydiyyat!D429=\"\",\"\",Qeydiyyat!D429)","v":""},{"$f":"IF(Qeydiyyat!K429=\"\",\"\",Qeydiyyat!K429)","v":""},{"$f":"IF(Qeydiyyat!AB429=\"\",\"\",Qeydiyyat!AB429)","v":""},{"$f":"IF(Qeydiyyat!AA429=\"\",\"\",Qeydiyyat!AA429)","v":""},{"$f":"IF(Qeydiyyat!X429=\"\",\"\",Qeydiyyat!X429)","v":""},{"$f":"IF(Qeydiyyat!Y429=\"\",\"\",Qeydiyyat!Y429)","v":""},null,{"$f":"IF(Qeydiyyat!AC429=\"\",\"\",Qeydiyyat!AC429)","v":""}]
[null,181,{"$f":"IF(Qeydiyyat!C430=\"\",\"\",Qeydiyyat!C430)","v":""},{"$f":"IF(Qeydiyyat!B430=\"\",\"\",Qeydiyyat!B430)","v":""},{"$f":"IF(Qeydiyyat!D430=\"\",\"\",Qeydiyyat!D430)","v":""},{"$f":"IF(Qeydiyyat!K430=\"\",\"\",Qeydiyyat!K430)","v":""},{"$f":"IF(Qeydiyyat!AB430=\"\",\"\",Qeydiyyat!AB430)","v":""},{"$f":"IF(Qeydiyyat!AA430=\"\",\"\",Qeydiyyat!AA430)","v":""},{"$f":"IF(Qeydiyyat!X430=\"\",\"\",Qeydiyyat!X430)","v":""},{"$f":"IF(Qeydiyyat!Y430=\"\",\"\",Qeydiyyat!Y430)","v":""},null,{"$f":"IF(Qeydiyyat!AC430=\"\",\"\",Qeydiyyat!AC430)","v":""}]
[null,182,{"$f":"IF(Qeydiyyat!C431=\"\",\"\",Qeydiyyat!C431)","v":""},{"$f":"IF(Qeydiyyat!B431=\"\",\"\",Qeydiyyat!B431)","v":""},{"$f":"IF(Qeydiyyat!D431=\"\",\"\",Qeydiyyat!D431)","v":""},{"$f":"IF(Qeydiyyat!K431=\"\",\"\",Qeydiyyat!K431)","v":""},{"$f":"IF(Qeydiyyat!AB431=\"\",\"\",Qeydiyyat!AB431)","v":""},{"$f":"IF(Qeydiyyat!AA431=\"\",\"\",Qeydiyyat!AA431)","v":""},{"$f":"IF(Qeydiyyat!X431=\"\",\"\",Qeydiyyat!X431)","v":""},{"$f":"IF(Qeydiyyat!Y431=\"\",\"\",Qeydiyyat!Y431)","v":""},null,{"$f":"IF(Qeydiyyat!AC431=\"\",\"\",Qeydiyyat!AC431)","v":""}]
[null,183,{"$f":"IF(Qeydiyyat!C432=\"\",\"\",Qeydiyyat!C432)","v":""},{"$f":"IF(Qeydiyyat!B432=\"\",\"\",Qeydiyyat!B432)","v":""},{"$f":"IF(Qeydiyyat!D432=\"\",\"\",Qeydiyyat!D432)","v":""},{"$f":"IF(Qeydiyyat!K432=\"\",\"\",Qeydiyyat!K432)","v":""},{"$f":"IF(Qeydiyyat!AB432=\"\",\"\",Qeydiyyat!AB432)","v":""},{"$f":"IF(Qeydiyyat!AA432=\"\",\"\",Qeydiyyat!AA432)","v":""},{"$f":"IF(Qeydiyyat!X432=\"\",\"\",Qeydiyyat!X432)","v":""},{"$f":"IF(Qeydiyyat!Y432=\"\",\"\",Qeydiyyat!Y432)","v":""},null,{"$f":"IF(Qeydiyyat!AC432=\"\",\"\",Qeydiyyat!AC432)","v":""}]
[null,184,{"$f":"IF(Qeydiyyat!C433=\"\",\"\",Qeydiyyat!C433)","v":""},{"$f":"IF(Qeydiyyat!B433=\"\",\"\",Qeydiyyat!B433)","v":""},{"$f":"IF(Qeydiyyat!D433=\"\",\"\",Qeydiyyat!D433)","v":""},{"$f":"IF(Qeydiyyat!K433=\"\",\"\",Qeydiyyat!K433)","v":""},{"$f":"IF(Qeydiyyat!AB433=\"\",\"\",Qeydiyyat!AB433)","v":""},{"$f":"IF(Qeydiyyat!AA433=\"\",\"\",Qeydiyyat!AA433)","v":""},{"$f":"IF(Qeydiyyat!X433=\"\",\"\",Qeydiyyat!X433)","v":""},{"$f":"IF(Qeydiyyat!Y433=\"\",\"\",Qeydiyyat!Y433)","v":""},null,{"$f":"IF(Qeydiyyat!AC433=\"\",\"\",Qeydiyyat!AC433)","v":""}]
[null,185,{"$f":"IF(Qeydiyyat!C434=\"\",\"\",Qeydiyyat!C434)","v":""},{"$f":"IF(Qeydiyyat!B434=\"\",\"\",Qeydiyyat!B434)","v":""},{"$f":"IF(Qeydiyyat!D434=\"\",\"\",Qeydiyyat!D434)","v":""},{"$f":"IF(Qeydiyyat!K434=\"\",\"\",Qeydiyyat!K434)","v":""},{"$f":"IF(Qeydiyyat!AB434=\"\",\"\",Qeydiyyat!AB434)","v":""},{"$f":"IF(Qeydiyyat!AA434=\"\",\"\",Qeydiyyat!AA434)","v":""},{"$f":"IF(Qeydiyyat!X434=\"\",\"\",Qeydiyyat!X434)","v":""},{"$f":"IF(Qeydiyyat!Y434=\"\",\"\",Qeydiyyat!Y434)","v":""},null,{"$f":"IF(Qeydiyyat!AC434=\"\",\"\",Qeydiyyat!AC434)","v":""}]
[null,186,{"$f":"IF(Qeydiyyat!C435=\"\",\"\",Qeydiyyat!C435)","v":""},{"$f":"IF(Qeydiyyat!B435=\"\",\"\",Qeydiyyat!B435)","v":""},{"$f":"IF(Qeydiyyat!D435=\"\",\"\",Qeydiyyat!D435)","v":""},{"$f":"IF(Qeydiyyat!K435=\"\",\"\",Qeydiyyat!K435)","v":""},{"$f":"IF(Qeydiyyat!AB435=\"\",\"\",Qeydiyyat!AB435)","v":""},{"$f":"IF(Qeydiyyat!AA435=\"\",\"\",Qeydiyyat!AA435)","v":""},{"$f":"IF(Qeydiyyat!X435=\"\",\"\",Qeydiyyat!X435)","v":""},{"$f":"IF(Qeydiyyat!Y435=\"\",\"\",Qeydiyyat!Y435)","v":""},null,{"$f":"IF(Qeydiyyat!AC435=\"\",\"\",Qeydiyyat!AC435)","v":""}]
[null,187,{"$f":"IF(Qeydiyyat!C436=\"\",\"\",Qeydiyyat!C436)","v":""},{"$f":"IF(Qeydiyyat!B436=\"\",\"\",Qeydiyyat!B436)","v":""},{"$f":"IF(Qeydiyyat!D436=\"\",\"\",Qeydiyyat!D436)","v":""},{"$f":"IF(Qeydiyyat!K436=\"\",\"\",Qeydiyyat!K436)","v":""},{"$f":"IF(Qeydiyyat!AB436=\"\",\"\",Qeydiyyat!AB436)","v":""},{"$f":"IF(Qeydiyyat!AA436=\"\",\"\",Qeydiyyat!AA436)","v":""},{"$f":"IF(Qeydiyyat!X436=\"\",\"\",Qeydiyyat!X436)","v":""},{"$f":"IF(Qeydiyyat!Y436=\"\",\"\",Qeydiyyat!Y436)","v":""},null,{"$f":"IF(Qeydiyyat!AC436=\"\",\"\",Qeydiyyat!AC436)","v":""}]
[null,188,{"$f":"IF(Qeydiyyat!C437=\"\",\"\",Qeydiyyat!C437)","v":""},{"$f":"IF(Qeydiyyat!B437=\"\",\"\",Qeydiyyat!B437)","v":""},{"$f":"IF(Qeydiyyat!D437=\"\",\"\",Qeydiyyat!D437)","v":""},{"$f":"IF(Qeydiyyat!K437=\"\",\"\",Qeydiyyat!K437)","v":""},{"$f":"IF(Qeydiyyat!AB437=\"\",\"\",Qeydiyyat!AB437)","v":""},{"$f":"IF(Qeydiyyat!AA437=\"\",\"\",Qeydiyyat!AA437)","v":""},{"$f":"IF(Qeydiyyat!X437=\"\",\"\",Qeydiyyat!X437)","v":""},{"$f":"IF(Qeydiyyat!Y437=\"\",\"\",Qeydiyyat!Y437)","v":""},null,{"$f":"IF(Qeydiyyat!AC437=\"\",\"\",Qeydiyyat!AC437)","v":""}]
[null,189,{"$f":"IF(Qeydiyyat!C438=\"\",\"\",Qeydiyyat!C438)","v":""},{"$f":"IF(Qeydiyyat!B438=\"\",\"\",Qeydiyyat!B438)","v":""},{"$f":"IF(Qeydiyyat!D438=\"\",\"\",Qeydiyyat!D438)","v":""},{"$f":"IF(Qeydiyyat!K438=\"\",\"\",Qeydiyyat!K438)","v":""},{"$f":"IF(Qeydiyyat!AB438=\"\",\"\",Qeydiyyat!AB438)","v":""},{"$f":"IF(Qeydiyyat!AA438=\"\",\"\",Qeydiyyat!AA438)","v":""},{"$f":"IF(Qeydiyyat!X438=\"\",\"\",Qeydiyyat!X438)","v":""},{"$f":"IF(Qeydiyyat!Y438=\"\",\"\",Qeydiyyat!Y438)","v":""},null,{"$f":"IF(Qeydiyyat!AC438=\"\",\"\",Qeydiyyat!AC438)","v":""}]
[null,190,{"$f":"IF(Qeydiyyat!C439=\"\",\"\",Qeydiyyat!C439)","v":""},{"$f":"IF(Qeydiyyat!B439=\"\",\"\",Qeydiyyat!B439)","v":""},{"$f":"IF(Qeydiyyat!D439=\"\",\"\",Qeydiyyat!D439)","v":""},{"$f":"IF(Qeydiyyat!K439=\"\",\"\",Qeydiyyat!K439)","v":""},{"$f":"IF(Qeydiyyat!AB439=\"\",\"\",Qeydiyyat!AB439)","v":""},{"$f":"IF(Qeydiyyat!AA439=\"\",\"\",Qeydiyyat!AA439)","v":""},{"$f":"IF(Qeydiyyat!X439=\"\",\"\",Qeydiyyat!X439)","v":""},{"$f":"IF(Qeydiyyat!Y439=\"\",\"\",Qeydiyyat!Y439)","v":""},null,{"$f":"IF(Qeydiyyat!AC439=\"\",\"\",Qeydiyyat!AC439)","v":""}]
[null,191,{"$f":"IF(Qeydiyyat!C440=\"\",\"\",Qeydiyyat!C440)","v":""},{"$f":"IF(Qeydiyyat!B440=\"\",\"\",Qeydiyyat!B440)","v":""},{"$f":"IF(Qeydiyyat!D440=\"\",\"\",Qeydiyyat!D440)","v":""},{"$f":"IF(Qeydiyyat!K440=\"\",\"\",Qeydiyyat!K440)","v":""},{"$f":"IF(Qeydiyyat!AB440=\"\",\"\",Qeydiyyat!AB440)","v":""},{"$f":"IF(Qeydiyyat!AA440=\"\",\"\",Qeydiyyat!AA440)","v":""},{"$f":"IF(Qeydiyyat!X440=\"\",\"\",Qeydiyyat!X440)","v":""},{"$f":"IF(Qeydiyyat!Y440=\"\",\"\",Qeydiyyat!Y440)","v":""},null,{"$f":"IF(Qeydiyyat!AC440=\"\",\"\",Qeydiyyat!AC440)","v":""}]
[null,192,{"$f":"IF(Qeydiyyat!C441=\"\",\"\",Qeydiyyat!C441)","v":""},{"$f":"IF(Qeydiyyat!B441=\"\",\"\",Qeydiyyat!B441)","v":""},{"$f":"IF(Qeydiyyat!D441=\"\",\"\",Qeydiyyat!D441)","v":""},{"$f":"IF(Qeydiyyat!K441=\"\",\"\",Qeydiyyat!K441)","v":""},{"$f":"IF(Qeydiyyat!AB441=\"\",\"\",Qeydiyyat!AB441)","v":""},{"$f":"IF(Qeydiyyat!AA441=\"\",\"\",Qeydiyyat!AA441)","v":""},{"$f":"IF(Qeydiyyat!X441=\"\",\"\",Qeydiyyat!X441)","v":""},{"$f":"IF(Qeydiyyat!Y441=\"\",\"\",Qeydiyyat!Y441)","v":""},null,{"$f":"IF(Qeydiyyat!AC441=\"\",\"\",Qeydiyyat!AC441)","v":""}]
[null,193,{"$f":"IF(Qeydiyyat!C442=\"\",\"\",Qeydiyyat!C442)","v":""},{"$f":"IF(Qeydiyyat!B442=\"\",\"\",Qeydiyyat!B442)","v":""},{"$f":"IF(Qeydiyyat!D442=\"\",\"\",Qeydiyyat!D442)","v":""},{"$f":"IF(Qeydiyyat!K442=\"\",\"\",Qeydiyyat!K442)","v":""},{"$f":"IF(Qeydiyyat!AB442=\"\",\"\",Qeydiyyat!AB442)","v":""},{"$f":"IF(Qeydiyyat!AA442=\"\",\"\",Qeydiyyat!AA442)","v":""},{"$f":"IF(Qeydiyyat!X442=\"\",\"\",Qeydiyyat!X442)","v":""},{"$f":"IF(Qeydiyyat!Y442=\"\",\"\",Qeydiyyat!Y442)","v":""},null,{"$f":"IF(Qeydiyyat!AC442=\"\",\"\",Qeydiyyat!AC442)","v":""}]
[null,194,{"$f":"IF(Qeydiyyat!C443=\"\",\"\",Qeydiyyat!C443)","v":""},{"$f":"IF(Qeydiyyat!B443=\"\",\"\",Qeydiyyat!B443)","v":""},{"$f":"IF(Qeydiyyat!D443=\"\",\"\",Qeydiyyat!D443)","v":""},{"$f":"IF(Qeydiyyat!K443=\"\",\"\",Qeydiyyat!K443)","v":""},{"$f":"IF(Qeydiyyat!AB443=\"\",\"\",Qeydiyyat!AB443)","v":""},{"$f":"IF(Qeydiyyat!AA443=\"\",\"\",Qeydiyyat!AA443)","v":""},{"$f":"IF(Qeydiyyat!X443=\"\",\"\",Qeydiyyat!X443)","v":""},{"$f":"IF(Qeydiyyat!Y443=\"\",\"\",Qeydiyyat!Y443)","v":""},null,{"$f":"IF(Qeydiyyat!AC443=\"\",\"\",Qeydiyyat!AC443)","v":""}]
[null,195,{"$f":"IF(Qeydiyyat!C444=\"\",\"\",Qeydiyyat!C444)","v":""},{"$f":"IF(Qeydiyyat!B444=\"\",\"\",Qeydiyyat!B444)","v":""},{"$f":"IF(Qeydiyyat!D444=\"\",\"\",Qeydiyyat!D444)","v":""},{"$f":"IF(Qeydiyyat!K444=\"\",\"\",Qeydiyyat!K444)","v":""},{"$f":"IF(Qeydiyyat!AB444=\"\",\"\",Qeydiyyat!AB444)","v":""},{"$f":"IF(Qeydiyyat!AA444=\"\",\"\",Qeydiyyat!AA444)","v":""},{"$f":"IF(Qeydiyyat!X444=\"\",\"\",Qeydiyyat!X444)","v":""},{"$f":"IF(Qeydiyyat!Y444=\"\",\"\",Qeydiyyat!Y444)","v":""},null,{"$f":"IF(Qeydiyyat!AC444=\"\",\"\",Qeydiyyat!AC444)","v":""}]
[null,196,{"$f":"IF(Qeydiyyat!C445=\"\",\"\",Qeydiyyat!C445)","v":""},{"$f":"IF(Qeydiyyat!B445=\"\",\"\",Qeydiyyat!B445)","v":""},{"$f":"IF(Qeydiyyat!D445=\"\",\"\",Qeydiyyat!D445)","v":""},{"$f":"IF(Qeydiyyat!K445=\"\",\"\",Qeydiyyat!K445)","v":""},{"$f":"IF(Qeydiyyat!AB445=\"\",\"\",Qeydiyyat!AB445)","v":""},{"$f":"IF(Qeydiyyat!AA445=\"\",\"\",Qeydiyyat!AA445)","v":""},{"$f":"IF(Qeydiyyat!X445=\"\",\"\",Qeydiyyat!X445)","v":""},{"$f":"IF(Qeydiyyat!Y445=\"\",\"\",Qeydiyyat!Y445)","v":""},null,{"$f":"IF(Qeydiyyat!AC445=\"\",\"\",Qeydiyyat!AC445)","v":""}]
[null,{"$f":"B214+1","v":197},{"$f":"IF(Qeydiyyat!C446=\"\",\"\",Qeydiyyat!C446)","v":""},{"$f":"IF(Qeydiyyat!B446=\"\",\"\",Qeydiyyat!B446)","v":""},{"$f":"IF(Qeydiyyat!D446=\"\",\"\",Qeydiyyat!D446)","v":""},{"$f":"IF(Qeydiyyat!K446=\"\",\"\",Qeydiyyat!K446)","v":""},{"$f":"IF(Qeydiyyat!AB446=\"\",\"\",Qeydiyyat!AB446)","v":""},{"$f":"IF(Qeydiyyat!AA446=\"\",\"\",Qeydiyyat!AA446)","v":""},{"$f":"IF(Qeydiyyat!X446=\"\",\"\",Qeydiyyat!X446)","v":""},{"$f":"IF(Qeydiyyat!Y446=\"\",\"\",Qeydiyyat!Y446)","v":""},null,{"$f":"IF(Qeydiyyat!AC446=\"\",\"\",Qeydiyyat!AC446)","v":""}]
[null,198,{"$f":"IF(Qeydiyyat!C447=\"\",\"\",Qeydiyyat!C447)","v":""},{"$f":"IF(Qeydiyyat!B447=\"\",\"\",Qeydiyyat!B447)","v":""},{"$f":"IF(Qeydiyyat!D447=\"\",\"\",Qeydiyyat!D447)","v":""},{"$f":"IF(Qeydiyyat!K447=\"\",\"\",Qeydiyyat!K447)","v":""},{"$f":"IF(Qeydiyyat!AB447=\"\",\"\",Qeydiyyat!AB447)","v":""},{"$f":"IF(Qeydiyyat!AA447=\"\",\"\",Qeydiyyat!AA447)","v":""},{"$f":"IF(Qeydiyyat!X447=\"\",\"\",Qeydiyyat!X447)","v":""},{"$f":"IF(Qeydiyyat!Y447=\"\",\"\",Qeydiyyat!Y447)","v":""},null,{"$f":"IF(Qeydiyyat!AC447=\"\",\"\",Qeydiyyat!AC447)","v":""}]
[null,199,{"$f":"IF(Qeydiyyat!C448=\"\",\"\",Qeydiyyat!C448)","v":""},{"$f":"IF(Qeydiyyat!B448=\"\",\"\",Qeydiyyat!B448)","v":""},{"$f":"IF(Qeydiyyat!D448=\"\",\"\",Qeydiyyat!D448)","v":""},{"$f":"IF(Qeydiyyat!K448=\"\",\"\",Qeydiyyat!K448)","v":""},{"$f":"IF(Qeydiyyat!AB448=\"\",\"\",Qeydiyyat!AB448)","v":""},{"$f":"IF(Qeydiyyat!AA448=\"\",\"\",Qeydiyyat!AA448)","v":""},{"$f":"IF(Qeydiyyat!X448=\"\",\"\",Qeydiyyat!X448)","v":""},{"$f":"IF(Qeydiyyat!Y448=\"\",\"\",Qeydiyyat!Y448)","v":""},null,{"$f":"IF(Qeydiyyat!AC448=\"\",\"\",Qeydiyyat!AC448)","v":""}]
[null,200,{"$f":"IF(Qeydiyyat!C449=\"\",\"\",Qeydiyyat!C449)","v":""},{"$f":"IF(Qeydiyyat!B449=\"\",\"\",Qeydiyyat!B449)","v":""},{"$f":"IF(Qeydiyyat!D449=\"\",\"\",Qeydiyyat!D449)","v":""},{"$f":"IF(Qeydiyyat!K449=\"\",\"\",Qeydiyyat!K449)","v":""},{"$f":"IF(Qeydiyyat!AB449=\"\",\"\",Qeydiyyat!AB449)","v":""},{"$f":"IF(Qeydiyyat!AA449=\"\",\"\",Qeydiyyat!AA449)","v":""},{"$f":"IF(Qeydiyyat!X449=\"\",\"\",Qeydiyyat!X449)","v":""},{"$f":"IF(Qeydiyyat!Y449=\"\",\"\",Qeydiyyat!Y449)","v":""},null,{"$f":"IF(Qeydiyyat!AC449=\"\",\"\",Qeydiyyat!AC449)","v":""}]
[null,201,{"$f":"IF(Qeydiyyat!C450=\"\",\"\",Qeydiyyat!C450)","v":""},{"$f":"IF(Qeydiyyat!B450=\"\",\"\",Qeydiyyat!B450)","v":""},{"$f":"IF(Qeydiyyat!D450=\"\",\"\",Qeydiyyat!D450)","v":""},{"$f":"IF(Qeydiyyat!K450=\"\",\"\",Qeydiyyat!K450)","v":""},{"$f":"IF(Qeydiyyat!AB450=\"\",\"\",Qeydiyyat!AB450)","v":""},{"$f":"IF(Qeydiyyat!AA450=\"\",\"\",Qeydiyyat!AA450)","v":""},{"$f":"IF(Qeydiyyat!X450=\"\",\"\",Qeydiyyat!X450)","v":""},{"$f":"IF(Qeydiyyat!Y450=\"\",\"\",Qeydiyyat!Y450)","v":""},null,{"$f":"IF(Qeydiyyat!AC450=\"\",\"\",Qeydiyyat!AC450)","v":""}]
[null,202,{"$f":"IF(Qeydiyyat!C451=\"\",\"\",Qeydiyyat!C451)","v":""},{"$f":"IF(Qeydiyyat!B451=\"\",\"\",Qeydiyyat!B451)","v":""},{"$f":"IF(Qeydiyyat!D451=\"\",\"\",Qeydiyyat!D451)","v":""},{"$f":"IF(Qeydiyyat!K451=\"\",\"\",Qeydiyyat!K451)","v":""},{"$f":"IF(Qeydiyyat!AB451=\"\",\"\",Qeydiyyat!AB451)","v":""},{"$f":"IF(Qeydiyyat!AA451=\"\",\"\",Qeydiyyat!AA451)","v":""},{"$f":"IF(Qeydiyyat!X451=\"\",\"\",Qeydiyyat!X451)","v":""},{"$f":"IF(Qeydiyyat!Y451=\"\",\"\",Qeydiyyat!Y451)","v":""},null,{"$f":"IF(Qeydiyyat!AC451=\"\",\"\",Qeydiyyat!AC451)","v":""}]
[null,203,{"$f":"IF(Qeydiyyat!C452=\"\",\"\",Qeydiyyat!C452)","v":""},{"$f":"IF(Qeydiyyat!B452=\"\",\"\",Qeydiyyat!B452)","v":""},{"$f":"IF(Qeydiyyat!D452=\"\",\"\",Qeydiyyat!D452)","v":""},{"$f":"IF(Qeydiyyat!K452=\"\",\"\",Qeydiyyat!K452)","v":""},{"$f":"IF(Qeydiyyat!AB452=\"\",\"\",Qeydiyyat!AB452)","v":""},{"$f":"IF(Qeydiyyat!AA452=\"\",\"\",Qeydiyyat!AA452)","v":""},{"$f":"IF(Qeydiyyat!X452=\"\",\"\",Qeydiyyat!X452)","v":""},{"$f":"IF(Qeydiyyat!Y452=\"\",\"\",Qeydiyyat!Y452)","v":""},null,{"$f":"IF(Qeydiyyat!AC452=\"\",\"\",Qeydiyyat!AC452)","v":""}]
[null,204,{"$f":"IF(Qeydiyyat!C453=\"\",\"\",Qeydiyyat!C453)","v":""},{"$f":"IF(Qeydiyyat!B453=\"\",\"\",Qeydiyyat!B453)","v":""},{"$f":"IF(Qeydiyyat!D453=\"\",\"\",Qeydiyyat!D453)","v":""},{"$f":"IF(Qeydiyyat!K453=\"\",\"\",Qeydiyyat!K453)","v":""},{"$f":"IF(Qeydiyyat!AB453=\"\",\"\",Qeydiyyat!AB453)","v":""},{"$f":"IF(Qeydiyyat!AA453=\"\",\"\",Qeydiyyat!AA453)","v":""},{"$f":"IF(Qeydiyyat!X453=\"\",\"\",Qeydiyyat!X453)","v":""},{"$f":"IF(Qeydiyyat!Y453=\"\",\"\",Qeydiyyat!Y453)","v":""},null,{"$f":"IF(Qeydiyyat!AC453=\"\",\"\",Qeydiyyat!AC453)","v":""}]
[null,205,{"$f":"IF(Qeydiyyat!C454=\"\",\"\",Qeydiyyat!C454)","v":""},{"$f":"IF(Qeydiyyat!B454=\"\",\"\",Qeydiyyat!B454)","v":""},{"$f":"IF(Qeydiyyat!D454=\"\",\"\",Qeydiyyat!D454)","v":""},{"$f":"IF(Qeydiyyat!K454=\"\",\"\",Qeydiyyat!K454)","v":""},{"$f":"IF(Qeydiyyat!AB454=\"\",\"\",Qeydiyyat!AB454)","v":""},{"$f":"IF(Qeydiyyat!AA454=\"\",\"\",Qeydiyyat!AA454)","v":""},{"$f":"IF(Qeydiyyat!X454=\"\",\"\",Qeydiyyat!X454)","v":""},{"$f":"IF(Qeydiyyat!Y454=\"\",\"\",Qeydiyyat!Y454)","v":""},null,{"$f":"IF(Qeydiyyat!AC454=\"\",\"\",Qeydiyyat!AC454)","v":""}]
[null,206,{"$f":"IF(Qeydiyyat!C455=\"\",\"\",Qeydiyyat!C455)","v":""},{"$f":"IF(Qeydiyyat!B455=\"\",\"\",Qeydiyyat!B455)","v":""},{"$f":"IF(Qeydiyyat!D455=\"\",\"\",Qeydiyyat!D455)","v":""},{"$f":"IF(Qeydiyyat!K455=\"\",\"\",Qeydiyyat!K455)","v":""},{"$f":"IF(Qeydiyyat!AB455=\"\",\"\",Qeydiyyat!AB455)","v":""},{"$f":"IF(Qeydiyyat!AA455=\"\",\"\",Qeydiyyat!AA455)","v":""},{"$f":"IF(Qeydiyyat!X455=\"\",\"\",Qeydiyyat!X455)","v":""},{"$f":"IF(Qeydiyyat!Y455=\"\",\"\",Qeydiyyat!Y455)","v":""},null,{"$f":"IF(Qeydiyyat!AC455=\"\",\"\",Qeydiyyat!AC455)","v":""}]
[null,207,{"$f":"IF(Qeydiyyat!C456=\"\",\"\",Qeydiyyat!C456)","v":""},{"$f":"IF(Qeydiyyat!B456=\"\",\"\",Qeydiyyat!B456)","v":""},{"$f":"IF(Qeydiyyat!D456=\"\",\"\",Qeydiyyat!D456)","v":""},{"$f":"IF(Qeydiyyat!K456=\"\",\"\",Qeydiyyat!K456)","v":""},{"$f":"IF(Qeydiyyat!AB456=\"\",\"\",Qeydiyyat!AB456)","v":""},{"$f":"IF(Qeydiyyat!AA456=\"\",\"\",Qeydiyyat!AA456)","v":""},{"$f":"IF(Qeydiyyat!X456=\"\",\"\",Qeydiyyat!X456)","v":""},{"$f":"IF(Qeydiyyat!Y456=\"\",\"\",Qeydiyyat!Y456)","v":""},null,{"$f":"IF(Qeydiyyat!AC456=\"\",\"\",Qeydiyyat!AC456)","v":""}]
[null,208,{"$f":"IF(Qeydiyyat!C457=\"\",\"\",Qeydiyyat!C457)","v":""},{"$f":"IF(Qeydiyyat!B457=\"\",\"\",Qeydiyyat!B457)","v":""},{"$f":"IF(Qeydiyyat!D457=\"\",\"\",Qeydiyyat!D457)","v":""},{"$f":"IF(Qeydiyyat!K457=\"\",\"\",Qeydiyyat!K457)","v":""},{"$f":"IF(Qeydiyyat!AB457=\"\",\"\",Qeydiyyat!AB457)","v":""},{"$f":"IF(Qeydiyyat!AA457=\"\",\"\",Qeydiyyat!AA457)","v":""},{"$f":"IF(Qeydiyyat!X457=\"\",\"\",Qeydiyyat!X457)","v":""},{"$f":"IF(Qeydiyyat!Y457=\"\",\"\",Qeydiyyat!Y457)","v":""},null,{"$f":"IF(Qeydiyyat!AC457=\"\",\"\",Qeydiyyat!AC457)","v":""}]
[null,209,{"$f":"IF(Qeydiyyat!C458=\"\",\"\",Qeydiyyat!C458)","v":""},{"$f":"IF(Qeydiyyat!B458=\"\",\"\",Qeydiyyat!B458)","v":""},{"$f":"IF(Qeydiyyat!D458=\"\",\"\",Qeydiyyat!D458)","v":""},{"$f":"IF(Qeydiyyat!K458=\"\",\"\",Qeydiyyat!K458)","v":""},{"$f":"IF(Qeydiyyat!AB458=\"\",\"\",Qeydiyyat!AB458)","v":""},{"$f":"IF(Qeydiyyat!AA458=\"\",\"\",Qeydiyyat!AA458)","v":""},{"$f":"IF(Qeydiyyat!X458=\"\",\"\",Qeydiyyat!X458)","v":""},{"$f":"IF(Qeydiyyat!Y458=\"\",\"\",Qeydiyyat!Y458)","v":""},null,{"$f":"IF(Qeydiyyat!AC458=\"\",\"\",Qeydiyyat!AC458)","v":""}]
[null,210,{"$f":"IF(Qeydiyyat!C459=\"\",\"\",Qeydiyyat!C459)","v":""},{"$f":"IF(Qeydiyyat!B459=\"\",\"\",Qeydiyyat!B459)","v":""},{"$f":"IF(Qeydiyyat!D459=\"\",\"\",Qeydiyyat!D459)","v":""},{"$f":"IF(Qeydiyyat!K459=\"\",\"\",Qeydiyyat!K459)","v":""},{"$f":"IF(Qeydiyyat!AB459=\"\",\"\",Qeydiyyat!AB459)","v":""},{"$f":"IF(Qeydiyyat!AA459=\"\",\"\",Qeydiyyat!AA459)","v":""},{"$f":"IF(Qeydiyyat!X459=\"\",\"\",Qeydiyyat!X459)","v":""},{"$f":"IF(Qeydiyyat!Y459=\"\",\"\",Qeydiyyat!Y459)","v":""},null,{"$f":"IF(Qeydiyyat!AC459=\"\",\"\",Qeydiyyat!AC459)","v":""}]
[null,211,{"$f":"IF(Qeydiyyat!C460=\"\",\"\",Qeydiyyat!C460)","v":""},{"$f":"IF(Qeydiyyat!B460=\"\",\"\",Qeydiyyat!B460)","v":""},{"$f":"IF(Qeydiyyat!D460=\"\",\"\",Qeydiyyat!D460)","v":""},{"$f":"IF(Qeydiyyat!K460=\"\",\"\",Qeydiyyat!K460)","v":""},{"$f":"IF(Qeydiyyat!AB460=\"\",\"\",Qeydiyyat!AB460)","v":""},{"$f":"IF(Qeydiyyat!AA460=\"\",\"\",Qeydiyyat!AA460)","v":""},{"$f":"IF(Qeydiyyat!X460=\"\",\"\",Qeydiyyat!X460)","v":""},{"$f":"IF(Qeydiyyat!Y460=\"\",\"\",Qeydiyyat!Y460)","v":""},null,{"$f":"IF(Qeydiyyat!AC460=\"\",\"\",Qeydiyyat!AC460)","v":""}]
[null,212,{"$f":"IF(Qeydiyyat!C461=\"\",\"\",Qeydiyyat!C461)","v":""},{"$f":"IF(Qeydiyyat!B461=\"\",\"\",Qeydiyyat!B461)","v":""},{"$f":"IF(Qeydiyyat!D461=\"\",\"\",Qeydiyyat!D461)","v":""},{"$f":"IF(Qeydiyyat!K461=\"\",\"\",Qeydiyyat!K461)","v":""},{"$f":"IF(Qeydiyyat!AB461=\"\",\"\",Qeydiyyat!AB461)","v":""},{"$f":"IF(Qeydiyyat!AA461=\"\",\"\",Qeydiyyat!AA461)","v":""},{"$f":"IF(Qeydiyyat!X461=\"\",\"\",Qeydiyyat!X461)","v":""},{"$f":"IF(Qeydiyyat!Y461=\"\",\"\",Qeydiyyat!Y461)","v":""},null,{"$f":"IF(Qeydiyyat!AC461=\"\",\"\",Qeydiyyat!AC461)","v":""}]
[null,213,{"$f":"IF(Qeydiyyat!C462=\"\",\"\",Qeydiyyat!C462)","v":""},{"$f":"IF(Qeydiyyat!B462=\"\",\"\",Qeydiyyat!B462)","v":""},{"$f":"IF(Qeydiyyat!D462=\"\",\"\",Qeydiyyat!D462)","v":""},{"$f":"IF(Qeydiyyat!K462=\"\",\"\",Qeydiyyat!K462)","v":""},{"$f":"IF(Qeydiyyat!AB462=\"\",\"\",Qeydiyyat!AB462)","v":""},{"$f":"IF(Qeydiyyat!AA462=\"\",\"\",Qeydiyyat!AA462)","v":""},{"$f":"IF(Qeydiyyat!X462=\"\",\"\",Qeydiyyat!X462)","v":""},{"$f":"IF(Qeydiyyat!Y462=\"\",\"\",Qeydiyyat!Y462)","v":""},null,{"$f":"IF(Qeydiyyat!AC462=\"\",\"\",Qeydiyyat!AC462)","v":""}]
[null,214,{"$f":"IF(Qeydiyyat!C463=\"\",\"\",Qeydiyyat!C463)","v":""},{"$f":"IF(Qeydiyyat!B463=\"\",\"\",Qeydiyyat!B463)","v":""},{"$f":"IF(Qeydiyyat!D463=\"\",\"\",Qeydiyyat!D463)","v":""},{"$f":"IF(Qeydiyyat!K463=\"\",\"\",Qeydiyyat!K463)","v":""},{"$f":"IF(Qeydiyyat!AB463=\"\",\"\",Qeydiyyat!AB463)","v":""},{"$f":"IF(Qeydiyyat!AA463=\"\",\"\",Qeydiyyat!AA463)","v":""},{"$f":"IF(Qeydiyyat!X463=\"\",\"\",Qeydiyyat!X463)","v":""},{"$f":"IF(Qeydiyyat!Y463=\"\",\"\",Qeydiyyat!Y463)","v":""},null,{"$f":"IF(Qeydiyyat!AC463=\"\",\"\",Qeydiyyat!AC463)","v":""}]
[null,215,{"$f":"IF(Qeydiyyat!C464=\"\",\"\",Qeydiyyat!C464)","v":""},{"$f":"IF(Qeydiyyat!B464=\"\",\"\",Qeydiyyat!B464)","v":""},{"$f":"IF(Qeydiyyat!D464=\"\",\"\",Qeydiyyat!D464)","v":""},{"$f":"IF(Qeydiyyat!K464=\"\",\"\",Qeydiyyat!K464)","v":""},{"$f":"IF(Qeydiyyat!AB464=\"\",\"\",Qeydiyyat!AB464)","v":""},{"$f":"IF(Qeydiyyat!AA464=\"\",\"\",Qeydiyyat!AA464)","v":""},{"$f":"IF(Qeydiyyat!X464=\"\",\"\",Qeydiyyat!X464)","v":""},{"$f":"IF(Qeydiyyat!Y464=\"\",\"\",Qeydiyyat!Y464)","v":""},null,{"$f":"IF(Qeydiyyat!AC464=\"\",\"\",Qeydiyyat!AC464)","v":""}]
[null,216,{"$f":"IF(Qeydiyyat!C465=\"\",\"\",Qeydiyyat!C465)","v":""},{"$f":"IF(Qeydiyyat!B465=\"\",\"\",Qeydiyyat!B465)","v":""},{"$f":"IF(Qeydiyyat!D465=\"\",\"\",Qeydiyyat!D465)","v":""},{"$f":"IF(Qeydiyyat!K465=\"\",\"\",Qeydiyyat!K465)","v":""},{"$f":"IF(Qeydiyyat!AB465=\"\",\"\",Qeydiyyat!AB465)","v":""},{"$f":"IF(Qeydiyyat!AA465=\"\",\"\",Qeydiyyat!AA465)","v":""},{"$f":"IF(Qeydiyyat!X465=\"\",\"\",Qeydiyyat!X465)","v":""},{"$f":"IF(Qeydiyyat!Y465=\"\",\"\",Qeydiyyat!Y465)","v":""},null,{"$f":"IF(Qeydiyyat!AC465=\"\",\"\",Qeydiyyat!AC465)","v":""}]
[null,217,{"$f":"IF(Qeydiyyat!C466=\"\",\"\",Qeydiyyat!C466)","v":""},{"$f":"IF(Qeydiyyat!B466=\"\",\"\",Qeydiyyat!B466)","v":""},{"$f":"IF(Qeydiyyat!D466=\"\",\"\",Qeydiyyat!D466)","v":""},{"$f":"IF(Qeydiyyat!K466=\"\",\"\",Qeydiyyat!K466)","v":""},{"$f":"IF(Qeydiyyat!AB466=\"\",\"\",Qeydiyyat!AB466)","v":""},{"$f":"IF(Qeydiyyat!AA466=\"\",\"\",Qeydiyyat!AA466)","v":""},{"$f":"IF(Qeydiyyat!X466=\"\",\"\",Qeydiyyat!X466)","v":""},{"$f":"IF(Qeydiyyat!Y466=\"\",\"\",Qeydiyyat!Y466)","v":""},null,{"$f":"IF(Qeydiyyat!AC466=\"\",\"\",Qeydiyyat!AC466)","v":""}]
[null,218,{"$f":"IF(Qeydiyyat!C467=\"\",\"\",Qeydiyyat!C467)","v":""},{"$f":"IF(Qeydiyyat!B467=\"\",\"\",Qeydiyyat!B467)","v":""},{"$f":"IF(Qeydiyyat!D467=\"\",\"\",Qeydiyyat!D467)","v":""},{"$f":"IF(Qeydiyyat!K467=\"\",\"\",Qeydiyyat!K467)","v":""},{"$f":"IF(Qeydiyyat!AB467=\"\",\"\",Qeydiyyat!AB467)","v":""},{"$f":"IF(Qeydiyyat!AA467=\"\",\"\",Qeydiyyat!AA467)","v":""},{"$f":"IF(Qeydiyyat!X467=\"\",\"\",Qeydiyyat!X467)","v":""},{"$f":"IF(Qeydiyyat!Y467=\"\",\"\",Qeydiyyat!Y467)","v":""},null,{"$f":"IF(Qeydiyyat!AC467=\"\",\"\",Qeydiyyat!AC467)","v":""}]
[null,219,{"$f":"IF(Qeydiyyat!C468=\"\",\"\",Qeydiyyat!C468)","v":""},{"$f":"IF(Qeydiyyat!B468=\"\",\"\",Qeydiyyat!B468)","v":""},{"$f":"IF(Qeydiyyat!D468=\"\",\"\",Qeydiyyat!D468)","v":""},{"$f":"IF(Qeydiyyat!K468=\"\",\"\",Qeydiyyat!K468)","v":""},{"$f":"IF(Qeydiyyat!AB468=\"\",\"\",Qeydiyyat!AB468)","v":""},{"$f":"IF(Qeydiyyat!AA468=\"\",\"\",Qeydiyyat!AA468)","v":""},{"$f":"IF(Qeydiyyat!X468=\"\",\"\",Qeydiyyat!X468)","v":""},{"$f":"IF(Qeydiyyat!Y468=\"\",\"\",Qeydiyyat!Y468)","v":""},null,{"$f":"IF(Qeydiyyat!AC468=\"\",\"\",Qeydiyyat!AC468)","v":""}]
[null,220,{"$f":"IF(Qeydiyyat!C469=\"\",\"\",Qeydiyyat!C469)","v":""},{"$f":"IF(Qeydiyyat!B469=\"\",\"\",Qeydiyyat!B469)","v":""},{"$f":"IF(Qeydiyyat!D469=\"\",\"\",Qeydiyyat!D469)","v":""},{"$f":"IF(Qeydiyyat!K469=\"\",\"\",Qeydiyyat!K469)","v":""},{"$f":"IF(Qeydiyyat!AB469=\"\",\"\",Qeydiyyat!AB469)","v":""},{"$f":"IF(Qeydiyyat!AA469=\"\",\"\",Qeydiyyat!AA469)","v":""},{"$f":"IF(Qeydiyyat!X469=\"\",\"\",Qeydiyyat!X469)","v":""},{"$f":"IF(Qeydiyyat!Y469=\"\",\"\",Qeydiyyat!Y469)","v":""},null,{"$f":"IF(Qeydiyyat!AC469=\"\",\"\",Qeydiyyat!AC469)","v":""}]
[null,221,{"$f":"IF(Qeydiyyat!C470=\"\",\"\",Qeydiyyat!C470)","v":""},{"$f":"IF(Qeydiyyat!B470=\"\",\"\",Qeydiyyat!B470)","v":""},{"$f":"IF(Qeydiyyat!D470=\"\",\"\",Qeydiyyat!D470)","v":""},{"$f":"IF(Qeydiyyat!K470=\"\",\"\",Qeydiyyat!K470)","v":""},{"$f":"IF(Qeydiyyat!AB470=\"\",\"\",Qeydiyyat!AB470)","v":""},{"$f":"IF(Qeydiyyat!AA470=\"\",\"\",Qeydiyyat!AA470)","v":""},{"$f":"IF(Qeydiyyat!X470=\"\",\"\",Qeydiyyat!X470)","v":""},{"$f":"IF(Qeydiyyat!Y470=\"\",\"\",Qeydiyyat!Y470)","v":""},null,{"$f":"IF(Qeydiyyat!AC470=\"\",\"\",Qeydiyyat!AC470)","v":""}]
[null,222,{"$f":"IF(Qeydiyyat!C471=\"\",\"\",Qeydiyyat!C471)","v":""},{"$f":"IF(Qeydiyyat!B471=\"\",\"\",Qeydiyyat!B471)","v":""},{"$f":"IF(Qeydiyyat!D471=\"\",\"\",Qeydiyyat!D471)","v":""},{"$f":"IF(Qeydiyyat!K471=\"\",\"\",Qeydiyyat!K471)","v":""},{"$f":"IF(Qeydiyyat!AB471=\"\",\"\",Qeydiyyat!AB471)","v":""},{"$f":"IF(Qeydiyyat!AA471=\"\",\"\",Qeydiyyat!AA471)","v":""},{"$f":"IF(Qeydiyyat!X471=\"\",\"\",Qeydiyyat!X471)","v":""},{"$f":"IF(Qeydiyyat!Y471=\"\",\"\",Qeydiyyat!Y471)","v":""},null,{"$f":"IF(Qeydiyyat!AC471=\"\",\"\",Qeydiyyat!AC471)","v":""}]
[null,223,{"$f":"IF(Qeydiyyat!C472=\"\",\"\",Qeydiyyat!C472)","v":""},{"$f":"IF(Qeydiyyat!B472=\"\",\"\",Qeydiyyat!B472)","v":""},{"$f":"IF(Qeydiyyat!D472=\"\",\"\",Qeydiyyat!D472)","v":""},{"$f":"IF(Qeydiyyat!K472=\"\",\"\",Qeydiyyat!K472)","v":""},{"$f":"IF(Qeydiyyat!AB472=\"\",\"\",Qeydiyyat!AB472)","v":""},{"$f":"IF(Qeydiyyat!AA472=\"\",\"\",Qeydiyyat!AA472)","v":""},{"$f":"IF(Qeydiyyat!X472=\"\",\"\",Qeydiyyat!X472)","v":""},{"$f":"IF(Qeydiyyat!Y472=\"\",\"\",Qeydiyyat!Y472)","v":""},null,{"$f":"IF(Qeydiyyat!AC472=\"\",\"\",Qeydiyyat!AC472)","v":""}]
[null,224,{"$f":"IF(Qeydiyyat!C473=\"\",\"\",Qeydiyyat!C473)","v":""},{"$f":"IF(Qeydiyyat!B473=\"\",\"\",Qeydiyyat!B473)","v":""},{"$f":"IF(Qeydiyyat!D473=\"\",\"\",Qeydiyyat!D473)","v":""},{"$f":"IF(Qeydiyyat!K473=\"\",\"\",Qeydiyyat!K473)","v":""},{"$f":"IF(Qeydiyyat!AB473=\"\",\"\",Qeydiyyat!AB473)","v":""},{"$f":"IF(Qeydiyyat!AA473=\"\",\"\",Qeydiyyat!AA473)","v":""},{"$f":"IF(Qeydiyyat!X473=\"\",\"\",Qeydiyyat!X473)","v":""},{"$f":"IF(Qeydiyyat!Y473=\"\",\"\",Qeydiyyat!Y473)","v":""},null,{"$f":"IF(Qeydiyyat!AC473=\"\",\"\",Qeydiyyat!AC473)","v":""}]
[null,225,{"$f":"IF(Qeydiyyat!C474=\"\",\"\",Qeydiyyat!C474)","v":""},{"$f":"IF(Qeydiyyat!B474=\"\",\"\",Qeydiyyat!B474)","v":""},{"$f":"IF(Qeydiyyat!D474=\"\",\"\",Qeydiyyat!D474)","v":""},{"$f":"IF(Qeydiyyat!K474=\"\",\"\",Qeydiyyat!K474)","v":""},{"$f":"IF(Qeydiyyat!AB474=\"\",\"\",Qeydiyyat!AB474)","v":""},{"$f":"IF(Qeydiyyat!AA474=\"\",\"\",Qeydiyyat!AA474)","v":""},{"$f":"IF(Qeydiyyat!X474=\"\",\"\",Qeydiyyat!X474)","v":""},{"$f":"IF(Qeydiyyat!Y474=\"\",\"\",Qeydiyyat!Y474)","v":""},null,{"$f":"IF(Qeydiyyat!AC474=\"\",\"\",Qeydiyyat!AC474)","v":""}]
[null,226,{"$f":"IF(Qeydiyyat!C475=\"\",\"\",Qeydiyyat!C475)","v":""},{"$f":"IF(Qeydiyyat!B475=\"\",\"\",Qeydiyyat!B475)","v":""},{"$f":"IF(Qeydiyyat!D475=\"\",\"\",Qeydiyyat!D475)","v":""},{"$f":"IF(Qeydiyyat!K475=\"\",\"\",Qeydiyyat!K475)","v":""},{"$f":"IF(Qeydiyyat!AB475=\"\",\"\",Qeydiyyat!AB475)","v":""},{"$f":"IF(Qeydiyyat!AA475=\"\",\"\",Qeydiyyat!AA475)","v":""},{"$f":"IF(Qeydiyyat!X475=\"\",\"\",Qeydiyyat!X475)","v":""},{"$f":"IF(Qeydiyyat!Y475=\"\",\"\",Qeydiyyat!Y475)","v":""},null,{"$f":"IF(Qeydiyyat!AC475=\"\",\"\",Qeydiyyat!AC475)","v":""}]
[null,227,{"$f":"IF(Qeydiyyat!C476=\"\",\"\",Qeydiyyat!C476)","v":""},{"$f":"IF(Qeydiyyat!B476=\"\",\"\",Qeydiyyat!B476)","v":""},{"$f":"IF(Qeydiyyat!D476=\"\",\"\",Qeydiyyat!D476)","v":""},{"$f":"IF(Qeydiyyat!K476=\"\",\"\",Qeydiyyat!K476)","v":""},{"$f":"IF(Qeydiyyat!AB476=\"\",\"\",Qeydiyyat!AB476)","v":""},{"$f":"IF(Qeydiyyat!AA476=\"\",\"\",Qeydiyyat!AA476)","v":""},{"$f":"IF(Qeydiyyat!X476=\"\",\"\",Qeydiyyat!X476)","v":""},{"$f":"IF(Qeydiyyat!Y476=\"\",\"\",Qeydiyyat!Y476)","v":""},null,{"$f":"IF(Qeydiyyat!AC476=\"\",\"\",Qeydiyyat!AC476)","v":""}]
[null,228,{"$f":"IF(Qeydiyyat!C477=\"\",\"\",Qeydiyyat!C477)","v":""},{"$f":"IF(Qeydiyyat!B477=\"\",\"\",Qeydiyyat!B477)","v":""},{"$f":"IF(Qeydiyyat!D477=\"\",\"\",Qeydiyyat!D477)","v":""},{"$f":"IF(Qeydiyyat!K477=\"\",\"\",Qeydiyyat!K477)","v":""},{"$f":"IF(Qeydiyyat!AB477=\"\",\"\",Qeydiyyat!AB477)","v":""},{"$f":"IF(Qeydiyyat!AA477=\"\",\"\",Qeydiyyat!AA477)","v":""},{"$f":"IF(Qeydiyyat!X477=\"\",\"\",Qeydiyyat!X477)","v":""},{"$f":"IF(Qeydiyyat!Y477=\"\",\"\",Qeydiyyat!Y477)","v":""},null,{"$f":"IF(Qeydiyyat!AC477=\"\",\"\",Qeydiyyat!AC477)","v":""}]
[null,229,{"$f":"IF(Qeydiyyat!C478=\"\",\"\",Qeydiyyat!C478)","v":""},{"$f":"IF(Qeydiyyat!B478=\"\",\"\",Qeydiyyat!B478)","v":""},{"$f":"IF(Qeydiyyat!D478=\"\",\"\",Qeydiyyat!D478)","v":""},{"$f":"IF(Qeydiyyat!K478=\"\",\"\",Qeydiyyat!K478)","v":""},{"$f":"IF(Qeydiyyat!AB478=\"\",\"\",Qeydiyyat!AB478)","v":""},{"$f":"IF(Qeydiyyat!AA478=\"\",\"\",Qeydiyyat!AA478)","v":""},{"$f":"IF(Qeydiyyat!X478=\"\",\"\",Qeydiyyat!X478)","v":""},{"$f":"IF(Qeydiyyat!Y478=\"\",\"\",Qeydiyyat!Y478)","v":""},null,{"$f":"IF(Qeydiyyat!AC478=\"\",\"\",Qeydiyyat!AC478)","v":""}]
[null,230,{"$f":"IF(Qeydiyyat!C479=\"\",\"\",Qeydiyyat!C479)","v":""},{"$f":"IF(Qeydiyyat!B479=\"\",\"\",Qeydiyyat!B479)","v":""},{"$f":"IF(Qeydiyyat!D479=\"\",\"\",Qeydiyyat!D479)","v":""},{"$f":"IF(Qeydiyyat!K479=\"\",\"\",Qeydiyyat!K479)","v":""},{"$f":"IF(Qeydiyyat!AB479=\"\",\"\",Qeydiyyat!AB479)","v":""},{"$f":"IF(Qeydiyyat!AA479=\"\",\"\",Qeydiyyat!AA479)","v":""},{"$f":"IF(Qeydiyyat!X479=\"\",\"\",Qeydiyyat!X479)","v":""},{"$f":"IF(Qeydiyyat!Y479=\"\",\"\",Qeydiyyat!Y479)","v":""},null,{"$f":"IF(Qeydiyyat!AC479=\"\",\"\",Qeydiyyat!AC479)","v":""}]
[null,231,{"$f":"IF(Qeydiyyat!C480=\"\",\"\",Qeydiyyat!C480)","v":""},{"$f":"IF(Qeydiyyat!B480=\"\",\"\",Qeydiyyat!B480)","v":""},{"$f":"IF(Qeydiyyat!D480=\"\",\"\",Qeydiyyat!D480)","v":""},{"$f":"IF(Qeydiyyat!K480=\"\",\"\",Qeydiyyat!K480)","v":""},{"$f":"IF(Qeydiyyat!AB480=\"\",\"\",Qeydiyyat!AB480)","v":""},{"$f":"IF(Qeydiyyat!AA480=\"\",\"\",Qeydiyyat!AA480)","v":""},{"$f":"IF(Qeydiyyat!X480=\"\",\"\",Qeydiyyat!X480)","v":""},{"$f":"IF(Qeydiyyat!Y480=\"\",\"\",Qeydiyyat!Y480)","v":""},null,{"$f":"IF(Qeydiyyat!AC480=\"\",\"\",Qeydiyyat!AC480)","v":""}]
[null,232,{"$f":"IF(Qeydiyyat!C481=\"\",\"\",Qeydiyyat!C481)","v":""},{"$f":"IF(Qeydiyyat!B481=\"\",\"\",Qeydiyyat!B481)","v":""},{"$f":"IF(Qeydiyyat!D481=\"\",\"\",Qeydiyyat!D481)","v":""},{"$f":"IF(Qeydiyyat!K481=\"\",\"\",Qeydiyyat!K481)","v":""},{"$f":"IF(Qeydiyyat!AB481=\"\",\"\",Qeydiyyat!AB481)","v":""},{"$f":"IF(Qeydiyyat!AA481=\"\",\"\",Qeydiyyat!AA481)","v":""},{"$f":"IF(Qeydiyyat!X481=\"\",\"\",Qeydiyyat!X481)","v":""},{"$f":"IF(Qeydiyyat!Y481=\"\",\"\",Qeydiyyat!Y481)","v":""},null,{"$f":"IF(Qeydiyyat!AC481=\"\",\"\",Qeydiyyat!AC481)","v":""}]
[null,233,{"$f":"IF(Qeydiyyat!C482=\"\",\"\",Qeydiyyat!C482)","v":""},{"$f":"IF(Qeydiyyat!B482=\"\",\"\",Qeydiyyat!B482)","v":""},{"$f":"IF(Qeydiyyat!D482=\"\",\"\",Qeydiyyat!D482)","v":""},{"$f":"IF(Qeydiyyat!K482=\"\",\"\",Qeydiyyat!K482)","v":""},{"$f":"IF(Qeydiyyat!AB482=\"\",\"\",Qeydiyyat!AB482)","v":""},{"$f":"IF(Qeydiyyat!AA482=\"\",\"\",Qeydiyyat!AA482)","v":""},{"$f":"IF(Qeydiyyat!X482=\"\",\"\",Qeydiyyat!X482)","v":""},{"$f":"IF(Qeydiyyat!Y482=\"\",\"\",Qeydiyyat!Y482)","v":""},null,{"$f":"IF(Qeydiyyat!AC482=\"\",\"\",Qeydiyyat!AC482)","v":""}]
[null,234,{"$f":"IF(Qeydiyyat!C483=\"\",\"\",Qeydiyyat!C483)","v":""},{"$f":"IF(Qeydiyyat!B483=\"\",\"\",Qeydiyyat!B483)","v":""},{"$f":"IF(Qeydiyyat!D483=\"\",\"\",Qeydiyyat!D483)","v":""},{"$f":"IF(Qeydiyyat!K483=\"\",\"\",Qeydiyyat!K483)","v":""},{"$f":"IF(Qeydiyyat!AB483=\"\",\"\",Qeydiyyat!AB483)","v":""},{"$f":"IF(Qeydiyyat!AA483=\"\",\"\",Qeydiyyat!AA483)","v":""},{"$f":"IF(Qeydiyyat!X483=\"\",\"\",Qeydiyyat!X483)","v":""},{"$f":"IF(Qeydiyyat!Y483=\"\",\"\",Qeydiyyat!Y483)","v":""},null,{"$f":"IF(Qeydiyyat!AC483=\"\",\"\",Qeydiyyat!AC483)","v":""}]
[null,235,{"$f":"IF(Qeydiyyat!C484=\"\",\"\",Qeydiyyat!C484)","v":""},{"$f":"IF(Qeydiyyat!B484=\"\",\"\",Qeydiyyat!B484)","v":""},{"$f":"IF(Qeydiyyat!D484=\"\",\"\",Qeydiyyat!D484)","v":""},{"$f":"IF(Qeydiyyat!K484=\"\",\"\",Qeydiyyat!K484)","v":""},{"$f":"IF(Qeydiyyat!AB484=\"\",\"\",Qeydiyyat!AB484)","v":""},{"$f":"IF(Qeydiyyat!AA484=\"\",\"\",Qeydiyyat!AA484)","v":""},{"$f":"IF(Qeydiyyat!X484=\"\",\"\",Qeydiyyat!X484)","v":""},{"$f":"IF(Qeydiyyat!Y484=\"\",\"\",Qeydiyyat!Y484)","v":""},null,{"$f":"IF(Qeydiyyat!AC484=\"\",\"\",Qeydiyyat!AC484)","v":""}]
[null,236,{"$f":"IF(Qeydiyyat!C485=\"\",\"\",Qeydiyyat!C485)","v":""},{"$f":"IF(Qeydiyyat!B485=\"\",\"\",Qeydiyyat!B485)","v":""},{"$f":"IF(Qeydiyyat!D485=\"\",\"\",Qeydiyyat!D485)","v":""},{"$f":"IF(Qeydiyyat!K485=\"\",\"\",Qeydiyyat!K485)","v":""},{"$f":"IF(Qeydiyyat!AB485=\"\",\"\",Qeydiyyat!AB485)","v":""},{"$f":"IF(Qeydiyyat!AA485=\"\",\"\",Qeydiyyat!AA485)","v":""},{"$f":"IF(Qeydiyyat!X485=\"\",\"\",Qeydiyyat!X485)","v":""},{"$f":"IF(Qeydiyyat!Y485=\"\",\"\",Qeydiyyat!Y485)","v":""},null,{"$f":"IF(Qeydiyyat!AC485=\"\",\"\",Qeydiyyat!AC485)","v":""}]
[null,237,{"$f":"IF(Qeydiyyat!C486=\"\",\"\",Qeydiyyat!C486)","v":""},{"$f":"IF(Qeydiyyat!B486=\"\",\"\",Qeydiyyat!B486)","v":""},{"$f":"IF(Qeydiyyat!D486=\"\",\"\",Qeydiyyat!D486)","v":""},{"$f":"IF(Qeydiyyat!K486=\"\",\"\",Qeydiyyat!K486)","v":""},{"$f":"IF(Qeydiyyat!AB486=\"\",\"\",Qeydiyyat!AB486)","v":""},{"$f":"IF(Qeydiyyat!AA486=\"\",\"\",Qeydiyyat!AA486)","v":""},{"$f":"IF(Qeydiyyat!X486=\"\",\"\",Qeydiyyat!X486)","v":""},{"$f":"IF(Qeydiyyat!Y486=\"\",\"\",Qeydiyyat!Y486)","v":""},null,{"$f":"IF(Qeydiyyat!AC486=\"\",\"\",Qeydiyyat!AC486)","v":""}]
[null,238,{"$f":"IF(Qeydiyyat!C487=\"\",\"\",Qeydiyyat!C487)","v":""},{"$f":"IF(Qeydiyyat!B487=\"\",\"\",Qeydiyyat!B487)","v":""},{"$f":"IF(Qeydiyyat!D487=\"\",\"\",Qeydiyyat!D487)","v":""},{"$f":"IF(Qeydiyyat!K487=\"\",\"\",Qeydiyyat!K487)","v":""},{"$f":"IF(Qeydiyyat!AB487=\"\",\"\",Qeydiyyat!AB487)","v":""},{"$f":"IF(Qeydiyyat!AA487=\"\",\"\",Qeydiyyat!AA487)","v":""},{"$f":"IF(Qeydiyyat!X487=\"\",\"\",Qeydiyyat!X487)","v":""},{"$f":"IF(Qeydiyyat!Y487=\"\",\"\",Qeydiyyat!Y487)","v":""},null,{"$f":"IF(Qeydiyyat!AC487=\"\",\"\",Qeydiyyat!AC487)","v":""}]
[null,239,{"$f":"IF(Qeydiyyat!C488=\"\",\"\",Qeydiyyat!C488)","v":""},{"$f":"IF(Qeydiyyat!B488=\"\",\"\",Qeydiyyat!B488)","v":""},{"$f":"IF(Qeydiyyat!D488=\"\",\"\",Qeydiyyat!D488)","v":""},{"$f":"IF(Qeydiyyat!K488=\"\",\"\",Qeydiyyat!K488)","v":""},{"$f":"IF(Qeydiyyat!AB488=\"\",\"\",Qeydiyyat!AB488)","v":""},{"$f":"IF(Qeydiyyat!AA488=\"\",\"\",Qeydiyyat!AA488)","v":""},{"$f":"IF(Qeydiyyat!X488=\"\",\"\",Qeydiyyat!X488)","v":""},{"$f":"IF(Qeydiyyat!Y488=\"\",\"\",Qeydiyyat!Y488)","v":""},null,{"$f":"IF(Qeydiyyat!AC488=\"\",\"\",Qeydiyyat!AC488)","v":""}]
[null,240,{"$f":"IF(Qeydiyyat!C489=\"\",\"\",Qeydiyyat!C489)","v":""},{"$f":"IF(Qeydiyyat!B489=\"\",\"\",Qeydiyyat!B489)","v":""},{"$f":"IF(Qeydiyyat!D489=\"\",\"\",Qeydiyyat!D489)","v":""},{"$f":"IF(Qeydiyyat!K489=\"\",\"\",Qeydiyyat!K489)","v":""},{"$f":"IF(Qeydiyyat!AB489=\"\",\"\",Qeydiyyat!AB489)","v":""},{"$f":"IF(Qeydiyyat!AA489=\"\",\"\",Qeydiyyat!AA489)","v":""},{"$f":"IF(Qeydiyyat!X489=\"\",\"\",Qeydiyyat!X489)","v":""},{"$f":"IF(Qeydiyyat!Y489=\"\",\"\",Qeydiyyat!Y489)","v":""},null,{"$f":"IF(Qeydiyyat!AC489=\"\",\"\",Qeydiyyat!AC489)","v":""}]
[null,241,{"$f":"IF(Qeydiyyat!C490=\"\",\"\",Qeydiyyat!C490)","v":""},{"$f":"IF(Qeydiyyat!B490=\"\",\"\",Qeydiyyat!B490)","v":""},{"$f":"IF(Qeydiyyat!D490=\"\",\"\",Qeydiyyat!D490)","v":""},{"$f":"IF(Qeydiyyat!K490=\"\",\"\",Qeydiyyat!K490)","v":""},{"$f":"IF(Qeydiyyat!AB490=\"\",\"\",Qeydiyyat!AB490)","v":""},{"$f":"IF(Qeydiyyat!AA490=\"\",\"\",Qeydiyyat!AA490)","v":""},{"$f":"IF(Qeydiyyat!X490=\"\",\"\",Qeydiyyat!X490)","v":""},{"$f":"IF(Qeydiyyat!Y490=\"\",\"\",Qeydiyyat!Y490)","v":""},null,{"$f":"IF(Qeydiyyat!AC490=\"\",\"\",Qeydiyyat!AC490)","v":""}]
[null,242,{"$f":"IF(Qeydiyyat!C491=\"\",\"\",Qeydiyyat!C491)","v":""},{"$f":"IF(Qeydiyyat!B491=\"\",\"\",Qeydiyyat!B491)","v":""},{"$f":"IF(Qeydiyyat!D491=\"\",\"\",Qeydiyyat!D491)","v":""},{"$f":"IF(Qeydiyyat!K491=\"\",\"\",Qeydiyyat!K491)","v":""},{"$f":"IF(Qeydiyyat!AB491=\"\",\"\",Qeydiyyat!AB491)","v":""},{"$f":"IF(Qeydiyyat!AA491=\"\",\"\",Qeydiyyat!AA491)","v":""},{"$f":"IF(Qeydiyyat!X491=\"\",\"\",Qeydiyyat!X491)","v":""},{"$f":"IF(Qeydiyyat!Y491=\"\",\"\",Qeydiyyat!Y491)","v":""},null,{"$f":"IF(Qeydiyyat!AC491=\"\",\"\",Qeydiyyat!AC491)","v":""}]
[null,243,{"$f":"IF(Qeydiyyat!C492=\"\",\"\",Qeydiyyat!C492)","v":""},{"$f":"IF(Qeydiyyat!B492=\"\",\"\",Qeydiyyat!B492)","v":""},{"$f":"IF(Qeydiyyat!D492=\"\",\"\",Qeydiyyat!D492)","v":""},{"$f":"IF(Qeydiyyat!K492=\"\",\"\",Qeydiyyat!K492)","v":""},{"$f":"IF(Qeydiyyat!AB492=\"\",\"\",Qeydiyyat!AB492)","v":""},{"$f":"IF(Qeydiyyat!AA492=\"\",\"\",Qeydiyyat!AA492)","v":""},{"$f":"IF(Qeydiyyat!X492=\"\",\"\",Qeydiyyat!X492)","v":""},{"$f":"IF(Qeydiyyat!Y492=\"\",\"\",Qeydiyyat!Y492)","v":""},null,{"$f":"IF(Qeydiyyat!AC492=\"\",\"\",Qeydiyyat!AC492)","v":""}]
[null,244,{"$f":"IF(Qeydiyyat!C493=\"\",\"\",Qeydiyyat!C493)","v":""},{"$f":"IF(Qeydiyyat!B493=\"\",\"\",Qeydiyyat!B493)","v":""},{"$f":"IF(Qeydiyyat!D493=\"\",\"\",Qeydiyyat!D493)","v":""},{"$f":"IF(Qeydiyyat!K493=\"\",\"\",Qeydiyyat!K493)","v":""},{"$f":"IF(Qeydiyyat!AB493=\"\",\"\",Qeydiyyat!AB493)","v":""},{"$f":"IF(Qeydiyyat!AA493=\"\",\"\",Qeydiyyat!AA493)","v":""},{"$f":"IF(Qeydiyyat!X493=\"\",\"\",Qeydiyyat!X493)","v":""},{"$f":"IF(Qeydiyyat!Y493=\"\",\"\",Qeydiyyat!Y493)","v":""},null,{"$f":"IF(Qeydiyyat!AC493=\"\",\"\",Qeydiyyat!AC493)","v":""}]
[null,245,{"$f":"IF(Qeydiyyat!C494=\"\",\"\",Qeydiyyat!C494)","v":""},{"$f":"IF(Qeydiyyat!B494=\"\",\"\",Qeydiyyat!B494)","v":""},{"$f":"IF(Qeydiyyat!D494=\"\",\"\",Qeydiyyat!D494)","v":""},{"$f":"IF(Qeydiyyat!K494=\"\",\"\",Qeydiyyat!K494)","v":""},{"$f":"IF(Qeydiyyat!AB494=\"\",\"\",Qeydiyyat!AB494)","v":""},{"$f":"IF(Qeydiyyat!AA494=\"\",\"\",Qeydiyyat!AA494)","v":""},{"$f":"IF(Qeydiyyat!X494=\"\",\"\",Qeydiyyat!X494)","v":""},{"$f":"IF(Qeydiyyat!Y494=\"\",\"\",Qeydiyyat!Y494)","v":""},null,{"$f":"IF(Qeydiyyat!AC494=\"\",\"\",Qeydiyyat!AC494)","v":""}]
[null,246,{"$f":"IF(Qeydiyyat!C495=\"\",\"\",Qeydiyyat!C495)","v":""},{"$f":"IF(Qeydiyyat!B495=\"\",\"\",Qeydiyyat!B495)","v":""},{"$f":"IF(Qeydiyyat!D495=\"\",\"\",Qeydiyyat!D495)","v":""},{"$f":"IF(Qeydiyyat!K495=\"\",\"\",Qeydiyyat!K495)","v":""},{"$f":"IF(Qeydiyyat!AB495=\"\",\"\",Qeydiyyat!AB495)","v":""},{"$f":"IF(Qeydiyyat!AA495=\"\",\"\",Qeydiyyat!AA495)","v":""},{"$f":"IF(Qeydiyyat!X495=\"\",\"\",Qeydiyyat!X495)","v":""},{"$f":"IF(Qeydiyyat!Y495=\"\",\"\",Qeydiyyat!Y495)","v":""},null,{"$f":"IF(Qeydiyyat!AC495=\"\",\"\",Qeydiyyat!AC495)","v":""}]
[null,247,{"$f":"IF(Qeydiyyat!C496=\"\",\"\",Qeydiyyat!C496)","v":""},{"$f":"IF(Qeydiyyat!B496=\"\",\"\",Qeydiyyat!B496)","v":""},{"$f":"IF(Qeydiyyat!D496=\"\",\"\",Qeydiyyat!D496)","v":""},{"$f":"IF(Qeydiyyat!K496=\"\",\"\",Qeydiyyat!K496)","v":""},{"$f":"IF(Qeydiyyat!AB496=\"\",\"\",Qeydiyyat!AB496)","v":""},{"$f":"IF(Qeydiyyat!AA496=\"\",\"\",Qeydiyyat!AA496)","v":""},{"$f":"IF(Qeydiyyat!X496=\"\",\"\",Qeydiyyat!X496)","v":""},{"$f":"IF(Qeydiyyat!Y496=\"\",\"\",Qeydiyyat!Y496)","v":""},null,{"$f":"IF(Qeydiyyat!AC496=\"\",\"\",Qeydiyyat!AC496)","v":""}]
[null,248,{"$f":"IF(Qeydiyyat!C497=\"\",\"\",Qeydiyyat!C497)","v":""},{"$f":"IF(Qeydiyyat!B497=\"\",\"\",Qeydiyyat!B497)","v":""},{"$f":"IF(Qeydiyyat!D497=\"\",\"\",Qeydiyyat!D497)","v":""},{"$f":"IF(Qeydiyyat!K497=\"\",\"\",Qeydiyyat!K497)","v":""},{"$f":"IF(Qeydiyyat!AB497=\"\",\"\",Qeydiyyat!AB497)","v":""},{"$f":"IF(Qeydiyyat!AA497=\"\",\"\",Qeydiyyat!AA497)","v":""},{"$f":"IF(Qeydiyyat!X497=\"\",\"\",Qeydiyyat!X497)","v":""},{"$f":"IF(Qeydiyyat!Y497=\"\",\"\",Qeydiyyat!Y497)","v":""},null,{"$f":"IF(Qeydiyyat!AC497=\"\",\"\",Qeydiyyat!AC497)","v":""}]
[null,249,{"$f":"IF(Qeydiyyat!C498=\"\",\"\",Qeydiyyat!C498)","v":""},{"$f":"IF(Qeydiyyat!B498=\"\",\"\",Qeydiyyat!B498)","v":""},{"$f":"IF(Qeydiyyat!D498=\"\",\"\",Qeydiyyat!D498)","v":""},{"$f":"IF(Qeydiyyat!K498=\"\",\"\",Qeydiyyat!K498)","v":""},{"$f":"IF(Qeydiyyat!AB498=\"\",\"\",Qeydiyyat!AB498)","v":""},{"$f":"IF(Qeydiyyat!AA498=\"\",\"\",Qeydiyyat!AA498)","v":""},{"$f":"IF(Qeydiyyat!X498=\"\",\"\",Qeydiyyat!X498)","v":""},{"$f":"IF(Qeydiyyat!Y498=\"\",\"\",Qeydiyyat!Y498)","v":""},null,{"$f":"IF(Qeydiyyat!AC498=\"\",\"\",Qeydiyyat!AC498)","v":""}]
[null,250,{"$f":"IF(Qeydiyyat!C499=\"\",\"\",Qeydiyyat!C499)","v":""},{"$f":"IF(Qeydiyyat!B499=\"\",\"\",Qeydiyyat!B499)","v":""},{"$f":"IF(Qeydiyyat!D499=\"\",\"\",Qeydiyyat!D499)","v":""},{"$f":"IF(Qeydiyyat!K499=\"\",\"\",Qeydiyyat!K499)","v":""},{"$f":"IF(Qeydiyyat!AB499=\"\",\"\",Qeydiyyat!AB499)","v":""},{"$f":"IF(Qeydiyyat!AA499=\"\",\"\",Qeydiyyat!AA499)","v":""},{"$f":"IF(Qeydiyyat!X499=\"\",\"\",Qeydiyyat!X499)","v":""},{"$f":"IF(Qeydiyyat!Y499=\"\",\"\",Qeydiyyat!Y499)","v":""},null,{"$f":"IF(Qeydiyyat!AC499=\"\",\"\",Qeydiyyat!AC499)","v":""}]
[null,251,{"$f":"IF(Qeydiyyat!C500=\"\",\"\",Qeydiyyat!C500)","v":""},{"$f":"IF(Qeydiyyat!B500=\"\",\"\",Qeydiyyat!B500)","v":""},{"$f":"IF(Qeydiyyat!D500=\"\",\"\",Qeydiyyat!D500)","v":""},{"$f":"IF(Qeydiyyat!K500=\"\",\"\",Qeydiyyat!K500)","v":""},{"$f":"IF(Qeydiyyat!AB500=\"\",\"\",Qeydiyyat!AB500)","v":""},{"$f":"IF(Qeydiyyat!AA500=\"\",\"\",Qeydiyyat!AA500)","v":""},{"$f":"IF(Qeydiyyat!X500=\"\",\"\",Qeydiyyat!X500)","v":""},{"$f":"IF(Qeydiyyat!Y500=\"\",\"\",Qeydiyyat!Y500)","v":""},null,{"$f":"IF(Qeydiyyat!AC500=\"\",\"\",Qeydiyyat!AC500)","v":""}]
[null,252,{"$f":"IF(Qeydiyyat!C501=\"\",\"\",Qeydiyyat!C501)","v":""},{"$f":"IF(Qeydiyyat!B501=\"\",\"\",Qeydiyyat!B501)","v":""},{"$f":"IF(Qeydiyyat!D501=\"\",\"\",Qeydiyyat!D501)","v":""},{"$f":"IF(Qeydiyyat!K501=\"\",\"\",Qeydiyyat!K501)","v":""},{"$f":"IF(Qeydiyyat!AB501=\"\",\"\",Qeydiyyat!AB501)","v":""},{"$f":"IF(Qeydiyyat!AA501=\"\",\"\",Qeydiyyat!AA501)","v":""},{"$f":"IF(Qeydiyyat!X501=\"\",\"\",Qeydiyyat!X501)","v":""},{"$f":"IF(Qeydiyyat!Y501=\"\",\"\",Qeydiyyat!Y501)","v":""},null,{"$f":"IF(Qeydiyyat!AC501=\"\",\"\",Qeydiyyat!AC501)","v":""}]
[null,253,{"$f":"IF(Qeydiyyat!C502=\"\",\"\",Qeydiyyat!C502)","v":""},{"$f":"IF(Qeydiyyat!B502=\"\",\"\",Qeydiyyat!B502)","v":""},{"$f":"IF(Qeydiyyat!D502=\"\",\"\",Qeydiyyat!D502)","v":""},{"$f":"IF(Qeydiyyat!K502=\"\",\"\",Qeydiyyat!K502)","v":""},{"$f":"IF(Qeydiyyat!AB502=\"\",\"\",Qeydiyyat!AB502)","v":""},{"$f":"IF(Qeydiyyat!AA502=\"\",\"\",Qeydiyyat!AA502)","v":""},{"$f":"IF(Qeydiyyat!X502=\"\",\"\",Qeydiyyat!X502)","v":""},{"$f":"IF(Qeydiyyat!Y502=\"\",\"\",Qeydiyyat!Y502)","v":""},null,{"$f":"IF(Qeydiyyat!AC502=\"\",\"\",Qeydiyyat!AC502)","v":""}]
[null,254,{"$f":"IF(Qeydiyyat!C503=\"\",\"\",Qeydiyyat!C503)","v":""},{"$f":"IF(Qeydiyyat!B503=\"\",\"\",Qeydiyyat!B503)","v":""},{"$f":"IF(Qeydiyyat!D503=\"\",\"\",Qeydiyyat!D503)","v":""},{"$f":"IF(Qeydiyyat!K503=\"\",\"\",Qeydiyyat!K503)","v":""},{"$f":"IF(Qeydiyyat!AB503=\"\",\"\",Qeydiyyat!AB503)","v":""},{"$f":"IF(Qeydiyyat!AA503=\"\",\"\",Qeydiyyat!AA503)","v":""},{"$f":"IF(Qeydiyyat!X503=\"\",\"\",Qeydiyyat!X503)","v":""},{"$f":"IF(Qeydiyyat!Y503=\"\",\"\",Qeydiyyat!Y503)","v":""},null,{"$f":"IF(Qeydiyyat!AC503=\"\",\"\",Qeydiyyat!AC503)","v":""}]
[null,255,{"$f":"IF(Qeydiyyat!C504=\"\",\"\",Qeydiyyat!C504)","v":""},{"$f":"IF(Qeydiyyat!B504=\"\",\"\",Qeydiyyat!B504)","v":""},{"$f":"IF(Qeydiyyat!D504=\"\",\"\",Qeydiyyat!D504)","v":""},{"$f":"IF(Qeydiyyat!K504=\"\",\"\",Qeydiyyat!K504)","v":""},{"$f":"IF(Qeydiyyat!AB504=\"\",\"\",Qeydiyyat!AB504)","v":""},{"$f":"IF(Qeydiyyat!AA504=\"\",\"\",Qeydiyyat!AA504)","v":""},{"$f":"IF(Qeydiyyat!X504=\"\",\"\",Qeydiyyat!X504)","v":""},{"$f":"IF(Qeydiyyat!Y504=\"\",\"\",Qeydiyyat!Y504)","v":""},null,{"$f":"IF(Qeydiyyat!AC504=\"\",\"\",Qeydiyyat!AC504)","v":""}]
[null,256,{"$f":"IF(Qeydiyyat!C505=\"\",\"\",Qeydiyyat!C505)","v":""},{"$f":"IF(Qeydiyyat!B505=\"\",\"\",Qeydiyyat!B505)","v":""},{"$f":"IF(Qeydiyyat!D505=\"\",\"\",Qeydiyyat!D505)","v":""},{"$f":"IF(Qeydiyyat!K505=\"\",\"\",Qeydiyyat!K505)","v":""},{"$f":"IF(Qeydiyyat!AB505=\"\",\"\",Qeydiyyat!AB505)","v":""},{"$f":"IF(Qeydiyyat!AA505=\"\",\"\",Qeydiyyat!AA505)","v":""},{"$f":"IF(Qeydiyyat!X505=\"\",\"\",Qeydiyyat!X505)","v":""},{"$f":"IF(Qeydiyyat!Y505=\"\",\"\",Qeydiyyat!Y505)","v":""},null,{"$f":"IF(Qeydiyyat!AC505=\"\",\"\",Qeydiyyat!AC505)","v":""}]
[null,257,{"$f":"IF(Qeydiyyat!C506=\"\",\"\",Qeydiyyat!C506)","v":""},{"$f":"IF(Qeydiyyat!B506=\"\",\"\",Qeydiyyat!B506)","v":""},{"$f":"IF(Qeydiyyat!D506=\"\",\"\",Qeydiyyat!D506)","v":""},{"$f":"IF(Qeydiyyat!K506=\"\",\"\",Qeydiyyat!K506)","v":""},{"$f":"IF(Qeydiyyat!AB506=\"\",\"\",Qeydiyyat!AB506)","v":""},{"$f":"IF(Qeydiyyat!AA506=\"\",\"\",Qeydiyyat!AA506)","v":""},{"$f":"IF(Qeydiyyat!X506=\"\",\"\",Qeydiyyat!X506)","v":""},{"$f":"IF(Qeydiyyat!Y506=\"\",\"\",Qeydiyyat!Y506)","v":""},null,{"$f":"IF(Qeydiyyat!AC506=\"\",\"\",Qeydiyyat!AC506)","v":""}]
[null,258,{"$f":"IF(Qeydiyyat!C507=\"\",\"\",Qeydiyyat!C507)","v":""},{"$f":"IF(Qeydiyyat!B507=\"\",\"\",Qeydiyyat!B507)","v":""},{"$f":"IF(Qeydiyyat!D507=\"\",\"\",Qeydiyyat!D507)","v":""},{"$f":"IF(Qeydiyyat!K507=\"\",\"\",Qeydiyyat!K507)","v":""},{"$f":"IF(Qeydiyyat!AB507=\"\",\"\",Qeydiyyat!AB507)","v":""},{"$f":"IF(Qeydiyyat!AA507=\"\",\"\",Qeydiyyat!AA507)","v":""},{"$f":"IF(Qeydiyyat!X507=\"\",\"\",Qeydiyyat!X507)","v":""},{"$f":"IF(Qeydiyyat!Y507=\"\",\"\",Qeydiyyat!Y507)","v":""},null,{"$f":"IF(Qeydiyyat!AC507=\"\",\"\",Qeydiyyat!AC507)","v":""}]
[null,259,{"$f":"IF(Qeydiyyat!C508=\"\",\"\",Qeydiyyat!C508)","v":""},{"$f":"IF(Qeydiyyat!B508=\"\",\"\",Qeydiyyat!B508)","v":""},{"$f":"IF(Qeydiyyat!D508=\"\",\"\",Qeydiyyat!D508)","v":""},{"$f":"IF(Qeydiyyat!K508=\"\",\"\",Qeydiyyat!K508)","v":""},{"$f":"IF(Qeydiyyat!AB508=\"\",\"\",Qeydiyyat!AB508)","v":""},{"$f":"IF(Qeydiyyat!AA508=\"\",\"\",Qeydiyyat!AA508)","v":""},{"$f":"IF(Qeydiyyat!X508=\"\",\"\",Qeydiyyat!X508)","v":""},{"$f":"IF(Qeydiyyat!Y508=\"\",\"\",Qeydiyyat!Y508)","v":""},null,{"$f":"IF(Qeydiyyat!AC508=\"\",\"\",Qeydiyyat!AC508)","v":""}]
[null,260,{"$f":"IF(Qeydiyyat!C509=\"\",\"\",Qeydiyyat!C509)","v":""},{"$f":"IF(Qeydiyyat!B509=\"\",\"\",Qeydiyyat!B509)","v":""},{"$f":"IF(Qeydiyyat!D509=\"\",\"\",Qeydiyyat!D509)","v":""},{"$f":"IF(Qeydiyyat!K509=\"\",\"\",Qeydiyyat!K509)","v":""},{"$f":"IF(Qeydiyyat!AB509=\"\",\"\",Qeydiyyat!AB509)","v":""},{"$f":"IF(Qeydiyyat!AA509=\"\",\"\",Qeydiyyat!AA509)","v":""},{"$f":"IF(Qeydiyyat!X509=\"\",\"\",Qeydiyyat!X509)","v":""},{"$f":"IF(Qeydiyyat!Y509=\"\",\"\",Qeydiyyat!Y509)","v":""},null,{"$f":"IF(Qeydiyyat!AC509=\"\",\"\",Qeydiyyat!AC509)","v":""}]
[null,{"$f":"B278+1","v":261},{"$f":"IF(Qeydiyyat!C510=\"\",\"\",Qeydiyyat!C510)","v":""},{"$f":"IF(Qeydiyyat!B510=\"\",\"\",Qeydiyyat!B510)","v":""},{"$f":"IF(Qeydiyyat!D510=\"\",\"\",Qeydiyyat!D510)","v":""},{"$f":"IF(Qeydiyyat!K510=\"\",\"\",Qeydiyyat!K510)","v":""},{"$f":"IF(Qeydiyyat!AB510=\"\",\"\",Qeydiyyat!AB510)","v":""},{"$f":"IF(Qeydiyyat!AA510=\"\",\"\",Qeydiyyat!AA510)","v":""},{"$f":"IF(Qeydiyyat!X510=\"\",\"\",Qeydiyyat!X510)","v":""},{"$f":"IF(Qeydiyyat!Y510=\"\",\"\",Qeydiyyat!Y510)","v":""},null,{"$f":"IF(Qeydiyyat!AC510=\"\",\"\",Qeydiyyat!AC510)","v":""}]
[null,262,{"$f":"IF(Qeydiyyat!C511=\"\",\"\",Qeydiyyat!C511)","v":""},{"$f":"IF(Qeydiyyat!B511=\"\",\"\",Qeydiyyat!B511)","v":""},{"$f":"IF(Qeydiyyat!D511=\"\",\"\",Qeydiyyat!D511)","v":""},{"$f":"IF(Qeydiyyat!K511=\"\",\"\",Qeydiyyat!K511)","v":""},{"$f":"IF(Qeydiyyat!AB511=\"\",\"\",Qeydiyyat!AB511)","v":""},{"$f":"IF(Qeydiyyat!AA511=\"\",\"\",Qeydiyyat!AA511)","v":""},{"$f":"IF(Qeydiyyat!X511=\"\",\"\",Qeydiyyat!X511)","v":""},{"$f":"IF(Qeydiyyat!Y511=\"\",\"\",Qeydiyyat!Y511)","v":""},null,{"$f":"IF(Qeydiyyat!AC511=\"\",\"\",Qeydiyyat!AC511)","v":""}]
[null,263,{"$f":"IF(Qeydiyyat!C512=\"\",\"\",Qeydiyyat!C512)","v":""},{"$f":"IF(Qeydiyyat!B512=\"\",\"\",Qeydiyyat!B512)","v":""},{"$f":"IF(Qeydiyyat!D512=\"\",\"\",Qeydiyyat!D512)","v":""},{"$f":"IF(Qeydiyyat!K512=\"\",\"\",Qeydiyyat!K512)","v":""},{"$f":"IF(Qeydiyyat!AB512=\"\",\"\",Qeydiyyat!AB512)","v":""},{"$f":"IF(Qeydiyyat!AA512=\"\",\"\",Qeydiyyat!AA512)","v":""},{"$f":"IF(Qeydiyyat!X512=\"\",\"\",Qeydiyyat!X512)","v":""},{"$f":"IF(Qeydiyyat!Y512=\"\",\"\",Qeydiyyat!Y512)","v":""},null,{"$f":"IF(Qeydiyyat!AC512=\"\",\"\",Qeydiyyat!AC512)","v":""}]
[null,264,{"$f":"IF(Qeydiyyat!C513=\"\",\"\",Qeydiyyat!C513)","v":""},{"$f":"IF(Qeydiyyat!B513=\"\",\"\",Qeydiyyat!B513)","v":""},{"$f":"IF(Qeydiyyat!D513=\"\",\"\",Qeydiyyat!D513)","v":""},{"$f":"IF(Qeydiyyat!K513=\"\",\"\",Qeydiyyat!K513)","v":""},{"$f":"IF(Qeydiyyat!AB513=\"\",\"\",Qeydiyyat!AB513)","v":""},{"$f":"IF(Qeydiyyat!AA513=\"\",\"\",Qeydiyyat!AA513)","v":""},{"$f":"IF(Qeydiyyat!X513=\"\",\"\",Qeydiyyat!X513)","v":""},{"$f":"IF(Qeydiyyat!Y513=\"\",\"\",Qeydiyyat!Y513)","v":""},null,{"$f":"IF(Qeydiyyat!AC513=\"\",\"\",Qeydiyyat!AC513)","v":""}]
[null,265,{"$f":"IF(Qeydiyyat!C514=\"\",\"\",Qeydiyyat!C514)","v":""},{"$f":"IF(Qeydiyyat!B514=\"\",\"\",Qeydiyyat!B514)","v":""},{"$f":"IF(Qeydiyyat!D514=\"\",\"\",Qeydiyyat!D514)","v":""},{"$f":"IF(Qeydiyyat!K514=\"\",\"\",Qeydiyyat!K514)","v":""},{"$f":"IF(Qeydiyyat!AB514=\"\",\"\",Qeydiyyat!AB514)","v":""},{"$f":"IF(Qeydiyyat!AA514=\"\",\"\",Qeydiyyat!AA514)","v":""},{"$f":"IF(Qeydiyyat!X514=\"\",\"\",Qeydiyyat!X514)","v":""},{"$f":"IF(Qeydiyyat!Y514=\"\",\"\",Qeydiyyat!Y514)","v":""},null,{"$f":"IF(Qeydiyyat!AC514=\"\",\"\",Qeydiyyat!AC514)","v":""}]
[null,266,{"$f":"IF(Qeydiyyat!C515=\"\",\"\",Qeydiyyat!C515)","v":""},{"$f":"IF(Qeydiyyat!B515=\"\",\"\",Qeydiyyat!B515)","v":""},{"$f":"IF(Qeydiyyat!D515=\"\",\"\",Qeydiyyat!D515)","v":""},{"$f":"IF(Qeydiyyat!K515=\"\",\"\",Qeydiyyat!K515)","v":""},{"$f":"IF(Qeydiyyat!AB515=\"\",\"\",Qeydiyyat!AB515)","v":""},{"$f":"IF(Qeydiyyat!AA515=\"\",\"\",Qeydiyyat!AA515)","v":""},{"$f":"IF(Qeydiyyat!X515=\"\",\"\",Qeydiyyat!X515)","v":""},{"$f":"IF(Qeydiyyat!Y515=\"\",\"\",Qeydiyyat!Y515)","v":""},null,{"$f":"IF(Qeydiyyat!AC515=\"\",\"\",Qeydiyyat!AC515)","v":""}]
[null,267,{"$f":"IF(Qeydiyyat!C516=\"\",\"\",Qeydiyyat!C516)","v":""},{"$f":"IF(Qeydiyyat!B516=\"\",\"\",Qeydiyyat!B516)","v":""},{"$f":"IF(Qeydiyyat!D516=\"\",\"\",Qeydiyyat!D516)","v":""},{"$f":"IF(Qeydiyyat!K516=\"\",\"\",Qeydiyyat!K516)","v":""},{"$f":"IF(Qeydiyyat!AB516=\"\",\"\",Qeydiyyat!AB516)","v":""},{"$f":"IF(Qeydiyyat!AA516=\"\",\"\",Qeydiyyat!AA516)","v":""},{"$f":"IF(Qeydiyyat!X516=\"\",\"\",Qeydiyyat!X516)","v":""},{"$f":"IF(Qeydiyyat!Y516=\"\",\"\",Qeydiyyat!Y516)","v":""},null,{"$f":"IF(Qeydiyyat!AC516=\"\",\"\",Qeydiyyat!AC516)","v":""}]
[null,268,{"$f":"IF(Qeydiyyat!C517=\"\",\"\",Qeydiyyat!C517)","v":""},{"$f":"IF(Qeydiyyat!B517=\"\",\"\",Qeydiyyat!B517)","v":""},{"$f":"IF(Qeydiyyat!D517=\"\",\"\",Qeydiyyat!D517)","v":""},{"$f":"IF(Qeydiyyat!K517=\"\",\"\",Qeydiyyat!K517)","v":""},{"$f":"IF(Qeydiyyat!AB517=\"\",\"\",Qeydiyyat!AB517)","v":""},{"$f":"IF(Qeydiyyat!AA517=\"\",\"\",Qeydiyyat!AA517)","v":""},{"$f":"IF(Qeydiyyat!X517=\"\",\"\",Qeydiyyat!X517)","v":""},{"$f":"IF(Qeydiyyat!Y517=\"\",\"\",Qeydiyyat!Y517)","v":""},null,{"$f":"IF(Qeydiyyat!AC517=\"\",\"\",Qeydiyyat!AC517)","v":""}]
[null,269,{"$f":"IF(Qeydiyyat!C518=\"\",\"\",Qeydiyyat!C518)","v":""},{"$f":"IF(Qeydiyyat!B518=\"\",\"\",Qeydiyyat!B518)","v":""},{"$f":"IF(Qeydiyyat!D518=\"\",\"\",Qeydiyyat!D518)","v":""},{"$f":"IF(Qeydiyyat!K518=\"\",\"\",Qeydiyyat!K518)","v":""},{"$f":"IF(Qeydiyyat!AB518=\"\",\"\",Qeydiyyat!AB518)","v":""},{"$f":"IF(Qeydiyyat!AA518=\"\",\"\",Qeydiyyat!AA518)","v":""},{"$f":"IF(Qeydiyyat!X518=\"\",\"\",Qeydiyyat!X518)","v":""},{"$f":"IF(Qeydiyyat!Y518=\"\",\"\",Qeydiyyat!Y518)","v":""},null,{"$f":"IF(Qeydiyyat!AC518=\"\",\"\",Qeydiyyat!AC518)","v":""}]
[null,270,{"$f":"IF(Qeydiyyat!C519=\"\",\"\",Qeydiyyat!C519)","v":""},{"$f":"IF(Qeydiyyat!B519=\"\",\"\",Qeydiyyat!B519)","v":""},{"$f":"IF(Qeydiyyat!D519=\"\",\"\",Qeydiyyat!D519)","v":""},{"$f":"IF(Qeydiyyat!K519=\"\",\"\",Qeydiyyat!K519)","v":""},{"$f":"IF(Qeydiyyat!AB519=\"\",\"\",Qeydiyyat!AB519)","v":""},{"$f":"IF(Qeydiyyat!AA519=\"\",\"\",Qeydiyyat!AA519)","v":""},{"$f":"IF(Qeydiyyat!X519=\"\",\"\",Qeydiyyat!X519)","v":""},{"$f":"IF(Qeydiyyat!Y519=\"\",\"\",Qeydiyyat!Y519)","v":""},null,{"$f":"IF(Qeydiyyat!AC519=\"\",\"\",Qeydiyyat!AC519)","v":""}]
[null,271,{"$f":"IF(Qeydiyyat!C520=\"\",\"\",Qeydiyyat!C520)","v":""},{"$f":"IF(Qeydiyyat!B520=\"\",\"\",Qeydiyyat!B520)","v":""},{"$f":"IF(Qeydiyyat!D520=\"\",\"\",Qeydiyyat!D520)","v":""},{"$f":"IF(Qeydiyyat!K520=\"\",\"\",Qeydiyyat!K520)","v":""},{"$f":"IF(Qeydiyyat!AB520=\"\",\"\",Qeydiyyat!AB520)","v":""},{"$f":"IF(Qeydiyyat!AA520=\"\",\"\",Qeydiyyat!AA520)","v":""},{"$f":"IF(Qeydiyyat!X520=\"\",\"\",Qeydiyyat!X520)","v":""},{"$f":"IF(Qeydiyyat!Y520=\"\",\"\",Qeydiyyat!Y520)","v":""},null,{"$f":"IF(Qeydiyyat!AC520=\"\",\"\",Qeydiyyat!AC520)","v":""}]
[null,272,{"$f":"IF(Qeydiyyat!C521=\"\",\"\",Qeydiyyat!C521)","v":""},{"$f":"IF(Qeydiyyat!B521=\"\",\"\",Qeydiyyat!B521)","v":""},{"$f":"IF(Qeydiyyat!D521=\"\",\"\",Qeydiyyat!D521)","v":""},{"$f":"IF(Qeydiyyat!K521=\"\",\"\",Qeydiyyat!K521)","v":""},{"$f":"IF(Qeydiyyat!AB521=\"\",\"\",Qeydiyyat!AB521)","v":""},{"$f":"IF(Qeydiyyat!AA521=\"\",\"\",Qeydiyyat!AA521)","v":""},{"$f":"IF(Qeydiyyat!X521=\"\",\"\",Qeydiyyat!X521)","v":""},{"$f":"IF(Qeydiyyat!Y521=\"\",\"\",Qeydiyyat!Y521)","v":""},null,{"$f":"IF(Qeydiyyat!AC521=\"\",\"\",Qeydiyyat!AC521)","v":""}]
[null,273,{"$f":"IF(Qeydiyyat!C522=\"\",\"\",Qeydiyyat!C522)","v":""},{"$f":"IF(Qeydiyyat!B522=\"\",\"\",Qeydiyyat!B522)","v":""},{"$f":"IF(Qeydiyyat!D522=\"\",\"\",Qeydiyyat!D522)","v":""},{"$f":"IF(Qeydiyyat!K522=\"\",\"\",Qeydiyyat!K522)","v":""},{"$f":"IF(Qeydiyyat!AB522=\"\",\"\",Qeydiyyat!AB522)","v":""},{"$f":"IF(Qeydiyyat!AA522=\"\",\"\",Qeydiyyat!AA522)","v":""},{"$f":"IF(Qeydiyyat!X522=\"\",\"\",Qeydiyyat!X522)","v":""},{"$f":"IF(Qeydiyyat!Y522=\"\",\"\",Qeydiyyat!Y522)","v":""},null,{"$f":"IF(Qeydiyyat!AC522=\"\",\"\",Qeydiyyat!AC522)","v":""}]
[null,274,{"$f":"IF(Qeydiyyat!C523=\"\",\"\",Qeydiyyat!C523)","v":""},{"$f":"IF(Qeydiyyat!B523=\"\",\"\",Qeydiyyat!B523)","v":""},{"$f":"IF(Qeydiyyat!D523=\"\",\"\",Qeydiyyat!D523)","v":""},{"$f":"IF(Qeydiyyat!K523=\"\",\"\",Qeydiyyat!K523)","v":""},{"$f":"IF(Qeydiyyat!AB523=\"\",\"\",Qeydiyyat!AB523)","v":""},{"$f":"IF(Qeydiyyat!AA523=\"\",\"\",Qeydiyyat!AA523)","v":""},{"$f":"IF(Qeydiyyat!X523=\"\",\"\",Qeydiyyat!X523)","v":""},{"$f":"IF(Qeydiyyat!Y523=\"\",\"\",Qeydiyyat!Y523)","v":""},null,{"$f":"IF(Qeydiyyat!AC523=\"\",\"\",Qeydiyyat!AC523)","v":""}]
[null,275,{"$f":"IF(Qeydiyyat!C524=\"\",\"\",Qeydiyyat!C524)","v":""},{"$f":"IF(Qeydiyyat!B524=\"\",\"\",Qeydiyyat!B524)","v":""},{"$f":"IF(Qeydiyyat!D524=\"\",\"\",Qeydiyyat!D524)","v":""},{"$f":"IF(Qeydiyyat!K524=\"\",\"\",Qeydiyyat!K524)","v":""},{"$f":"IF(Qeydiyyat!AB524=\"\",\"\",Qeydiyyat!AB524)","v":""},{"$f":"IF(Qeydiyyat!AA524=\"\",\"\",Qeydiyyat!AA524)","v":""},{"$f":"IF(Qeydiyyat!X524=\"\",\"\",Qeydiyyat!X524)","v":""},{"$f":"IF(Qeydiyyat!Y524=\"\",\"\",Qeydiyyat!Y524)","v":""},null,{"$f":"IF(Qeydiyyat!AC524=\"\",\"\",Qeydiyyat!AC524)","v":""}]
[null,276,{"$f":"IF(Qeydiyyat!C525=\"\",\"\",Qeydiyyat!C525)","v":""},{"$f":"IF(Qeydiyyat!B525=\"\",\"\",Qeydiyyat!B525)","v":""},{"$f":"IF(Qeydiyyat!D525=\"\",\"\",Qeydiyyat!D525)","v":""},{"$f":"IF(Qeydiyyat!K525=\"\",\"\",Qeydiyyat!K525)","v":""},{"$f":"IF(Qeydiyyat!AB525=\"\",\"\",Qeydiyyat!AB525)","v":""},{"$f":"IF(Qeydiyyat!AA525=\"\",\"\",Qeydiyyat!AA525)","v":""},{"$f":"IF(Qeydiyyat!X525=\"\",\"\",Qeydiyyat!X525)","v":""},{"$f":"IF(Qeydiyyat!Y525=\"\",\"\",Qeydiyyat!Y525)","v":""},null,{"$f":"IF(Qeydiyyat!AC525=\"\",\"\",Qeydiyyat!AC525)","v":""}]
[null,277,{"$f":"IF(Qeydiyyat!C526=\"\",\"\",Qeydiyyat!C526)","v":""},{"$f":"IF(Qeydiyyat!B526=\"\",\"\",Qeydiyyat!B526)","v":""},{"$f":"IF(Qeydiyyat!D526=\"\",\"\",Qeydiyyat!D526)","v":""},{"$f":"IF(Qeydiyyat!K526=\"\",\"\",Qeydiyyat!K526)","v":""},{"$f":"IF(Qeydiyyat!AB526=\"\",\"\",Qeydiyyat!AB526)","v":""},{"$f":"IF(Qeydiyyat!AA526=\"\",\"\",Qeydiyyat!AA526)","v":""},{"$f":"IF(Qeydiyyat!X526=\"\",\"\",Qeydiyyat!X526)","v":""},{"$f":"IF(Qeydiyyat!Y526=\"\",\"\",Qeydiyyat!Y526)","v":""},null,{"$f":"IF(Qeydiyyat!AC526=\"\",\"\",Qeydiyyat!AC526)","v":""}]
[null,278,{"$f":"IF(Qeydiyyat!C527=\"\",\"\",Qeydiyyat!C527)","v":""},{"$f":"IF(Qeydiyyat!B527=\"\",\"\",Qeydiyyat!B527)","v":""},{"$f":"IF(Qeydiyyat!D527=\"\",\"\",Qeydiyyat!D527)","v":""},{"$f":"IF(Qeydiyyat!K527=\"\",\"\",Qeydiyyat!K527)","v":""},{"$f":"IF(Qeydiyyat!AB527=\"\",\"\",Qeydiyyat!AB527)","v":""},{"$f":"IF(Qeydiyyat!AA527=\"\",\"\",Qeydiyyat!AA527)","v":""},{"$f":"IF(Qeydiyyat!X527=\"\",\"\",Qeydiyyat!X527)","v":""},{"$f":"IF(Qeydiyyat!Y527=\"\",\"\",Qeydiyyat!Y527)","v":""},null,{"$f":"IF(Qeydiyyat!AC527=\"\",\"\",Qeydiyyat!AC527)","v":""}]
[null,279,{"$f":"IF(Qeydiyyat!C528=\"\",\"\",Qeydiyyat!C528)","v":""},{"$f":"IF(Qeydiyyat!B528=\"\",\"\",Qeydiyyat!B528)","v":""},{"$f":"IF(Qeydiyyat!D528=\"\",\"\",Qeydiyyat!D528)","v":""},{"$f":"IF(Qeydiyyat!K528=\"\",\"\",Qeydiyyat!K528)","v":""},{"$f":"IF(Qeydiyyat!AB528=\"\",\"\",Qeydiyyat!AB528)","v":""},{"$f":"IF(Qeydiyyat!AA528=\"\",\"\",Qeydiyyat!AA528)","v":""},{"$f":"IF(Qeydiyyat!X528=\"\",\"\",Qeydiyyat!X528)","v":""},{"$f":"IF(Qeydiyyat!Y528=\"\",\"\",Qeydiyyat!Y528)","v":""},null,{"$f":"IF(Qeydiyyat!AC528=\"\",\"\",Qeydiyyat!AC528)","v":""}]
[null,280,{"$f":"IF(Qeydiyyat!C529=\"\",\"\",Qeydiyyat!C529)","v":""},{"$f":"IF(Qeydiyyat!B529=\"\",\"\",Qeydiyyat!B529)","v":""},{"$f":"IF(Qeydiyyat!D529=\"\",\"\",Qeydiyyat!D529)","v":""},{"$f":"IF(Qeydiyyat!K529=\"\",\"\",Qeydiyyat!K529)","v":""},{"$f":"IF(Qeydiyyat!AB529=\"\",\"\",Qeydiyyat!AB529)","v":""},{"$f":"IF(Qeydiyyat!AA529=\"\",\"\",Qeydiyyat!AA529)","v":""},{"$f":"IF(Qeydiyyat!X529=\"\",\"\",Qeydiyyat!X529)","v":""},{"$f":"IF(Qeydiyyat!Y529=\"\",\"\",Qeydiyyat!Y529)","v":""},null,{"$f":"IF(Qeydiyyat!AC529=\"\",\"\",Qeydiyyat!AC529)","v":""}]
[null,281,{"$f":"IF(Qeydiyyat!C530=\"\",\"\",Qeydiyyat!C530)","v":""},{"$f":"IF(Qeydiyyat!B530=\"\",\"\",Qeydiyyat!B530)","v":""},{"$f":"IF(Qeydiyyat!D530=\"\",\"\",Qeydiyyat!D530)","v":""},{"$f":"IF(Qeydiyyat!K530=\"\",\"\",Qeydiyyat!K530)","v":""},{"$f":"IF(Qeydiyyat!AB530=\"\",\"\",Qeydiyyat!AB530)","v":""},{"$f":"IF(Qeydiyyat!AA530=\"\",\"\",Qeydiyyat!AA530)","v":""},{"$f":"IF(Qeydiyyat!X530=\"\",\"\",Qeydiyyat!X530)","v":""},{"$f":"IF(Qeydiyyat!Y530=\"\",\"\",Qeydiyyat!Y530)","v":""},null,{"$f":"IF(Qeydiyyat!AC530=\"\",\"\",Qeydiyyat!AC530)","v":""}]
[null,282,{"$f":"IF(Qeydiyyat!C531=\"\",\"\",Qeydiyyat!C531)","v":""},{"$f":"IF(Qeydiyyat!B531=\"\",\"\",Qeydiyyat!B531)","v":""},{"$f":"IF(Qeydiyyat!D531=\"\",\"\",Qeydiyyat!D531)","v":""},{"$f":"IF(Qeydiyyat!K531=\"\",\"\",Qeydiyyat!K531)","v":""},{"$f":"IF(Qeydiyyat!AB531=\"\",\"\",Qeydiyyat!AB531)","v":""},{"$f":"IF(Qeydiyyat!AA531=\"\",\"\",Qeydiyyat!AA531)","v":""},{"$f":"IF(Qeydiyyat!X531=\"\",\"\",Qeydiyyat!X531)","v":""},{"$f":"IF(Qeydiyyat!Y531=\"\",\"\",Qeydiyyat!Y531)","v":""},null,{"$f":"IF(Qeydiyyat!AC531=\"\",\"\",Qeydiyyat!AC531)","v":""}]
[null,283,{"$f":"IF(Qeydiyyat!C532=\"\",\"\",Qeydiyyat!C532)","v":""},{"$f":"IF(Qeydiyyat!B532=\"\",\"\",Qeydiyyat!B532)","v":""},{"$f":"IF(Qeydiyyat!D532=\"\",\"\",Qeydiyyat!D532)","v":""},{"$f":"IF(Qeydiyyat!K532=\"\",\"\",Qeydiyyat!K532)","v":""},{"$f":"IF(Qeydiyyat!AB532=\"\",\"\",Qeydiyyat!AB532)","v":""},{"$f":"IF(Qeydiyyat!AA532=\"\",\"\",Qeydiyyat!AA532)","v":""},{"$f":"IF(Qeydiyyat!X532=\"\",\"\",Qeydiyyat!X532)","v":""},{"$f":"IF(Qeydiyyat!Y532=\"\",\"\",Qeydiyyat!Y532)","v":""},null,{"$f":"IF(Qeydiyyat!AC532=\"\",\"\",Qeydiyyat!AC532)","v":""}]
[null,284,{"$f":"IF(Qeydiyyat!C533=\"\",\"\",Qeydiyyat!C533)","v":""},{"$f":"IF(Qeydiyyat!B533=\"\",\"\",Qeydiyyat!B533)","v":""},{"$f":"IF(Qeydiyyat!D533=\"\",\"\",Qeydiyyat!D533)","v":""},{"$f":"IF(Qeydiyyat!K533=\"\",\"\",Qeydiyyat!K533)","v":""},{"$f":"IF(Qeydiyyat!AB533=\"\",\"\",Qeydiyyat!AB533)","v":""},{"$f":"IF(Qeydiyyat!AA533=\"\",\"\",Qeydiyyat!AA533)","v":""},{"$f":"IF(Qeydiyyat!X533=\"\",\"\",Qeydiyyat!X533)","v":""},{"$f":"IF(Qeydiyyat!Y533=\"\",\"\",Qeydiyyat!Y533)","v":""},null,{"$f":"IF(Qeydiyyat!AC533=\"\",\"\",Qeydiyyat!AC533)","v":""}]
[null,285,{"$f":"IF(Qeydiyyat!C534=\"\",\"\",Qeydiyyat!C534)","v":""},{"$f":"IF(Qeydiyyat!B534=\"\",\"\",Qeydiyyat!B534)","v":""},{"$f":"IF(Qeydiyyat!D534=\"\",\"\",Qeydiyyat!D534)","v":""},{"$f":"IF(Qeydiyyat!K534=\"\",\"\",Qeydiyyat!K534)","v":""},{"$f":"IF(Qeydiyyat!AB534=\"\",\"\",Qeydiyyat!AB534)","v":""},{"$f":"IF(Qeydiyyat!AA534=\"\",\"\",Qeydiyyat!AA534)","v":""},{"$f":"IF(Qeydiyyat!X534=\"\",\"\",Qeydiyyat!X534)","v":""},{"$f":"IF(Qeydiyyat!Y534=\"\",\"\",Qeydiyyat!Y534)","v":""},null,{"$f":"IF(Qeydiyyat!AC534=\"\",\"\",Qeydiyyat!AC534)","v":""}]
[null,286,{"$f":"IF(Qeydiyyat!C535=\"\",\"\",Qeydiyyat!C535)","v":""},{"$f":"IF(Qeydiyyat!B535=\"\",\"\",Qeydiyyat!B535)","v":""},{"$f":"IF(Qeydiyyat!D535=\"\",\"\",Qeydiyyat!D535)","v":""},{"$f":"IF(Qeydiyyat!K535=\"\",\"\",Qeydiyyat!K535)","v":""},{"$f":"IF(Qeydiyyat!AB535=\"\",\"\",Qeydiyyat!AB535)","v":""},{"$f":"IF(Qeydiyyat!AA535=\"\",\"\",Qeydiyyat!AA535)","v":""},{"$f":"IF(Qeydiyyat!X535=\"\",\"\",Qeydiyyat!X535)","v":""},{"$f":"IF(Qeydiyyat!Y535=\"\",\"\",Qeydiyyat!Y535)","v":""},null,{"$f":"IF(Qeydiyyat!AC535=\"\",\"\",Qeydiyyat!AC535)","v":""}]
[null,287,{"$f":"IF(Qeydiyyat!C536=\"\",\"\",Qeydiyyat!C536)","v":""},{"$f":"IF(Qeydiyyat!B536=\"\",\"\",Qeydiyyat!B536)","v":""},{"$f":"IF(Qeydiyyat!D536=\"\",\"\",Qeydiyyat!D536)","v":""},{"$f":"IF(Qeydiyyat!K536=\"\",\"\",Qeydiyyat!K536)","v":""},{"$f":"IF(Qeydiyyat!AB536=\"\",\"\",Qeydiyyat!AB536)","v":""},{"$f":"IF(Qeydiyyat!AA536=\"\",\"\",Qeydiyyat!AA536)","v":""},{"$f":"IF(Qeydiyyat!X536=\"\",\"\",Qeydiyyat!X536)","v":""},{"$f":"IF(Qeydiyyat!Y536=\"\",\"\",Qeydiyyat!Y536)","v":""},null,{"$f":"IF(Qeydiyyat!AC536=\"\",\"\",Qeydiyyat!AC536)","v":""}]
[null,288,{"$f":"IF(Qeydiyyat!C537=\"\",\"\",Qeydiyyat!C537)","v":""},{"$f":"IF(Qeydiyyat!B537=\"\",\"\",Qeydiyyat!B537)","v":""},{"$f":"IF(Qeydiyyat!D537=\"\",\"\",Qeydiyyat!D537)","v":""},{"$f":"IF(Qeydiyyat!K537=\"\",\"\",Qeydiyyat!K537)","v":""},{"$f":"IF(Qeydiyyat!AB537=\"\",\"\",Qeydiyyat!AB537)","v":""},{"$f":"IF(Qeydiyyat!AA537=\"\",\"\",Qeydiyyat!AA537)","v":""},{"$f":"IF(Qeydiyyat!X537=\"\",\"\",Qeydiyyat!X537)","v":""},{"$f":"IF(Qeydiyyat!Y537=\"\",\"\",Qeydiyyat!Y537)","v":""},null,{"$f":"IF(Qeydiyyat!AC537=\"\",\"\",Qeydiyyat!AC537)","v":""}]
[null,289,{"$f":"IF(Qeydiyyat!C538=\"\",\"\",Qeydiyyat!C538)","v":""},{"$f":"IF(Qeydiyyat!B538=\"\",\"\",Qeydiyyat!B538)","v":""},{"$f":"IF(Qeydiyyat!D538=\"\",\"\",Qeydiyyat!D538)","v":""},{"$f":"IF(Qeydiyyat!K538=\"\",\"\",Qeydiyyat!K538)","v":""},{"$f":"IF(Qeydiyyat!AB538=\"\",\"\",Qeydiyyat!AB538)","v":""},{"$f":"IF(Qeydiyyat!AA538=\"\",\"\",Qeydiyyat!AA538)","v":""},{"$f":"IF(Qeydiyyat!X538=\"\",\"\",Qeydiyyat!X538)","v":""},{"$f":"IF(Qeydiyyat!Y538=\"\",\"\",Qeydiyyat!Y538)","v":""},null,{"$f":"IF(Qeydiyyat!AC538=\"\",\"\",Qeydiyyat!AC538)","v":""}]
[null,290,{"$f":"IF(Qeydiyyat!C539=\"\",\"\",Qeydiyyat!C539)","v":""},{"$f":"IF(Qeydiyyat!B539=\"\",\"\",Qeydiyyat!B539)","v":""},{"$f":"IF(Qeydiyyat!D539=\"\",\"\",Qeydiyyat!D539)","v":""},{"$f":"IF(Qeydiyyat!K539=\"\",\"\",Qeydiyyat!K539)","v":""},{"$f":"IF(Qeydiyyat!AB539=\"\",\"\",Qeydiyyat!AB539)","v":""},{"$f":"IF(Qeydiyyat!AA539=\"\",\"\",Qeydiyyat!AA539)","v":""},{"$f":"IF(Qeydiyyat!X539=\"\",\"\",Qeydiyyat!X539)","v":""},{"$f":"IF(Qeydiyyat!Y539=\"\",\"\",Qeydiyyat!Y539)","v":""},null,{"$f":"IF(Qeydiyyat!AC539=\"\",\"\",Qeydiyyat!AC539)","v":""}]
[null,291,{"$f":"IF(Qeydiyyat!C540=\"\",\"\",Qeydiyyat!C540)","v":""},{"$f":"IF(Qeydiyyat!B540=\"\",\"\",Qeydiyyat!B540)","v":""},{"$f":"IF(Qeydiyyat!D540=\"\",\"\",Qeydiyyat!D540)","v":""},{"$f":"IF(Qeydiyyat!K540=\"\",\"\",Qeydiyyat!K540)","v":""},{"$f":"IF(Qeydiyyat!AB540=\"\",\"\",Qeydiyyat!AB540)","v":""},{"$f":"IF(Qeydiyyat!AA540=\"\",\"\",Qeydiyyat!AA540)","v":""},{"$f":"IF(Qeydiyyat!X540=\"\",\"\",Qeydiyyat!X540)","v":""},{"$f":"IF(Qeydiyyat!Y540=\"\",\"\",Qeydiyyat!Y540)","v":""},null,{"$f":"IF(Qeydiyyat!AC540=\"\",\"\",Qeydiyyat!AC540)","v":""}]
[null,292,{"$f":"IF(Qeydiyyat!C541=\"\",\"\",Qeydiyyat!C541)","v":""},{"$f":"IF(Qeydiyyat!B541=\"\",\"\",Qeydiyyat!B541)","v":""},{"$f":"IF(Qeydiyyat!D541=\"\",\"\",Qeydiyyat!D541)","v":""},{"$f":"IF(Qeydiyyat!K541=\"\",\"\",Qeydiyyat!K541)","v":""},{"$f":"IF(Qeydiyyat!AB541=\"\",\"\",Qeydiyyat!AB541)","v":""},{"$f":"IF(Qeydiyyat!AA541=\"\",\"\",Qeydiyyat!AA541)","v":""},{"$f":"IF(Qeydiyyat!X541=\"\",\"\",Qeydiyyat!X541)","v":""},{"$f":"IF(Qeydiyyat!Y541=\"\",\"\",Qeydiyyat!Y541)","v":""},null,{"$f":"IF(Qeydiyyat!AC541=\"\",\"\",Qeydiyyat!AC541)","v":""}]
[null,293,{"$f":"IF(Qeydiyyat!C542=\"\",\"\",Qeydiyyat!C542)","v":""},{"$f":"IF(Qeydiyyat!B542=\"\",\"\",Qeydiyyat!B542)","v":""},{"$f":"IF(Qeydiyyat!D542=\"\",\"\",Qeydiyyat!D542)","v":""},{"$f":"IF(Qeydiyyat!K542=\"\",\"\",Qeydiyyat!K542)","v":""},{"$f":"IF(Qeydiyyat!AB542=\"\",\"\",Qeydiyyat!AB542)","v":""},{"$f":"IF(Qeydiyyat!AA542=\"\",\"\",Qeydiyyat!AA542)","v":""},{"$f":"IF(Qeydiyyat!X542=\"\",\"\",Qeydiyyat!X542)","v":""},{"$f":"IF(Qeydiyyat!Y542=\"\",\"\",Qeydiyyat!Y542)","v":""},null,{"$f":"IF(Qeydiyyat!AC542=\"\",\"\",Qeydiyyat!AC542)","v":""}]
[null,294,{"$f":"IF(Qeydiyyat!C543=\"\",\"\",Qeydiyyat!C543)","v":""},{"$f":"IF(Qeydiyyat!B543=\"\",\"\",Qeydiyyat!B543)","v":""},{"$f":"IF(Qeydiyyat!D543=\"\",\"\",Qeydiyyat!D543)","v":""},{"$f":"IF(Qeydiyyat!K543=\"\",\"\",Qeydiyyat!K543)","v":""},{"$f":"IF(Qeydiyyat!AB543=\"\",\"\",Qeydiyyat!AB543)","v":""},{"$f":"IF(Qeydiyyat!AA543=\"\",\"\",Qeydiyyat!AA543)","v":""},{"$f":"IF(Qeydiyyat!X543=\"\",\"\",Qeydiyyat!X543)","v":""},{"$f":"IF(Qeydiyyat!Y543=\"\",\"\",Qeydiyyat!Y543)","v":""},null,{"$f":"IF(Qeydiyyat!AC543=\"\",\"\",Qeydiyyat!AC543)","v":""}]
[null,295,{"$f":"IF(Qeydiyyat!C544=\"\",\"\",Qeydiyyat!C544)","v":""},{"$f":"IF(Qeydiyyat!B544=\"\",\"\",Qeydiyyat!B544)","v":""},{"$f":"IF(Qeydiyyat!D544=\"\",\"\",Qeydiyyat!D544)","v":""},{"$f":"IF(Qeydiyyat!K544=\"\",\"\",Qeydiyyat!K544)","v":""},{"$f":"IF(Qeydiyyat!AB544=\"\",\"\",Qeydiyyat!AB544)","v":""},{"$f":"IF(Qeydiyyat!AA544=\"\",\"\",Qeydiyyat!AA544)","v":""},{"$f":"IF(Qeydiyyat!X544=\"\",\"\",Qeydiyyat!X544)","v":""},{"$f":"IF(Qeydiyyat!Y544=\"\",\"\",Qeydiyyat!Y544)","v":""},null,{"$f":"IF(Qeydiyyat!AC544=\"\",\"\",Qeydiyyat!AC544)","v":""}]
[null,296,{"$f":"IF(Qeydiyyat!C545=\"\",\"\",Qeydiyyat!C545)","v":""},{"$f":"IF(Qeydiyyat!B545=\"\",\"\",Qeydiyyat!B545)","v":""},{"$f":"IF(Qeydiyyat!D545=\"\",\"\",Qeydiyyat!D545)","v":""},{"$f":"IF(Qeydiyyat!K545=\"\",\"\",Qeydiyyat!K545)","v":""},{"$f":"IF(Qeydiyyat!AB545=\"\",\"\",Qeydiyyat!AB545)","v":""},{"$f":"IF(Qeydiyyat!AA545=\"\",\"\",Qeydiyyat!AA545)","v":""},{"$f":"IF(Qeydiyyat!X545=\"\",\"\",Qeydiyyat!X545)","v":""},{"$f":"IF(Qeydiyyat!Y545=\"\",\"\",Qeydiyyat!Y545)","v":""},null,{"$f":"IF(Qeydiyyat!AC545=\"\",\"\",Qeydiyyat!AC545)","v":""}]
[null,297,{"$f":"IF(Qeydiyyat!C546=\"\",\"\",Qeydiyyat!C546)","v":""},{"$f":"IF(Qeydiyyat!B546=\"\",\"\",Qeydiyyat!B546)","v":""},{"$f":"IF(Qeydiyyat!D546=\"\",\"\",Qeydiyyat!D546)","v":""},{"$f":"IF(Qeydiyyat!K546=\"\",\"\",Qeydiyyat!K546)","v":""},{"$f":"IF(Qeydiyyat!AB546=\"\",\"\",Qeydiyyat!AB546)","v":""},{"$f":"IF(Qeydiyyat!AA546=\"\",\"\",Qeydiyyat!AA546)","v":""},{"$f":"IF(Qeydiyyat!X546=\"\",\"\",Qeydiyyat!X546)","v":""},{"$f":"IF(Qeydiyyat!Y546=\"\",\"\",Qeydiyyat!Y546)","v":""},null,{"$f":"IF(Qeydiyyat!AC546=\"\",\"\",Qeydiyyat!AC546)","v":""}]
[null,298,{"$f":"IF(Qeydiyyat!C547=\"\",\"\",Qeydiyyat!C547)","v":""},{"$f":"IF(Qeydiyyat!B547=\"\",\"\",Qeydiyyat!B547)","v":""},{"$f":"IF(Qeydiyyat!D547=\"\",\"\",Qeydiyyat!D547)","v":""},{"$f":"IF(Qeydiyyat!K547=\"\",\"\",Qeydiyyat!K547)","v":""},{"$f":"IF(Qeydiyyat!AB547=\"\",\"\",Qeydiyyat!AB547)","v":""},{"$f":"IF(Qeydiyyat!AA547=\"\",\"\",Qeydiyyat!AA547)","v":""},{"$f":"IF(Qeydiyyat!X547=\"\",\"\",Qeydiyyat!X547)","v":""},{"$f":"IF(Qeydiyyat!Y547=\"\",\"\",Qeydiyyat!Y547)","v":""},null,{"$f":"IF(Qeydiyyat!AC547=\"\",\"\",Qeydiyyat!AC547)","v":""}]
[null,299,{"$f":"IF(Qeydiyyat!C548=\"\",\"\",Qeydiyyat!C548)","v":""},{"$f":"IF(Qeydiyyat!B548=\"\",\"\",Qeydiyyat!B548)","v":""},{"$f":"IF(Qeydiyyat!D548=\"\",\"\",Qeydiyyat!D548)","v":""},{"$f":"IF(Qeydiyyat!K548=\"\",\"\",Qeydiyyat!K548)","v":""},{"$f":"IF(Qeydiyyat!AB548=\"\",\"\",Qeydiyyat!AB548)","v":""},{"$f":"IF(Qeydiyyat!AA548=\"\",\"\",Qeydiyyat!AA548)","v":""},{"$f":"IF(Qeydiyyat!X548=\"\",\"\",Qeydiyyat!X548)","v":""},{"$f":"IF(Qeydiyyat!Y548=\"\",\"\",Qeydiyyat!Y548)","v":""},null,{"$f":"IF(Qeydiyyat!AC548=\"\",\"\",Qeydiyyat!AC548)","v":""}]
[null,300,{"$f":"IF(Qeydiyyat!C549=\"\",\"\",Qeydiyyat!C549)","v":""},{"$f":"IF(Qeydiyyat!B549=\"\",\"\",Qeydiyyat!B549)","v":""},{"$f":"IF(Qeydiyyat!D549=\"\",\"\",Qeydiyyat!D549)","v":""},{"$f":"IF(Qeydiyyat!K549=\"\",\"\",Qeydiyyat!K549)","v":""},{"$f":"IF(Qeydiyyat!AB549=\"\",\"\",Qeydiyyat!AB549)","v":""},{"$f":"IF(Qeydiyyat!AA549=\"\",\"\",Qeydiyyat!AA549)","v":""},{"$f":"IF(Qeydiyyat!X549=\"\",\"\",Qeydiyyat!X549)","v":""},{"$f":"IF(Qeydiyyat!Y549=\"\",\"\",Qeydiyyat!Y549)","v":""},null,{"$f":"IF(Qeydiyyat!AC549=\"\",\"\",Qeydiyyat!AC549)","v":""}]
[null,301,{"$f":"IF(Qeydiyyat!C550=\"\",\"\",Qeydiyyat!C550)","v":""},{"$f":"IF(Qeydiyyat!B550=\"\",\"\",Qeydiyyat!B550)","v":""},{"$f":"IF(Qeydiyyat!D550=\"\",\"\",Qeydiyyat!D550)","v":""},{"$f":"IF(Qeydiyyat!K550=\"\",\"\",Qeydiyyat!K550)","v":""},{"$f":"IF(Qeydiyyat!AB550=\"\",\"\",Qeydiyyat!AB550)","v":""},{"$f":"IF(Qeydiyyat!AA550=\"\",\"\",Qeydiyyat!AA550)","v":""},{"$f":"IF(Qeydiyyat!X550=\"\",\"\",Qeydiyyat!X550)","v":""},{"$f":"IF(Qeydiyyat!Y550=\"\",\"\",Qeydiyyat!Y550)","v":""},null,{"$f":"IF(Qeydiyyat!AC550=\"\",\"\",Qeydiyyat!AC550)","v":""}]
[null,302,{"$f":"IF(Qeydiyyat!C551=\"\",\"\",Qeydiyyat!C551)","v":""},{"$f":"IF(Qeydiyyat!B551=\"\",\"\",Qeydiyyat!B551)","v":""},{"$f":"IF(Qeydiyyat!D551=\"\",\"\",Qeydiyyat!D551)","v":""},{"$f":"IF(Qeydiyyat!K551=\"\",\"\",Qeydiyyat!K551)","v":""},{"$f":"IF(Qeydiyyat!AB551=\"\",\"\",Qeydiyyat!AB551)","v":""},{"$f":"IF(Qeydiyyat!AA551=\"\",\"\",Qeydiyyat!AA551)","v":""},{"$f":"IF(Qeydiyyat!X551=\"\",\"\",Qeydiyyat!X551)","v":""},{"$f":"IF(Qeydiyyat!Y551=\"\",\"\",Qeydiyyat!Y551)","v":""},null,{"$f":"IF(Qeydiyyat!AC551=\"\",\"\",Qeydiyyat!AC551)","v":""}]
[null,303,{"$f":"IF(Qeydiyyat!C552=\"\",\"\",Qeydiyyat!C552)","v":""},{"$f":"IF(Qeydiyyat!B552=\"\",\"\",Qeydiyyat!B552)","v":""},{"$f":"IF(Qeydiyyat!D552=\"\",\"\",Qeydiyyat!D552)","v":""},{"$f":"IF(Qeydiyyat!K552=\"\",\"\",Qeydiyyat!K552)","v":""},{"$f":"IF(Qeydiyyat!AB552=\"\",\"\",Qeydiyyat!AB552)","v":""},{"$f":"IF(Qeydiyyat!AA552=\"\",\"\",Qeydiyyat!AA552)","v":""},{"$f":"IF(Qeydiyyat!X552=\"\",\"\",Qeydiyyat!X552)","v":""},{"$f":"IF(Qeydiyyat!Y552=\"\",\"\",Qeydiyyat!Y552)","v":""},null,{"$f":"IF(Qeydiyyat!AC552=\"\",\"\",Qeydiyyat!AC552)","v":""}]
[null,304,{"$f":"IF(Qeydiyyat!C553=\"\",\"\",Qeydiyyat!C553)","v":""},{"$f":"IF(Qeydiyyat!B553=\"\",\"\",Qeydiyyat!B553)","v":""},{"$f":"IF(Qeydiyyat!D553=\"\",\"\",Qeydiyyat!D553)","v":""},{"$f":"IF(Qeydiyyat!K553=\"\",\"\",Qeydiyyat!K553)","v":""},{"$f":"IF(Qeydiyyat!AB553=\"\",\"\",Qeydiyyat!AB553)","v":""},{"$f":"IF(Qeydiyyat!AA553=\"\",\"\",Qeydiyyat!AA553)","v":""},{"$f":"IF(Qeydiyyat!X553=\"\",\"\",Qeydiyyat!X553)","v":""},{"$f":"IF(Qeydiyyat!Y553=\"\",\"\",Qeydiyyat!Y553)","v":""},null,{"$f":"IF(Qeydiyyat!AC553=\"\",\"\",Qeydiyyat!AC553)","v":""}]
[null,305,{"$f":"IF(Qeydiyyat!C554=\"\",\"\",Qeydiyyat!C554)","v":""},{"$f":"IF(Qeydiyyat!B554=\"\",\"\",Qeydiyyat!B554)","v":""},{"$f":"IF(Qeydiyyat!D554=\"\",\"\",Qeydiyyat!D554)","v":""},{"$f":"IF(Qeydiyyat!K554=\"\",\"\",Qeydiyyat!K554)","v":""},{"$f":"IF(Qeydiyyat!AB554=\"\",\"\",Qeydiyyat!AB554)","v":""},{"$f":"IF(Qeydiyyat!AA554=\"\",\"\",Qeydiyyat!AA554)","v":""},{"$f":"IF(Qeydiyyat!X554=\"\",\"\",Qeydiyyat!X554)","v":""},{"$f":"IF(Qeydiyyat!Y554=\"\",\"\",Qeydiyyat!Y554)","v":""},null,{"$f":"IF(Qeydiyyat!AC554=\"\",\"\",Qeydiyyat!AC554)","v":""}]
[null,306,{"$f":"IF(Qeydiyyat!C555=\"\",\"\",Qeydiyyat!C555)","v":""},{"$f":"IF(Qeydiyyat!B555=\"\",\"\",Qeydiyyat!B555)","v":""},{"$f":"IF(Qeydiyyat!D555=\"\",\"\",Qeydiyyat!D555)","v":""},{"$f":"IF(Qeydiyyat!K555=\"\",\"\",Qeydiyyat!K555)","v":""},{"$f":"IF(Qeydiyyat!AB555=\"\",\"\",Qeydiyyat!AB555)","v":""},{"$f":"IF(Qeydiyyat!AA555=\"\",\"\",Qeydiyyat!AA555)","v":""},{"$f":"IF(Qeydiyyat!X555=\"\",\"\",Qeydiyyat!X555)","v":""},{"$f":"IF(Qeydiyyat!Y555=\"\",\"\",Qeydiyyat!Y555)","v":""},null,{"$f":"IF(Qeydiyyat!AC555=\"\",\"\",Qeydiyyat!AC555)","v":""}]
[null,307,{"$f":"IF(Qeydiyyat!C556=\"\",\"\",Qeydiyyat!C556)","v":""},{"$f":"IF(Qeydiyyat!B556=\"\",\"\",Qeydiyyat!B556)","v":""},{"$f":"IF(Qeydiyyat!D556=\"\",\"\",Qeydiyyat!D556)","v":""},{"$f":"IF(Qeydiyyat!K556=\"\",\"\",Qeydiyyat!K556)","v":""},{"$f":"IF(Qeydiyyat!AB556=\"\",\"\",Qeydiyyat!AB556)","v":""},{"$f":"IF(Qeydiyyat!AA556=\"\",\"\",Qeydiyyat!AA556)","v":""},{"$f":"IF(Qeydiyyat!X556=\"\",\"\",Qeydiyyat!X556)","v":""},{"$f":"IF(Qeydiyyat!Y556=\"\",\"\",Qeydiyyat!Y556)","v":""},null,{"$f":"IF(Qeydiyyat!AC556=\"\",\"\",Qeydiyyat!AC556)","v":""}]
[null,308,{"$f":"IF(Qeydiyyat!C557=\"\",\"\",Qeydiyyat!C557)","v":""},{"$f":"IF(Qeydiyyat!B557=\"\",\"\",Qeydiyyat!B557)","v":""},{"$f":"IF(Qeydiyyat!D557=\"\",\"\",Qeydiyyat!D557)","v":""},{"$f":"IF(Qeydiyyat!K557=\"\",\"\",Qeydiyyat!K557)","v":""},{"$f":"IF(Qeydiyyat!AB557=\"\",\"\",Qeydiyyat!AB557)","v":""},{"$f":"IF(Qeydiyyat!AA557=\"\",\"\",Qeydiyyat!AA557)","v":""},{"$f":"IF(Qeydiyyat!X557=\"\",\"\",Qeydiyyat!X557)","v":""},{"$f":"IF(Qeydiyyat!Y557=\"\",\"\",Qeydiyyat!Y557)","v":""},null,{"$f":"IF(Qeydiyyat!AC557=\"\",\"\",Qeydiyyat!AC557)","v":""}]
[null,309,{"$f":"IF(Qeydiyyat!C558=\"\",\"\",Qeydiyyat!C558)","v":""},{"$f":"IF(Qeydiyyat!B558=\"\",\"\",Qeydiyyat!B558)","v":""},{"$f":"IF(Qeydiyyat!D558=\"\",\"\",Qeydiyyat!D558)","v":""},{"$f":"IF(Qeydiyyat!K558=\"\",\"\",Qeydiyyat!K558)","v":""},{"$f":"IF(Qeydiyyat!AB558=\"\",\"\",Qeydiyyat!AB558)","v":""},{"$f":"IF(Qeydiyyat!AA558=\"\",\"\",Qeydiyyat!AA558)","v":""},{"$f":"IF(Qeydiyyat!X558=\"\",\"\",Qeydiyyat!X558)","v":""},{"$f":"IF(Qeydiyyat!Y558=\"\",\"\",Qeydiyyat!Y558)","v":""},null,{"$f":"IF(Qeydiyyat!AC558=\"\",\"\",Qeydiyyat!AC558)","v":""}]
[null,310,{"$f":"IF(Qeydiyyat!C559=\"\",\"\",Qeydiyyat!C559)","v":""},{"$f":"IF(Qeydiyyat!B559=\"\",\"\",Qeydiyyat!B559)","v":""},{"$f":"IF(Qeydiyyat!D559=\"\",\"\",Qeydiyyat!D559)","v":""},{"$f":"IF(Qeydiyyat!K559=\"\",\"\",Qeydiyyat!K559)","v":""},{"$f":"IF(Qeydiyyat!AB559=\"\",\"\",Qeydiyyat!AB559)","v":""},{"$f":"IF(Qeydiyyat!AA559=\"\",\"\",Qeydiyyat!AA559)","v":""},{"$f":"IF(Qeydiyyat!X559=\"\",\"\",Qeydiyyat!X559)","v":""},{"$f":"IF(Qeydiyyat!Y559=\"\",\"\",Qeydiyyat!Y559)","v":""},null,{"$f":"IF(Qeydiyyat!AC559=\"\",\"\",Qeydiyyat!AC559)","v":""}]
[null,311,{"$f":"IF(Qeydiyyat!C560=\"\",\"\",Qeydiyyat!C560)","v":""},{"$f":"IF(Qeydiyyat!B560=\"\",\"\",Qeydiyyat!B560)","v":""},{"$f":"IF(Qeydiyyat!D560=\"\",\"\",Qeydiyyat!D560)","v":""},{"$f":"IF(Qeydiyyat!K560=\"\",\"\",Qeydiyyat!K560)","v":""},{"$f":"IF(Qeydiyyat!AB560=\"\",\"\",Qeydiyyat!AB560)","v":""},{"$f":"IF(Qeydiyyat!AA560=\"\",\"\",Qeydiyyat!AA560)","v":""},{"$f":"IF(Qeydiyyat!X560=\"\",\"\",Qeydiyyat!X560)","v":""},{"$f":"IF(Qeydiyyat!Y560=\"\",\"\",Qeydiyyat!Y560)","v":""},null,{"$f":"IF(Qeydiyyat!AC560=\"\",\"\",Qeydiyyat!AC560)","v":""}]
[null,312,{"$f":"IF(Qeydiyyat!C561=\"\",\"\",Qeydiyyat!C561)","v":""},{"$f":"IF(Qeydiyyat!B561=\"\",\"\",Qeydiyyat!B561)","v":""},{"$f":"IF(Qeydiyyat!D561=\"\",\"\",Qeydiyyat!D561)","v":""},{"$f":"IF(Qeydiyyat!K561=\"\",\"\",Qeydiyyat!K561)","v":""},{"$f":"IF(Qeydiyyat!AB561=\"\",\"\",Qeydiyyat!AB561)","v":""},{"$f":"IF(Qeydiyyat!AA561=\"\",\"\",Qeydiyyat!AA561)","v":""},{"$f":"IF(Qeydiyyat!X561=\"\",\"\",Qeydiyyat!X561)","v":""},{"$f":"IF(Qeydiyyat!Y561=\"\",\"\",Qeydiyyat!Y561)","v":""},null,{"$f":"IF(Qeydiyyat!AC561=\"\",\"\",Qeydiyyat!AC561)","v":""}]
[null,313,{"$f":"IF(Qeydiyyat!C562=\"\",\"\",Qeydiyyat!C562)","v":""},{"$f":"IF(Qeydiyyat!B562=\"\",\"\",Qeydiyyat!B562)","v":""},{"$f":"IF(Qeydiyyat!D562=\"\",\"\",Qeydiyyat!D562)","v":""},{"$f":"IF(Qeydiyyat!K562=\"\",\"\",Qeydiyyat!K562)","v":""},{"$f":"IF(Qeydiyyat!AB562=\"\",\"\",Qeydiyyat!AB562)","v":""},{"$f":"IF(Qeydiyyat!AA562=\"\",\"\",Qeydiyyat!AA562)","v":""},{"$f":"IF(Qeydiyyat!X562=\"\",\"\",Qeydiyyat!X562)","v":""},{"$f":"IF(Qeydiyyat!Y562=\"\",\"\",Qeydiyyat!Y562)","v":""},null,{"$f":"IF(Qeydiyyat!AC562=\"\",\"\",Qeydiyyat!AC562)","v":""}]
[null,314,{"$f":"IF(Qeydiyyat!C563=\"\",\"\",Qeydiyyat!C563)","v":""},{"$f":"IF(Qeydiyyat!B563=\"\",\"\",Qeydiyyat!B563)","v":""},{"$f":"IF(Qeydiyyat!D563=\"\",\"\",Qeydiyyat!D563)","v":""},{"$f":"IF(Qeydiyyat!K563=\"\",\"\",Qeydiyyat!K563)","v":""},{"$f":"IF(Qeydiyyat!AB563=\"\",\"\",Qeydiyyat!AB563)","v":""},{"$f":"IF(Qeydiyyat!AA563=\"\",\"\",Qeydiyyat!AA563)","v":""},{"$f":"IF(Qeydiyyat!X563=\"\",\"\",Qeydiyyat!X563)","v":""},{"$f":"IF(Qeydiyyat!Y563=\"\",\"\",Qeydiyyat!Y563)","v":""},null,{"$f":"IF(Qeydiyyat!AC563=\"\",\"\",Qeydiyyat!AC563)","v":""}]
[null,315,{"$f":"IF(Qeydiyyat!C564=\"\",\"\",Qeydiyyat!C564)","v":""},{"$f":"IF(Qeydiyyat!B564=\"\",\"\",Qeydiyyat!B564)","v":""},{"$f":"IF(Qeydiyyat!D564=\"\",\"\",Qeydiyyat!D564)","v":""},{"$f":"IF(Qeydiyyat!K564=\"\",\"\",Qeydiyyat!K564)","v":""},{"$f":"IF(Qeydiyyat!AB564=\"\",\"\",Qeydiyyat!AB564)","v":""},{"$f":"IF(Qeydiyyat!AA564=\"\",\"\",Qeydiyyat!AA564)","v":""},{"$f":"IF(Qeydiyyat!X564=\"\",\"\",Qeydiyyat!X564)","v":""},{"$f":"IF(Qeydiyyat!Y564=\"\",\"\",Qeydiyyat!Y564)","v":""},null,{"$f":"IF(Qeydiyyat!AC564=\"\",\"\",Qeydiyyat!AC564)","v":""}]
[null,316,{"$f":"IF(Qeydiyyat!C565=\"\",\"\",Qeydiyyat!C565)","v":""},{"$f":"IF(Qeydiyyat!B565=\"\",\"\",Qeydiyyat!B565)","v":""},{"$f":"IF(Qeydiyyat!D565=\"\",\"\",Qeydiyyat!D565)","v":""},{"$f":"IF(Qeydiyyat!K565=\"\",\"\",Qeydiyyat!K565)","v":""},{"$f":"IF(Qeydiyyat!AB565=\"\",\"\",Qeydiyyat!AB565)","v":""},{"$f":"IF(Qeydiyyat!AA565=\"\",\"\",Qeydiyyat!AA565)","v":""},{"$f":"IF(Qeydiyyat!X565=\"\",\"\",Qeydiyyat!X565)","v":""},{"$f":"IF(Qeydiyyat!Y565=\"\",\"\",Qeydiyyat!Y565)","v":""},null,{"$f":"IF(Qeydiyyat!AC565=\"\",\"\",Qeydiyyat!AC565)","v":""}]
[null,317,{"$f":"IF(Qeydiyyat!C566=\"\",\"\",Qeydiyyat!C566)","v":""},{"$f":"IF(Qeydiyyat!B566=\"\",\"\",Qeydiyyat!B566)","v":""},{"$f":"IF(Qeydiyyat!D566=\"\",\"\",Qeydiyyat!D566)","v":""},{"$f":"IF(Qeydiyyat!K566=\"\",\"\",Qeydiyyat!K566)","v":""},{"$f":"IF(Qeydiyyat!AB566=\"\",\"\",Qeydiyyat!AB566)","v":""},{"$f":"IF(Qeydiyyat!AA566=\"\",\"\",Qeydiyyat!AA566)","v":""},{"$f":"IF(Qeydiyyat!X566=\"\",\"\",Qeydiyyat!X566)","v":""},{"$f":"IF(Qeydiyyat!Y566=\"\",\"\",Qeydiyyat!Y566)","v":""},null,{"$f":"IF(Qeydiyyat!AC566=\"\",\"\",Qeydiyyat!AC566)","v":""}]
[null,318,{"$f":"IF(Qeydiyyat!C567=\"\",\"\",Qeydiyyat!C567)","v":""},{"$f":"IF(Qeydiyyat!B567=\"\",\"\",Qeydiyyat!B567)","v":""},{"$f":"IF(Qeydiyyat!D567=\"\",\"\",Qeydiyyat!D567)","v":""},{"$f":"IF(Qeydiyyat!K567=\"\",\"\",Qeydiyyat!K567)","v":""},{"$f":"IF(Qeydiyyat!AB567=\"\",\"\",Qeydiyyat!AB567)","v":""},{"$f":"IF(Qeydiyyat!AA567=\"\",\"\",Qeydiyyat!AA567)","v":""},{"$f":"IF(Qeydiyyat!X567=\"\",\"\",Qeydiyyat!X567)","v":""},{"$f":"IF(Qeydiyyat!Y567=\"\",\"\",Qeydiyyat!Y567)","v":""},null,{"$f":"IF(Qeydiyyat!AC567=\"\",\"\",Qeydiyyat!AC567)","v":""}]
[null,319,{"$f":"IF(Qeydiyyat!C568=\"\",\"\",Qeydiyyat!C568)","v":""},{"$f":"IF(Qeydiyyat!B568=\"\",\"\",Qeydiyyat!B568)","v":""},{"$f":"IF(Qeydiyyat!D568=\"\",\"\",Qeydiyyat!D568)","v":""},{"$f":"IF(Qeydiyyat!K568=\"\",\"\",Qeydiyyat!K568)","v":""},{"$f":"IF(Qeydiyyat!AB568=\"\",\"\",Qeydiyyat!AB568)","v":""},{"$f":"IF(Qeydiyyat!AA568=\"\",\"\",Qeydiyyat!AA568)","v":""},{"$f":"IF(Qeydiyyat!X568=\"\",\"\",Qeydiyyat!X568)","v":""},{"$f":"IF(Qeydiyyat!Y568=\"\",\"\",Qeydiyyat!Y568)","v":""},null,{"$f":"IF(Qeydiyyat!AC568=\"\",\"\",Qeydiyyat!AC568)","v":""}]
[null,320,{"$f":"IF(Qeydiyyat!C569=\"\",\"\",Qeydiyyat!C569)","v":""},{"$f":"IF(Qeydiyyat!B569=\"\",\"\",Qeydiyyat!B569)","v":""},{"$f":"IF(Qeydiyyat!D569=\"\",\"\",Qeydiyyat!D569)","v":""},{"$f":"IF(Qeydiyyat!K569=\"\",\"\",Qeydiyyat!K569)","v":""},{"$f":"IF(Qeydiyyat!AB569=\"\",\"\",Qeydiyyat!AB569)","v":""},{"$f":"IF(Qeydiyyat!AA569=\"\",\"\",Qeydiyyat!AA569)","v":""},{"$f":"IF(Qeydiyyat!X569=\"\",\"\",Qeydiyyat!X569)","v":""},{"$f":"IF(Qeydiyyat!Y569=\"\",\"\",Qeydiyyat!Y569)","v":""},null,{"$f":"IF(Qeydiyyat!AC569=\"\",\"\",Qeydiyyat!AC569)","v":""}]
[null,321,{"$f":"IF(Qeydiyyat!C570=\"\",\"\",Qeydiyyat!C570)","v":""},{"$f":"IF(Qeydiyyat!B570=\"\",\"\",Qeydiyyat!B570)","v":""},{"$f":"IF(Qeydiyyat!D570=\"\",\"\",Qeydiyyat!D570)","v":""},{"$f":"IF(Qeydiyyat!K570=\"\",\"\",Qeydiyyat!K570)","v":""},{"$f":"IF(Qeydiyyat!AB570=\"\",\"\",Qeydiyyat!AB570)","v":""},{"$f":"IF(Qeydiyyat!AA570=\"\",\"\",Qeydiyyat!AA570)","v":""},{"$f":"IF(Qeydiyyat!X570=\"\",\"\",Qeydiyyat!X570)","v":""},{"$f":"IF(Qeydiyyat!Y570=\"\",\"\",Qeydiyyat!Y570)","v":""},null,{"$f":"IF(Qeydiyyat!AC570=\"\",\"\",Qeydiyyat!AC570)","v":""}]
[null,322,{"$f":"IF(Qeydiyyat!C571=\"\",\"\",Qeydiyyat!C571)","v":""},{"$f":"IF(Qeydiyyat!B571=\"\",\"\",Qeydiyyat!B571)","v":""},{"$f":"IF(Qeydiyyat!D571=\"\",\"\",Qeydiyyat!D571)","v":""},{"$f":"IF(Qeydiyyat!K571=\"\",\"\",Qeydiyyat!K571)","v":""},{"$f":"IF(Qeydiyyat!AB571=\"\",\"\",Qeydiyyat!AB571)","v":""},{"$f":"IF(Qeydiyyat!AA571=\"\",\"\",Qeydiyyat!AA571)","v":""},{"$f":"IF(Qeydiyyat!X571=\"\",\"\",Qeydiyyat!X571)","v":""},{"$f":"IF(Qeydiyyat!Y571=\"\",\"\",Qeydiyyat!Y571)","v":""},null,{"$f":"IF(Qeydiyyat!AC571=\"\",\"\",Qeydiyyat!AC571)","v":""}]
[null,323,{"$f":"IF(Qeydiyyat!C572=\"\",\"\",Qeydiyyat!C572)","v":""},{"$f":"IF(Qeydiyyat!B572=\"\",\"\",Qeydiyyat!B572)","v":""},{"$f":"IF(Qeydiyyat!D572=\"\",\"\",Qeydiyyat!D572)","v":""},{"$f":"IF(Qeydiyyat!K572=\"\",\"\",Qeydiyyat!K572)","v":""},{"$f":"IF(Qeydiyyat!AB572=\"\",\"\",Qeydiyyat!AB572)","v":""},{"$f":"IF(Qeydiyyat!AA572=\"\",\"\",Qeydiyyat!AA572)","v":""},{"$f":"IF(Qeydiyyat!X572=\"\",\"\",Qeydiyyat!X572)","v":""},{"$f":"IF(Qeydiyyat!Y572=\"\",\"\",Qeydiyyat!Y572)","v":""},null,{"$f":"IF(Qeydiyyat!AC572=\"\",\"\",Qeydiyyat!AC572)","v":""}]
[null,324,{"$f":"IF(Qeydiyyat!C573=\"\",\"\",Qeydiyyat!C573)","v":""},{"$f":"IF(Qeydiyyat!B573=\"\",\"\",Qeydiyyat!B573)","v":""},{"$f":"IF(Qeydiyyat!D573=\"\",\"\",Qeydiyyat!D573)","v":""},{"$f":"IF(Qeydiyyat!K573=\"\",\"\",Qeydiyyat!K573)","v":""},{"$f":"IF(Qeydiyyat!AB573=\"\",\"\",Qeydiyyat!AB573)","v":""},{"$f":"IF(Qeydiyyat!AA573=\"\",\"\",Qeydiyyat!AA573)","v":""},{"$f":"IF(Qeydiyyat!X573=\"\",\"\",Qeydiyyat!X573)","v":""},{"$f":"IF(Qeydiyyat!Y573=\"\",\"\",Qeydiyyat!Y573)","v":""},null,{"$f":"IF(Qeydiyyat!AC573=\"\",\"\",Qeydiyyat!AC573)","v":""}]
[null,{"$f":"B342+1","v":325},{"$f":"IF(Qeydiyyat!C574=\"\",\"\",Qeydiyyat!C574)","v":""},{"$f":"IF(Qeydiyyat!B574=\"\",\"\",Qeydiyyat!B574)","v":""},{"$f":"IF(Qeydiyyat!D574=\"\",\"\",Qeydiyyat!D574)","v":""},{"$f":"IF(Qeydiyyat!K574=\"\",\"\",Qeydiyyat!K574)","v":""},{"$f":"IF(Qeydiyyat!AB574=\"\",\"\",Qeydiyyat!AB574)","v":""},{"$f":"IF(Qeydiyyat!AA574=\"\",\"\",Qeydiyyat!AA574)","v":""},{"$f":"IF(Qeydiyyat!X574=\"\",\"\",Qeydiyyat!X574)","v":""},{"$f":"IF(Qeydiyyat!Y574=\"\",\"\",Qeydiyyat!Y574)","v":""},null,{"$f":"IF(Qeydiyyat!AC574=\"\",\"\",Qeydiyyat!AC574)","v":""}]
[null,326,{"$f":"IF(Qeydiyyat!C575=\"\",\"\",Qeydiyyat!C575)","v":""},{"$f":"IF(Qeydiyyat!B575=\"\",\"\",Qeydiyyat!B575)","v":""},{"$f":"IF(Qeydiyyat!D575=\"\",\"\",Qeydiyyat!D575)","v":""},{"$f":"IF(Qeydiyyat!K575=\"\",\"\",Qeydiyyat!K575)","v":""},{"$f":"IF(Qeydiyyat!AB575=\"\",\"\",Qeydiyyat!AB575)","v":""},{"$f":"IF(Qeydiyyat!AA575=\"\",\"\",Qeydiyyat!AA575)","v":""},{"$f":"IF(Qeydiyyat!X575=\"\",\"\",Qeydiyyat!X575)","v":""},{"$f":"IF(Qeydiyyat!Y575=\"\",\"\",Qeydiyyat!Y575)","v":""},null,{"$f":"IF(Qeydiyyat!AC575=\"\",\"\",Qeydiyyat!AC575)","v":""}]
[null,327,{"$f":"IF(Qeydiyyat!C576=\"\",\"\",Qeydiyyat!C576)","v":""},{"$f":"IF(Qeydiyyat!B576=\"\",\"\",Qeydiyyat!B576)","v":""},{"$f":"IF(Qeydiyyat!D576=\"\",\"\",Qeydiyyat!D576)","v":""},{"$f":"IF(Qeydiyyat!K576=\"\",\"\",Qeydiyyat!K576)","v":""},{"$f":"IF(Qeydiyyat!AB576=\"\",\"\",Qeydiyyat!AB576)","v":""},{"$f":"IF(Qeydiyyat!AA576=\"\",\"\",Qeydiyyat!AA576)","v":""},{"$f":"IF(Qeydiyyat!X576=\"\",\"\",Qeydiyyat!X576)","v":""},{"$f":"IF(Qeydiyyat!Y576=\"\",\"\",Qeydiyyat!Y576)","v":""},null,{"$f":"IF(Qeydiyyat!AC576=\"\",\"\",Qeydiyyat!AC576)","v":""}]
[null,328,{"$f":"IF(Qeydiyyat!C577=\"\",\"\",Qeydiyyat!C577)","v":""},{"$f":"IF(Qeydiyyat!B577=\"\",\"\",Qeydiyyat!B577)","v":""},{"$f":"IF(Qeydiyyat!D577=\"\",\"\",Qeydiyyat!D577)","v":""},{"$f":"IF(Qeydiyyat!K577=\"\",\"\",Qeydiyyat!K577)","v":""},{"$f":"IF(Qeydiyyat!AB577=\"\",\"\",Qeydiyyat!AB577)","v":""},{"$f":"IF(Qeydiyyat!AA577=\"\",\"\",Qeydiyyat!AA577)","v":""},{"$f":"IF(Qeydiyyat!X577=\"\",\"\",Qeydiyyat!X577)","v":""},{"$f":"IF(Qeydiyyat!Y577=\"\",\"\",Qeydiyyat!Y577)","v":""},null,{"$f":"IF(Qeydiyyat!AC577=\"\",\"\",Qeydiyyat!AC577)","v":""}]
[null,329,{"$f":"IF(Qeydiyyat!C578=\"\",\"\",Qeydiyyat!C578)","v":""},{"$f":"IF(Qeydiyyat!B578=\"\",\"\",Qeydiyyat!B578)","v":""},{"$f":"IF(Qeydiyyat!D578=\"\",\"\",Qeydiyyat!D578)","v":""},{"$f":"IF(Qeydiyyat!K578=\"\",\"\",Qeydiyyat!K578)","v":""},{"$f":"IF(Qeydiyyat!AB578=\"\",\"\",Qeydiyyat!AB578)","v":""},{"$f":"IF(Qeydiyyat!AA578=\"\",\"\",Qeydiyyat!AA578)","v":""},{"$f":"IF(Qeydiyyat!X578=\"\",\"\",Qeydiyyat!X578)","v":""},{"$f":"IF(Qeydiyyat!Y578=\"\",\"\",Qeydiyyat!Y578)","v":""},null,{"$f":"IF(Qeydiyyat!AC578=\"\",\"\",Qeydiyyat!AC578)","v":""}]
[null,330,{"$f":"IF(Qeydiyyat!C579=\"\",\"\",Qeydiyyat!C579)","v":""},{"$f":"IF(Qeydiyyat!B579=\"\",\"\",Qeydiyyat!B579)","v":""},{"$f":"IF(Qeydiyyat!D579=\"\",\"\",Qeydiyyat!D579)","v":""},{"$f":"IF(Qeydiyyat!K579=\"\",\"\",Qeydiyyat!K579)","v":""},{"$f":"IF(Qeydiyyat!AB579=\"\",\"\",Qeydiyyat!AB579)","v":""},{"$f":"IF(Qeydiyyat!AA579=\"\",\"\",Qeydiyyat!AA579)","v":""},{"$f":"IF(Qeydiyyat!X579=\"\",\"\",Qeydiyyat!X579)","v":""},{"$f":"IF(Qeydiyyat!Y579=\"\",\"\",Qeydiyyat!Y579)","v":""},null,{"$f":"IF(Qeydiyyat!AC579=\"\",\"\",Qeydiyyat!AC579)","v":""}]
[null,331,{"$f":"IF(Qeydiyyat!C580=\"\",\"\",Qeydiyyat!C580)","v":""},{"$f":"IF(Qeydiyyat!B580=\"\",\"\",Qeydiyyat!B580)","v":""},{"$f":"IF(Qeydiyyat!D580=\"\",\"\",Qeydiyyat!D580)","v":""},{"$f":"IF(Qeydiyyat!K580=\"\",\"\",Qeydiyyat!K580)","v":""},{"$f":"IF(Qeydiyyat!AB580=\"\",\"\",Qeydiyyat!AB580)","v":""},{"$f":"IF(Qeydiyyat!AA580=\"\",\"\",Qeydiyyat!AA580)","v":""},{"$f":"IF(Qeydiyyat!X580=\"\",\"\",Qeydiyyat!X580)","v":""},{"$f":"IF(Qeydiyyat!Y580=\"\",\"\",Qeydiyyat!Y580)","v":""},null,{"$f":"IF(Qeydiyyat!AC580=\"\",\"\",Qeydiyyat!AC580)","v":""}]
[null,332,{"$f":"IF(Qeydiyyat!C581=\"\",\"\",Qeydiyyat!C581)","v":""},{"$f":"IF(Qeydiyyat!B581=\"\",\"\",Qeydiyyat!B581)","v":""},{"$f":"IF(Qeydiyyat!D581=\"\",\"\",Qeydiyyat!D581)","v":""},{"$f":"IF(Qeydiyyat!K581=\"\",\"\",Qeydiyyat!K581)","v":""},{"$f":"IF(Qeydiyyat!AB581=\"\",\"\",Qeydiyyat!AB581)","v":""},{"$f":"IF(Qeydiyyat!AA581=\"\",\"\",Qeydiyyat!AA581)","v":""},{"$f":"IF(Qeydiyyat!X581=\"\",\"\",Qeydiyyat!X581)","v":""},{"$f":"IF(Qeydiyyat!Y581=\"\",\"\",Qeydiyyat!Y581)","v":""},null,{"$f":"IF(Qeydiyyat!AC581=\"\",\"\",Qeydiyyat!AC581)","v":""}]
[null,333,{"$f":"IF(Qeydiyyat!C582=\"\",\"\",Qeydiyyat!C582)","v":""},{"$f":"IF(Qeydiyyat!B582=\"\",\"\",Qeydiyyat!B582)","v":""},{"$f":"IF(Qeydiyyat!D582=\"\",\"\",Qeydiyyat!D582)","v":""},{"$f":"IF(Qeydiyyat!K582=\"\",\"\",Qeydiyyat!K582)","v":""},{"$f":"IF(Qeydiyyat!AB582=\"\",\"\",Qeydiyyat!AB582)","v":""},{"$f":"IF(Qeydiyyat!AA582=\"\",\"\",Qeydiyyat!AA582)","v":""},{"$f":"IF(Qeydiyyat!X582=\"\",\"\",Qeydiyyat!X582)","v":""},{"$f":"IF(Qeydiyyat!Y582=\"\",\"\",Qeydiyyat!Y582)","v":""},null,{"$f":"IF(Qeydiyyat!AC582=\"\",\"\",Qeydiyyat!AC582)","v":""}]
[null,334,{"$f":"IF(Qeydiyyat!C583=\"\",\"\",Qeydiyyat!C583)","v":""},{"$f":"IF(Qeydiyyat!B583=\"\",\"\",Qeydiyyat!B583)","v":""},{"$f":"IF(Qeydiyyat!D583=\"\",\"\",Qeydiyyat!D583)","v":""},{"$f":"IF(Qeydiyyat!K583=\"\",\"\",Qeydiyyat!K583)","v":""},{"$f":"IF(Qeydiyyat!AB583=\"\",\"\",Qeydiyyat!AB583)","v":""},{"$f":"IF(Qeydiyyat!AA583=\"\",\"\",Qeydiyyat!AA583)","v":""},{"$f":"IF(Qeydiyyat!X583=\"\",\"\",Qeydiyyat!X583)","v":""},{"$f":"IF(Qeydiyyat!Y583=\"\",\"\",Qeydiyyat!Y583)","v":""},null,{"$f":"IF(Qeydiyyat!AC583=\"\",\"\",Qeydiyyat!AC583)","v":""}]
[null,335,{"$f":"IF(Qeydiyyat!C584=\"\",\"\",Qeydiyyat!C584)","v":""},{"$f":"IF(Qeydiyyat!B584=\"\",\"\",Qeydiyyat!B584)","v":""},{"$f":"IF(Qeydiyyat!D584=\"\",\"\",Qeydiyyat!D584)","v":""},{"$f":"IF(Qeydiyyat!K584=\"\",\"\",Qeydiyyat!K584)","v":""},{"$f":"IF(Qeydiyyat!AB584=\"\",\"\",Qeydiyyat!AB584)","v":""},{"$f":"IF(Qeydiyyat!AA584=\"\",\"\",Qeydiyyat!AA584)","v":""},{"$f":"IF(Qeydiyyat!X584=\"\",\"\",Qeydiyyat!X584)","v":""},{"$f":"IF(Qeydiyyat!Y584=\"\",\"\",Qeydiyyat!Y584)","v":""},null,{"$f":"IF(Qeydiyyat!AC584=\"\",\"\",Qeydiyyat!AC584)","v":""}]
[null,336,{"$f":"IF(Qeydiyyat!C585=\"\",\"\",Qeydiyyat!C585)","v":""},{"$f":"IF(Qeydiyyat!B585=\"\",\"\",Qeydiyyat!B585)","v":""},{"$f":"IF(Qeydiyyat!D585=\"\",\"\",Qeydiyyat!D585)","v":""},{"$f":"IF(Qeydiyyat!K585=\"\",\"\",Qeydiyyat!K585)","v":""},{"$f":"IF(Qeydiyyat!AB585=\"\",\"\",Qeydiyyat!AB585)","v":""},{"$f":"IF(Qeydiyyat!AA585=\"\",\"\",Qeydiyyat!AA585)","v":""},{"$f":"IF(Qeydiyyat!X585=\"\",\"\",Qeydiyyat!X585)","v":""},{"$f":"IF(Qeydiyyat!Y585=\"\",\"\",Qeydiyyat!Y585)","v":""},null,{"$f":"IF(Qeydiyyat!AC585=\"\",\"\",Qeydiyyat!AC585)","v":""}]
[null,337,{"$f":"IF(Qeydiyyat!C586=\"\",\"\",Qeydiyyat!C586)","v":""},{"$f":"IF(Qeydiyyat!B586=\"\",\"\",Qeydiyyat!B586)","v":""},{"$f":"IF(Qeydiyyat!D586=\"\",\"\",Qeydiyyat!D586)","v":""},{"$f":"IF(Qeydiyyat!K586=\"\",\"\",Qeydiyyat!K586)","v":""},{"$f":"IF(Qeydiyyat!AB586=\"\",\"\",Qeydiyyat!AB586)","v":""},{"$f":"IF(Qeydiyyat!AA586=\"\",\"\",Qeydiyyat!AA586)","v":""},{"$f":"IF(Qeydiyyat!X586=\"\",\"\",Qeydiyyat!X586)","v":""},{"$f":"IF(Qeydiyyat!Y586=\"\",\"\",Qeydiyyat!Y586)","v":""},null,{"$f":"IF(Qeydiyyat!AC586=\"\",\"\",Qeydiyyat!AC586)","v":""}]
[null,338,{"$f":"IF(Qeydiyyat!C587=\"\",\"\",Qeydiyyat!C587)","v":""},{"$f":"IF(Qeydiyyat!B587=\"\",\"\",Qeydiyyat!B587)","v":""},{"$f":"IF(Qeydiyyat!D587=\"\",\"\",Qeydiyyat!D587)","v":""},{"$f":"IF(Qeydiyyat!K587=\"\",\"\",Qeydiyyat!K587)","v":""},{"$f":"IF(Qeydiyyat!AB587=\"\",\"\",Qeydiyyat!AB587)","v":""},{"$f":"IF(Qeydiyyat!AA587=\"\",\"\",Qeydiyyat!AA587)","v":""},{"$f":"IF(Qeydiyyat!X587=\"\",\"\",Qeydiyyat!X587)","v":""},{"$f":"IF(Qeydiyyat!Y587=\"\",\"\",Qeydiyyat!Y587)","v":""},null,{"$f":"IF(Qeydiyyat!AC587=\"\",\"\",Qeydiyyat!AC587)","v":""}]
[null,339,{"$f":"IF(Qeydiyyat!C588=\"\",\"\",Qeydiyyat!C588)","v":""},{"$f":"IF(Qeydiyyat!B588=\"\",\"\",Qeydiyyat!B588)","v":""},{"$f":"IF(Qeydiyyat!D588=\"\",\"\",Qeydiyyat!D588)","v":""},{"$f":"IF(Qeydiyyat!K588=\"\",\"\",Qeydiyyat!K588)","v":""},{"$f":"IF(Qeydiyyat!AB588=\"\",\"\",Qeydiyyat!AB588)","v":""},{"$f":"IF(Qeydiyyat!AA588=\"\",\"\",Qeydiyyat!AA588)","v":""},{"$f":"IF(Qeydiyyat!X588=\"\",\"\",Qeydiyyat!X588)","v":""},{"$f":"IF(Qeydiyyat!Y588=\"\",\"\",Qeydiyyat!Y588)","v":""},null,{"$f":"IF(Qeydiyyat!AC588=\"\",\"\",Qeydiyyat!AC588)","v":""}]
[null,340,{"$f":"IF(Qeydiyyat!C589=\"\",\"\",Qeydiyyat!C589)","v":""},{"$f":"IF(Qeydiyyat!B589=\"\",\"\",Qeydiyyat!B589)","v":""},{"$f":"IF(Qeydiyyat!D589=\"\",\"\",Qeydiyyat!D589)","v":""},{"$f":"IF(Qeydiyyat!K589=\"\",\"\",Qeydiyyat!K589)","v":""},{"$f":"IF(Qeydiyyat!AB589=\"\",\"\",Qeydiyyat!AB589)","v":""},{"$f":"IF(Qeydiyyat!AA589=\"\",\"\",Qeydiyyat!AA589)","v":""},{"$f":"IF(Qeydiyyat!X589=\"\",\"\",Qeydiyyat!X589)","v":""},{"$f":"IF(Qeydiyyat!Y589=\"\",\"\",Qeydiyyat!Y589)","v":""},null,{"$f":"IF(Qeydiyyat!AC589=\"\",\"\",Qeydiyyat!AC589)","v":""}]
[null,341,{"$f":"IF(Qeydiyyat!C590=\"\",\"\",Qeydiyyat!C590)","v":""},{"$f":"IF(Qeydiyyat!B590=\"\",\"\",Qeydiyyat!B590)","v":""},{"$f":"IF(Qeydiyyat!D590=\"\",\"\",Qeydiyyat!D590)","v":""},{"$f":"IF(Qeydiyyat!K590=\"\",\"\",Qeydiyyat!K590)","v":""},{"$f":"IF(Qeydiyyat!AB590=\"\",\"\",Qeydiyyat!AB590)","v":""},{"$f":"IF(Qeydiyyat!AA590=\"\",\"\",Qeydiyyat!AA590)","v":""},{"$f":"IF(Qeydiyyat!X590=\"\",\"\",Qeydiyyat!X590)","v":""},{"$f":"IF(Qeydiyyat!Y590=\"\",\"\",Qeydiyyat!Y590)","v":""},null,{"$f":"IF(Qeydiyyat!AC590=\"\",\"\",Qeydiyyat!AC590)","v":""}]
[null,342,{"$f":"IF(Qeydiyyat!C591=\"\",\"\",Qeydiyyat!C591)","v":""},{"$f":"IF(Qeydiyyat!B591=\"\",\"\",Qeydiyyat!B591)","v":""},{"$f":"IF(Qeydiyyat!D591=\"\",\"\",Qeydiyyat!D591)","v":""},{"$f":"IF(Qeydiyyat!K591=\"\",\"\",Qeydiyyat!K591)","v":""},{"$f":"IF(Qeydiyyat!AB591=\"\",\"\",Qeydiyyat!AB591)","v":""},{"$f":"IF(Qeydiyyat!AA591=\"\",\"\",Qeydiyyat!AA591)","v":""},{"$f":"IF(Qeydiyyat!X591=\"\",\"\",Qeydiyyat!X591)","v":""},{"$f":"IF(Qeydiyyat!Y591=\"\",\"\",Qeydiyyat!Y591)","v":""},null,{"$f":"IF(Qeydiyyat!AC591=\"\",\"\",Qeydiyyat!AC591)","v":""}]
[null,343,{"$f":"IF(Qeydiyyat!C592=\"\",\"\",Qeydiyyat!C592)","v":""},{"$f":"IF(Qeydiyyat!B592=\"\",\"\",Qeydiyyat!B592)","v":""},{"$f":"IF(Qeydiyyat!D592=\"\",\"\",Qeydiyyat!D592)","v":""},{"$f":"IF(Qeydiyyat!K592=\"\",\"\",Qeydiyyat!K592)","v":""},{"$f":"IF(Qeydiyyat!AB592=\"\",\"\",Qeydiyyat!AB592)","v":""},{"$f":"IF(Qeydiyyat!AA592=\"\",\"\",Qeydiyyat!AA592)","v":""},{"$f":"IF(Qeydiyyat!X592=\"\",\"\",Qeydiyyat!X592)","v":""},{"$f":"IF(Qeydiyyat!Y592=\"\",\"\",Qeydiyyat!Y592)","v":""},null,{"$f":"IF(Qeydiyyat!AC592=\"\",\"\",Qeydiyyat!AC592)","v":""}]
[null,344,{"$f":"IF(Qeydiyyat!C593=\"\",\"\",Qeydiyyat!C593)","v":""},{"$f":"IF(Qeydiyyat!B593=\"\",\"\",Qeydiyyat!B593)","v":""},{"$f":"IF(Qeydiyyat!D593=\"\",\"\",Qeydiyyat!D593)","v":""},{"$f":"IF(Qeydiyyat!K593=\"\",\"\",Qeydiyyat!K593)","v":""},{"$f":"IF(Qeydiyyat!AB593=\"\",\"\",Qeydiyyat!AB593)","v":""},{"$f":"IF(Qeydiyyat!AA593=\"\",\"\",Qeydiyyat!AA593)","v":""},{"$f":"IF(Qeydiyyat!X593=\"\",\"\",Qeydiyyat!X593)","v":""},{"$f":"IF(Qeydiyyat!Y593=\"\",\"\",Qeydiyyat!Y593)","v":""},null,{"$f":"IF(Qeydiyyat!AC593=\"\",\"\",Qeydiyyat!AC593)","v":""}]
[null,345,{"$f":"IF(Qeydiyyat!C594=\"\",\"\",Qeydiyyat!C594)","v":""},{"$f":"IF(Qeydiyyat!B594=\"\",\"\",Qeydiyyat!B594)","v":""},{"$f":"IF(Qeydiyyat!D594=\"\",\"\",Qeydiyyat!D594)","v":""},{"$f":"IF(Qeydiyyat!K594=\"\",\"\",Qeydiyyat!K594)","v":""},{"$f":"IF(Qeydiyyat!AB594=\"\",\"\",Qeydiyyat!AB594)","v":""},{"$f":"IF(Qeydiyyat!AA594=\"\",\"\",Qeydiyyat!AA594)","v":""},{"$f":"IF(Qeydiyyat!X594=\"\",\"\",Qeydiyyat!X594)","v":""},{"$f":"IF(Qeydiyyat!Y594=\"\",\"\",Qeydiyyat!Y594)","v":""},null,{"$f":"IF(Qeydiyyat!AC594=\"\",\"\",Qeydiyyat!AC594)","v":""}]
[null,346,{"$f":"IF(Qeydiyyat!C595=\"\",\"\",Qeydiyyat!C595)","v":""},{"$f":"IF(Qeydiyyat!B595=\"\",\"\",Qeydiyyat!B595)","v":""},{"$f":"IF(Qeydiyyat!D595=\"\",\"\",Qeydiyyat!D595)","v":""},{"$f":"IF(Qeydiyyat!K595=\"\",\"\",Qeydiyyat!K595)","v":""},{"$f":"IF(Qeydiyyat!AB595=\"\",\"\",Qeydiyyat!AB595)","v":""},{"$f":"IF(Qeydiyyat!AA595=\"\",\"\",Qeydiyyat!AA595)","v":""},{"$f":"IF(Qeydiyyat!X595=\"\",\"\",Qeydiyyat!X595)","v":""},{"$f":"IF(Qeydiyyat!Y595=\"\",\"\",Qeydiyyat!Y595)","v":""},null,{"$f":"IF(Qeydiyyat!AC595=\"\",\"\",Qeydiyyat!AC595)","v":""}]
[null,347,{"$f":"IF(Qeydiyyat!C596=\"\",\"\",Qeydiyyat!C596)","v":""},{"$f":"IF(Qeydiyyat!B596=\"\",\"\",Qeydiyyat!B596)","v":""},{"$f":"IF(Qeydiyyat!D596=\"\",\"\",Qeydiyyat!D596)","v":""},{"$f":"IF(Qeydiyyat!K596=\"\",\"\",Qeydiyyat!K596)","v":""},{"$f":"IF(Qeydiyyat!AB596=\"\",\"\",Qeydiyyat!AB596)","v":""},{"$f":"IF(Qeydiyyat!AA596=\"\",\"\",Qeydiyyat!AA596)","v":""},{"$f":"IF(Qeydiyyat!X596=\"\",\"\",Qeydiyyat!X596)","v":""},{"$f":"IF(Qeydiyyat!Y596=\"\",\"\",Qeydiyyat!Y596)","v":""},null,{"$f":"IF(Qeydiyyat!AC596=\"\",\"\",Qeydiyyat!AC596)","v":""}]
[null,348,{"$f":"IF(Qeydiyyat!C597=\"\",\"\",Qeydiyyat!C597)","v":""},{"$f":"IF(Qeydiyyat!B597=\"\",\"\",Qeydiyyat!B597)","v":""},{"$f":"IF(Qeydiyyat!D597=\"\",\"\",Qeydiyyat!D597)","v":""},{"$f":"IF(Qeydiyyat!K597=\"\",\"\",Qeydiyyat!K597)","v":""},{"$f":"IF(Qeydiyyat!AB597=\"\",\"\",Qeydiyyat!AB597)","v":""},{"$f":"IF(Qeydiyyat!AA597=\"\",\"\",Qeydiyyat!AA597)","v":""},{"$f":"IF(Qeydiyyat!X597=\"\",\"\",Qeydiyyat!X597)","v":""},{"$f":"IF(Qeydiyyat!Y597=\"\",\"\",Qeydiyyat!Y597)","v":""},null,{"$f":"IF(Qeydiyyat!AC597=\"\",\"\",Qeydiyyat!AC597)","v":""}]
[null,349,{"$f":"IF(Qeydiyyat!C598=\"\",\"\",Qeydiyyat!C598)","v":""},{"$f":"IF(Qeydiyyat!B598=\"\",\"\",Qeydiyyat!B598)","v":""},{"$f":"IF(Qeydiyyat!D598=\"\",\"\",Qeydiyyat!D598)","v":""},{"$f":"IF(Qeydiyyat!K598=\"\",\"\",Qeydiyyat!K598)","v":""},{"$f":"IF(Qeydiyyat!AB598=\"\",\"\",Qeydiyyat!AB598)","v":""},{"$f":"IF(Qeydiyyat!AA598=\"\",\"\",Qeydiyyat!AA598)","v":""},{"$f":"IF(Qeydiyyat!X598=\"\",\"\",Qeydiyyat!X598)","v":""},{"$f":"IF(Qeydiyyat!Y598=\"\",\"\",Qeydiyyat!Y598)","v":""},null,{"$f":"IF(Qeydiyyat!AC598=\"\",\"\",Qeydiyyat!AC598)","v":""}]
[null,350,{"$f":"IF(Qeydiyyat!C599=\"\",\"\",Qeydiyyat!C599)","v":""},{"$f":"IF(Qeydiyyat!B599=\"\",\"\",Qeydiyyat!B599)","v":""},{"$f":"IF(Qeydiyyat!D599=\"\",\"\",Qeydiyyat!D599)","v":""},{"$f":"IF(Qeydiyyat!K599=\"\",\"\",Qeydiyyat!K599)","v":""},{"$f":"IF(Qeydiyyat!AB599=\"\",\"\",Qeydiyyat!AB599)","v":""},{"$f":"IF(Qeydiyyat!AA599=\"\",\"\",Qeydiyyat!AA599)","v":""},{"$f":"IF(Qeydiyyat!X599=\"\",\"\",Qeydiyyat!X599)","v":""},{"$f":"IF(Qeydiyyat!Y599=\"\",\"\",Qeydiyyat!Y599)","v":""},null,{"$f":"IF(Qeydiyyat!AC599=\"\",\"\",Qeydiyyat!AC599)","v":""}]
[null,351,{"$f":"IF(Qeydiyyat!C600=\"\",\"\",Qeydiyyat!C600)","v":""},{"$f":"IF(Qeydiyyat!B600=\"\",\"\",Qeydiyyat!B600)","v":""},{"$f":"IF(Qeydiyyat!D600=\"\",\"\",Qeydiyyat!D600)","v":""},{"$f":"IF(Qeydiyyat!K600=\"\",\"\",Qeydiyyat!K600)","v":""},{"$f":"IF(Qeydiyyat!AB600=\"\",\"\",Qeydiyyat!AB600)","v":""},{"$f":"IF(Qeydiyyat!AA600=\"\",\"\",Qeydiyyat!AA600)","v":""},{"$f":"IF(Qeydiyyat!X600=\"\",\"\",Qeydiyyat!X600)","v":""},{"$f":"IF(Qeydiyyat!Y600=\"\",\"\",Qeydiyyat!Y600)","v":""},null,{"$f":"IF(Qeydiyyat!AC600=\"\",\"\",Qeydiyyat!AC600)","v":""}]
[null,352,{"$f":"IF(Qeydiyyat!C601=\"\",\"\",Qeydiyyat!C601)","v":""},{"$f":"IF(Qeydiyyat!B601=\"\",\"\",Qeydiyyat!B601)","v":""},{"$f":"IF(Qeydiyyat!D601=\"\",\"\",Qeydiyyat!D601)","v":""},{"$f":"IF(Qeydiyyat!K601=\"\",\"\",Qeydiyyat!K601)","v":""},{"$f":"IF(Qeydiyyat!AB601=\"\",\"\",Qeydiyyat!AB601)","v":""},{"$f":"IF(Qeydiyyat!AA601=\"\",\"\",Qeydiyyat!AA601)","v":""},{"$f":"IF(Qeydiyyat!X601=\"\",\"\",Qeydiyyat!X601)","v":""},{"$f":"IF(Qeydiyyat!Y601=\"\",\"\",Qeydiyyat!Y601)","v":""},null,{"$f":"IF(Qeydiyyat!AC601=\"\",\"\",Qeydiyyat!AC601)","v":""}]
[null,353,{"$f":"IF(Qeydiyyat!C602=\"\",\"\",Qeydiyyat!C602)","v":""},{"$f":"IF(Qeydiyyat!B602=\"\",\"\",Qeydiyyat!B602)","v":""},{"$f":"IF(Qeydiyyat!D602=\"\",\"\",Qeydiyyat!D602)","v":""},{"$f":"IF(Qeydiyyat!K602=\"\",\"\",Qeydiyyat!K602)","v":""},{"$f":"IF(Qeydiyyat!AB602=\"\",\"\",Qeydiyyat!AB602)","v":""},{"$f":"IF(Qeydiyyat!AA602=\"\",\"\",Qeydiyyat!AA602)","v":""},{"$f":"IF(Qeydiyyat!X602=\"\",\"\",Qeydiyyat!X602)","v":""},{"$f":"IF(Qeydiyyat!Y602=\"\",\"\",Qeydiyyat!Y602)","v":""},null,{"$f":"IF(Qeydiyyat!AC602=\"\",\"\",Qeydiyyat!AC602)","v":""}]
[null,354,{"$f":"IF(Qeydiyyat!C603=\"\",\"\",Qeydiyyat!C603)","v":""},{"$f":"IF(Qeydiyyat!B603=\"\",\"\",Qeydiyyat!B603)","v":""},{"$f":"IF(Qeydiyyat!D603=\"\",\"\",Qeydiyyat!D603)","v":""},{"$f":"IF(Qeydiyyat!K603=\"\",\"\",Qeydiyyat!K603)","v":""},{"$f":"IF(Qeydiyyat!AB603=\"\",\"\",Qeydiyyat!AB603)","v":""},{"$f":"IF(Qeydiyyat!AA603=\"\",\"\",Qeydiyyat!AA603)","v":""},{"$f":"IF(Qeydiyyat!X603=\"\",\"\",Qeydiyyat!X603)","v":""},{"$f":"IF(Qeydiyyat!Y603=\"\",\"\",Qeydiyyat!Y603)","v":""},null,{"$f":"IF(Qeydiyyat!AC603=\"\",\"\",Qeydiyyat!AC603)","v":""}]
[null,355,{"$f":"IF(Qeydiyyat!C604=\"\",\"\",Qeydiyyat!C604)","v":""},{"$f":"IF(Qeydiyyat!B604=\"\",\"\",Qeydiyyat!B604)","v":""},{"$f":"IF(Qeydiyyat!D604=\"\",\"\",Qeydiyyat!D604)","v":""},{"$f":"IF(Qeydiyyat!K604=\"\",\"\",Qeydiyyat!K604)","v":""},{"$f":"IF(Qeydiyyat!AB604=\"\",\"\",Qeydiyyat!AB604)","v":""},{"$f":"IF(Qeydiyyat!AA604=\"\",\"\",Qeydiyyat!AA604)","v":""},{"$f":"IF(Qeydiyyat!X604=\"\",\"\",Qeydiyyat!X604)","v":""},{"$f":"IF(Qeydiyyat!Y604=\"\",\"\",Qeydiyyat!Y604)","v":""},null,{"$f":"IF(Qeydiyyat!AC604=\"\",\"\",Qeydiyyat!AC604)","v":""}]
[null,356,{"$f":"IF(Qeydiyyat!C605=\"\",\"\",Qeydiyyat!C605)","v":""},{"$f":"IF(Qeydiyyat!B605=\"\",\"\",Qeydiyyat!B605)","v":""},{"$f":"IF(Qeydiyyat!D605=\"\",\"\",Qeydiyyat!D605)","v":""},{"$f":"IF(Qeydiyyat!K605=\"\",\"\",Qeydiyyat!K605)","v":""},{"$f":"IF(Qeydiyyat!AB605=\"\",\"\",Qeydiyyat!AB605)","v":""},{"$f":"IF(Qeydiyyat!AA605=\"\",\"\",Qeydiyyat!AA605)","v":""},{"$f":"IF(Qeydiyyat!X605=\"\",\"\",Qeydiyyat!X605)","v":""},{"$f":"IF(Qeydiyyat!Y605=\"\",\"\",Qeydiyyat!Y605)","v":""},null,{"$f":"IF(Qeydiyyat!AC605=\"\",\"\",Qeydiyyat!AC605)","v":""}]
[null,357,{"$f":"IF(Qeydiyyat!C606=\"\",\"\",Qeydiyyat!C606)","v":""},{"$f":"IF(Qeydiyyat!B606=\"\",\"\",Qeydiyyat!B606)","v":""},{"$f":"IF(Qeydiyyat!D606=\"\",\"\",Qeydiyyat!D606)","v":""},{"$f":"IF(Qeydiyyat!K606=\"\",\"\",Qeydiyyat!K606)","v":""},{"$f":"IF(Qeydiyyat!AB606=\"\",\"\",Qeydiyyat!AB606)","v":""},{"$f":"IF(Qeydiyyat!AA606=\"\",\"\",Qeydiyyat!AA606)","v":""},{"$f":"IF(Qeydiyyat!X606=\"\",\"\",Qeydiyyat!X606)","v":""},{"$f":"IF(Qeydiyyat!Y606=\"\",\"\",Qeydiyyat!Y606)","v":""},null,{"$f":"IF(Qeydiyyat!AC606=\"\",\"\",Qeydiyyat!AC606)","v":""}]
[null,358,{"$f":"IF(Qeydiyyat!C607=\"\",\"\",Qeydiyyat!C607)","v":""},{"$f":"IF(Qeydiyyat!B607=\"\",\"\",Qeydiyyat!B607)","v":""},{"$f":"IF(Qeydiyyat!D607=\"\",\"\",Qeydiyyat!D607)","v":""},{"$f":"IF(Qeydiyyat!K607=\"\",\"\",Qeydiyyat!K607)","v":""},{"$f":"IF(Qeydiyyat!AB607=\"\",\"\",Qeydiyyat!AB607)","v":""},{"$f":"IF(Qeydiyyat!AA607=\"\",\"\",Qeydiyyat!AA607)","v":""},{"$f":"IF(Qeydiyyat!X607=\"\",\"\",Qeydiyyat!X607)","v":""},{"$f":"IF(Qeydiyyat!Y607=\"\",\"\",Qeydiyyat!Y607)","v":""},null,{"$f":"IF(Qeydiyyat!AC607=\"\",\"\",Qeydiyyat!AC607)","v":""}]
[null,359,{"$f":"IF(Qeydiyyat!C608=\"\",\"\",Qeydiyyat!C608)","v":""},{"$f":"IF(Qeydiyyat!B608=\"\",\"\",Qeydiyyat!B608)","v":""},{"$f":"IF(Qeydiyyat!D608=\"\",\"\",Qeydiyyat!D608)","v":""},{"$f":"IF(Qeydiyyat!K608=\"\",\"\",Qeydiyyat!K608)","v":""},{"$f":"IF(Qeydiyyat!AB608=\"\",\"\",Qeydiyyat!AB608)","v":""},{"$f":"IF(Qeydiyyat!AA608=\"\",\"\",Qeydiyyat!AA608)","v":""},{"$f":"IF(Qeydiyyat!X608=\"\",\"\",Qeydiyyat!X608)","v":""},{"$f":"IF(Qeydiyyat!Y608=\"\",\"\",Qeydiyyat!Y608)","v":""},null,{"$f":"IF(Qeydiyyat!AC608=\"\",\"\",Qeydiyyat!AC608)","v":""}]
[null,360,{"$f":"IF(Qeydiyyat!C609=\"\",\"\",Qeydiyyat!C609)","v":""},{"$f":"IF(Qeydiyyat!B609=\"\",\"\",Qeydiyyat!B609)","v":""},{"$f":"IF(Qeydiyyat!D609=\"\",\"\",Qeydiyyat!D609)","v":""},{"$f":"IF(Qeydiyyat!K609=\"\",\"\",Qeydiyyat!K609)","v":""},{"$f":"IF(Qeydiyyat!AB609=\"\",\"\",Qeydiyyat!AB609)","v":""},{"$f":"IF(Qeydiyyat!AA609=\"\",\"\",Qeydiyyat!AA609)","v":""},{"$f":"IF(Qeydiyyat!X609=\"\",\"\",Qeydiyyat!X609)","v":""},{"$f":"IF(Qeydiyyat!Y609=\"\",\"\",Qeydiyyat!Y609)","v":""},null,{"$f":"IF(Qeydiyyat!AC609=\"\",\"\",Qeydiyyat!AC609)","v":""}]
[null,361,{"$f":"IF(Qeydiyyat!C610=\"\",\"\",Qeydiyyat!C610)","v":""},{"$f":"IF(Qeydiyyat!B610=\"\",\"\",Qeydiyyat!B610)","v":""},{"$f":"IF(Qeydiyyat!D610=\"\",\"\",Qeydiyyat!D610)","v":""},{"$f":"IF(Qeydiyyat!K610=\"\",\"\",Qeydiyyat!K610)","v":""},{"$f":"IF(Qeydiyyat!AB610=\"\",\"\",Qeydiyyat!AB610)","v":""},{"$f":"IF(Qeydiyyat!AA610=\"\",\"\",Qeydiyyat!AA610)","v":""},{"$f":"IF(Qeydiyyat!X610=\"\",\"\",Qeydiyyat!X610)","v":""},{"$f":"IF(Qeydiyyat!Y610=\"\",\"\",Qeydiyyat!Y610)","v":""},null,{"$f":"IF(Qeydiyyat!AC610=\"\",\"\",Qeydiyyat!AC610)","v":""}]
[null,362,{"$f":"IF(Qeydiyyat!C611=\"\",\"\",Qeydiyyat!C611)","v":""},{"$f":"IF(Qeydiyyat!B611=\"\",\"\",Qeydiyyat!B611)","v":""},{"$f":"IF(Qeydiyyat!D611=\"\",\"\",Qeydiyyat!D611)","v":""},{"$f":"IF(Qeydiyyat!K611=\"\",\"\",Qeydiyyat!K611)","v":""},{"$f":"IF(Qeydiyyat!AB611=\"\",\"\",Qeydiyyat!AB611)","v":""},{"$f":"IF(Qeydiyyat!AA611=\"\",\"\",Qeydiyyat!AA611)","v":""},{"$f":"IF(Qeydiyyat!X611=\"\",\"\",Qeydiyyat!X611)","v":""},{"$f":"IF(Qeydiyyat!Y611=\"\",\"\",Qeydiyyat!Y611)","v":""},null,{"$f":"IF(Qeydiyyat!AC611=\"\",\"\",Qeydiyyat!AC611)","v":""}]
[null,363,{"$f":"IF(Qeydiyyat!C612=\"\",\"\",Qeydiyyat!C612)","v":""},{"$f":"IF(Qeydiyyat!B612=\"\",\"\",Qeydiyyat!B612)","v":""},{"$f":"IF(Qeydiyyat!D612=\"\",\"\",Qeydiyyat!D612)","v":""},{"$f":"IF(Qeydiyyat!K612=\"\",\"\",Qeydiyyat!K612)","v":""},{"$f":"IF(Qeydiyyat!AB612=\"\",\"\",Qeydiyyat!AB612)","v":""},{"$f":"IF(Qeydiyyat!AA612=\"\",\"\",Qeydiyyat!AA612)","v":""},{"$f":"IF(Qeydiyyat!X612=\"\",\"\",Qeydiyyat!X612)","v":""},{"$f":"IF(Qeydiyyat!Y612=\"\",\"\",Qeydiyyat!Y612)","v":""},null,{"$f":"IF(Qeydiyyat!AC612=\"\",\"\",Qeydiyyat!AC612)","v":""}]
[null,364,{"$f":"IF(Qeydiyyat!C613=\"\",\"\",Qeydiyyat!C613)","v":""},{"$f":"IF(Qeydiyyat!B613=\"\",\"\",Qeydiyyat!B613)","v":""},{"$f":"IF(Qeydiyyat!D613=\"\",\"\",Qeydiyyat!D613)","v":""},{"$f":"IF(Qeydiyyat!K613=\"\",\"\",Qeydiyyat!K613)","v":""},{"$f":"IF(Qeydiyyat!AB613=\"\",\"\",Qeydiyyat!AB613)","v":""},{"$f":"IF(Qeydiyyat!AA613=\"\",\"\",Qeydiyyat!AA613)","v":""},{"$f":"IF(Qeydiyyat!X613=\"\",\"\",Qeydiyyat!X613)","v":""},{"$f":"IF(Qeydiyyat!Y613=\"\",\"\",Qeydiyyat!Y613)","v":""},null,{"$f":"IF(Qeydiyyat!AC613=\"\",\"\",Qeydiyyat!AC613)","v":""}]
[null,365,{"$f":"IF(Qeydiyyat!C614=\"\",\"\",Qeydiyyat!C614)","v":""},{"$f":"IF(Qeydiyyat!B614=\"\",\"\",Qeydiyyat!B614)","v":""},{"$f":"IF(Qeydiyyat!D614=\"\",\"\",Qeydiyyat!D614)","v":""},{"$f":"IF(Qeydiyyat!K614=\"\",\"\",Qeydiyyat!K614)","v":""},{"$f":"IF(Qeydiyyat!AB614=\"\",\"\",Qeydiyyat!AB614)","v":""},{"$f":"IF(Qeydiyyat!AA614=\"\",\"\",Qeydiyyat!AA614)","v":""},{"$f":"IF(Qeydiyyat!X614=\"\",\"\",Qeydiyyat!X614)","v":""},{"$f":"IF(Qeydiyyat!Y614=\"\",\"\",Qeydiyyat!Y614)","v":""},null,{"$f":"IF(Qeydiyyat!AC614=\"\",\"\",Qeydiyyat!AC614)","v":""}]
[null,366,{"$f":"IF(Qeydiyyat!C615=\"\",\"\",Qeydiyyat!C615)","v":""},{"$f":"IF(Qeydiyyat!B615=\"\",\"\",Qeydiyyat!B615)","v":""},{"$f":"IF(Qeydiyyat!D615=\"\",\"\",Qeydiyyat!D615)","v":""},{"$f":"IF(Qeydiyyat!K615=\"\",\"\",Qeydiyyat!K615)","v":""},{"$f":"IF(Qeydiyyat!AB615=\"\",\"\",Qeydiyyat!AB615)","v":""},{"$f":"IF(Qeydiyyat!AA615=\"\",\"\",Qeydiyyat!AA615)","v":""},{"$f":"IF(Qeydiyyat!X615=\"\",\"\",Qeydiyyat!X615)","v":""},{"$f":"IF(Qeydiyyat!Y615=\"\",\"\",Qeydiyyat!Y615)","v":""},null,{"$f":"IF(Qeydiyyat!AC615=\"\",\"\",Qeydiyyat!AC615)","v":""}]
[null,367,{"$f":"IF(Qeydiyyat!C616=\"\",\"\",Qeydiyyat!C616)","v":""},{"$f":"IF(Qeydiyyat!B616=\"\",\"\",Qeydiyyat!B616)","v":""},{"$f":"IF(Qeydiyyat!D616=\"\",\"\",Qeydiyyat!D616)","v":""},{"$f":"IF(Qeydiyyat!K616=\"\",\"\",Qeydiyyat!K616)","v":""},{"$f":"IF(Qeydiyyat!AB616=\"\",\"\",Qeydiyyat!AB616)","v":""},{"$f":"IF(Qeydiyyat!AA616=\"\",\"\",Qeydiyyat!AA616)","v":""},{"$f":"IF(Qeydiyyat!X616=\"\",\"\",Qeydiyyat!X616)","v":""},{"$f":"IF(Qeydiyyat!Y616=\"\",\"\",Qeydiyyat!Y616)","v":""},null,{"$f":"IF(Qeydiyyat!AC616=\"\",\"\",Qeydiyyat!AC616)","v":""}]
[null,368,{"$f":"IF(Qeydiyyat!C617=\"\",\"\",Qeydiyyat!C617)","v":""},{"$f":"IF(Qeydiyyat!B617=\"\",\"\",Qeydiyyat!B617)","v":""},{"$f":"IF(Qeydiyyat!D617=\"\",\"\",Qeydiyyat!D617)","v":""},{"$f":"IF(Qeydiyyat!K617=\"\",\"\",Qeydiyyat!K617)","v":""},{"$f":"IF(Qeydiyyat!AB617=\"\",\"\",Qeydiyyat!AB617)","v":""},{"$f":"IF(Qeydiyyat!AA617=\"\",\"\",Qeydiyyat!AA617)","v":""},{"$f":"IF(Qeydiyyat!X617=\"\",\"\",Qeydiyyat!X617)","v":""},{"$f":"IF(Qeydiyyat!Y617=\"\",\"\",Qeydiyyat!Y617)","v":""},null,{"$f":"IF(Qeydiyyat!AC617=\"\",\"\",Qeydiyyat!AC617)","v":""}]
[null,369,{"$f":"IF(Qeydiyyat!C618=\"\",\"\",Qeydiyyat!C618)","v":""},{"$f":"IF(Qeydiyyat!B618=\"\",\"\",Qeydiyyat!B618)","v":""},{"$f":"IF(Qeydiyyat!D618=\"\",\"\",Qeydiyyat!D618)","v":""},{"$f":"IF(Qeydiyyat!K618=\"\",\"\",Qeydiyyat!K618)","v":""},{"$f":"IF(Qeydiyyat!AB618=\"\",\"\",Qeydiyyat!AB618)","v":""},{"$f":"IF(Qeydiyyat!AA618=\"\",\"\",Qeydiyyat!AA618)","v":""},{"$f":"IF(Qeydiyyat!X618=\"\",\"\",Qeydiyyat!X618)","v":""},{"$f":"IF(Qeydiyyat!Y618=\"\",\"\",Qeydiyyat!Y618)","v":""},null,{"$f":"IF(Qeydiyyat!AC618=\"\",\"\",Qeydiyyat!AC618)","v":""}]
[null,370,{"$f":"IF(Qeydiyyat!C619=\"\",\"\",Qeydiyyat!C619)","v":""},{"$f":"IF(Qeydiyyat!B619=\"\",\"\",Qeydiyyat!B619)","v":""},{"$f":"IF(Qeydiyyat!D619=\"\",\"\",Qeydiyyat!D619)","v":""},{"$f":"IF(Qeydiyyat!K619=\"\",\"\",Qeydiyyat!K619)","v":""},{"$f":"IF(Qeydiyyat!AB619=\"\",\"\",Qeydiyyat!AB619)","v":""},{"$f":"IF(Qeydiyyat!AA619=\"\",\"\",Qeydiyyat!AA619)","v":""},{"$f":"IF(Qeydiyyat!X619=\"\",\"\",Qeydiyyat!X619)","v":""},{"$f":"IF(Qeydiyyat!Y619=\"\",\"\",Qeydiyyat!Y619)","v":""},null,{"$f":"IF(Qeydiyyat!AC619=\"\",\"\",Qeydiyyat!AC619)","v":""}]
[null,371,{"$f":"IF(Qeydiyyat!C620=\"\",\"\",Qeydiyyat!C620)","v":""},{"$f":"IF(Qeydiyyat!B620=\"\",\"\",Qeydiyyat!B620)","v":""},{"$f":"IF(Qeydiyyat!D620=\"\",\"\",Qeydiyyat!D620)","v":""},{"$f":"IF(Qeydiyyat!K620=\"\",\"\",Qeydiyyat!K620)","v":""},{"$f":"IF(Qeydiyyat!AB620=\"\",\"\",Qeydiyyat!AB620)","v":""},{"$f":"IF(Qeydiyyat!AA620=\"\",\"\",Qeydiyyat!AA620)","v":""},{"$f":"IF(Qeydiyyat!X620=\"\",\"\",Qeydiyyat!X620)","v":""},{"$f":"IF(Qeydiyyat!Y620=\"\",\"\",Qeydiyyat!Y620)","v":""},null,{"$f":"IF(Qeydiyyat!AC620=\"\",\"\",Qeydiyyat!AC620)","v":""}]
[null,372,{"$f":"IF(Qeydiyyat!C621=\"\",\"\",Qeydiyyat!C621)","v":""},{"$f":"IF(Qeydiyyat!B621=\"\",\"\",Qeydiyyat!B621)","v":""},{"$f":"IF(Qeydiyyat!D621=\"\",\"\",Qeydiyyat!D621)","v":""},{"$f":"IF(Qeydiyyat!K621=\"\",\"\",Qeydiyyat!K621)","v":""},{"$f":"IF(Qeydiyyat!AB621=\"\",\"\",Qeydiyyat!AB621)","v":""},{"$f":"IF(Qeydiyyat!AA621=\"\",\"\",Qeydiyyat!AA621)","v":""},{"$f":"IF(Qeydiyyat!X621=\"\",\"\",Qeydiyyat!X621)","v":""},{"$f":"IF(Qeydiyyat!Y621=\"\",\"\",Qeydiyyat!Y621)","v":""},null,{"$f":"IF(Qeydiyyat!AC621=\"\",\"\",Qeydiyyat!AC621)","v":""}]
[null,373,{"$f":"IF(Qeydiyyat!C622=\"\",\"\",Qeydiyyat!C622)","v":""},{"$f":"IF(Qeydiyyat!B622=\"\",\"\",Qeydiyyat!B622)","v":""},{"$f":"IF(Qeydiyyat!D622=\"\",\"\",Qeydiyyat!D622)","v":""},{"$f":"IF(Qeydiyyat!K622=\"\",\"\",Qeydiyyat!K622)","v":""},{"$f":"IF(Qeydiyyat!AB622=\"\",\"\",Qeydiyyat!AB622)","v":""},{"$f":"IF(Qeydiyyat!AA622=\"\",\"\",Qeydiyyat!AA622)","v":""},{"$f":"IF(Qeydiyyat!X622=\"\",\"\",Qeydiyyat!X622)","v":""},{"$f":"IF(Qeydiyyat!Y622=\"\",\"\",Qeydiyyat!Y622)","v":""},null,{"$f":"IF(Qeydiyyat!AC622=\"\",\"\",Qeydiyyat!AC622)","v":""}]
[null,374,{"$f":"IF(Qeydiyyat!C623=\"\",\"\",Qeydiyyat!C623)","v":""},{"$f":"IF(Qeydiyyat!B623=\"\",\"\",Qeydiyyat!B623)","v":""},{"$f":"IF(Qeydiyyat!D623=\"\",\"\",Qeydiyyat!D623)","v":""},{"$f":"IF(Qeydiyyat!K623=\"\",\"\",Qeydiyyat!K623)","v":""},{"$f":"IF(Qeydiyyat!AB623=\"\",\"\",Qeydiyyat!AB623)","v":""},{"$f":"IF(Qeydiyyat!AA623=\"\",\"\",Qeydiyyat!AA623)","v":""},{"$f":"IF(Qeydiyyat!X623=\"\",\"\",Qeydiyyat!X623)","v":""},{"$f":"IF(Qeydiyyat!Y623=\"\",\"\",Qeydiyyat!Y623)","v":""},null,{"$f":"IF(Qeydiyyat!AC623=\"\",\"\",Qeydiyyat!AC623)","v":""}]
[null,375,{"$f":"IF(Qeydiyyat!C624=\"\",\"\",Qeydiyyat!C624)","v":""},{"$f":"IF(Qeydiyyat!B624=\"\",\"\",Qeydiyyat!B624)","v":""},{"$f":"IF(Qeydiyyat!D624=\"\",\"\",Qeydiyyat!D624)","v":""},{"$f":"IF(Qeydiyyat!K624=\"\",\"\",Qeydiyyat!K624)","v":""},{"$f":"IF(Qeydiyyat!AB624=\"\",\"\",Qeydiyyat!AB624)","v":""},{"$f":"IF(Qeydiyyat!AA624=\"\",\"\",Qeydiyyat!AA624)","v":""},{"$f":"IF(Qeydiyyat!X624=\"\",\"\",Qeydiyyat!X624)","v":""},{"$f":"IF(Qeydiyyat!Y624=\"\",\"\",Qeydiyyat!Y624)","v":""},null,{"$f":"IF(Qeydiyyat!AC624=\"\",\"\",Qeydiyyat!AC624)","v":""}]
[null,376,{"$f":"IF(Qeydiyyat!C625=\"\",\"\",Qeydiyyat!C625)","v":""},{"$f":"IF(Qeydiyyat!B625=\"\",\"\",Qeydiyyat!B625)","v":""},{"$f":"IF(Qeydiyyat!D625=\"\",\"\",Qeydiyyat!D625)","v":""},{"$f":"IF(Qeydiyyat!K625=\"\",\"\",Qeydiyyat!K625)","v":""},{"$f":"IF(Qeydiyyat!AB625=\"\",\"\",Qeydiyyat!AB625)","v":""},{"$f":"IF(Qeydiyyat!AA625=\"\",\"\",Qeydiyyat!AA625)","v":""},{"$f":"IF(Qeydiyyat!X625=\"\",\"\",Qeydiyyat!X625)","v":""},{"$f":"IF(Qeydiyyat!Y625=\"\",\"\",Qeydiyyat!Y625)","v":""},null,{"$f":"IF(Qeydiyyat!AC625=\"\",\"\",Qeydiyyat!AC625)","v":""}]
[null,377,{"$f":"IF(Qeydiyyat!C626=\"\",\"\",Qeydiyyat!C626)","v":""},{"$f":"IF(Qeydiyyat!B626=\"\",\"\",Qeydiyyat!B626)","v":""},{"$f":"IF(Qeydiyyat!D626=\"\",\"\",Qeydiyyat!D626)","v":""},{"$f":"IF(Qeydiyyat!K626=\"\",\"\",Qeydiyyat!K626)","v":""},{"$f":"IF(Qeydiyyat!AB626=\"\",\"\",Qeydiyyat!AB626)","v":""},{"$f":"IF(Qeydiyyat!AA626=\"\",\"\",Qeydiyyat!AA626)","v":""},{"$f":"IF(Qeydiyyat!X626=\"\",\"\",Qeydiyyat!X626)","v":""},{"$f":"IF(Qeydiyyat!Y626=\"\",\"\",Qeydiyyat!Y626)","v":""},null,{"$f":"IF(Qeydiyyat!AC626=\"\",\"\",Qeydiyyat!AC626)","v":""}]
[null,378,{"$f":"IF(Qeydiyyat!C627=\"\",\"\",Qeydiyyat!C627)","v":""},{"$f":"IF(Qeydiyyat!B627=\"\",\"\",Qeydiyyat!B627)","v":""},{"$f":"IF(Qeydiyyat!D627=\"\",\"\",Qeydiyyat!D627)","v":""},{"$f":"IF(Qeydiyyat!K627=\"\",\"\",Qeydiyyat!K627)","v":""},{"$f":"IF(Qeydiyyat!AB627=\"\",\"\",Qeydiyyat!AB627)","v":""},{"$f":"IF(Qeydiyyat!AA627=\"\",\"\",Qeydiyyat!AA627)","v":""},{"$f":"IF(Qeydiyyat!X627=\"\",\"\",Qeydiyyat!X627)","v":""},{"$f":"IF(Qeydiyyat!Y627=\"\",\"\",Qeydiyyat!Y627)","v":""},null,{"$f":"IF(Qeydiyyat!AC627=\"\",\"\",Qeydiyyat!AC627)","v":""}]
[null,379,{"$f":"IF(Qeydiyyat!C628=\"\",\"\",Qeydiyyat!C628)","v":""},{"$f":"IF(Qeydiyyat!B628=\"\",\"\",Qeydiyyat!B628)","v":""},{"$f":"IF(Qeydiyyat!D628=\"\",\"\",Qeydiyyat!D628)","v":""},{"$f":"IF(Qeydiyyat!K628=\"\",\"\",Qeydiyyat!K628)","v":""},{"$f":"IF(Qeydiyyat!AB628=\"\",\"\",Qeydiyyat!AB628)","v":""},{"$f":"IF(Qeydiyyat!AA628=\"\",\"\",Qeydiyyat!AA628)","v":""},{"$f":"IF(Qeydiyyat!X628=\"\",\"\",Qeydiyyat!X628)","v":""},{"$f":"IF(Qeydiyyat!Y628=\"\",\"\",Qeydiyyat!Y628)","v":""},null,{"$f":"IF(Qeydiyyat!AC628=\"\",\"\",Qeydiyyat!AC628)","v":""}]
[null,380,{"$f":"IF(Qeydiyyat!C629=\"\",\"\",Qeydiyyat!C629)","v":""},{"$f":"IF(Qeydiyyat!B629=\"\",\"\",Qeydiyyat!B629)","v":""},{"$f":"IF(Qeydiyyat!D629=\"\",\"\",Qeydiyyat!D629)","v":""},{"$f":"IF(Qeydiyyat!K629=\"\",\"\",Qeydiyyat!K629)","v":""},{"$f":"IF(Qeydiyyat!AB629=\"\",\"\",Qeydiyyat!AB629)","v":""},{"$f":"IF(Qeydiyyat!AA629=\"\",\"\",Qeydiyyat!AA629)","v":""},{"$f":"IF(Qeydiyyat!X629=\"\",\"\",Qeydiyyat!X629)","v":""},{"$f":"IF(Qeydiyyat!Y629=\"\",\"\",Qeydiyyat!Y629)","v":""},null,{"$f":"IF(Qeydiyyat!AC629=\"\",\"\",Qeydiyyat!AC629)","v":""}]
[null,381,{"$f":"IF(Qeydiyyat!C630=\"\",\"\",Qeydiyyat!C630)","v":""},{"$f":"IF(Qeydiyyat!B630=\"\",\"\",Qeydiyyat!B630)","v":""},{"$f":"IF(Qeydiyyat!D630=\"\",\"\",Qeydiyyat!D630)","v":""},{"$f":"IF(Qeydiyyat!K630=\"\",\"\",Qeydiyyat!K630)","v":""},{"$f":"IF(Qeydiyyat!AB630=\"\",\"\",Qeydiyyat!AB630)","v":""},{"$f":"IF(Qeydiyyat!AA630=\"\",\"\",Qeydiyyat!AA630)","v":""},{"$f":"IF(Qeydiyyat!X630=\"\",\"\",Qeydiyyat!X630)","v":""},{"$f":"IF(Qeydiyyat!Y630=\"\",\"\",Qeydiyyat!Y630)","v":""},null,{"$f":"IF(Qeydiyyat!AC630=\"\",\"\",Qeydiyyat!AC630)","v":""}]
[null,382,{"$f":"IF(Qeydiyyat!C631=\"\",\"\",Qeydiyyat!C631)","v":""},{"$f":"IF(Qeydiyyat!B631=\"\",\"\",Qeydiyyat!B631)","v":""},{"$f":"IF(Qeydiyyat!D631=\"\",\"\",Qeydiyyat!D631)","v":""},{"$f":"IF(Qeydiyyat!K631=\"\",\"\",Qeydiyyat!K631)","v":""},{"$f":"IF(Qeydiyyat!AB631=\"\",\"\",Qeydiyyat!AB631)","v":""},{"$f":"IF(Qeydiyyat!AA631=\"\",\"\",Qeydiyyat!AA631)","v":""},{"$f":"IF(Qeydiyyat!X631=\"\",\"\",Qeydiyyat!X631)","v":""},{"$f":"IF(Qeydiyyat!Y631=\"\",\"\",Qeydiyyat!Y631)","v":""},null,{"$f":"IF(Qeydiyyat!AC631=\"\",\"\",Qeydiyyat!AC631)","v":""}]
[null,383,{"$f":"IF(Qeydiyyat!C632=\"\",\"\",Qeydiyyat!C632)","v":""},{"$f":"IF(Qeydiyyat!B632=\"\",\"\",Qeydiyyat!B632)","v":""},{"$f":"IF(Qeydiyyat!D632=\"\",\"\",Qeydiyyat!D632)","v":""},{"$f":"IF(Qeydiyyat!K632=\"\",\"\",Qeydiyyat!K632)","v":""},{"$f":"IF(Qeydiyyat!AB632=\"\",\"\",Qeydiyyat!AB632)","v":""},{"$f":"IF(Qeydiyyat!AA632=\"\",\"\",Qeydiyyat!AA632)","v":""},{"$f":"IF(Qeydiyyat!X632=\"\",\"\",Qeydiyyat!X632)","v":""},{"$f":"IF(Qeydiyyat!Y632=\"\",\"\",Qeydiyyat!Y632)","v":""},null,{"$f":"IF(Qeydiyyat!AC632=\"\",\"\",Qeydiyyat!AC632)","v":""}]
[null,384,{"$f":"IF(Qeydiyyat!C633=\"\",\"\",Qeydiyyat!C633)","v":""},{"$f":"IF(Qeydiyyat!B633=\"\",\"\",Qeydiyyat!B633)","v":""},{"$f":"IF(Qeydiyyat!D633=\"\",\"\",Qeydiyyat!D633)","v":""},{"$f":"IF(Qeydiyyat!K633=\"\",\"\",Qeydiyyat!K633)","v":""},{"$f":"IF(Qeydiyyat!AB633=\"\",\"\",Qeydiyyat!AB633)","v":""},{"$f":"IF(Qeydiyyat!AA633=\"\",\"\",Qeydiyyat!AA633)","v":""},{"$f":"IF(Qeydiyyat!X633=\"\",\"\",Qeydiyyat!X633)","v":""},{"$f":"IF(Qeydiyyat!Y633=\"\",\"\",Qeydiyyat!Y633)","v":""},null,{"$f":"IF(Qeydiyyat!AC633=\"\",\"\",Qeydiyyat!AC633)","v":""}]
[null,385,{"$f":"IF(Qeydiyyat!C634=\"\",\"\",Qeydiyyat!C634)","v":""},{"$f":"IF(Qeydiyyat!B634=\"\",\"\",Qeydiyyat!B634)","v":""},{"$f":"IF(Qeydiyyat!D634=\"\",\"\",Qeydiyyat!D634)","v":""},{"$f":"IF(Qeydiyyat!K634=\"\",\"\",Qeydiyyat!K634)","v":""},{"$f":"IF(Qeydiyyat!AB634=\"\",\"\",Qeydiyyat!AB634)","v":""},{"$f":"IF(Qeydiyyat!AA634=\"\",\"\",Qeydiyyat!AA634)","v":""},{"$f":"IF(Qeydiyyat!X634=\"\",\"\",Qeydiyyat!X634)","v":""},{"$f":"IF(Qeydiyyat!Y634=\"\",\"\",Qeydiyyat!Y634)","v":""},null,{"$f":"IF(Qeydiyyat!AC634=\"\",\"\",Qeydiyyat!AC634)","v":""}]
[null,386,{"$f":"IF(Qeydiyyat!C635=\"\",\"\",Qeydiyyat!C635)","v":""},{"$f":"IF(Qeydiyyat!B635=\"\",\"\",Qeydiyyat!B635)","v":""},{"$f":"IF(Qeydiyyat!D635=\"\",\"\",Qeydiyyat!D635)","v":""},{"$f":"IF(Qeydiyyat!K635=\"\",\"\",Qeydiyyat!K635)","v":""},{"$f":"IF(Qeydiyyat!AB635=\"\",\"\",Qeydiyyat!AB635)","v":""},{"$f":"IF(Qeydiyyat!AA635=\"\",\"\",Qeydiyyat!AA635)","v":""},{"$f":"IF(Qeydiyyat!X635=\"\",\"\",Qeydiyyat!X635)","v":""},{"$f":"IF(Qeydiyyat!Y635=\"\",\"\",Qeydiyyat!Y635)","v":""},null,{"$f":"IF(Qeydiyyat!AC635=\"\",\"\",Qeydiyyat!AC635)","v":""}]
[null,387,{"$f":"IF(Qeydiyyat!C636=\"\",\"\",Qeydiyyat!C636)","v":""},{"$f":"IF(Qeydiyyat!B636=\"\",\"\",Qeydiyyat!B636)","v":""},{"$f":"IF(Qeydiyyat!D636=\"\",\"\",Qeydiyyat!D636)","v":""},{"$f":"IF(Qeydiyyat!K636=\"\",\"\",Qeydiyyat!K636)","v":""},{"$f":"IF(Qeydiyyat!AB636=\"\",\"\",Qeydiyyat!AB636)","v":""},{"$f":"IF(Qeydiyyat!AA636=\"\",\"\",Qeydiyyat!AA636)","v":""},{"$f":"IF(Qeydiyyat!X636=\"\",\"\",Qeydiyyat!X636)","v":""},{"$f":"IF(Qeydiyyat!Y636=\"\",\"\",Qeydiyyat!Y636)","v":""},null,{"$f":"IF(Qeydiyyat!AC636=\"\",\"\",Qeydiyyat!AC636)","v":""}]
[null,388,{"$f":"IF(Qeydiyyat!C637=\"\",\"\",Qeydiyyat!C637)","v":""},{"$f":"IF(Qeydiyyat!B637=\"\",\"\",Qeydiyyat!B637)","v":""},{"$f":"IF(Qeydiyyat!D637=\"\",\"\",Qeydiyyat!D637)","v":""},{"$f":"IF(Qeydiyyat!K637=\"\",\"\",Qeydiyyat!K637)","v":""},{"$f":"IF(Qeydiyyat!AB637=\"\",\"\",Qeydiyyat!AB637)","v":""},{"$f":"IF(Qeydiyyat!AA637=\"\",\"\",Qeydiyyat!AA637)","v":""},{"$f":"IF(Qeydiyyat!X637=\"\",\"\",Qeydiyyat!X637)","v":""},{"$f":"IF(Qeydiyyat!Y637=\"\",\"\",Qeydiyyat!Y637)","v":""},null,{"$f":"IF(Qeydiyyat!AC637=\"\",\"\",Qeydiyyat!AC637)","v":""}]
[null,{"$f":"B406+1","v":389},{"$f":"IF(Qeydiyyat!C638=\"\",\"\",Qeydiyyat!C638)","v":""},{"$f":"IF(Qeydiyyat!B638=\"\",\"\",Qeydiyyat!B638)","v":""},{"$f":"IF(Qeydiyyat!D638=\"\",\"\",Qeydiyyat!D638)","v":""},{"$f":"IF(Qeydiyyat!K638=\"\",\"\",Qeydiyyat!K638)","v":""},{"$f":"IF(Qeydiyyat!AB638=\"\",\"\",Qeydiyyat!AB638)","v":""},{"$f":"IF(Qeydiyyat!AA638=\"\",\"\",Qeydiyyat!AA638)","v":""},{"$f":"IF(Qeydiyyat!X638=\"\",\"\",Qeydiyyat!X638)","v":""},{"$f":"IF(Qeydiyyat!Y638=\"\",\"\",Qeydiyyat!Y638)","v":""},null,{"$f":"IF(Qeydiyyat!AC638=\"\",\"\",Qeydiyyat!AC638)","v":""}]
[null,390,{"$f":"IF(Qeydiyyat!C639=\"\",\"\",Qeydiyyat!C639)","v":""},{"$f":"IF(Qeydiyyat!B639=\"\",\"\",Qeydiyyat!B639)","v":""},{"$f":"IF(Qeydiyyat!D639=\"\",\"\",Qeydiyyat!D639)","v":""},{"$f":"IF(Qeydiyyat!K639=\"\",\"\",Qeydiyyat!K639)","v":""},{"$f":"IF(Qeydiyyat!AB639=\"\",\"\",Qeydiyyat!AB639)","v":""},{"$f":"IF(Qeydiyyat!AA639=\"\",\"\",Qeydiyyat!AA639)","v":""},{"$f":"IF(Qeydiyyat!X639=\"\",\"\",Qeydiyyat!X639)","v":""},{"$f":"IF(Qeydiyyat!Y639=\"\",\"\",Qeydiyyat!Y639)","v":""},null,{"$f":"IF(Qeydiyyat!AC639=\"\",\"\",Qeydiyyat!AC639)","v":""}]
[null,391,{"$f":"IF(Qeydiyyat!C640=\"\",\"\",Qeydiyyat!C640)","v":""},{"$f":"IF(Qeydiyyat!B640=\"\",\"\",Qeydiyyat!B640)","v":""},{"$f":"IF(Qeydiyyat!D640=\"\",\"\",Qeydiyyat!D640)","v":""},{"$f":"IF(Qeydiyyat!K640=\"\",\"\",Qeydiyyat!K640)","v":""},{"$f":"IF(Qeydiyyat!AB640=\"\",\"\",Qeydiyyat!AB640)","v":""},{"$f":"IF(Qeydiyyat!AA640=\"\",\"\",Qeydiyyat!AA640)","v":""},{"$f":"IF(Qeydiyyat!X640=\"\",\"\",Qeydiyyat!X640)","v":""},{"$f":"IF(Qeydiyyat!Y640=\"\",\"\",Qeydiyyat!Y640)","v":""},null,{"$f":"IF(Qeydiyyat!AC640=\"\",\"\",Qeydiyyat!AC640)","v":""}]
[null,392,{"$f":"IF(Qeydiyyat!C641=\"\",\"\",Qeydiyyat!C641)","v":""},{"$f":"IF(Qeydiyyat!B641=\"\",\"\",Qeydiyyat!B641)","v":""},{"$f":"IF(Qeydiyyat!D641=\"\",\"\",Qeydiyyat!D641)","v":""},{"$f":"IF(Qeydiyyat!K641=\"\",\"\",Qeydiyyat!K641)","v":""},{"$f":"IF(Qeydiyyat!AB641=\"\",\"\",Qeydiyyat!AB641)","v":""},{"$f":"IF(Qeydiyyat!AA641=\"\",\"\",Qeydiyyat!AA641)","v":""},{"$f":"IF(Qeydiyyat!X641=\"\",\"\",Qeydiyyat!X641)","v":""},{"$f":"IF(Qeydiyyat!Y641=\"\",\"\",Qeydiyyat!Y641)","v":""},null,{"$f":"IF(Qeydiyyat!AC641=\"\",\"\",Qeydiyyat!AC641)","v":""}]
[null,393,{"$f":"IF(Qeydiyyat!C642=\"\",\"\",Qeydiyyat!C642)","v":""},{"$f":"IF(Qeydiyyat!B642=\"\",\"\",Qeydiyyat!B642)","v":""},{"$f":"IF(Qeydiyyat!D642=\"\",\"\",Qeydiyyat!D642)","v":""},{"$f":"IF(Qeydiyyat!K642=\"\",\"\",Qeydiyyat!K642)","v":""},{"$f":"IF(Qeydiyyat!AB642=\"\",\"\",Qeydiyyat!AB642)","v":""},{"$f":"IF(Qeydiyyat!AA642=\"\",\"\",Qeydiyyat!AA642)","v":""},{"$f":"IF(Qeydiyyat!X642=\"\",\"\",Qeydiyyat!X642)","v":""},{"$f":"IF(Qeydiyyat!Y642=\"\",\"\",Qeydiyyat!Y642)","v":""},null,{"$f":"IF(Qeydiyyat!AC642=\"\",\"\",Qeydiyyat!AC642)","v":""}]
[null,394,{"$f":"IF(Qeydiyyat!C643=\"\",\"\",Qeydiyyat!C643)","v":""},{"$f":"IF(Qeydiyyat!B643=\"\",\"\",Qeydiyyat!B643)","v":""},{"$f":"IF(Qeydiyyat!D643=\"\",\"\",Qeydiyyat!D643)","v":""},{"$f":"IF(Qeydiyyat!K643=\"\",\"\",Qeydiyyat!K643)","v":""},{"$f":"IF(Qeydiyyat!AB643=\"\",\"\",Qeydiyyat!AB643)","v":""},{"$f":"IF(Qeydiyyat!AA643=\"\",\"\",Qeydiyyat!AA643)","v":""},{"$f":"IF(Qeydiyyat!X643=\"\",\"\",Qeydiyyat!X643)","v":""},{"$f":"IF(Qeydiyyat!Y643=\"\",\"\",Qeydiyyat!Y643)","v":""},null,{"$f":"IF(Qeydiyyat!AC643=\"\",\"\",Qeydiyyat!AC643)","v":""}]
[null,395,{"$f":"IF(Qeydiyyat!C644=\"\",\"\",Qeydiyyat!C644)","v":""},{"$f":"IF(Qeydiyyat!B644=\"\",\"\",Qeydiyyat!B644)","v":""},{"$f":"IF(Qeydiyyat!D644=\"\",\"\",Qeydiyyat!D644)","v":""},{"$f":"IF(Qeydiyyat!K644=\"\",\"\",Qeydiyyat!K644)","v":""},{"$f":"IF(Qeydiyyat!AB644=\"\",\"\",Qeydiyyat!AB644)","v":""},{"$f":"IF(Qeydiyyat!AA644=\"\",\"\",Qeydiyyat!AA644)","v":""},{"$f":"IF(Qeydiyyat!X644=\"\",\"\",Qeydiyyat!X644)","v":""},{"$f":"IF(Qeydiyyat!Y644=\"\",\"\",Qeydiyyat!Y644)","v":""},null,{"$f":"IF(Qeydiyyat!AC644=\"\",\"\",Qeydiyyat!AC644)","v":""}]
[null,396,{"$f":"IF(Qeydiyyat!C645=\"\",\"\",Qeydiyyat!C645)","v":""},{"$f":"IF(Qeydiyyat!B645=\"\",\"\",Qeydiyyat!B645)","v":""},{"$f":"IF(Qeydiyyat!D645=\"\",\"\",Qeydiyyat!D645)","v":""},{"$f":"IF(Qeydiyyat!K645=\"\",\"\",Qeydiyyat!K645)","v":""},{"$f":"IF(Qeydiyyat!AB645=\"\",\"\",Qeydiyyat!AB645)","v":""},{"$f":"IF(Qeydiyyat!AA645=\"\",\"\",Qeydiyyat!AA645)","v":""},{"$f":"IF(Qeydiyyat!X645=\"\",\"\",Qeydiyyat!X645)","v":""},{"$f":"IF(Qeydiyyat!Y645=\"\",\"\",Qeydiyyat!Y645)","v":""},null,{"$f":"IF(Qeydiyyat!AC645=\"\",\"\",Qeydiyyat!AC645)","v":""}]
[null,397,{"$f":"IF(Qeydiyyat!C646=\"\",\"\",Qeydiyyat!C646)","v":""},{"$f":"IF(Qeydiyyat!B646=\"\",\"\",Qeydiyyat!B646)","v":""},{"$f":"IF(Qeydiyyat!D646=\"\",\"\",Qeydiyyat!D646)","v":""},{"$f":"IF(Qeydiyyat!K646=\"\",\"\",Qeydiyyat!K646)","v":""},{"$f":"IF(Qeydiyyat!AB646=\"\",\"\",Qeydiyyat!AB646)","v":""},{"$f":"IF(Qeydiyyat!AA646=\"\",\"\",Qeydiyyat!AA646)","v":""},{"$f":"IF(Qeydiyyat!X646=\"\",\"\",Qeydiyyat!X646)","v":""},{"$f":"IF(Qeydiyyat!Y646=\"\",\"\",Qeydiyyat!Y646)","v":""},null,{"$f":"IF(Qeydiyyat!AC646=\"\",\"\",Qeydiyyat!AC646)","v":""}]
[null,398,{"$f":"IF(Qeydiyyat!C647=\"\",\"\",Qeydiyyat!C647)","v":""},{"$f":"IF(Qeydiyyat!B647=\"\",\"\",Qeydiyyat!B647)","v":""},{"$f":"IF(Qeydiyyat!D647=\"\",\"\",Qeydiyyat!D647)","v":""},{"$f":"IF(Qeydiyyat!K647=\"\",\"\",Qeydiyyat!K647)","v":""},{"$f":"IF(Qeydiyyat!AB647=\"\",\"\",Qeydiyyat!AB647)","v":""},{"$f":"IF(Qeydiyyat!AA647=\"\",\"\",Qeydiyyat!AA647)","v":""},{"$f":"IF(Qeydiyyat!X647=\"\",\"\",Qeydiyyat!X647)","v":""},{"$f":"IF(Qeydiyyat!Y647=\"\",\"\",Qeydiyyat!Y647)","v":""},null,{"$f":"IF(Qeydiyyat!AC647=\"\",\"\",Qeydiyyat!AC647)","v":""}]
[null,399,{"$f":"IF(Qeydiyyat!C648=\"\",\"\",Qeydiyyat!C648)","v":""},{"$f":"IF(Qeydiyyat!B648=\"\",\"\",Qeydiyyat!B648)","v":""},{"$f":"IF(Qeydiyyat!D648=\"\",\"\",Qeydiyyat!D648)","v":""},{"$f":"IF(Qeydiyyat!K648=\"\",\"\",Qeydiyyat!K648)","v":""},{"$f":"IF(Qeydiyyat!AB648=\"\",\"\",Qeydiyyat!AB648)","v":""},{"$f":"IF(Qeydiyyat!AA648=\"\",\"\",Qeydiyyat!AA648)","v":""},{"$f":"IF(Qeydiyyat!X648=\"\",\"\",Qeydiyyat!X648)","v":""},{"$f":"IF(Qeydiyyat!Y648=\"\",\"\",Qeydiyyat!Y648)","v":""},null,{"$f":"IF(Qeydiyyat!AC648=\"\",\"\",Qeydiyyat!AC648)","v":""}]
[null,400,{"$f":"IF(Qeydiyyat!C649=\"\",\"\",Qeydiyyat!C649)","v":""},{"$f":"IF(Qeydiyyat!B649=\"\",\"\",Qeydiyyat!B649)","v":""},{"$f":"IF(Qeydiyyat!D649=\"\",\"\",Qeydiyyat!D649)","v":""},{"$f":"IF(Qeydiyyat!K649=\"\",\"\",Qeydiyyat!K649)","v":""},{"$f":"IF(Qeydiyyat!AB649=\"\",\"\",Qeydiyyat!AB649)","v":""},{"$f":"IF(Qeydiyyat!AA649=\"\",\"\",Qeydiyyat!AA649)","v":""},{"$f":"IF(Qeydiyyat!X649=\"\",\"\",Qeydiyyat!X649)","v":""},{"$f":"IF(Qeydiyyat!Y649=\"\",\"\",Qeydiyyat!Y649)","v":""},null,{"$f":"IF(Qeydiyyat!AC649=\"\",\"\",Qeydiyyat!AC649)","v":""}]
[null,401,{"$f":"IF(Qeydiyyat!C650=\"\",\"\",Qeydiyyat!C650)","v":""},{"$f":"IF(Qeydiyyat!B650=\"\",\"\",Qeydiyyat!B650)","v":""},{"$f":"IF(Qeydiyyat!D650=\"\",\"\",Qeydiyyat!D650)","v":""},{"$f":"IF(Qeydiyyat!K650=\"\",\"\",Qeydiyyat!K650)","v":""},{"$f":"IF(Qeydiyyat!AB650=\"\",\"\",Qeydiyyat!AB650)","v":""},{"$f":"IF(Qeydiyyat!AA650=\"\",\"\",Qeydiyyat!AA650)","v":""},{"$f":"IF(Qeydiyyat!X650=\"\",\"\",Qeydiyyat!X650)","v":""},{"$f":"IF(Qeydiyyat!Y650=\"\",\"\",Qeydiyyat!Y650)","v":""},null,{"$f":"IF(Qeydiyyat!AC650=\"\",\"\",Qeydiyyat!AC650)","v":""}]
[null,402,{"$f":"IF(Qeydiyyat!C651=\"\",\"\",Qeydiyyat!C651)","v":""},{"$f":"IF(Qeydiyyat!B651=\"\",\"\",Qeydiyyat!B651)","v":""},{"$f":"IF(Qeydiyyat!D651=\"\",\"\",Qeydiyyat!D651)","v":""},{"$f":"IF(Qeydiyyat!K651=\"\",\"\",Qeydiyyat!K651)","v":""},{"$f":"IF(Qeydiyyat!AB651=\"\",\"\",Qeydiyyat!AB651)","v":""},{"$f":"IF(Qeydiyyat!AA651=\"\",\"\",Qeydiyyat!AA651)","v":""},{"$f":"IF(Qeydiyyat!X651=\"\",\"\",Qeydiyyat!X651)","v":""},{"$f":"IF(Qeydiyyat!Y651=\"\",\"\",Qeydiyyat!Y651)","v":""},null,{"$f":"IF(Qeydiyyat!AC651=\"\",\"\",Qeydiyyat!AC651)","v":""}]
[null,403,{"$f":"IF(Qeydiyyat!C652=\"\",\"\",Qeydiyyat!C652)","v":""},{"$f":"IF(Qeydiyyat!B652=\"\",\"\",Qeydiyyat!B652)","v":""},{"$f":"IF(Qeydiyyat!D652=\"\",\"\",Qeydiyyat!D652)","v":""},{"$f":"IF(Qeydiyyat!K652=\"\",\"\",Qeydiyyat!K652)","v":""},{"$f":"IF(Qeydiyyat!AB652=\"\",\"\",Qeydiyyat!AB652)","v":""},{"$f":"IF(Qeydiyyat!AA652=\"\",\"\",Qeydiyyat!AA652)","v":""},{"$f":"IF(Qeydiyyat!X652=\"\",\"\",Qeydiyyat!X652)","v":""},{"$f":"IF(Qeydiyyat!Y652=\"\",\"\",Qeydiyyat!Y652)","v":""},null,{"$f":"IF(Qeydiyyat!AC652=\"\",\"\",Qeydiyyat!AC652)","v":""}]
[null,404,{"$f":"IF(Qeydiyyat!C653=\"\",\"\",Qeydiyyat!C653)","v":""},{"$f":"IF(Qeydiyyat!B653=\"\",\"\",Qeydiyyat!B653)","v":""},{"$f":"IF(Qeydiyyat!D653=\"\",\"\",Qeydiyyat!D653)","v":""},{"$f":"IF(Qeydiyyat!K653=\"\",\"\",Qeydiyyat!K653)","v":""},{"$f":"IF(Qeydiyyat!AB653=\"\",\"\",Qeydiyyat!AB653)","v":""},{"$f":"IF(Qeydiyyat!AA653=\"\",\"\",Qeydiyyat!AA653)","v":""},{"$f":"IF(Qeydiyyat!X653=\"\",\"\",Qeydiyyat!X653)","v":""},{"$f":"IF(Qeydiyyat!Y653=\"\",\"\",Qeydiyyat!Y653)","v":""},null,{"$f":"IF(Qeydiyyat!AC653=\"\",\"\",Qeydiyyat!AC653)","v":""}]
[null,405,{"$f":"IF(Qeydiyyat!C654=\"\",\"\",Qeydiyyat!C654)","v":""},{"$f":"IF(Qeydiyyat!B654=\"\",\"\",Qeydiyyat!B654)","v":""},{"$f":"IF(Qeydiyyat!D654=\"\",\"\",Qeydiyyat!D654)","v":""},{"$f":"IF(Qeydiyyat!K654=\"\",\"\",Qeydiyyat!K654)","v":""},{"$f":"IF(Qeydiyyat!AB654=\"\",\"\",Qeydiyyat!AB654)","v":""},{"$f":"IF(Qeydiyyat!AA654=\"\",\"\",Qeydiyyat!AA654)","v":""},{"$f":"IF(Qeydiyyat!X654=\"\",\"\",Qeydiyyat!X654)","v":""},{"$f":"IF(Qeydiyyat!Y654=\"\",\"\",Qeydiyyat!Y654)","v":""},null,{"$f":"IF(Qeydiyyat!AC654=\"\",\"\",Qeydiyyat!AC654)","v":""}]
[null,406,{"$f":"IF(Qeydiyyat!C655=\"\",\"\",Qeydiyyat!C655)","v":""},{"$f":"IF(Qeydiyyat!B655=\"\",\"\",Qeydiyyat!B655)","v":""},{"$f":"IF(Qeydiyyat!D655=\"\",\"\",Qeydiyyat!D655)","v":""},{"$f":"IF(Qeydiyyat!K655=\"\",\"\",Qeydiyyat!K655)","v":""},{"$f":"IF(Qeydiyyat!AB655=\"\",\"\",Qeydiyyat!AB655)","v":""},{"$f":"IF(Qeydiyyat!AA655=\"\",\"\",Qeydiyyat!AA655)","v":""},{"$f":"IF(Qeydiyyat!X655=\"\",\"\",Qeydiyyat!X655)","v":""},{"$f":"IF(Qeydiyyat!Y655=\"\",\"\",Qeydiyyat!Y655)","v":""},null,{"$f":"IF(Qeydiyyat!AC655=\"\",\"\",Qeydiyyat!AC655)","v":""}]
[null,407,{"$f":"IF(Qeydiyyat!C656=\"\",\"\",Qeydiyyat!C656)","v":""},{"$f":"IF(Qeydiyyat!B656=\"\",\"\",Qeydiyyat!B656)","v":""},{"$f":"IF(Qeydiyyat!D656=\"\",\"\",Qeydiyyat!D656)","v":""},{"$f":"IF(Qeydiyyat!K656=\"\",\"\",Qeydiyyat!K656)","v":""},{"$f":"IF(Qeydiyyat!AB656=\"\",\"\",Qeydiyyat!AB656)","v":""},{"$f":"IF(Qeydiyyat!AA656=\"\",\"\",Qeydiyyat!AA656)","v":""},{"$f":"IF(Qeydiyyat!X656=\"\",\"\",Qeydiyyat!X656)","v":""},{"$f":"IF(Qeydiyyat!Y656=\"\",\"\",Qeydiyyat!Y656)","v":""},null,{"$f":"IF(Qeydiyyat!AC656=\"\",\"\",Qeydiyyat!AC656)","v":""}]
[null,408,{"$f":"IF(Qeydiyyat!C657=\"\",\"\",Qeydiyyat!C657)","v":""},{"$f":"IF(Qeydiyyat!B657=\"\",\"\",Qeydiyyat!B657)","v":""},{"$f":"IF(Qeydiyyat!D657=\"\",\"\",Qeydiyyat!D657)","v":""},{"$f":"IF(Qeydiyyat!K657=\"\",\"\",Qeydiyyat!K657)","v":""},{"$f":"IF(Qeydiyyat!AB657=\"\",\"\",Qeydiyyat!AB657)","v":""},{"$f":"IF(Qeydiyyat!AA657=\"\",\"\",Qeydiyyat!AA657)","v":""},{"$f":"IF(Qeydiyyat!X657=\"\",\"\",Qeydiyyat!X657)","v":""},{"$f":"IF(Qeydiyyat!Y657=\"\",\"\",Qeydiyyat!Y657)","v":""},null,{"$f":"IF(Qeydiyyat!AC657=\"\",\"\",Qeydiyyat!AC657)","v":""}]
[null,409,{"$f":"IF(Qeydiyyat!C658=\"\",\"\",Qeydiyyat!C658)","v":""},{"$f":"IF(Qeydiyyat!B658=\"\",\"\",Qeydiyyat!B658)","v":""},{"$f":"IF(Qeydiyyat!D658=\"\",\"\",Qeydiyyat!D658)","v":""},{"$f":"IF(Qeydiyyat!K658=\"\",\"\",Qeydiyyat!K658)","v":""},{"$f":"IF(Qeydiyyat!AB658=\"\",\"\",Qeydiyyat!AB658)","v":""},{"$f":"IF(Qeydiyyat!AA658=\"\",\"\",Qeydiyyat!AA658)","v":""},{"$f":"IF(Qeydiyyat!X658=\"\",\"\",Qeydiyyat!X658)","v":""},{"$f":"IF(Qeydiyyat!Y658=\"\",\"\",Qeydiyyat!Y658)","v":""},null,{"$f":"IF(Qeydiyyat!AC658=\"\",\"\",Qeydiyyat!AC658)","v":""}]
[null,410,{"$f":"IF(Qeydiyyat!C659=\"\",\"\",Qeydiyyat!C659)","v":""},{"$f":"IF(Qeydiyyat!B659=\"\",\"\",Qeydiyyat!B659)","v":""},{"$f":"IF(Qeydiyyat!D659=\"\",\"\",Qeydiyyat!D659)","v":""},{"$f":"IF(Qeydiyyat!K659=\"\",\"\",Qeydiyyat!K659)","v":""},{"$f":"IF(Qeydiyyat!AB659=\"\",\"\",Qeydiyyat!AB659)","v":""},{"$f":"IF(Qeydiyyat!AA659=\"\",\"\",Qeydiyyat!AA659)","v":""},{"$f":"IF(Qeydiyyat!X659=\"\",\"\",Qeydiyyat!X659)","v":""},{"$f":"IF(Qeydiyyat!Y659=\"\",\"\",Qeydiyyat!Y659)","v":""},null,{"$f":"IF(Qeydiyyat!AC659=\"\",\"\",Qeydiyyat!AC659)","v":""}]
[null,411,{"$f":"IF(Qeydiyyat!C660=\"\",\"\",Qeydiyyat!C660)","v":""},{"$f":"IF(Qeydiyyat!B660=\"\",\"\",Qeydiyyat!B660)","v":""},{"$f":"IF(Qeydiyyat!D660=\"\",\"\",Qeydiyyat!D660)","v":""},{"$f":"IF(Qeydiyyat!K660=\"\",\"\",Qeydiyyat!K660)","v":""},{"$f":"IF(Qeydiyyat!AB660=\"\",\"\",Qeydiyyat!AB660)","v":""},{"$f":"IF(Qeydiyyat!AA660=\"\",\"\",Qeydiyyat!AA660)","v":""},{"$f":"IF(Qeydiyyat!X660=\"\",\"\",Qeydiyyat!X660)","v":""},{"$f":"IF(Qeydiyyat!Y660=\"\",\"\",Qeydiyyat!Y660)","v":""},null,{"$f":"IF(Qeydiyyat!AC660=\"\",\"\",Qeydiyyat!AC660)","v":""}]
[null,412,{"$f":"IF(Qeydiyyat!C661=\"\",\"\",Qeydiyyat!C661)","v":""},{"$f":"IF(Qeydiyyat!B661=\"\",\"\",Qeydiyyat!B661)","v":""},{"$f":"IF(Qeydiyyat!D661=\"\",\"\",Qeydiyyat!D661)","v":""},{"$f":"IF(Qeydiyyat!K661=\"\",\"\",Qeydiyyat!K661)","v":""},{"$f":"IF(Qeydiyyat!AB661=\"\",\"\",Qeydiyyat!AB661)","v":""},{"$f":"IF(Qeydiyyat!AA661=\"\",\"\",Qeydiyyat!AA661)","v":""},{"$f":"IF(Qeydiyyat!X661=\"\",\"\",Qeydiyyat!X661)","v":""},{"$f":"IF(Qeydiyyat!Y661=\"\",\"\",Qeydiyyat!Y661)","v":""},null,{"$f":"IF(Qeydiyyat!AC661=\"\",\"\",Qeydiyyat!AC661)","v":""}]
[null,413,{"$f":"IF(Qeydiyyat!C662=\"\",\"\",Qeydiyyat!C662)","v":""},{"$f":"IF(Qeydiyyat!B662=\"\",\"\",Qeydiyyat!B662)","v":""},{"$f":"IF(Qeydiyyat!D662=\"\",\"\",Qeydiyyat!D662)","v":""},{"$f":"IF(Qeydiyyat!K662=\"\",\"\",Qeydiyyat!K662)","v":""},{"$f":"IF(Qeydiyyat!AB662=\"\",\"\",Qeydiyyat!AB662)","v":""},{"$f":"IF(Qeydiyyat!AA662=\"\",\"\",Qeydiyyat!AA662)","v":""},{"$f":"IF(Qeydiyyat!X662=\"\",\"\",Qeydiyyat!X662)","v":""},{"$f":"IF(Qeydiyyat!Y662=\"\",\"\",Qeydiyyat!Y662)","v":""},null,{"$f":"IF(Qeydiyyat!AC662=\"\",\"\",Qeydiyyat!AC662)","v":""}]
[null,414,{"$f":"IF(Qeydiyyat!C663=\"\",\"\",Qeydiyyat!C663)","v":""},{"$f":"IF(Qeydiyyat!B663=\"\",\"\",Qeydiyyat!B663)","v":""},{"$f":"IF(Qeydiyyat!D663=\"\",\"\",Qeydiyyat!D663)","v":""},{"$f":"IF(Qeydiyyat!K663=\"\",\"\",Qeydiyyat!K663)","v":""},{"$f":"IF(Qeydiyyat!AB663=\"\",\"\",Qeydiyyat!AB663)","v":""},{"$f":"IF(Qeydiyyat!AA663=\"\",\"\",Qeydiyyat!AA663)","v":""},{"$f":"IF(Qeydiyyat!X663=\"\",\"\",Qeydiyyat!X663)","v":""},{"$f":"IF(Qeydiyyat!Y663=\"\",\"\",Qeydiyyat!Y663)","v":""},null,{"$f":"IF(Qeydiyyat!AC663=\"\",\"\",Qeydiyyat!AC663)","v":""}]
[null,415,{"$f":"IF(Qeydiyyat!C664=\"\",\"\",Qeydiyyat!C664)","v":""},{"$f":"IF(Qeydiyyat!B664=\"\",\"\",Qeydiyyat!B664)","v":""},{"$f":"IF(Qeydiyyat!D664=\"\",\"\",Qeydiyyat!D664)","v":""},{"$f":"IF(Qeydiyyat!K664=\"\",\"\",Qeydiyyat!K664)","v":""},{"$f":"IF(Qeydiyyat!AB664=\"\",\"\",Qeydiyyat!AB664)","v":""},{"$f":"IF(Qeydiyyat!AA664=\"\",\"\",Qeydiyyat!AA664)","v":""},{"$f":"IF(Qeydiyyat!X664=\"\",\"\",Qeydiyyat!X664)","v":""},{"$f":"IF(Qeydiyyat!Y664=\"\",\"\",Qeydiyyat!Y664)","v":""},null,{"$f":"IF(Qeydiyyat!AC664=\"\",\"\",Qeydiyyat!AC664)","v":""}]
[null,416,{"$f":"IF(Qeydiyyat!C665=\"\",\"\",Qeydiyyat!C665)","v":""},{"$f":"IF(Qeydiyyat!B665=\"\",\"\",Qeydiyyat!B665)","v":""},{"$f":"IF(Qeydiyyat!D665=\"\",\"\",Qeydiyyat!D665)","v":""},{"$f":"IF(Qeydiyyat!K665=\"\",\"\",Qeydiyyat!K665)","v":""},{"$f":"IF(Qeydiyyat!AB665=\"\",\"\",Qeydiyyat!AB665)","v":""},{"$f":"IF(Qeydiyyat!AA665=\"\",\"\",Qeydiyyat!AA665)","v":""},{"$f":"IF(Qeydiyyat!X665=\"\",\"\",Qeydiyyat!X665)","v":""},{"$f":"IF(Qeydiyyat!Y665=\"\",\"\",Qeydiyyat!Y665)","v":""},null,{"$f":"IF(Qeydiyyat!AC665=\"\",\"\",Qeydiyyat!AC665)","v":""}]
[null,417,{"$f":"IF(Qeydiyyat!C666=\"\",\"\",Qeydiyyat!C666)","v":""},{"$f":"IF(Qeydiyyat!B666=\"\",\"\",Qeydiyyat!B666)","v":""},{"$f":"IF(Qeydiyyat!D666=\"\",\"\",Qeydiyyat!D666)","v":""},{"$f":"IF(Qeydiyyat!K666=\"\",\"\",Qeydiyyat!K666)","v":""},{"$f":"IF(Qeydiyyat!AB666=\"\",\"\",Qeydiyyat!AB666)","v":""},{"$f":"IF(Qeydiyyat!AA666=\"\",\"\",Qeydiyyat!AA666)","v":""},{"$f":"IF(Qeydiyyat!X666=\"\",\"\",Qeydiyyat!X666)","v":""},{"$f":"IF(Qeydiyyat!Y666=\"\",\"\",Qeydiyyat!Y666)","v":""},null,{"$f":"IF(Qeydiyyat!AC666=\"\",\"\",Qeydiyyat!AC666)","v":""}]
[null,418,{"$f":"IF(Qeydiyyat!C667=\"\",\"\",Qeydiyyat!C667)","v":""},{"$f":"IF(Qeydiyyat!B667=\"\",\"\",Qeydiyyat!B667)","v":""},{"$f":"IF(Qeydiyyat!D667=\"\",\"\",Qeydiyyat!D667)","v":""},{"$f":"IF(Qeydiyyat!K667=\"\",\"\",Qeydiyyat!K667)","v":""},{"$f":"IF(Qeydiyyat!AB667=\"\",\"\",Qeydiyyat!AB667)","v":""},{"$f":"IF(Qeydiyyat!AA667=\"\",\"\",Qeydiyyat!AA667)","v":""},{"$f":"IF(Qeydiyyat!X667=\"\",\"\",Qeydiyyat!X667)","v":""},{"$f":"IF(Qeydiyyat!Y667=\"\",\"\",Qeydiyyat!Y667)","v":""},null,{"$f":"IF(Qeydiyyat!AC667=\"\",\"\",Qeydiyyat!AC667)","v":""}]
[null,419,{"$f":"IF(Qeydiyyat!C668=\"\",\"\",Qeydiyyat!C668)","v":""},{"$f":"IF(Qeydiyyat!B668=\"\",\"\",Qeydiyyat!B668)","v":""},{"$f":"IF(Qeydiyyat!D668=\"\",\"\",Qeydiyyat!D668)","v":""},{"$f":"IF(Qeydiyyat!K668=\"\",\"\",Qeydiyyat!K668)","v":""},{"$f":"IF(Qeydiyyat!AB668=\"\",\"\",Qeydiyyat!AB668)","v":""},{"$f":"IF(Qeydiyyat!AA668=\"\",\"\",Qeydiyyat!AA668)","v":""},{"$f":"IF(Qeydiyyat!X668=\"\",\"\",Qeydiyyat!X668)","v":""},{"$f":"IF(Qeydiyyat!Y668=\"\",\"\",Qeydiyyat!Y668)","v":""},null,{"$f":"IF(Qeydiyyat!AC668=\"\",\"\",Qeydiyyat!AC668)","v":""}]
[null,420,{"$f":"IF(Qeydiyyat!C669=\"\",\"\",Qeydiyyat!C669)","v":""},{"$f":"IF(Qeydiyyat!B669=\"\",\"\",Qeydiyyat!B669)","v":""},{"$f":"IF(Qeydiyyat!D669=\"\",\"\",Qeydiyyat!D669)","v":""},{"$f":"IF(Qeydiyyat!K669=\"\",\"\",Qeydiyyat!K669)","v":""},{"$f":"IF(Qeydiyyat!AB669=\"\",\"\",Qeydiyyat!AB669)","v":""},{"$f":"IF(Qeydiyyat!AA669=\"\",\"\",Qeydiyyat!AA669)","v":""},{"$f":"IF(Qeydiyyat!X669=\"\",\"\",Qeydiyyat!X669)","v":""},{"$f":"IF(Qeydiyyat!Y669=\"\",\"\",Qeydiyyat!Y669)","v":""},null,{"$f":"IF(Qeydiyyat!AC669=\"\",\"\",Qeydiyyat!AC669)","v":""}]
[null,421,{"$f":"IF(Qeydiyyat!C670=\"\",\"\",Qeydiyyat!C670)","v":""},{"$f":"IF(Qeydiyyat!B670=\"\",\"\",Qeydiyyat!B670)","v":""},{"$f":"IF(Qeydiyyat!D670=\"\",\"\",Qeydiyyat!D670)","v":""},{"$f":"IF(Qeydiyyat!K670=\"\",\"\",Qeydiyyat!K670)","v":""},{"$f":"IF(Qeydiyyat!AB670=\"\",\"\",Qeydiyyat!AB670)","v":""},{"$f":"IF(Qeydiyyat!AA670=\"\",\"\",Qeydiyyat!AA670)","v":""},{"$f":"IF(Qeydiyyat!X670=\"\",\"\",Qeydiyyat!X670)","v":""},{"$f":"IF(Qeydiyyat!Y670=\"\",\"\",Qeydiyyat!Y670)","v":""},null,{"$f":"IF(Qeydiyyat!AC670=\"\",\"\",Qeydiyyat!AC670)","v":""}]
[null,422,{"$f":"IF(Qeydiyyat!C671=\"\",\"\",Qeydiyyat!C671)","v":""},{"$f":"IF(Qeydiyyat!B671=\"\",\"\",Qeydiyyat!B671)","v":""},{"$f":"IF(Qeydiyyat!D671=\"\",\"\",Qeydiyyat!D671)","v":""},{"$f":"IF(Qeydiyyat!K671=\"\",\"\",Qeydiyyat!K671)","v":""},{"$f":"IF(Qeydiyyat!AB671=\"\",\"\",Qeydiyyat!AB671)","v":""},{"$f":"IF(Qeydiyyat!AA671=\"\",\"\",Qeydiyyat!AA671)","v":""},{"$f":"IF(Qeydiyyat!X671=\"\",\"\",Qeydiyyat!X671)","v":""},{"$f":"IF(Qeydiyyat!Y671=\"\",\"\",Qeydiyyat!Y671)","v":""},null,{"$f":"IF(Qeydiyyat!AC671=\"\",\"\",Qeydiyyat!AC671)","v":""}]
[null,423,{"$f":"IF(Qeydiyyat!C672=\"\",\"\",Qeydiyyat!C672)","v":""},{"$f":"IF(Qeydiyyat!B672=\"\",\"\",Qeydiyyat!B672)","v":""},{"$f":"IF(Qeydiyyat!D672=\"\",\"\",Qeydiyyat!D672)","v":""},{"$f":"IF(Qeydiyyat!K672=\"\",\"\",Qeydiyyat!K672)","v":""},{"$f":"IF(Qeydiyyat!AB672=\"\",\"\",Qeydiyyat!AB672)","v":""},{"$f":"IF(Qeydiyyat!AA672=\"\",\"\",Qeydiyyat!AA672)","v":""},{"$f":"IF(Qeydiyyat!X672=\"\",\"\",Qeydiyyat!X672)","v":""},{"$f":"IF(Qeydiyyat!Y672=\"\",\"\",Qeydiyyat!Y672)","v":""},null,{"$f":"IF(Qeydiyyat!AC672=\"\",\"\",Qeydiyyat!AC672)","v":""}]
[null,424,{"$f":"IF(Qeydiyyat!C673=\"\",\"\",Qeydiyyat!C673)","v":""},{"$f":"IF(Qeydiyyat!B673=\"\",\"\",Qeydiyyat!B673)","v":""},{"$f":"IF(Qeydiyyat!D673=\"\",\"\",Qeydiyyat!D673)","v":""},{"$f":"IF(Qeydiyyat!K673=\"\",\"\",Qeydiyyat!K673)","v":""},{"$f":"IF(Qeydiyyat!AB673=\"\",\"\",Qeydiyyat!AB673)","v":""},{"$f":"IF(Qeydiyyat!AA673=\"\",\"\",Qeydiyyat!AA673)","v":""},{"$f":"IF(Qeydiyyat!X673=\"\",\"\",Qeydiyyat!X673)","v":""},{"$f":"IF(Qeydiyyat!Y673=\"\",\"\",Qeydiyyat!Y673)","v":""},null,{"$f":"IF(Qeydiyyat!AC673=\"\",\"\",Qeydiyyat!AC673)","v":""}]
[null,425,{"$f":"IF(Qeydiyyat!C674=\"\",\"\",Qeydiyyat!C674)","v":""},{"$f":"IF(Qeydiyyat!B674=\"\",\"\",Qeydiyyat!B674)","v":""},{"$f":"IF(Qeydiyyat!D674=\"\",\"\",Qeydiyyat!D674)","v":""},{"$f":"IF(Qeydiyyat!K674=\"\",\"\",Qeydiyyat!K674)","v":""},{"$f":"IF(Qeydiyyat!AB674=\"\",\"\",Qeydiyyat!AB674)","v":""},{"$f":"IF(Qeydiyyat!AA674=\"\",\"\",Qeydiyyat!AA674)","v":""},{"$f":"IF(Qeydiyyat!X674=\"\",\"\",Qeydiyyat!X674)","v":""},{"$f":"IF(Qeydiyyat!Y674=\"\",\"\",Qeydiyyat!Y674)","v":""},null,{"$f":"IF(Qeydiyyat!AC674=\"\",\"\",Qeydiyyat!AC674)","v":""}]
[null,426,{"$f":"IF(Qeydiyyat!C675=\"\",\"\",Qeydiyyat!C675)","v":""},{"$f":"IF(Qeydiyyat!B675=\"\",\"\",Qeydiyyat!B675)","v":""},{"$f":"IF(Qeydiyyat!D675=\"\",\"\",Qeydiyyat!D675)","v":""},{"$f":"IF(Qeydiyyat!K675=\"\",\"\",Qeydiyyat!K675)","v":""},{"$f":"IF(Qeydiyyat!AB675=\"\",\"\",Qeydiyyat!AB675)","v":""},{"$f":"IF(Qeydiyyat!AA675=\"\",\"\",Qeydiyyat!AA675)","v":""},{"$f":"IF(Qeydiyyat!X675=\"\",\"\",Qeydiyyat!X675)","v":""},{"$f":"IF(Qeydiyyat!Y675=\"\",\"\",Qeydiyyat!Y675)","v":""},null,{"$f":"IF(Qeydiyyat!AC675=\"\",\"\",Qeydiyyat!AC675)","v":""}]
[null,427,{"$f":"IF(Qeydiyyat!C676=\"\",\"\",Qeydiyyat!C676)","v":""},{"$f":"IF(Qeydiyyat!B676=\"\",\"\",Qeydiyyat!B676)","v":""},{"$f":"IF(Qeydiyyat!D676=\"\",\"\",Qeydiyyat!D676)","v":""},{"$f":"IF(Qeydiyyat!K676=\"\",\"\",Qeydiyyat!K676)","v":""},{"$f":"IF(Qeydiyyat!AB676=\"\",\"\",Qeydiyyat!AB676)","v":""},{"$f":"IF(Qeydiyyat!AA676=\"\",\"\",Qeydiyyat!AA676)","v":""},{"$f":"IF(Qeydiyyat!X676=\"\",\"\",Qeydiyyat!X676)","v":""},{"$f":"IF(Qeydiyyat!Y676=\"\",\"\",Qeydiyyat!Y676)","v":""},null,{"$f":"IF(Qeydiyyat!AC676=\"\",\"\",Qeydiyyat!AC676)","v":""}]
[null,428,{"$f":"IF(Qeydiyyat!C677=\"\",\"\",Qeydiyyat!C677)","v":""},{"$f":"IF(Qeydiyyat!B677=\"\",\"\",Qeydiyyat!B677)","v":""},{"$f":"IF(Qeydiyyat!D677=\"\",\"\",Qeydiyyat!D677)","v":""},{"$f":"IF(Qeydiyyat!K677=\"\",\"\",Qeydiyyat!K677)","v":""},{"$f":"IF(Qeydiyyat!AB677=\"\",\"\",Qeydiyyat!AB677)","v":""},{"$f":"IF(Qeydiyyat!AA677=\"\",\"\",Qeydiyyat!AA677)","v":""},{"$f":"IF(Qeydiyyat!X677=\"\",\"\",Qeydiyyat!X677)","v":""},{"$f":"IF(Qeydiyyat!Y677=\"\",\"\",Qeydiyyat!Y677)","v":""},null,{"$f":"IF(Qeydiyyat!AC677=\"\",\"\",Qeydiyyat!AC677)","v":""}]
[null,429,{"$f":"IF(Qeydiyyat!C678=\"\",\"\",Qeydiyyat!C678)","v":""},{"$f":"IF(Qeydiyyat!B678=\"\",\"\",Qeydiyyat!B678)","v":""},{"$f":"IF(Qeydiyyat!D678=\"\",\"\",Qeydiyyat!D678)","v":""},{"$f":"IF(Qeydiyyat!K678=\"\",\"\",Qeydiyyat!K678)","v":""},{"$f":"IF(Qeydiyyat!AB678=\"\",\"\",Qeydiyyat!AB678)","v":""},{"$f":"IF(Qeydiyyat!AA678=\"\",\"\",Qeydiyyat!AA678)","v":""},{"$f":"IF(Qeydiyyat!X678=\"\",\"\",Qeydiyyat!X678)","v":""},{"$f":"IF(Qeydiyyat!Y678=\"\",\"\",Qeydiyyat!Y678)","v":""},null,{"$f":"IF(Qeydiyyat!AC678=\"\",\"\",Qeydiyyat!AC678)","v":""}]
[null,430,{"$f":"IF(Qeydiyyat!C679=\"\",\"\",Qeydiyyat!C679)","v":""},{"$f":"IF(Qeydiyyat!B679=\"\",\"\",Qeydiyyat!B679)","v":""},{"$f":"IF(Qeydiyyat!D679=\"\",\"\",Qeydiyyat!D679)","v":""},{"$f":"IF(Qeydiyyat!K679=\"\",\"\",Qeydiyyat!K679)","v":""},{"$f":"IF(Qeydiyyat!AB679=\"\",\"\",Qeydiyyat!AB679)","v":""},{"$f":"IF(Qeydiyyat!AA679=\"\",\"\",Qeydiyyat!AA679)","v":""},{"$f":"IF(Qeydiyyat!X679=\"\",\"\",Qeydiyyat!X679)","v":""},{"$f":"IF(Qeydiyyat!Y679=\"\",\"\",Qeydiyyat!Y679)","v":""},null,{"$f":"IF(Qeydiyyat!AC679=\"\",\"\",Qeydiyyat!AC679)","v":""}]
[null,431,{"$f":"IF(Qeydiyyat!C680=\"\",\"\",Qeydiyyat!C680)","v":""},{"$f":"IF(Qeydiyyat!B680=\"\",\"\",Qeydiyyat!B680)","v":""},{"$f":"IF(Qeydiyyat!D680=\"\",\"\",Qeydiyyat!D680)","v":""},{"$f":"IF(Qeydiyyat!K680=\"\",\"\",Qeydiyyat!K680)","v":""},{"$f":"IF(Qeydiyyat!AB680=\"\",\"\",Qeydiyyat!AB680)","v":""},{"$f":"IF(Qeydiyyat!AA680=\"\",\"\",Qeydiyyat!AA680)","v":""},{"$f":"IF(Qeydiyyat!X680=\"\",\"\",Qeydiyyat!X680)","v":""},{"$f":"IF(Qeydiyyat!Y680=\"\",\"\",Qeydiyyat!Y680)","v":""},null,{"$f":"IF(Qeydiyyat!AC680=\"\",\"\",Qeydiyyat!AC680)","v":""}]
[null,432,{"$f":"IF(Qeydiyyat!C681=\"\",\"\",Qeydiyyat!C681)","v":""},{"$f":"IF(Qeydiyyat!B681=\"\",\"\",Qeydiyyat!B681)","v":""},{"$f":"IF(Qeydiyyat!D681=\"\",\"\",Qeydiyyat!D681)","v":""},{"$f":"IF(Qeydiyyat!K681=\"\",\"\",Qeydiyyat!K681)","v":""},{"$f":"IF(Qeydiyyat!AB681=\"\",\"\",Qeydiyyat!AB681)","v":""},{"$f":"IF(Qeydiyyat!AA681=\"\",\"\",Qeydiyyat!AA681)","v":""},{"$f":"IF(Qeydiyyat!X681=\"\",\"\",Qeydiyyat!X681)","v":""},{"$f":"IF(Qeydiyyat!Y681=\"\",\"\",Qeydiyyat!Y681)","v":""},null,{"$f":"IF(Qeydiyyat!AC681=\"\",\"\",Qeydiyyat!AC681)","v":""}]
[null,433,{"$f":"IF(Qeydiyyat!C682=\"\",\"\",Qeydiyyat!C682)","v":""},{"$f":"IF(Qeydiyyat!B682=\"\",\"\",Qeydiyyat!B682)","v":""},{"$f":"IF(Qeydiyyat!D682=\"\",\"\",Qeydiyyat!D682)","v":""},{"$f":"IF(Qeydiyyat!K682=\"\",\"\",Qeydiyyat!K682)","v":""},{"$f":"IF(Qeydiyyat!AB682=\"\",\"\",Qeydiyyat!AB682)","v":""},{"$f":"IF(Qeydiyyat!AA682=\"\",\"\",Qeydiyyat!AA682)","v":""},{"$f":"IF(Qeydiyyat!X682=\"\",\"\",Qeydiyyat!X682)","v":""},{"$f":"IF(Qeydiyyat!Y682=\"\",\"\",Qeydiyyat!Y682)","v":""},null,{"$f":"IF(Qeydiyyat!AC682=\"\",\"\",Qeydiyyat!AC682)","v":""}]
[null,434,{"$f":"IF(Qeydiyyat!C683=\"\",\"\",Qeydiyyat!C683)","v":""},{"$f":"IF(Qeydiyyat!B683=\"\",\"\",Qeydiyyat!B683)","v":""},{"$f":"IF(Qeydiyyat!D683=\"\",\"\",Qeydiyyat!D683)","v":""},{"$f":"IF(Qeydiyyat!K683=\"\",\"\",Qeydiyyat!K683)","v":""},{"$f":"IF(Qeydiyyat!AB683=\"\",\"\",Qeydiyyat!AB683)","v":""},{"$f":"IF(Qeydiyyat!AA683=\"\",\"\",Qeydiyyat!AA683)","v":""},{"$f":"IF(Qeydiyyat!X683=\"\",\"\",Qeydiyyat!X683)","v":""},{"$f":"IF(Qeydiyyat!Y683=\"\",\"\",Qeydiyyat!Y683)","v":""},null,{"$f":"IF(Qeydiyyat!AC683=\"\",\"\",Qeydiyyat!AC683)","v":""}]
[null,435,{"$f":"IF(Qeydiyyat!C684=\"\",\"\",Qeydiyyat!C684)","v":""},{"$f":"IF(Qeydiyyat!B684=\"\",\"\",Qeydiyyat!B684)","v":""},{"$f":"IF(Qeydiyyat!D684=\"\",\"\",Qeydiyyat!D684)","v":""},{"$f":"IF(Qeydiyyat!K684=\"\",\"\",Qeydiyyat!K684)","v":""},{"$f":"IF(Qeydiyyat!AB684=\"\",\"\",Qeydiyyat!AB684)","v":""},{"$f":"IF(Qeydiyyat!AA684=\"\",\"\",Qeydiyyat!AA684)","v":""},{"$f":"IF(Qeydiyyat!X684=\"\",\"\",Qeydiyyat!X684)","v":""},{"$f":"IF(Qeydiyyat!Y684=\"\",\"\",Qeydiyyat!Y684)","v":""},null,{"$f":"IF(Qeydiyyat!AC684=\"\",\"\",Qeydiyyat!AC684)","v":""}]
[null,436,{"$f":"IF(Qeydiyyat!C685=\"\",\"\",Qeydiyyat!C685)","v":""},{"$f":"IF(Qeydiyyat!B685=\"\",\"\",Qeydiyyat!B685)","v":""},{"$f":"IF(Qeydiyyat!D685=\"\",\"\",Qeydiyyat!D685)","v":""},{"$f":"IF(Qeydiyyat!K685=\"\",\"\",Qeydiyyat!K685)","v":""},{"$f":"IF(Qeydiyyat!AB685=\"\",\"\",Qeydiyyat!AB685)","v":""},{"$f":"IF(Qeydiyyat!AA685=\"\",\"\",Qeydiyyat!AA685)","v":""},{"$f":"IF(Qeydiyyat!X685=\"\",\"\",Qeydiyyat!X685)","v":""},{"$f":"IF(Qeydiyyat!Y685=\"\",\"\",Qeydiyyat!Y685)","v":""},null,{"$f":"IF(Qeydiyyat!AC685=\"\",\"\",Qeydiyyat!AC685)","v":""}]
[null,437,{"$f":"IF(Qeydiyyat!C686=\"\",\"\",Qeydiyyat!C686)","v":""},{"$f":"IF(Qeydiyyat!B686=\"\",\"\",Qeydiyyat!B686)","v":""},{"$f":"IF(Qeydiyyat!D686=\"\",\"\",Qeydiyyat!D686)","v":""},{"$f":"IF(Qeydiyyat!K686=\"\",\"\",Qeydiyyat!K686)","v":""},{"$f":"IF(Qeydiyyat!AB686=\"\",\"\",Qeydiyyat!AB686)","v":""},{"$f":"IF(Qeydiyyat!AA686=\"\",\"\",Qeydiyyat!AA686)","v":""},{"$f":"IF(Qeydiyyat!X686=\"\",\"\",Qeydiyyat!X686)","v":""},{"$f":"IF(Qeydiyyat!Y686=\"\",\"\",Qeydiyyat!Y686)","v":""},null,{"$f":"IF(Qeydiyyat!AC686=\"\",\"\",Qeydiyyat!AC686)","v":""}]
[null,438,{"$f":"IF(Qeydiyyat!C687=\"\",\"\",Qeydiyyat!C687)","v":""},{"$f":"IF(Qeydiyyat!B687=\"\",\"\",Qeydiyyat!B687)","v":""},{"$f":"IF(Qeydiyyat!D687=\"\",\"\",Qeydiyyat!D687)","v":""},{"$f":"IF(Qeydiyyat!K687=\"\",\"\",Qeydiyyat!K687)","v":""},{"$f":"IF(Qeydiyyat!AB687=\"\",\"\",Qeydiyyat!AB687)","v":""},{"$f":"IF(Qeydiyyat!AA687=\"\",\"\",Qeydiyyat!AA687)","v":""},{"$f":"IF(Qeydiyyat!X687=\"\",\"\",Qeydiyyat!X687)","v":""},{"$f":"IF(Qeydiyyat!Y687=\"\",\"\",Qeydiyyat!Y687)","v":""},null,{"$f":"IF(Qeydiyyat!AC687=\"\",\"\",Qeydiyyat!AC687)","v":""}]
[null,439,{"$f":"IF(Qeydiyyat!C688=\"\",\"\",Qeydiyyat!C688)","v":""},{"$f":"IF(Qeydiyyat!B688=\"\",\"\",Qeydiyyat!B688)","v":""},{"$f":"IF(Qeydiyyat!D688=\"\",\"\",Qeydiyyat!D688)","v":""},{"$f":"IF(Qeydiyyat!K688=\"\",\"\",Qeydiyyat!K688)","v":""},{"$f":"IF(Qeydiyyat!AB688=\"\",\"\",Qeydiyyat!AB688)","v":""},{"$f":"IF(Qeydiyyat!AA688=\"\",\"\",Qeydiyyat!AA688)","v":""},{"$f":"IF(Qeydiyyat!X688=\"\",\"\",Qeydiyyat!X688)","v":""},{"$f":"IF(Qeydiyyat!Y688=\"\",\"\",Qeydiyyat!Y688)","v":""},null,{"$f":"IF(Qeydiyyat!AC688=\"\",\"\",Qeydiyyat!AC688)","v":""}]
[null,440,{"$f":"IF(Qeydiyyat!C689=\"\",\"\",Qeydiyyat!C689)","v":""},{"$f":"IF(Qeydiyyat!B689=\"\",\"\",Qeydiyyat!B689)","v":""},{"$f":"IF(Qeydiyyat!D689=\"\",\"\",Qeydiyyat!D689)","v":""},{"$f":"IF(Qeydiyyat!K689=\"\",\"\",Qeydiyyat!K689)","v":""},{"$f":"IF(Qeydiyyat!AB689=\"\",\"\",Qeydiyyat!AB689)","v":""},{"$f":"IF(Qeydiyyat!AA689=\"\",\"\",Qeydiyyat!AA689)","v":""},{"$f":"IF(Qeydiyyat!X689=\"\",\"\",Qeydiyyat!X689)","v":""},{"$f":"IF(Qeydiyyat!Y689=\"\",\"\",Qeydiyyat!Y689)","v":""},null,{"$f":"IF(Qeydiyyat!AC689=\"\",\"\",Qeydiyyat!AC689)","v":""}]
[null,441,{"$f":"IF(Qeydiyyat!C690=\"\",\"\",Qeydiyyat!C690)","v":""},{"$f":"IF(Qeydiyyat!B690=\"\",\"\",Qeydiyyat!B690)","v":""},{"$f":"IF(Qeydiyyat!D690=\"\",\"\",Qeydiyyat!D690)","v":""},{"$f":"IF(Qeydiyyat!K690=\"\",\"\",Qeydiyyat!K690)","v":""},{"$f":"IF(Qeydiyyat!AB690=\"\",\"\",Qeydiyyat!AB690)","v":""},{"$f":"IF(Qeydiyyat!AA690=\"\",\"\",Qeydiyyat!AA690)","v":""},{"$f":"IF(Qeydiyyat!X690=\"\",\"\",Qeydiyyat!X690)","v":""},{"$f":"IF(Qeydiyyat!Y690=\"\",\"\",Qeydiyyat!Y690)","v":""},null,{"$f":"IF(Qeydiyyat!AC690=\"\",\"\",Qeydiyyat!AC690)","v":""}]
[null,442,{"$f":"IF(Qeydiyyat!C691=\"\",\"\",Qeydiyyat!C691)","v":""},{"$f":"IF(Qeydiyyat!B691=\"\",\"\",Qeydiyyat!B691)","v":""},{"$f":"IF(Qeydiyyat!D691=\"\",\"\",Qeydiyyat!D691)","v":""},{"$f":"IF(Qeydiyyat!K691=\"\",\"\",Qeydiyyat!K691)","v":""},{"$f":"IF(Qeydiyyat!AB691=\"\",\"\",Qeydiyyat!AB691)","v":""},{"$f":"IF(Qeydiyyat!AA691=\"\",\"\",Qeydiyyat!AA691)","v":""},{"$f":"IF(Qeydiyyat!X691=\"\",\"\",Qeydiyyat!X691)","v":""},{"$f":"IF(Qeydiyyat!Y691=\"\",\"\",Qeydiyyat!Y691)","v":""},null,{"$f":"IF(Qeydiyyat!AC691=\"\",\"\",Qeydiyyat!AC691)","v":""}]
[null,443,{"$f":"IF(Qeydiyyat!C692=\"\",\"\",Qeydiyyat!C692)","v":""},{"$f":"IF(Qeydiyyat!B692=\"\",\"\",Qeydiyyat!B692)","v":""},{"$f":"IF(Qeydiyyat!D692=\"\",\"\",Qeydiyyat!D692)","v":""},{"$f":"IF(Qeydiyyat!K692=\"\",\"\",Qeydiyyat!K692)","v":""},{"$f":"IF(Qeydiyyat!AB692=\"\",\"\",Qeydiyyat!AB692)","v":""},{"$f":"IF(Qeydiyyat!AA692=\"\",\"\",Qeydiyyat!AA692)","v":""},{"$f":"IF(Qeydiyyat!X692=\"\",\"\",Qeydiyyat!X692)","v":""},{"$f":"IF(Qeydiyyat!Y692=\"\",\"\",Qeydiyyat!Y692)","v":""},null,{"$f":"IF(Qeydiyyat!AC692=\"\",\"\",Qeydiyyat!AC692)","v":""}]
[null,444,{"$f":"IF(Qeydiyyat!C693=\"\",\"\",Qeydiyyat!C693)","v":""},{"$f":"IF(Qeydiyyat!B693=\"\",\"\",Qeydiyyat!B693)","v":""},{"$f":"IF(Qeydiyyat!D693=\"\",\"\",Qeydiyyat!D693)","v":""},{"$f":"IF(Qeydiyyat!K693=\"\",\"\",Qeydiyyat!K693)","v":""},{"$f":"IF(Qeydiyyat!AB693=\"\",\"\",Qeydiyyat!AB693)","v":""},{"$f":"IF(Qeydiyyat!AA693=\"\",\"\",Qeydiyyat!AA693)","v":""},{"$f":"IF(Qeydiyyat!X693=\"\",\"\",Qeydiyyat!X693)","v":""},{"$f":"IF(Qeydiyyat!Y693=\"\",\"\",Qeydiyyat!Y693)","v":""},null,{"$f":"IF(Qeydiyyat!AC693=\"\",\"\",Qeydiyyat!AC693)","v":""}]
[null,445,{"$f":"IF(Qeydiyyat!C694=\"\",\"\",Qeydiyyat!C694)","v":""},{"$f":"IF(Qeydiyyat!B694=\"\",\"\",Qeydiyyat!B694)","v":""},{"$f":"IF(Qeydiyyat!D694=\"\",\"\",Qeydiyyat!D694)","v":""},{"$f":"IF(Qeydiyyat!K694=\"\",\"\",Qeydiyyat!K694)","v":""},{"$f":"IF(Qeydiyyat!AB694=\"\",\"\",Qeydiyyat!AB694)","v":""},{"$f":"IF(Qeydiyyat!AA694=\"\",\"\",Qeydiyyat!AA694)","v":""},{"$f":"IF(Qeydiyyat!X694=\"\",\"\",Qeydiyyat!X694)","v":""},{"$f":"IF(Qeydiyyat!Y694=\"\",\"\",Qeydiyyat!Y694)","v":""},null,{"$f":"IF(Qeydiyyat!AC694=\"\",\"\",Qeydiyyat!AC694)","v":""}]
[null,446,{"$f":"IF(Qeydiyyat!C695=\"\",\"\",Qeydiyyat!C695)","v":""},{"$f":"IF(Qeydiyyat!B695=\"\",\"\",Qeydiyyat!B695)","v":""},{"$f":"IF(Qeydiyyat!D695=\"\",\"\",Qeydiyyat!D695)","v":""},{"$f":"IF(Qeydiyyat!K695=\"\",\"\",Qeydiyyat!K695)","v":""},{"$f":"IF(Qeydiyyat!AB695=\"\",\"\",Qeydiyyat!AB695)","v":""},{"$f":"IF(Qeydiyyat!AA695=\"\",\"\",Qeydiyyat!AA695)","v":""},{"$f":"IF(Qeydiyyat!X695=\"\",\"\",Qeydiyyat!X695)","v":""},{"$f":"IF(Qeydiyyat!Y695=\"\",\"\",Qeydiyyat!Y695)","v":""},null,{"$f":"IF(Qeydiyyat!AC695=\"\",\"\",Qeydiyyat!AC695)","v":""}]
[null,447,{"$f":"IF(Qeydiyyat!C696=\"\",\"\",Qeydiyyat!C696)","v":""},{"$f":"IF(Qeydiyyat!B696=\"\",\"\",Qeydiyyat!B696)","v":""},{"$f":"IF(Qeydiyyat!D696=\"\",\"\",Qeydiyyat!D696)","v":""},{"$f":"IF(Qeydiyyat!K696=\"\",\"\",Qeydiyyat!K696)","v":""},{"$f":"IF(Qeydiyyat!AB696=\"\",\"\",Qeydiyyat!AB696)","v":""},{"$f":"IF(Qeydiyyat!AA696=\"\",\"\",Qeydiyyat!AA696)","v":""},{"$f":"IF(Qeydiyyat!X696=\"\",\"\",Qeydiyyat!X696)","v":""},{"$f":"IF(Qeydiyyat!Y696=\"\",\"\",Qeydiyyat!Y696)","v":""},null,{"$f":"IF(Qeydiyyat!AC696=\"\",\"\",Qeydiyyat!AC696)","v":""}]
[null,448,{"$f":"IF(Qeydiyyat!C697=\"\",\"\",Qeydiyyat!C697)","v":""},{"$f":"IF(Qeydiyyat!B697=\"\",\"\",Qeydiyyat!B697)","v":""},{"$f":"IF(Qeydiyyat!D697=\"\",\"\",Qeydiyyat!D697)","v":""},{"$f":"IF(Qeydiyyat!K697=\"\",\"\",Qeydiyyat!K697)","v":""},{"$f":"IF(Qeydiyyat!AB697=\"\",\"\",Qeydiyyat!AB697)","v":""},{"$f":"IF(Qeydiyyat!AA697=\"\",\"\",Qeydiyyat!AA697)","v":""},{"$f":"IF(Qeydiyyat!X697=\"\",\"\",Qeydiyyat!X697)","v":""},{"$f":"IF(Qeydiyyat!Y697=\"\",\"\",Qeydiyyat!Y697)","v":""},null,{"$f":"IF(Qeydiyyat!AC697=\"\",\"\",Qeydiyyat!AC697)","v":""}]
[null,449,{"$f":"IF(Qeydiyyat!C698=\"\",\"\",Qeydiyyat!C698)","v":""},{"$f":"IF(Qeydiyyat!B698=\"\",\"\",Qeydiyyat!B698)","v":""},{"$f":"IF(Qeydiyyat!D698=\"\",\"\",Qeydiyyat!D698)","v":""},{"$f":"IF(Qeydiyyat!K698=\"\",\"\",Qeydiyyat!K698)","v":""},{"$f":"IF(Qeydiyyat!AB698=\"\",\"\",Qeydiyyat!AB698)","v":""},{"$f":"IF(Qeydiyyat!AA698=\"\",\"\",Qeydiyyat!AA698)","v":""},{"$f":"IF(Qeydiyyat!X698=\"\",\"\",Qeydiyyat!X698)","v":""},{"$f":"IF(Qeydiyyat!Y698=\"\",\"\",Qeydiyyat!Y698)","v":""},null,{"$f":"IF(Qeydiyyat!AC698=\"\",\"\",Qeydiyyat!AC698)","v":""}]
[null,450,{"$f":"IF(Qeydiyyat!C699=\"\",\"\",Qeydiyyat!C699)","v":""},{"$f":"IF(Qeydiyyat!B699=\"\",\"\",Qeydiyyat!B699)","v":""},{"$f":"IF(Qeydiyyat!D699=\"\",\"\",Qeydiyyat!D699)","v":""},{"$f":"IF(Qeydiyyat!K699=\"\",\"\",Qeydiyyat!K699)","v":""},{"$f":"IF(Qeydiyyat!AB699=\"\",\"\",Qeydiyyat!AB699)","v":""},{"$f":"IF(Qeydiyyat!AA699=\"\",\"\",Qeydiyyat!AA699)","v":""},{"$f":"IF(Qeydiyyat!X699=\"\",\"\",Qeydiyyat!X699)","v":""},{"$f":"IF(Qeydiyyat!Y699=\"\",\"\",Qeydiyyat!Y699)","v":""},null,{"$f":"IF(Qeydiyyat!AC699=\"\",\"\",Qeydiyyat!AC699)","v":""}]
[null,451,{"$f":"IF(Qeydiyyat!C700=\"\",\"\",Qeydiyyat!C700)","v":""},{"$f":"IF(Qeydiyyat!B700=\"\",\"\",Qeydiyyat!B700)","v":""},{"$f":"IF(Qeydiyyat!D700=\"\",\"\",Qeydiyyat!D700)","v":""},{"$f":"IF(Qeydiyyat!K700=\"\",\"\",Qeydiyyat!K700)","v":""},{"$f":"IF(Qeydiyyat!AB700=\"\",\"\",Qeydiyyat!AB700)","v":""},{"$f":"IF(Qeydiyyat!AA700=\"\",\"\",Qeydiyyat!AA700)","v":""},{"$f":"IF(Qeydiyyat!X700=\"\",\"\",Qeydiyyat!X700)","v":""},{"$f":"IF(Qeydiyyat!Y700=\"\",\"\",Qeydiyyat!Y700)","v":""},null,{"$f":"IF(Qeydiyyat!AC700=\"\",\"\",Qeydiyyat!AC700)","v":""}]
[null,452,{"$f":"IF(Qeydiyyat!C701=\"\",\"\",Qeydiyyat!C701)","v":""},{"$f":"IF(Qeydiyyat!B701=\"\",\"\",Qeydiyyat!B701)","v":""},{"$f":"IF(Qeydiyyat!D701=\"\",\"\",Qeydiyyat!D701)","v":""},{"$f":"IF(Qeydiyyat!K701=\"\",\"\",Qeydiyyat!K701)","v":""},{"$f":"IF(Qeydiyyat!AB701=\"\",\"\",Qeydiyyat!AB701)","v":""},{"$f":"IF(Qeydiyyat!AA701=\"\",\"\",Qeydiyyat!AA701)","v":""},{"$f":"IF(Qeydiyyat!X701=\"\",\"\",Qeydiyyat!X701)","v":""},{"$f":"IF(Qeydiyyat!Y701=\"\",\"\",Qeydiyyat!Y701)","v":""},null,{"$f":"IF(Qeydiyyat!AC701=\"\",\"\",Qeydiyyat!AC701)","v":""}]
[null,{"$f":"B470+1","v":453},{"$f":"IF(Qeydiyyat!C702=\"\",\"\",Qeydiyyat!C702)","v":""},{"$f":"IF(Qeydiyyat!B702=\"\",\"\",Qeydiyyat!B702)","v":""},{"$f":"IF(Qeydiyyat!D702=\"\",\"\",Qeydiyyat!D702)","v":""},{"$f":"IF(Qeydiyyat!K702=\"\",\"\",Qeydiyyat!K702)","v":""},{"$f":"IF(Qeydiyyat!AB702=\"\",\"\",Qeydiyyat!AB702)","v":""},{"$f":"IF(Qeydiyyat!AA702=\"\",\"\",Qeydiyyat!AA702)","v":""},{"$f":"IF(Qeydiyyat!X702=\"\",\"\",Qeydiyyat!X702)","v":""},{"$f":"IF(Qeydiyyat!Y702=\"\",\"\",Qeydiyyat!Y702)","v":""},null,{"$f":"IF(Qeydiyyat!AC702=\"\",\"\",Qeydiyyat!AC702)","v":""}]
[null,454,{"$f":"IF(Qeydiyyat!C703=\"\",\"\",Qeydiyyat!C703)","v":""},{"$f":"IF(Qeydiyyat!B703=\"\",\"\",Qeydiyyat!B703)","v":""},{"$f":"IF(Qeydiyyat!D703=\"\",\"\",Qeydiyyat!D703)","v":""},{"$f":"IF(Qeydiyyat!K703=\"\",\"\",Qeydiyyat!K703)","v":""},{"$f":"IF(Qeydiyyat!AB703=\"\",\"\",Qeydiyyat!AB703)","v":""},{"$f":"IF(Qeydiyyat!AA703=\"\",\"\",Qeydiyyat!AA703)","v":""},{"$f":"IF(Qeydiyyat!X703=\"\",\"\",Qeydiyyat!X703)","v":""},{"$f":"IF(Qeydiyyat!Y703=\"\",\"\",Qeydiyyat!Y703)","v":""},null,{"$f":"IF(Qeydiyyat!AC703=\"\",\"\",Qeydiyyat!AC703)","v":""}]
[null,455,{"$f":"IF(Qeydiyyat!C704=\"\",\"\",Qeydiyyat!C704)","v":""},{"$f":"IF(Qeydiyyat!B704=\"\",\"\",Qeydiyyat!B704)","v":""},{"$f":"IF(Qeydiyyat!D704=\"\",\"\",Qeydiyyat!D704)","v":""},{"$f":"IF(Qeydiyyat!K704=\"\",\"\",Qeydiyyat!K704)","v":""},{"$f":"IF(Qeydiyyat!AB704=\"\",\"\",Qeydiyyat!AB704)","v":""},{"$f":"IF(Qeydiyyat!AA704=\"\",\"\",Qeydiyyat!AA704)","v":""},{"$f":"IF(Qeydiyyat!X704=\"\",\"\",Qeydiyyat!X704)","v":""},{"$f":"IF(Qeydiyyat!Y704=\"\",\"\",Qeydiyyat!Y704)","v":""},null,{"$f":"IF(Qeydiyyat!AC704=\"\",\"\",Qeydiyyat!AC704)","v":""}]
[null,456,{"$f":"IF(Qeydiyyat!C705=\"\",\"\",Qeydiyyat!C705)","v":""},{"$f":"IF(Qeydiyyat!B705=\"\",\"\",Qeydiyyat!B705)","v":""},{"$f":"IF(Qeydiyyat!D705=\"\",\"\",Qeydiyyat!D705)","v":""},{"$f":"IF(Qeydiyyat!K705=\"\",\"\",Qeydiyyat!K705)","v":""},{"$f":"IF(Qeydiyyat!AB705=\"\",\"\",Qeydiyyat!AB705)","v":""},{"$f":"IF(Qeydiyyat!AA705=\"\",\"\",Qeydiyyat!AA705)","v":""},{"$f":"IF(Qeydiyyat!X705=\"\",\"\",Qeydiyyat!X705)","v":""},{"$f":"IF(Qeydiyyat!Y705=\"\",\"\",Qeydiyyat!Y705)","v":""},null,{"$f":"IF(Qeydiyyat!AC705=\"\",\"\",Qeydiyyat!AC705)","v":""}]
[null,457,{"$f":"IF(Qeydiyyat!C706=\"\",\"\",Qeydiyyat!C706)","v":""},{"$f":"IF(Qeydiyyat!B706=\"\",\"\",Qeydiyyat!B706)","v":""},{"$f":"IF(Qeydiyyat!D706=\"\",\"\",Qeydiyyat!D706)","v":""},{"$f":"IF(Qeydiyyat!K706=\"\",\"\",Qeydiyyat!K706)","v":""},{"$f":"IF(Qeydiyyat!AB706=\"\",\"\",Qeydiyyat!AB706)","v":""},{"$f":"IF(Qeydiyyat!AA706=\"\",\"\",Qeydiyyat!AA706)","v":""},{"$f":"IF(Qeydiyyat!X706=\"\",\"\",Qeydiyyat!X706)","v":""},{"$f":"IF(Qeydiyyat!Y706=\"\",\"\",Qeydiyyat!Y706)","v":""},null,{"$f":"IF(Qeydiyyat!AC706=\"\",\"\",Qeydiyyat!AC706)","v":""}]
[null,458,{"$f":"IF(Qeydiyyat!C707=\"\",\"\",Qeydiyyat!C707)","v":""},{"$f":"IF(Qeydiyyat!B707=\"\",\"\",Qeydiyyat!B707)","v":""},{"$f":"IF(Qeydiyyat!D707=\"\",\"\",Qeydiyyat!D707)","v":""},{"$f":"IF(Qeydiyyat!K707=\"\",\"\",Qeydiyyat!K707)","v":""},{"$f":"IF(Qeydiyyat!AB707=\"\",\"\",Qeydiyyat!AB707)","v":""},{"$f":"IF(Qeydiyyat!AA707=\"\",\"\",Qeydiyyat!AA707)","v":""},{"$f":"IF(Qeydiyyat!X707=\"\",\"\",Qeydiyyat!X707)","v":""},{"$f":"IF(Qeydiyyat!Y707=\"\",\"\",Qeydiyyat!Y707)","v":""},null,{"$f":"IF(Qeydiyyat!AC707=\"\",\"\",Qeydiyyat!AC707)","v":""}]
[null,459,{"$f":"IF(Qeydiyyat!C708=\"\",\"\",Qeydiyyat!C708)","v":""},{"$f":"IF(Qeydiyyat!B708=\"\",\"\",Qeydiyyat!B708)","v":""},{"$f":"IF(Qeydiyyat!D708=\"\",\"\",Qeydiyyat!D708)","v":""},{"$f":"IF(Qeydiyyat!K708=\"\",\"\",Qeydiyyat!K708)","v":""},{"$f":"IF(Qeydiyyat!AB708=\"\",\"\",Qeydiyyat!AB708)","v":""},{"$f":"IF(Qeydiyyat!AA708=\"\",\"\",Qeydiyyat!AA708)","v":""},{"$f":"IF(Qeydiyyat!X708=\"\",\"\",Qeydiyyat!X708)","v":""},{"$f":"IF(Qeydiyyat!Y708=\"\",\"\",Qeydiyyat!Y708)","v":""},null,{"$f":"IF(Qeydiyyat!AC708=\"\",\"\",Qeydiyyat!AC708)","v":""}]
[null,460,{"$f":"IF(Qeydiyyat!C709=\"\",\"\",Qeydiyyat!C709)","v":""},{"$f":"IF(Qeydiyyat!B709=\"\",\"\",Qeydiyyat!B709)","v":""},{"$f":"IF(Qeydiyyat!D709=\"\",\"\",Qeydiyyat!D709)","v":""},{"$f":"IF(Qeydiyyat!K709=\"\",\"\",Qeydiyyat!K709)","v":""},{"$f":"IF(Qeydiyyat!AB709=\"\",\"\",Qeydiyyat!AB709)","v":""},{"$f":"IF(Qeydiyyat!AA709=\"\",\"\",Qeydiyyat!AA709)","v":""},{"$f":"IF(Qeydiyyat!X709=\"\",\"\",Qeydiyyat!X709)","v":""},{"$f":"IF(Qeydiyyat!Y709=\"\",\"\",Qeydiyyat!Y709)","v":""},null,{"$f":"IF(Qeydiyyat!AC709=\"\",\"\",Qeydiyyat!AC709)","v":""}]
[null,461,{"$f":"IF(Qeydiyyat!C710=\"\",\"\",Qeydiyyat!C710)","v":""},{"$f":"IF(Qeydiyyat!B710=\"\",\"\",Qeydiyyat!B710)","v":""},{"$f":"IF(Qeydiyyat!D710=\"\",\"\",Qeydiyyat!D710)","v":""},{"$f":"IF(Qeydiyyat!K710=\"\",\"\",Qeydiyyat!K710)","v":""},{"$f":"IF(Qeydiyyat!AB710=\"\",\"\",Qeydiyyat!AB710)","v":""},{"$f":"IF(Qeydiyyat!AA710=\"\",\"\",Qeydiyyat!AA710)","v":""},{"$f":"IF(Qeydiyyat!X710=\"\",\"\",Qeydiyyat!X710)","v":""},{"$f":"IF(Qeydiyyat!Y710=\"\",\"\",Qeydiyyat!Y710)","v":""},null,{"$f":"IF(Qeydiyyat!AC710=\"\",\"\",Qeydiyyat!AC710)","v":""}]
[null,462,{"$f":"IF(Qeydiyyat!C711=\"\",\"\",Qeydiyyat!C711)","v":""},{"$f":"IF(Qeydiyyat!B711=\"\",\"\",Qeydiyyat!B711)","v":""},{"$f":"IF(Qeydiyyat!D711=\"\",\"\",Qeydiyyat!D711)","v":""},{"$f":"IF(Qeydiyyat!K711=\"\",\"\",Qeydiyyat!K711)","v":""},{"$f":"IF(Qeydiyyat!AB711=\"\",\"\",Qeydiyyat!AB711)","v":""},{"$f":"IF(Qeydiyyat!AA711=\"\",\"\",Qeydiyyat!AA711)","v":""},{"$f":"IF(Qeydiyyat!X711=\"\",\"\",Qeydiyyat!X711)","v":""},{"$f":"IF(Qeydiyyat!Y711=\"\",\"\",Qeydiyyat!Y711)","v":""},null,{"$f":"IF(Qeydiyyat!AC711=\"\",\"\",Qeydiyyat!AC711)","v":""}]
[null,463,{"$f":"IF(Qeydiyyat!C712=\"\",\"\",Qeydiyyat!C712)","v":""},{"$f":"IF(Qeydiyyat!B712=\"\",\"\",Qeydiyyat!B712)","v":""},{"$f":"IF(Qeydiyyat!D712=\"\",\"\",Qeydiyyat!D712)","v":""},{"$f":"IF(Qeydiyyat!K712=\"\",\"\",Qeydiyyat!K712)","v":""},{"$f":"IF(Qeydiyyat!AB712=\"\",\"\",Qeydiyyat!AB712)","v":""},{"$f":"IF(Qeydiyyat!AA712=\"\",\"\",Qeydiyyat!AA712)","v":""},{"$f":"IF(Qeydiyyat!X712=\"\",\"\",Qeydiyyat!X712)","v":""},{"$f":"IF(Qeydiyyat!Y712=\"\",\"\",Qeydiyyat!Y712)","v":""},null,{"$f":"IF(Qeydiyyat!AC712=\"\",\"\",Qeydiyyat!AC712)","v":""}]
[null,464,{"$f":"IF(Qeydiyyat!C713=\"\",\"\",Qeydiyyat!C713)","v":""},{"$f":"IF(Qeydiyyat!B713=\"\",\"\",Qeydiyyat!B713)","v":""},{"$f":"IF(Qeydiyyat!D713=\"\",\"\",Qeydiyyat!D713)","v":""},{"$f":"IF(Qeydiyyat!K713=\"\",\"\",Qeydiyyat!K713)","v":""},{"$f":"IF(Qeydiyyat!AB713=\"\",\"\",Qeydiyyat!AB713)","v":""},{"$f":"IF(Qeydiyyat!AA713=\"\",\"\",Qeydiyyat!AA713)","v":""},{"$f":"IF(Qeydiyyat!X713=\"\",\"\",Qeydiyyat!X713)","v":""},{"$f":"IF(Qeydiyyat!Y713=\"\",\"\",Qeydiyyat!Y713)","v":""},null,{"$f":"IF(Qeydiyyat!AC713=\"\",\"\",Qeydiyyat!AC713)","v":""}]
[null,465,{"$f":"IF(Qeydiyyat!C714=\"\",\"\",Qeydiyyat!C714)","v":""},{"$f":"IF(Qeydiyyat!B714=\"\",\"\",Qeydiyyat!B714)","v":""},{"$f":"IF(Qeydiyyat!D714=\"\",\"\",Qeydiyyat!D714)","v":""},{"$f":"IF(Qeydiyyat!K714=\"\",\"\",Qeydiyyat!K714)","v":""},{"$f":"IF(Qeydiyyat!AB714=\"\",\"\",Qeydiyyat!AB714)","v":""},{"$f":"IF(Qeydiyyat!AA714=\"\",\"\",Qeydiyyat!AA714)","v":""},{"$f":"IF(Qeydiyyat!X714=\"\",\"\",Qeydiyyat!X714)","v":""},{"$f":"IF(Qeydiyyat!Y714=\"\",\"\",Qeydiyyat!Y714)","v":""},null,{"$f":"IF(Qeydiyyat!AC714=\"\",\"\",Qeydiyyat!AC714)","v":""}]
[null,466,{"$f":"IF(Qeydiyyat!C715=\"\",\"\",Qeydiyyat!C715)","v":""},{"$f":"IF(Qeydiyyat!B715=\"\",\"\",Qeydiyyat!B715)","v":""},{"$f":"IF(Qeydiyyat!D715=\"\",\"\",Qeydiyyat!D715)","v":""},{"$f":"IF(Qeydiyyat!K715=\"\",\"\",Qeydiyyat!K715)","v":""},{"$f":"IF(Qeydiyyat!AB715=\"\",\"\",Qeydiyyat!AB715)","v":""},{"$f":"IF(Qeydiyyat!AA715=\"\",\"\",Qeydiyyat!AA715)","v":""},{"$f":"IF(Qeydiyyat!X715=\"\",\"\",Qeydiyyat!X715)","v":""},{"$f":"IF(Qeydiyyat!Y715=\"\",\"\",Qeydiyyat!Y715)","v":""},null,{"$f":"IF(Qeydiyyat!AC715=\"\",\"\",Qeydiyyat!AC715)","v":""}]
[null,467,{"$f":"IF(Qeydiyyat!C716=\"\",\"\",Qeydiyyat!C716)","v":""},{"$f":"IF(Qeydiyyat!B716=\"\",\"\",Qeydiyyat!B716)","v":""},{"$f":"IF(Qeydiyyat!D716=\"\",\"\",Qeydiyyat!D716)","v":""},{"$f":"IF(Qeydiyyat!K716=\"\",\"\",Qeydiyyat!K716)","v":""},{"$f":"IF(Qeydiyyat!AB716=\"\",\"\",Qeydiyyat!AB716)","v":""},{"$f":"IF(Qeydiyyat!AA716=\"\",\"\",Qeydiyyat!AA716)","v":""},{"$f":"IF(Qeydiyyat!X716=\"\",\"\",Qeydiyyat!X716)","v":""},{"$f":"IF(Qeydiyyat!Y716=\"\",\"\",Qeydiyyat!Y716)","v":""},null,{"$f":"IF(Qeydiyyat!AC716=\"\",\"\",Qeydiyyat!AC716)","v":""}]
[null,468,{"$f":"IF(Qeydiyyat!C717=\"\",\"\",Qeydiyyat!C717)","v":""},{"$f":"IF(Qeydiyyat!B717=\"\",\"\",Qeydiyyat!B717)","v":""},{"$f":"IF(Qeydiyyat!D717=\"\",\"\",Qeydiyyat!D717)","v":""},{"$f":"IF(Qeydiyyat!K717=\"\",\"\",Qeydiyyat!K717)","v":""},{"$f":"IF(Qeydiyyat!AB717=\"\",\"\",Qeydiyyat!AB717)","v":""},{"$f":"IF(Qeydiyyat!AA717=\"\",\"\",Qeydiyyat!AA717)","v":""},{"$f":"IF(Qeydiyyat!X717=\"\",\"\",Qeydiyyat!X717)","v":""},{"$f":"IF(Qeydiyyat!Y717=\"\",\"\",Qeydiyyat!Y717)","v":""},null,{"$f":"IF(Qeydiyyat!AC717=\"\",\"\",Qeydiyyat!AC717)","v":""}]
[null,469,{"$f":"IF(Qeydiyyat!C718=\"\",\"\",Qeydiyyat!C718)","v":""},{"$f":"IF(Qeydiyyat!B718=\"\",\"\",Qeydiyyat!B718)","v":""},{"$f":"IF(Qeydiyyat!D718=\"\",\"\",Qeydiyyat!D718)","v":""},{"$f":"IF(Qeydiyyat!K718=\"\",\"\",Qeydiyyat!K718)","v":""},{"$f":"IF(Qeydiyyat!AB718=\"\",\"\",Qeydiyyat!AB718)","v":""},{"$f":"IF(Qeydiyyat!AA718=\"\",\"\",Qeydiyyat!AA718)","v":""},{"$f":"IF(Qeydiyyat!X718=\"\",\"\",Qeydiyyat!X718)","v":""},{"$f":"IF(Qeydiyyat!Y718=\"\",\"\",Qeydiyyat!Y718)","v":""},null,{"$f":"IF(Qeydiyyat!AC718=\"\",\"\",Qeydiyyat!AC718)","v":""}]
[null,470,{"$f":"IF(Qeydiyyat!C719=\"\",\"\",Qeydiyyat!C719)","v":""},{"$f":"IF(Qeydiyyat!B719=\"\",\"\",Qeydiyyat!B719)","v":""},{"$f":"IF(Qeydiyyat!D719=\"\",\"\",Qeydiyyat!D719)","v":""},{"$f":"IF(Qeydiyyat!K719=\"\",\"\",Qeydiyyat!K719)","v":""},{"$f":"IF(Qeydiyyat!AB719=\"\",\"\",Qeydiyyat!AB719)","v":""},{"$f":"IF(Qeydiyyat!AA719=\"\",\"\",Qeydiyyat!AA719)","v":""},{"$f":"IF(Qeydiyyat!X719=\"\",\"\",Qeydiyyat!X719)","v":""},{"$f":"IF(Qeydiyyat!Y719=\"\",\"\",Qeydiyyat!Y719)","v":""},null,{"$f":"IF(Qeydiyyat!AC719=\"\",\"\",Qeydiyyat!AC719)","v":""}]
[null,471,{"$f":"IF(Qeydiyyat!C720=\"\",\"\",Qeydiyyat!C720)","v":""},{"$f":"IF(Qeydiyyat!B720=\"\",\"\",Qeydiyyat!B720)","v":""},{"$f":"IF(Qeydiyyat!D720=\"\",\"\",Qeydiyyat!D720)","v":""},{"$f":"IF(Qeydiyyat!K720=\"\",\"\",Qeydiyyat!K720)","v":""},{"$f":"IF(Qeydiyyat!AB720=\"\",\"\",Qeydiyyat!AB720)","v":""},{"$f":"IF(Qeydiyyat!AA720=\"\",\"\",Qeydiyyat!AA720)","v":""},{"$f":"IF(Qeydiyyat!X720=\"\",\"\",Qeydiyyat!X720)","v":""},{"$f":"IF(Qeydiyyat!Y720=\"\",\"\",Qeydiyyat!Y720)","v":""},null,{"$f":"IF(Qeydiyyat!AC720=\"\",\"\",Qeydiyyat!AC720)","v":""}]
[null,472,{"$f":"IF(Qeydiyyat!C721=\"\",\"\",Qeydiyyat!C721)","v":""},{"$f":"IF(Qeydiyyat!B721=\"\",\"\",Qeydiyyat!B721)","v":""},{"$f":"IF(Qeydiyyat!D721=\"\",\"\",Qeydiyyat!D721)","v":""},{"$f":"IF(Qeydiyyat!K721=\"\",\"\",Qeydiyyat!K721)","v":""},{"$f":"IF(Qeydiyyat!AB721=\"\",\"\",Qeydiyyat!AB721)","v":""},{"$f":"IF(Qeydiyyat!AA721=\"\",\"\",Qeydiyyat!AA721)","v":""},{"$f":"IF(Qeydiyyat!X721=\"\",\"\",Qeydiyyat!X721)","v":""},{"$f":"IF(Qeydiyyat!Y721=\"\",\"\",Qeydiyyat!Y721)","v":""},null,{"$f":"IF(Qeydiyyat!AC721=\"\",\"\",Qeydiyyat!AC721)","v":""}]
[null,473,{"$f":"IF(Qeydiyyat!C722=\"\",\"\",Qeydiyyat!C722)","v":""},{"$f":"IF(Qeydiyyat!B722=\"\",\"\",Qeydiyyat!B722)","v":""},{"$f":"IF(Qeydiyyat!D722=\"\",\"\",Qeydiyyat!D722)","v":""},{"$f":"IF(Qeydiyyat!K722=\"\",\"\",Qeydiyyat!K722)","v":""},{"$f":"IF(Qeydiyyat!AB722=\"\",\"\",Qeydiyyat!AB722)","v":""},{"$f":"IF(Qeydiyyat!AA722=\"\",\"\",Qeydiyyat!AA722)","v":""},{"$f":"IF(Qeydiyyat!X722=\"\",\"\",Qeydiyyat!X722)","v":""},{"$f":"IF(Qeydiyyat!Y722=\"\",\"\",Qeydiyyat!Y722)","v":""},null,{"$f":"IF(Qeydiyyat!AC722=\"\",\"\",Qeydiyyat!AC722)","v":""}]
[null,474,{"$f":"IF(Qeydiyyat!C723=\"\",\"\",Qeydiyyat!C723)","v":""},{"$f":"IF(Qeydiyyat!B723=\"\",\"\",Qeydiyyat!B723)","v":""},{"$f":"IF(Qeydiyyat!D723=\"\",\"\",Qeydiyyat!D723)","v":""},{"$f":"IF(Qeydiyyat!K723=\"\",\"\",Qeydiyyat!K723)","v":""},{"$f":"IF(Qeydiyyat!AB723=\"\",\"\",Qeydiyyat!AB723)","v":""},{"$f":"IF(Qeydiyyat!AA723=\"\",\"\",Qeydiyyat!AA723)","v":""},{"$f":"IF(Qeydiyyat!X723=\"\",\"\",Qeydiyyat!X723)","v":""},{"$f":"IF(Qeydiyyat!Y723=\"\",\"\",Qeydiyyat!Y723)","v":""},null,{"$f":"IF(Qeydiyyat!AC723=\"\",\"\",Qeydiyyat!AC723)","v":""}]
[null,475,{"$f":"IF(Qeydiyyat!C724=\"\",\"\",Qeydiyyat!C724)","v":""},{"$f":"IF(Qeydiyyat!B724=\"\",\"\",Qeydiyyat!B724)","v":""},{"$f":"IF(Qeydiyyat!D724=\"\",\"\",Qeydiyyat!D724)","v":""},{"$f":"IF(Qeydiyyat!K724=\"\",\"\",Qeydiyyat!K724)","v":""},{"$f":"IF(Qeydiyyat!AB724=\"\",\"\",Qeydiyyat!AB724)","v":""},{"$f":"IF(Qeydiyyat!AA724=\"\",\"\",Qeydiyyat!AA724)","v":""},{"$f":"IF(Qeydiyyat!X724=\"\",\"\",Qeydiyyat!X724)","v":""},{"$f":"IF(Qeydiyyat!Y724=\"\",\"\",Qeydiyyat!Y724)","v":""},null,{"$f":"IF(Qeydiyyat!AC724=\"\",\"\",Qeydiyyat!AC724)","v":""}]
[null,476,{"$f":"IF(Qeydiyyat!C725=\"\",\"\",Qeydiyyat!C725)","v":""},{"$f":"IF(Qeydiyyat!B725=\"\",\"\",Qeydiyyat!B725)","v":""},{"$f":"IF(Qeydiyyat!D725=\"\",\"\",Qeydiyyat!D725)","v":""},{"$f":"IF(Qeydiyyat!K725=\"\",\"\",Qeydiyyat!K725)","v":""},{"$f":"IF(Qeydiyyat!AB725=\"\",\"\",Qeydiyyat!AB725)","v":""},{"$f":"IF(Qeydiyyat!AA725=\"\",\"\",Qeydiyyat!AA725)","v":""},{"$f":"IF(Qeydiyyat!X725=\"\",\"\",Qeydiyyat!X725)","v":""},{"$f":"IF(Qeydiyyat!Y725=\"\",\"\",Qeydiyyat!Y725)","v":""},null,{"$f":"IF(Qeydiyyat!AC725=\"\",\"\",Qeydiyyat!AC725)","v":""}]
[null,477,{"$f":"IF(Qeydiyyat!C726=\"\",\"\",Qeydiyyat!C726)","v":""},{"$f":"IF(Qeydiyyat!B726=\"\",\"\",Qeydiyyat!B726)","v":""},{"$f":"IF(Qeydiyyat!D726=\"\",\"\",Qeydiyyat!D726)","v":""},{"$f":"IF(Qeydiyyat!K726=\"\",\"\",Qeydiyyat!K726)","v":""},{"$f":"IF(Qeydiyyat!AB726=\"\",\"\",Qeydiyyat!AB726)","v":""},{"$f":"IF(Qeydiyyat!AA726=\"\",\"\",Qeydiyyat!AA726)","v":""},{"$f":"IF(Qeydiyyat!X726=\"\",\"\",Qeydiyyat!X726)","v":""},{"$f":"IF(Qeydiyyat!Y726=\"\",\"\",Qeydiyyat!Y726)","v":""},null,{"$f":"IF(Qeydiyyat!AC726=\"\",\"\",Qeydiyyat!AC726)","v":""}]
[null,478,{"$f":"IF(Qeydiyyat!C727=\"\",\"\",Qeydiyyat!C727)","v":""},{"$f":"IF(Qeydiyyat!B727=\"\",\"\",Qeydiyyat!B727)","v":""},{"$f":"IF(Qeydiyyat!D727=\"\",\"\",Qeydiyyat!D727)","v":""},{"$f":"IF(Qeydiyyat!K727=\"\",\"\",Qeydiyyat!K727)","v":""},{"$f":"IF(Qeydiyyat!AB727=\"\",\"\",Qeydiyyat!AB727)","v":""},{"$f":"IF(Qeydiyyat!AA727=\"\",\"\",Qeydiyyat!AA727)","v":""},{"$f":"IF(Qeydiyyat!X727=\"\",\"\",Qeydiyyat!X727)","v":""},{"$f":"IF(Qeydiyyat!Y727=\"\",\"\",Qeydiyyat!Y727)","v":""},null,{"$f":"IF(Qeydiyyat!AC727=\"\",\"\",Qeydiyyat!AC727)","v":""}]
[null,479,{"$f":"IF(Qeydiyyat!C728=\"\",\"\",Qeydiyyat!C728)","v":""},{"$f":"IF(Qeydiyyat!B728=\"\",\"\",Qeydiyyat!B728)","v":""},{"$f":"IF(Qeydiyyat!D728=\"\",\"\",Qeydiyyat!D728)","v":""},{"$f":"IF(Qeydiyyat!K728=\"\",\"\",Qeydiyyat!K728)","v":""},{"$f":"IF(Qeydiyyat!AB728=\"\",\"\",Qeydiyyat!AB728)","v":""},{"$f":"IF(Qeydiyyat!AA728=\"\",\"\",Qeydiyyat!AA728)","v":""},{"$f":"IF(Qeydiyyat!X728=\"\",\"\",Qeydiyyat!X728)","v":""},{"$f":"IF(Qeydiyyat!Y728=\"\",\"\",Qeydiyyat!Y728)","v":""},null,{"$f":"IF(Qeydiyyat!AC728=\"\",\"\",Qeydiyyat!AC728)","v":""}]
[null,480,{"$f":"IF(Qeydiyyat!C729=\"\",\"\",Qeydiyyat!C729)","v":""},{"$f":"IF(Qeydiyyat!B729=\"\",\"\",Qeydiyyat!B729)","v":""},{"$f":"IF(Qeydiyyat!D729=\"\",\"\",Qeydiyyat!D729)","v":""},{"$f":"IF(Qeydiyyat!K729=\"\",\"\",Qeydiyyat!K729)","v":""},{"$f":"IF(Qeydiyyat!AB729=\"\",\"\",Qeydiyyat!AB729)","v":""},{"$f":"IF(Qeydiyyat!AA729=\"\",\"\",Qeydiyyat!AA729)","v":""},{"$f":"IF(Qeydiyyat!X729=\"\",\"\",Qeydiyyat!X729)","v":""},{"$f":"IF(Qeydiyyat!Y729=\"\",\"\",Qeydiyyat!Y729)","v":""},null,{"$f":"IF(Qeydiyyat!AC729=\"\",\"\",Qeydiyyat!AC729)","v":""}]
[null,481,{"$f":"IF(Qeydiyyat!C730=\"\",\"\",Qeydiyyat!C730)","v":""},{"$f":"IF(Qeydiyyat!B730=\"\",\"\",Qeydiyyat!B730)","v":""},{"$f":"IF(Qeydiyyat!D730=\"\",\"\",Qeydiyyat!D730)","v":""},{"$f":"IF(Qeydiyyat!K730=\"\",\"\",Qeydiyyat!K730)","v":""},{"$f":"IF(Qeydiyyat!AB730=\"\",\"\",Qeydiyyat!AB730)","v":""},{"$f":"IF(Qeydiyyat!AA730=\"\",\"\",Qeydiyyat!AA730)","v":""},{"$f":"IF(Qeydiyyat!X730=\"\",\"\",Qeydiyyat!X730)","v":""},{"$f":"IF(Qeydiyyat!Y730=\"\",\"\",Qeydiyyat!Y730)","v":""},null,{"$f":"IF(Qeydiyyat!AC730=\"\",\"\",Qeydiyyat!AC730)","v":""}]
[null,482,{"$f":"IF(Qeydiyyat!C731=\"\",\"\",Qeydiyyat!C731)","v":""},{"$f":"IF(Qeydiyyat!B731=\"\",\"\",Qeydiyyat!B731)","v":""},{"$f":"IF(Qeydiyyat!D731=\"\",\"\",Qeydiyyat!D731)","v":""},{"$f":"IF(Qeydiyyat!K731=\"\",\"\",Qeydiyyat!K731)","v":""},{"$f":"IF(Qeydiyyat!AB731=\"\",\"\",Qeydiyyat!AB731)","v":""},{"$f":"IF(Qeydiyyat!AA731=\"\",\"\",Qeydiyyat!AA731)","v":""},{"$f":"IF(Qeydiyyat!X731=\"\",\"\",Qeydiyyat!X731)","v":""},{"$f":"IF(Qeydiyyat!Y731=\"\",\"\",Qeydiyyat!Y731)","v":""},null,{"$f":"IF(Qeydiyyat!AC731=\"\",\"\",Qeydiyyat!AC731)","v":""}]
[null,483,{"$f":"IF(Qeydiyyat!C732=\"\",\"\",Qeydiyyat!C732)","v":""},{"$f":"IF(Qeydiyyat!B732=\"\",\"\",Qeydiyyat!B732)","v":""},{"$f":"IF(Qeydiyyat!D732=\"\",\"\",Qeydiyyat!D732)","v":""},{"$f":"IF(Qeydiyyat!K732=\"\",\"\",Qeydiyyat!K732)","v":""},{"$f":"IF(Qeydiyyat!AB732=\"\",\"\",Qeydiyyat!AB732)","v":""},{"$f":"IF(Qeydiyyat!AA732=\"\",\"\",Qeydiyyat!AA732)","v":""},{"$f":"IF(Qeydiyyat!X732=\"\",\"\",Qeydiyyat!X732)","v":""},{"$f":"IF(Qeydiyyat!Y732=\"\",\"\",Qeydiyyat!Y732)","v":""},null,{"$f":"IF(Qeydiyyat!AC732=\"\",\"\",Qeydiyyat!AC732)","v":""}]
[null,484,{"$f":"IF(Qeydiyyat!C733=\"\",\"\",Qeydiyyat!C733)","v":""},{"$f":"IF(Qeydiyyat!B733=\"\",\"\",Qeydiyyat!B733)","v":""},{"$f":"IF(Qeydiyyat!D733=\"\",\"\",Qeydiyyat!D733)","v":""},{"$f":"IF(Qeydiyyat!K733=\"\",\"\",Qeydiyyat!K733)","v":""},{"$f":"IF(Qeydiyyat!AB733=\"\",\"\",Qeydiyyat!AB733)","v":""},{"$f":"IF(Qeydiyyat!AA733=\"\",\"\",Qeydiyyat!AA733)","v":""},{"$f":"IF(Qeydiyyat!X733=\"\",\"\",Qeydiyyat!X733)","v":""},{"$f":"IF(Qeydiyyat!Y733=\"\",\"\",Qeydiyyat!Y733)","v":""},null,{"$f":"IF(Qeydiyyat!AC733=\"\",\"\",Qeydiyyat!AC733)","v":""}]
[null,485,{"$f":"IF(Qeydiyyat!C734=\"\",\"\",Qeydiyyat!C734)","v":""},{"$f":"IF(Qeydiyyat!B734=\"\",\"\",Qeydiyyat!B734)","v":""},{"$f":"IF(Qeydiyyat!D734=\"\",\"\",Qeydiyyat!D734)","v":""},{"$f":"IF(Qeydiyyat!K734=\"\",\"\",Qeydiyyat!K734)","v":""},{"$f":"IF(Qeydiyyat!AB734=\"\",\"\",Qeydiyyat!AB734)","v":""},{"$f":"IF(Qeydiyyat!AA734=\"\",\"\",Qeydiyyat!AA734)","v":""},{"$f":"IF(Qeydiyyat!X734=\"\",\"\",Qeydiyyat!X734)","v":""},{"$f":"IF(Qeydiyyat!Y734=\"\",\"\",Qeydiyyat!Y734)","v":""},null,{"$f":"IF(Qeydiyyat!AC734=\"\",\"\",Qeydiyyat!AC734)","v":""}]
[null,486,{"$f":"IF(Qeydiyyat!C735=\"\",\"\",Qeydiyyat!C735)","v":""},{"$f":"IF(Qeydiyyat!B735=\"\",\"\",Qeydiyyat!B735)","v":""},{"$f":"IF(Qeydiyyat!D735=\"\",\"\",Qeydiyyat!D735)","v":""},{"$f":"IF(Qeydiyyat!K735=\"\",\"\",Qeydiyyat!K735)","v":""},{"$f":"IF(Qeydiyyat!AB735=\"\",\"\",Qeydiyyat!AB735)","v":""},{"$f":"IF(Qeydiyyat!AA735=\"\",\"\",Qeydiyyat!AA735)","v":""},{"$f":"IF(Qeydiyyat!X735=\"\",\"\",Qeydiyyat!X735)","v":""},{"$f":"IF(Qeydiyyat!Y735=\"\",\"\",Qeydiyyat!Y735)","v":""},null,{"$f":"IF(Qeydiyyat!AC735=\"\",\"\",Qeydiyyat!AC735)","v":""}]
[null,487,{"$f":"IF(Qeydiyyat!C736=\"\",\"\",Qeydiyyat!C736)","v":""},{"$f":"IF(Qeydiyyat!B736=\"\",\"\",Qeydiyyat!B736)","v":""},{"$f":"IF(Qeydiyyat!D736=\"\",\"\",Qeydiyyat!D736)","v":""},{"$f":"IF(Qeydiyyat!K736=\"\",\"\",Qeydiyyat!K736)","v":""},{"$f":"IF(Qeydiyyat!AB736=\"\",\"\",Qeydiyyat!AB736)","v":""},{"$f":"IF(Qeydiyyat!AA736=\"\",\"\",Qeydiyyat!AA736)","v":""},{"$f":"IF(Qeydiyyat!X736=\"\",\"\",Qeydiyyat!X736)","v":""},{"$f":"IF(Qeydiyyat!Y736=\"\",\"\",Qeydiyyat!Y736)","v":""},null,{"$f":"IF(Qeydiyyat!AC736=\"\",\"\",Qeydiyyat!AC736)","v":""}]
[null,488,{"$f":"IF(Qeydiyyat!C737=\"\",\"\",Qeydiyyat!C737)","v":""},{"$f":"IF(Qeydiyyat!B737=\"\",\"\",Qeydiyyat!B737)","v":""},{"$f":"IF(Qeydiyyat!D737=\"\",\"\",Qeydiyyat!D737)","v":""},{"$f":"IF(Qeydiyyat!K737=\"\",\"\",Qeydiyyat!K737)","v":""},{"$f":"IF(Qeydiyyat!AB737=\"\",\"\",Qeydiyyat!AB737)","v":""},{"$f":"IF(Qeydiyyat!AA737=\"\",\"\",Qeydiyyat!AA737)","v":""},{"$f":"IF(Qeydiyyat!X737=\"\",\"\",Qeydiyyat!X737)","v":""},{"$f":"IF(Qeydiyyat!Y737=\"\",\"\",Qeydiyyat!Y737)","v":""},null,{"$f":"IF(Qeydiyyat!AC737=\"\",\"\",Qeydiyyat!AC737)","v":""}]
[null,489,{"$f":"IF(Qeydiyyat!C738=\"\",\"\",Qeydiyyat!C738)","v":""},{"$f":"IF(Qeydiyyat!B738=\"\",\"\",Qeydiyyat!B738)","v":""},{"$f":"IF(Qeydiyyat!D738=\"\",\"\",Qeydiyyat!D738)","v":""},{"$f":"IF(Qeydiyyat!K738=\"\",\"\",Qeydiyyat!K738)","v":""},{"$f":"IF(Qeydiyyat!AB738=\"\",\"\",Qeydiyyat!AB738)","v":""},{"$f":"IF(Qeydiyyat!AA738=\"\",\"\",Qeydiyyat!AA738)","v":""},{"$f":"IF(Qeydiyyat!X738=\"\",\"\",Qeydiyyat!X738)","v":""},{"$f":"IF(Qeydiyyat!Y738=\"\",\"\",Qeydiyyat!Y738)","v":""},null,{"$f":"IF(Qeydiyyat!AC738=\"\",\"\",Qeydiyyat!AC738)","v":""}]
[null,490,{"$f":"IF(Qeydiyyat!C739=\"\",\"\",Qeydiyyat!C739)","v":""},{"$f":"IF(Qeydiyyat!B739=\"\",\"\",Qeydiyyat!B739)","v":""},{"$f":"IF(Qeydiyyat!D739=\"\",\"\",Qeydiyyat!D739)","v":""},{"$f":"IF(Qeydiyyat!K739=\"\",\"\",Qeydiyyat!K739)","v":""},{"$f":"IF(Qeydiyyat!AB739=\"\",\"\",Qeydiyyat!AB739)","v":""},{"$f":"IF(Qeydiyyat!AA739=\"\",\"\",Qeydiyyat!AA739)","v":""},{"$f":"IF(Qeydiyyat!X739=\"\",\"\",Qeydiyyat!X739)","v":""},{"$f":"IF(Qeydiyyat!Y739=\"\",\"\",Qeydiyyat!Y739)","v":""},null,{"$f":"IF(Qeydiyyat!AC739=\"\",\"\",Qeydiyyat!AC739)","v":""}]
[null,491,{"$f":"IF(Qeydiyyat!C740=\"\",\"\",Qeydiyyat!C740)","v":""},{"$f":"IF(Qeydiyyat!B740=\"\",\"\",Qeydiyyat!B740)","v":""},{"$f":"IF(Qeydiyyat!D740=\"\",\"\",Qeydiyyat!D740)","v":""},{"$f":"IF(Qeydiyyat!K740=\"\",\"\",Qeydiyyat!K740)","v":""},{"$f":"IF(Qeydiyyat!AB740=\"\",\"\",Qeydiyyat!AB740)","v":""},{"$f":"IF(Qeydiyyat!AA740=\"\",\"\",Qeydiyyat!AA740)","v":""},{"$f":"IF(Qeydiyyat!X740=\"\",\"\",Qeydiyyat!X740)","v":""},{"$f":"IF(Qeydiyyat!Y740=\"\",\"\",Qeydiyyat!Y740)","v":""},null,{"$f":"IF(Qeydiyyat!AC740=\"\",\"\",Qeydiyyat!AC740)","v":""}]
[null,492,{"$f":"IF(Qeydiyyat!C741=\"\",\"\",Qeydiyyat!C741)","v":""},{"$f":"IF(Qeydiyyat!B741=\"\",\"\",Qeydiyyat!B741)","v":""},{"$f":"IF(Qeydiyyat!D741=\"\",\"\",Qeydiyyat!D741)","v":""},{"$f":"IF(Qeydiyyat!K741=\"\",\"\",Qeydiyyat!K741)","v":""},{"$f":"IF(Qeydiyyat!AB741=\"\",\"\",Qeydiyyat!AB741)","v":""},{"$f":"IF(Qeydiyyat!AA741=\"\",\"\",Qeydiyyat!AA741)","v":""},{"$f":"IF(Qeydiyyat!X741=\"\",\"\",Qeydiyyat!X741)","v":""},{"$f":"IF(Qeydiyyat!Y741=\"\",\"\",Qeydiyyat!Y741)","v":""},null,{"$f":"IF(Qeydiyyat!AC741=\"\",\"\",Qeydiyyat!AC741)","v":""}]
[null,493,{"$f":"IF(Qeydiyyat!C742=\"\",\"\",Qeydiyyat!C742)","v":""},{"$f":"IF(Qeydiyyat!B742=\"\",\"\",Qeydiyyat!B742)","v":""},{"$f":"IF(Qeydiyyat!D742=\"\",\"\",Qeydiyyat!D742)","v":""},{"$f":"IF(Qeydiyyat!K742=\"\",\"\",Qeydiyyat!K742)","v":""},{"$f":"IF(Qeydiyyat!AB742=\"\",\"\",Qeydiyyat!AB742)","v":""},{"$f":"IF(Qeydiyyat!AA742=\"\",\"\",Qeydiyyat!AA742)","v":""},{"$f":"IF(Qeydiyyat!X742=\"\",\"\",Qeydiyyat!X742)","v":""},{"$f":"IF(Qeydiyyat!Y742=\"\",\"\",Qeydiyyat!Y742)","v":""},null,{"$f":"IF(Qeydiyyat!AC742=\"\",\"\",Qeydiyyat!AC742)","v":""}]
[null,494,{"$f":"IF(Qeydiyyat!C743=\"\",\"\",Qeydiyyat!C743)","v":""},{"$f":"IF(Qeydiyyat!B743=\"\",\"\",Qeydiyyat!B743)","v":""},{"$f":"IF(Qeydiyyat!D743=\"\",\"\",Qeydiyyat!D743)","v":""},{"$f":"IF(Qeydiyyat!K743=\"\",\"\",Qeydiyyat!K743)","v":""},{"$f":"IF(Qeydiyyat!AB743=\"\",\"\",Qeydiyyat!AB743)","v":""},{"$f":"IF(Qeydiyyat!AA743=\"\",\"\",Qeydiyyat!AA743)","v":""},{"$f":"IF(Qeydiyyat!X743=\"\",\"\",Qeydiyyat!X743)","v":""},{"$f":"IF(Qeydiyyat!Y743=\"\",\"\",Qeydiyyat!Y743)","v":""},null,{"$f":"IF(Qeydiyyat!AC743=\"\",\"\",Qeydiyyat!AC743)","v":""}]
[null,495,{"$f":"IF(Qeydiyyat!C744=\"\",\"\",Qeydiyyat!C744)","v":""},{"$f":"IF(Qeydiyyat!B744=\"\",\"\",Qeydiyyat!B744)","v":""},{"$f":"IF(Qeydiyyat!D744=\"\",\"\",Qeydiyyat!D744)","v":""},{"$f":"IF(Qeydiyyat!K744=\"\",\"\",Qeydiyyat!K744)","v":""},{"$f":"IF(Qeydiyyat!AB744=\"\",\"\",Qeydiyyat!AB744)","v":""},{"$f":"IF(Qeydiyyat!AA744=\"\",\"\",Qeydiyyat!AA744)","v":""},{"$f":"IF(Qeydiyyat!X744=\"\",\"\",Qeydiyyat!X744)","v":""},{"$f":"IF(Qeydiyyat!Y744=\"\",\"\",Qeydiyyat!Y744)","v":""},null,{"$f":"IF(Qeydiyyat!AC744=\"\",\"\",Qeydiyyat!AC744)","v":""}]
[null,496,{"$f":"IF(Qeydiyyat!C745=\"\",\"\",Qeydiyyat!C745)","v":""},{"$f":"IF(Qeydiyyat!B745=\"\",\"\",Qeydiyyat!B745)","v":""},{"$f":"IF(Qeydiyyat!D745=\"\",\"\",Qeydiyyat!D745)","v":""},{"$f":"IF(Qeydiyyat!K745=\"\",\"\",Qeydiyyat!K745)","v":""},{"$f":"IF(Qeydiyyat!AB745=\"\",\"\",Qeydiyyat!AB745)","v":""},{"$f":"IF(Qeydiyyat!AA745=\"\",\"\",Qeydiyyat!AA745)","v":""},{"$f":"IF(Qeydiyyat!X745=\"\",\"\",Qeydiyyat!X745)","v":""},{"$f":"IF(Qeydiyyat!Y745=\"\",\"\",Qeydiyyat!Y745)","v":""},null,{"$f":"IF(Qeydiyyat!AC745=\"\",\"\",Qeydiyyat!AC745)","v":""}]
[null,497,{"$f":"IF(Qeydiyyat!C746=\"\",\"\",Qeydiyyat!C746)","v":""},{"$f":"IF(Qeydiyyat!B746=\"\",\"\",Qeydiyyat!B746)","v":""},{"$f":"IF(Qeydiyyat!D746=\"\",\"\",Qeydiyyat!D746)","v":""},{"$f":"IF(Qeydiyyat!K746=\"\",\"\",Qeydiyyat!K746)","v":""},{"$f":"IF(Qeydiyyat!AB746=\"\",\"\",Qeydiyyat!AB746)","v":""},{"$f":"IF(Qeydiyyat!AA746=\"\",\"\",Qeydiyyat!AA746)","v":""},{"$f":"IF(Qeydiyyat!X746=\"\",\"\",Qeydiyyat!X746)","v":""},{"$f":"IF(Qeydiyyat!Y746=\"\",\"\",Qeydiyyat!Y746)","v":""},null,{"$f":"IF(Qeydiyyat!AC746=\"\",\"\",Qeydiyyat!AC746)","v":""}]
[null,498,{"$f":"IF(Qeydiyyat!C747=\"\",\"\",Qeydiyyat!C747)","v":""},{"$f":"IF(Qeydiyyat!B747=\"\",\"\",Qeydiyyat!B747)","v":""},{"$f":"IF(Qeydiyyat!D747=\"\",\"\",Qeydiyyat!D747)","v":""},{"$f":"IF(Qeydiyyat!K747=\"\",\"\",Qeydiyyat!K747)","v":""},{"$f":"IF(Qeydiyyat!AB747=\"\",\"\",Qeydiyyat!AB747)","v":""},{"$f":"IF(Qeydiyyat!AA747=\"\",\"\",Qeydiyyat!AA747)","v":""},{"$f":"IF(Qeydiyyat!X747=\"\",\"\",Qeydiyyat!X747)","v":""},{"$f":"IF(Qeydiyyat!Y747=\"\",\"\",Qeydiyyat!Y747)","v":""},null,{"$f":"IF(Qeydiyyat!AC747=\"\",\"\",Qeydiyyat!AC747)","v":""}]
[null,499,{"$f":"IF(Qeydiyyat!C748=\"\",\"\",Qeydiyyat!C748)","v":""},{"$f":"IF(Qeydiyyat!B748=\"\",\"\",Qeydiyyat!B748)","v":""},{"$f":"IF(Qeydiyyat!D748=\"\",\"\",Qeydiyyat!D748)","v":""},{"$f":"IF(Qeydiyyat!K748=\"\",\"\",Qeydiyyat!K748)","v":""},{"$f":"IF(Qeydiyyat!AB748=\"\",\"\",Qeydiyyat!AB748)","v":""},{"$f":"IF(Qeydiyyat!AA748=\"\",\"\",Qeydiyyat!AA748)","v":""},{"$f":"IF(Qeydiyyat!X748=\"\",\"\",Qeydiyyat!X748)","v":""},{"$f":"IF(Qeydiyyat!Y748=\"\",\"\",Qeydiyyat!Y748)","v":""},null,{"$f":"IF(Qeydiyyat!AC748=\"\",\"\",Qeydiyyat!AC748)","v":""}]
[null,500,{"$f":"IF(Qeydiyyat!C749=\"\",\"\",Qeydiyyat!C749)","v":""},{"$f":"IF(Qeydiyyat!B749=\"\",\"\",Qeydiyyat!B749)","v":""},{"$f":"IF(Qeydiyyat!D749=\"\",\"\",Qeydiyyat!D749)","v":""},{"$f":"IF(Qeydiyyat!K749=\"\",\"\",Qeydiyyat!K749)","v":""},{"$f":"IF(Qeydiyyat!AB749=\"\",\"\",Qeydiyyat!AB749)","v":""},{"$f":"IF(Qeydiyyat!AA749=\"\",\"\",Qeydiyyat!AA749)","v":""},{"$f":"IF(Qeydiyyat!X749=\"\",\"\",Qeydiyyat!X749)","v":""},{"$f":"IF(Qeydiyyat!Y749=\"\",\"\",Qeydiyyat!Y749)","v":""},null,{"$f":"IF(Qeydiyyat!AC749=\"\",\"\",Qeydiyyat!AC749)","v":""}]
[null,501,{"$f":"IF(Qeydiyyat!C750=\"\",\"\",Qeydiyyat!C750)","v":""},{"$f":"IF(Qeydiyyat!B750=\"\",\"\",Qeydiyyat!B750)","v":""},{"$f":"IF(Qeydiyyat!D750=\"\",\"\",Qeydiyyat!D750)","v":""},{"$f":"IF(Qeydiyyat!K750=\"\",\"\",Qeydiyyat!K750)","v":""},{"$f":"IF(Qeydiyyat!AB750=\"\",\"\",Qeydiyyat!AB750)","v":""},{"$f":"IF(Qeydiyyat!AA750=\"\",\"\",Qeydiyyat!AA750)","v":""},{"$f":"IF(Qeydiyyat!X750=\"\",\"\",Qeydiyyat!X750)","v":""},{"$f":"IF(Qeydiyyat!Y750=\"\",\"\",Qeydiyyat!Y750)","v":""},null,{"$f":"IF(Qeydiyyat!AC750=\"\",\"\",Qeydiyyat!AC750)","v":""}]
[null,502,{"$f":"IF(Qeydiyyat!C751=\"\",\"\",Qeydiyyat!C751)","v":""},{"$f":"IF(Qeydiyyat!B751=\"\",\"\",Qeydiyyat!B751)","v":""},{"$f":"IF(Qeydiyyat!D751=\"\",\"\",Qeydiyyat!D751)","v":""},{"$f":"IF(Qeydiyyat!K751=\"\",\"\",Qeydiyyat!K751)","v":""},{"$f":"IF(Qeydiyyat!AB751=\"\",\"\",Qeydiyyat!AB751)","v":""},{"$f":"IF(Qeydiyyat!AA751=\"\",\"\",Qeydiyyat!AA751)","v":""},{"$f":"IF(Qeydiyyat!X751=\"\",\"\",Qeydiyyat!X751)","v":""},{"$f":"IF(Qeydiyyat!Y751=\"\",\"\",Qeydiyyat!Y751)","v":""},null,{"$f":"IF(Qeydiyyat!AC751=\"\",\"\",Qeydiyyat!AC751)","v":""}]
[null,503,{"$f":"IF(Qeydiyyat!C752=\"\",\"\",Qeydiyyat!C752)","v":""},{"$f":"IF(Qeydiyyat!B752=\"\",\"\",Qeydiyyat!B752)","v":""},{"$f":"IF(Qeydiyyat!D752=\"\",\"\",Qeydiyyat!D752)","v":""},{"$f":"IF(Qeydiyyat!K752=\"\",\"\",Qeydiyyat!K752)","v":""},{"$f":"IF(Qeydiyyat!AB752=\"\",\"\",Qeydiyyat!AB752)","v":""},{"$f":"IF(Qeydiyyat!AA752=\"\",\"\",Qeydiyyat!AA752)","v":""},{"$f":"IF(Qeydiyyat!X752=\"\",\"\",Qeydiyyat!X752)","v":""},{"$f":"IF(Qeydiyyat!Y752=\"\",\"\",Qeydiyyat!Y752)","v":""},null,{"$f":"IF(Qeydiyyat!AC752=\"\",\"\",Qeydiyyat!AC752)","v":""}]
[null,504,{"$f":"IF(Qeydiyyat!C753=\"\",\"\",Qeydiyyat!C753)","v":""},{"$f":"IF(Qeydiyyat!B753=\"\",\"\",Qeydiyyat!B753)","v":""},{"$f":"IF(Qeydiyyat!D753=\"\",\"\",Qeydiyyat!D753)","v":""},{"$f":"IF(Qeydiyyat!K753=\"\",\"\",Qeydiyyat!K753)","v":""},{"$f":"IF(Qeydiyyat!AB753=\"\",\"\",Qeydiyyat!AB753)","v":""},{"$f":"IF(Qeydiyyat!AA753=\"\",\"\",Qeydiyyat!AA753)","v":""},{"$f":"IF(Qeydiyyat!X753=\"\",\"\",Qeydiyyat!X753)","v":""},{"$f":"IF(Qeydiyyat!Y753=\"\",\"\",Qeydiyyat!Y753)","v":""},null,{"$f":"IF(Qeydiyyat!AC753=\"\",\"\",Qeydiyyat!AC753)","v":""}]
[null,505,{"$f":"IF(Qeydiyyat!C754=\"\",\"\",Qeydiyyat!C754)","v":""},{"$f":"IF(Qeydiyyat!B754=\"\",\"\",Qeydiyyat!B754)","v":""},{"$f":"IF(Qeydiyyat!D754=\"\",\"\",Qeydiyyat!D754)","v":""},{"$f":"IF(Qeydiyyat!K754=\"\",\"\",Qeydiyyat!K754)","v":""},{"$f":"IF(Qeydiyyat!AB754=\"\",\"\",Qeydiyyat!AB754)","v":""},{"$f":"IF(Qeydiyyat!AA754=\"\",\"\",Qeydiyyat!AA754)","v":""},{"$f":"IF(Qeydiyyat!X754=\"\",\"\",Qeydiyyat!X754)","v":""},{"$f":"IF(Qeydiyyat!Y754=\"\",\"\",Qeydiyyat!Y754)","v":""},null,{"$f":"IF(Qeydiyyat!AC754=\"\",\"\",Qeydiyyat!AC754)","v":""}]
[null,506,{"$f":"IF(Qeydiyyat!C755=\"\",\"\",Qeydiyyat!C755)","v":""},{"$f":"IF(Qeydiyyat!B755=\"\",\"\",Qeydiyyat!B755)","v":""},{"$f":"IF(Qeydiyyat!D755=\"\",\"\",Qeydiyyat!D755)","v":""},{"$f":"IF(Qeydiyyat!K755=\"\",\"\",Qeydiyyat!K755)","v":""},{"$f":"IF(Qeydiyyat!AB755=\"\",\"\",Qeydiyyat!AB755)","v":""},{"$f":"IF(Qeydiyyat!AA755=\"\",\"\",Qeydiyyat!AA755)","v":""},{"$f":"IF(Qeydiyyat!X755=\"\",\"\",Qeydiyyat!X755)","v":""},{"$f":"IF(Qeydiyyat!Y755=\"\",\"\",Qeydiyyat!Y755)","v":""},null,{"$f":"IF(Qeydiyyat!AC755=\"\",\"\",Qeydiyyat!AC755)","v":""}]
[null,507,{"$f":"IF(Qeydiyyat!C756=\"\",\"\",Qeydiyyat!C756)","v":""},{"$f":"IF(Qeydiyyat!B756=\"\",\"\",Qeydiyyat!B756)","v":""},{"$f":"IF(Qeydiyyat!D756=\"\",\"\",Qeydiyyat!D756)","v":""},{"$f":"IF(Qeydiyyat!K756=\"\",\"\",Qeydiyyat!K756)","v":""},{"$f":"IF(Qeydiyyat!AB756=\"\",\"\",Qeydiyyat!AB756)","v":""},{"$f":"IF(Qeydiyyat!AA756=\"\",\"\",Qeydiyyat!AA756)","v":""},{"$f":"IF(Qeydiyyat!X756=\"\",\"\",Qeydiyyat!X756)","v":""},{"$f":"IF(Qeydiyyat!Y756=\"\",\"\",Qeydiyyat!Y756)","v":""},null,{"$f":"IF(Qeydiyyat!AC756=\"\",\"\",Qeydiyyat!AC756)","v":""}]
[null,508,{"$f":"IF(Qeydiyyat!C757=\"\",\"\",Qeydiyyat!C757)","v":""},{"$f":"IF(Qeydiyyat!B757=\"\",\"\",Qeydiyyat!B757)","v":""},{"$f":"IF(Qeydiyyat!D757=\"\",\"\",Qeydiyyat!D757)","v":""},{"$f":"IF(Qeydiyyat!K757=\"\",\"\",Qeydiyyat!K757)","v":""},{"$f":"IF(Qeydiyyat!AB757=\"\",\"\",Qeydiyyat!AB757)","v":""},{"$f":"IF(Qeydiyyat!AA757=\"\",\"\",Qeydiyyat!AA757)","v":""},{"$f":"IF(Qeydiyyat!X757=\"\",\"\",Qeydiyyat!X757)","v":""},{"$f":"IF(Qeydiyyat!Y757=\"\",\"\",Qeydiyyat!Y757)","v":""},null,{"$f":"IF(Qeydiyyat!AC757=\"\",\"\",Qeydiyyat!AC757)","v":""}]
[null,509,{"$f":"IF(Qeydiyyat!C758=\"\",\"\",Qeydiyyat!C758)","v":""},{"$f":"IF(Qeydiyyat!B758=\"\",\"\",Qeydiyyat!B758)","v":""},{"$f":"IF(Qeydiyyat!D758=\"\",\"\",Qeydiyyat!D758)","v":""},{"$f":"IF(Qeydiyyat!K758=\"\",\"\",Qeydiyyat!K758)","v":""},{"$f":"IF(Qeydiyyat!AB758=\"\",\"\",Qeydiyyat!AB758)","v":""},{"$f":"IF(Qeydiyyat!AA758=\"\",\"\",Qeydiyyat!AA758)","v":""},{"$f":"IF(Qeydiyyat!X758=\"\",\"\",Qeydiyyat!X758)","v":""},{"$f":"IF(Qeydiyyat!Y758=\"\",\"\",Qeydiyyat!Y758)","v":""},null,{"$f":"IF(Qeydiyyat!AC758=\"\",\"\",Qeydiyyat!AC758)","v":""}]
[null,510,{"$f":"IF(Qeydiyyat!C759=\"\",\"\",Qeydiyyat!C759)","v":""},{"$f":"IF(Qeydiyyat!B759=\"\",\"\",Qeydiyyat!B759)","v":""},{"$f":"IF(Qeydiyyat!D759=\"\",\"\",Qeydiyyat!D759)","v":""},{"$f":"IF(Qeydiyyat!K759=\"\",\"\",Qeydiyyat!K759)","v":""},{"$f":"IF(Qeydiyyat!AB759=\"\",\"\",Qeydiyyat!AB759)","v":""},{"$f":"IF(Qeydiyyat!AA759=\"\",\"\",Qeydiyyat!AA759)","v":""},{"$f":"IF(Qeydiyyat!X759=\"\",\"\",Qeydiyyat!X759)","v":""},{"$f":"IF(Qeydiyyat!Y759=\"\",\"\",Qeydiyyat!Y759)","v":""},null,{"$f":"IF(Qeydiyyat!AC759=\"\",\"\",Qeydiyyat!AC759)","v":""}]
[null,511,{"$f":"IF(Qeydiyyat!C760=\"\",\"\",Qeydiyyat!C760)","v":""},{"$f":"IF(Qeydiyyat!B760=\"\",\"\",Qeydiyyat!B760)","v":""},{"$f":"IF(Qeydiyyat!D760=\"\",\"\",Qeydiyyat!D760)","v":""},{"$f":"IF(Qeydiyyat!K760=\"\",\"\",Qeydiyyat!K760)","v":""},{"$f":"IF(Qeydiyyat!AB760=\"\",\"\",Qeydiyyat!AB760)","v":""},{"$f":"IF(Qeydiyyat!AA760=\"\",\"\",Qeydiyyat!AA760)","v":""},{"$f":"IF(Qeydiyyat!X760=\"\",\"\",Qeydiyyat!X760)","v":""},{"$f":"IF(Qeydiyyat!Y760=\"\",\"\",Qeydiyyat!Y760)","v":""},null,{"$f":"IF(Qeydiyyat!AC760=\"\",\"\",Qeydiyyat!AC760)","v":""}]
[null,512,{"$f":"IF(Qeydiyyat!C761=\"\",\"\",Qeydiyyat!C761)","v":""},{"$f":"IF(Qeydiyyat!B761=\"\",\"\",Qeydiyyat!B761)","v":""},{"$f":"IF(Qeydiyyat!D761=\"\",\"\",Qeydiyyat!D761)","v":""},{"$f":"IF(Qeydiyyat!K761=\"\",\"\",Qeydiyyat!K761)","v":""},{"$f":"IF(Qeydiyyat!AB761=\"\",\"\",Qeydiyyat!AB761)","v":""},{"$f":"IF(Qeydiyyat!AA761=\"\",\"\",Qeydiyyat!AA761)","v":""},{"$f":"IF(Qeydiyyat!X761=\"\",\"\",Qeydiyyat!X761)","v":""},{"$f":"IF(Qeydiyyat!Y761=\"\",\"\",Qeydiyyat!Y761)","v":""},null,{"$f":"IF(Qeydiyyat!AC761=\"\",\"\",Qeydiyyat!AC761)","v":""}]
[null,513,{"$f":"IF(Qeydiyyat!C762=\"\",\"\",Qeydiyyat!C762)","v":""},{"$f":"IF(Qeydiyyat!B762=\"\",\"\",Qeydiyyat!B762)","v":""},{"$f":"IF(Qeydiyyat!D762=\"\",\"\",Qeydiyyat!D762)","v":""},{"$f":"IF(Qeydiyyat!K762=\"\",\"\",Qeydiyyat!K762)","v":""},{"$f":"IF(Qeydiyyat!AB762=\"\",\"\",Qeydiyyat!AB762)","v":""},{"$f":"IF(Qeydiyyat!AA762=\"\",\"\",Qeydiyyat!AA762)","v":""},{"$f":"IF(Qeydiyyat!X762=\"\",\"\",Qeydiyyat!X762)","v":""},{"$f":"IF(Qeydiyyat!Y762=\"\",\"\",Qeydiyyat!Y762)","v":""},null,{"$f":"IF(Qeydiyyat!AC762=\"\",\"\",Qeydiyyat!AC762)","v":""}]
[null,514,{"$f":"IF(Qeydiyyat!C763=\"\",\"\",Qeydiyyat!C763)","v":""},{"$f":"IF(Qeydiyyat!B763=\"\",\"\",Qeydiyyat!B763)","v":""},{"$f":"IF(Qeydiyyat!D763=\"\",\"\",Qeydiyyat!D763)","v":""},{"$f":"IF(Qeydiyyat!K763=\"\",\"\",Qeydiyyat!K763)","v":""},{"$f":"IF(Qeydiyyat!AB763=\"\",\"\",Qeydiyyat!AB763)","v":""},{"$f":"IF(Qeydiyyat!AA763=\"\",\"\",Qeydiyyat!AA763)","v":""},{"$f":"IF(Qeydiyyat!X763=\"\",\"\",Qeydiyyat!X763)","v":""},{"$f":"IF(Qeydiyyat!Y763=\"\",\"\",Qeydiyyat!Y763)","v":""},null,{"$f":"IF(Qeydiyyat!AC763=\"\",\"\",Qeydiyyat!AC763)","v":""}]
[null,515,{"$f":"IF(Qeydiyyat!C764=\"\",\"\",Qeydiyyat!C764)","v":""},{"$f":"IF(Qeydiyyat!B764=\"\",\"\",Qeydiyyat!B764)","v":""},{"$f":"IF(Qeydiyyat!D764=\"\",\"\",Qeydiyyat!D764)","v":""},{"$f":"IF(Qeydiyyat!K764=\"\",\"\",Qeydiyyat!K764)","v":""},{"$f":"IF(Qeydiyyat!AB764=\"\",\"\",Qeydiyyat!AB764)","v":""},{"$f":"IF(Qeydiyyat!AA764=\"\",\"\",Qeydiyyat!AA764)","v":""},{"$f":"IF(Qeydiyyat!X764=\"\",\"\",Qeydiyyat!X764)","v":""},{"$f":"IF(Qeydiyyat!Y764=\"\",\"\",Qeydiyyat!Y764)","v":""},null,{"$f":"IF(Qeydiyyat!AC764=\"\",\"\",Qeydiyyat!AC764)","v":""}]
[null,516,{"$f":"IF(Qeydiyyat!C765=\"\",\"\",Qeydiyyat!C765)","v":""},{"$f":"IF(Qeydiyyat!B765=\"\",\"\",Qeydiyyat!B765)","v":""},{"$f":"IF(Qeydiyyat!D765=\"\",\"\",Qeydiyyat!D765)","v":""},{"$f":"IF(Qeydiyyat!K765=\"\",\"\",Qeydiyyat!K765)","v":""},{"$f":"IF(Qeydiyyat!AB765=\"\",\"\",Qeydiyyat!AB765)","v":""},{"$f":"IF(Qeydiyyat!AA765=\"\",\"\",Qeydiyyat!AA765)","v":""},{"$f":"IF(Qeydiyyat!X765=\"\",\"\",Qeydiyyat!X765)","v":""},{"$f":"IF(Qeydiyyat!Y765=\"\",\"\",Qeydiyyat!Y765)","v":""},null,{"$f":"IF(Qeydiyyat!AC765=\"\",\"\",Qeydiyyat!AC765)","v":""}]
[null,{"$f":"B534+1","v":517},{"$f":"IF(Qeydiyyat!C766=\"\",\"\",Qeydiyyat!C766)","v":""},{"$f":"IF(Qeydiyyat!B766=\"\",\"\",Qeydiyyat!B766)","v":""},{"$f":"IF(Qeydiyyat!D766=\"\",\"\",Qeydiyyat!D766)","v":""},{"$f":"IF(Qeydiyyat!K766=\"\",\"\",Qeydiyyat!K766)","v":""},{"$f":"IF(Qeydiyyat!AB766=\"\",\"\",Qeydiyyat!AB766)","v":""},{"$f":"IF(Qeydiyyat!AA766=\"\",\"\",Qeydiyyat!AA766)","v":""},{"$f":"IF(Qeydiyyat!X766=\"\",\"\",Qeydiyyat!X766)","v":""},{"$f":"IF(Qeydiyyat!Y766=\"\",\"\",Qeydiyyat!Y766)","v":""},null,{"$f":"IF(Qeydiyyat!AC766=\"\",\"\",Qeydiyyat!AC766)","v":""}]
[null,518,{"$f":"IF(Qeydiyyat!C767=\"\",\"\",Qeydiyyat!C767)","v":""},{"$f":"IF(Qeydiyyat!B767=\"\",\"\",Qeydiyyat!B767)","v":""},{"$f":"IF(Qeydiyyat!D767=\"\",\"\",Qeydiyyat!D767)","v":""},{"$f":"IF(Qeydiyyat!K767=\"\",\"\",Qeydiyyat!K767)","v":""},{"$f":"IF(Qeydiyyat!AB767=\"\",\"\",Qeydiyyat!AB767)","v":""},{"$f":"IF(Qeydiyyat!AA767=\"\",\"\",Qeydiyyat!AA767)","v":""},{"$f":"IF(Qeydiyyat!X767=\"\",\"\",Qeydiyyat!X767)","v":""},{"$f":"IF(Qeydiyyat!Y767=\"\",\"\",Qeydiyyat!Y767)","v":""},null,{"$f":"IF(Qeydiyyat!AC767=\"\",\"\",Qeydiyyat!AC767)","v":""}]
[null,519,{"$f":"IF(Qeydiyyat!C768=\"\",\"\",Qeydiyyat!C768)","v":""},{"$f":"IF(Qeydiyyat!B768=\"\",\"\",Qeydiyyat!B768)","v":""},{"$f":"IF(Qeydiyyat!D768=\"\",\"\",Qeydiyyat!D768)","v":""},{"$f":"IF(Qeydiyyat!K768=\"\",\"\",Qeydiyyat!K768)","v":""},{"$f":"IF(Qeydiyyat!AB768=\"\",\"\",Qeydiyyat!AB768)","v":""},{"$f":"IF(Qeydiyyat!AA768=\"\",\"\",Qeydiyyat!AA768)","v":""},{"$f":"IF(Qeydiyyat!X768=\"\",\"\",Qeydiyyat!X768)","v":""},{"$f":"IF(Qeydiyyat!Y768=\"\",\"\",Qeydiyyat!Y768)","v":""},null,{"$f":"IF(Qeydiyyat!AC768=\"\",\"\",Qeydiyyat!AC768)","v":""}]
[null,520,{"$f":"IF(Qeydiyyat!C769=\"\",\"\",Qeydiyyat!C769)","v":""},{"$f":"IF(Qeydiyyat!B769=\"\",\"\",Qeydiyyat!B769)","v":""},{"$f":"IF(Qeydiyyat!D769=\"\",\"\",Qeydiyyat!D769)","v":""},{"$f":"IF(Qeydiyyat!K769=\"\",\"\",Qeydiyyat!K769)","v":""},{"$f":"IF(Qeydiyyat!AB769=\"\",\"\",Qeydiyyat!AB769)","v":""},{"$f":"IF(Qeydiyyat!AA769=\"\",\"\",Qeydiyyat!AA769)","v":""},{"$f":"IF(Qeydiyyat!X769=\"\",\"\",Qeydiyyat!X769)","v":""},{"$f":"IF(Qeydiyyat!Y769=\"\",\"\",Qeydiyyat!Y769)","v":""},null,{"$f":"IF(Qeydiyyat!AC769=\"\",\"\",Qeydiyyat!AC769)","v":""}]
[null,521,{"$f":"IF(Qeydiyyat!C770=\"\",\"\",Qeydiyyat!C770)","v":""},{"$f":"IF(Qeydiyyat!B770=\"\",\"\",Qeydiyyat!B770)","v":""},{"$f":"IF(Qeydiyyat!D770=\"\",\"\",Qeydiyyat!D770)","v":""},{"$f":"IF(Qeydiyyat!K770=\"\",\"\",Qeydiyyat!K770)","v":""},{"$f":"IF(Qeydiyyat!AB770=\"\",\"\",Qeydiyyat!AB770)","v":""},{"$f":"IF(Qeydiyyat!AA770=\"\",\"\",Qeydiyyat!AA770)","v":""},{"$f":"IF(Qeydiyyat!X770=\"\",\"\",Qeydiyyat!X770)","v":""},{"$f":"IF(Qeydiyyat!Y770=\"\",\"\",Qeydiyyat!Y770)","v":""},null,{"$f":"IF(Qeydiyyat!AC770=\"\",\"\",Qeydiyyat!AC770)","v":""}]
[null,522,{"$f":"IF(Qeydiyyat!C771=\"\",\"\",Qeydiyyat!C771)","v":""},{"$f":"IF(Qeydiyyat!B771=\"\",\"\",Qeydiyyat!B771)","v":""},{"$f":"IF(Qeydiyyat!D771=\"\",\"\",Qeydiyyat!D771)","v":""},{"$f":"IF(Qeydiyyat!K771=\"\",\"\",Qeydiyyat!K771)","v":""},{"$f":"IF(Qeydiyyat!AB771=\"\",\"\",Qeydiyyat!AB771)","v":""},{"$f":"IF(Qeydiyyat!AA771=\"\",\"\",Qeydiyyat!AA771)","v":""},{"$f":"IF(Qeydiyyat!X771=\"\",\"\",Qeydiyyat!X771)","v":""},{"$f":"IF(Qeydiyyat!Y771=\"\",\"\",Qeydiyyat!Y771)","v":""},null,{"$f":"IF(Qeydiyyat!AC771=\"\",\"\",Qeydiyyat!AC771)","v":""}]
[null,523,{"$f":"IF(Qeydiyyat!C772=\"\",\"\",Qeydiyyat!C772)","v":""},{"$f":"IF(Qeydiyyat!B772=\"\",\"\",Qeydiyyat!B772)","v":""},{"$f":"IF(Qeydiyyat!D772=\"\",\"\",Qeydiyyat!D772)","v":""},{"$f":"IF(Qeydiyyat!K772=\"\",\"\",Qeydiyyat!K772)","v":""},{"$f":"IF(Qeydiyyat!AB772=\"\",\"\",Qeydiyyat!AB772)","v":""},{"$f":"IF(Qeydiyyat!AA772=\"\",\"\",Qeydiyyat!AA772)","v":""},{"$f":"IF(Qeydiyyat!X772=\"\",\"\",Qeydiyyat!X772)","v":""},{"$f":"IF(Qeydiyyat!Y772=\"\",\"\",Qeydiyyat!Y772)","v":""},null,{"$f":"IF(Qeydiyyat!AC772=\"\",\"\",Qeydiyyat!AC772)","v":""}]
[null,524,{"$f":"IF(Qeydiyyat!C773=\"\",\"\",Qeydiyyat!C773)","v":""},{"$f":"IF(Qeydiyyat!B773=\"\",\"\",Qeydiyyat!B773)","v":""},{"$f":"IF(Qeydiyyat!D773=\"\",\"\",Qeydiyyat!D773)","v":""},{"$f":"IF(Qeydiyyat!K773=\"\",\"\",Qeydiyyat!K773)","v":""},{"$f":"IF(Qeydiyyat!AB773=\"\",\"\",Qeydiyyat!AB773)","v":""},{"$f":"IF(Qeydiyyat!AA773=\"\",\"\",Qeydiyyat!AA773)","v":""},{"$f":"IF(Qeydiyyat!X773=\"\",\"\",Qeydiyyat!X773)","v":""},{"$f":"IF(Qeydiyyat!Y773=\"\",\"\",Qeydiyyat!Y773)","v":""},null,{"$f":"IF(Qeydiyyat!AC773=\"\",\"\",Qeydiyyat!AC773)","v":""}]
[null,525,{"$f":"IF(Qeydiyyat!C774=\"\",\"\",Qeydiyyat!C774)","v":""},{"$f":"IF(Qeydiyyat!B774=\"\",\"\",Qeydiyyat!B774)","v":""},{"$f":"IF(Qeydiyyat!D774=\"\",\"\",Qeydiyyat!D774)","v":""},{"$f":"IF(Qeydiyyat!K774=\"\",\"\",Qeydiyyat!K774)","v":""},{"$f":"IF(Qeydiyyat!AB774=\"\",\"\",Qeydiyyat!AB774)","v":""},{"$f":"IF(Qeydiyyat!AA774=\"\",\"\",Qeydiyyat!AA774)","v":""},{"$f":"IF(Qeydiyyat!X774=\"\",\"\",Qeydiyyat!X774)","v":""},{"$f":"IF(Qeydiyyat!Y774=\"\",\"\",Qeydiyyat!Y774)","v":""},null,{"$f":"IF(Qeydiyyat!AC774=\"\",\"\",Qeydiyyat!AC774)","v":""}]
[null,526,{"$f":"IF(Qeydiyyat!C775=\"\",\"\",Qeydiyyat!C775)","v":""},{"$f":"IF(Qeydiyyat!B775=\"\",\"\",Qeydiyyat!B775)","v":""},{"$f":"IF(Qeydiyyat!D775=\"\",\"\",Qeydiyyat!D775)","v":""},{"$f":"IF(Qeydiyyat!K775=\"\",\"\",Qeydiyyat!K775)","v":""},{"$f":"IF(Qeydiyyat!AB775=\"\",\"\",Qeydiyyat!AB775)","v":""},{"$f":"IF(Qeydiyyat!AA775=\"\",\"\",Qeydiyyat!AA775)","v":""},{"$f":"IF(Qeydiyyat!X775=\"\",\"\",Qeydiyyat!X775)","v":""},{"$f":"IF(Qeydiyyat!Y775=\"\",\"\",Qeydiyyat!Y775)","v":""},null,{"$f":"IF(Qeydiyyat!AC775=\"\",\"\",Qeydiyyat!AC775)","v":""}]
[null,527,{"$f":"IF(Qeydiyyat!C776=\"\",\"\",Qeydiyyat!C776)","v":""},{"$f":"IF(Qeydiyyat!B776=\"\",\"\",Qeydiyyat!B776)","v":""},{"$f":"IF(Qeydiyyat!D776=\"\",\"\",Qeydiyyat!D776)","v":""},{"$f":"IF(Qeydiyyat!K776=\"\",\"\",Qeydiyyat!K776)","v":""},{"$f":"IF(Qeydiyyat!AB776=\"\",\"\",Qeydiyyat!AB776)","v":""},{"$f":"IF(Qeydiyyat!AA776=\"\",\"\",Qeydiyyat!AA776)","v":""},{"$f":"IF(Qeydiyyat!X776=\"\",\"\",Qeydiyyat!X776)","v":""},{"$f":"IF(Qeydiyyat!Y776=\"\",\"\",Qeydiyyat!Y776)","v":""},null,{"$f":"IF(Qeydiyyat!AC776=\"\",\"\",Qeydiyyat!AC776)","v":""}]
[null,528,{"$f":"IF(Qeydiyyat!C777=\"\",\"\",Qeydiyyat!C777)","v":""},{"$f":"IF(Qeydiyyat!B777=\"\",\"\",Qeydiyyat!B777)","v":""},{"$f":"IF(Qeydiyyat!D777=\"\",\"\",Qeydiyyat!D777)","v":""},{"$f":"IF(Qeydiyyat!K777=\"\",\"\",Qeydiyyat!K777)","v":""},{"$f":"IF(Qeydiyyat!AB777=\"\",\"\",Qeydiyyat!AB777)","v":""},{"$f":"IF(Qeydiyyat!AA777=\"\",\"\",Qeydiyyat!AA777)","v":""},{"$f":"IF(Qeydiyyat!X777=\"\",\"\",Qeydiyyat!X777)","v":""},{"$f":"IF(Qeydiyyat!Y777=\"\",\"\",Qeydiyyat!Y777)","v":""},null,{"$f":"IF(Qeydiyyat!AC777=\"\",\"\",Qeydiyyat!AC777)","v":""}]
[null,529,{"$f":"IF(Qeydiyyat!C778=\"\",\"\",Qeydiyyat!C778)","v":""},{"$f":"IF(Qeydiyyat!B778=\"\",\"\",Qeydiyyat!B778)","v":""},{"$f":"IF(Qeydiyyat!D778=\"\",\"\",Qeydiyyat!D778)","v":""},{"$f":"IF(Qeydiyyat!K778=\"\",\"\",Qeydiyyat!K778)","v":""},{"$f":"IF(Qeydiyyat!AB778=\"\",\"\",Qeydiyyat!AB778)","v":""},{"$f":"IF(Qeydiyyat!AA778=\"\",\"\",Qeydiyyat!AA778)","v":""},{"$f":"IF(Qeydiyyat!X778=\"\",\"\",Qeydiyyat!X778)","v":""},{"$f":"IF(Qeydiyyat!Y778=\"\",\"\",Qeydiyyat!Y778)","v":""},null,{"$f":"IF(Qeydiyyat!AC778=\"\",\"\",Qeydiyyat!AC778)","v":""}]
[null,530,{"$f":"IF(Qeydiyyat!C779=\"\",\"\",Qeydiyyat!C779)","v":""},{"$f":"IF(Qeydiyyat!B779=\"\",\"\",Qeydiyyat!B779)","v":""},{"$f":"IF(Qeydiyyat!D779=\"\",\"\",Qeydiyyat!D779)","v":""},{"$f":"IF(Qeydiyyat!K779=\"\",\"\",Qeydiyyat!K779)","v":""},{"$f":"IF(Qeydiyyat!AB779=\"\",\"\",Qeydiyyat!AB779)","v":""},{"$f":"IF(Qeydiyyat!AA779=\"\",\"\",Qeydiyyat!AA779)","v":""},{"$f":"IF(Qeydiyyat!X779=\"\",\"\",Qeydiyyat!X779)","v":""},{"$f":"IF(Qeydiyyat!Y779=\"\",\"\",Qeydiyyat!Y779)","v":""},null,{"$f":"IF(Qeydiyyat!AC779=\"\",\"\",Qeydiyyat!AC779)","v":""}]
[null,531,{"$f":"IF(Qeydiyyat!C780=\"\",\"\",Qeydiyyat!C780)","v":""},{"$f":"IF(Qeydiyyat!B780=\"\",\"\",Qeydiyyat!B780)","v":""},{"$f":"IF(Qeydiyyat!D780=\"\",\"\",Qeydiyyat!D780)","v":""},{"$f":"IF(Qeydiyyat!K780=\"\",\"\",Qeydiyyat!K780)","v":""},{"$f":"IF(Qeydiyyat!AB780=\"\",\"\",Qeydiyyat!AB780)","v":""},{"$f":"IF(Qeydiyyat!AA780=\"\",\"\",Qeydiyyat!AA780)","v":""},{"$f":"IF(Qeydiyyat!X780=\"\",\"\",Qeydiyyat!X780)","v":""},{"$f":"IF(Qeydiyyat!Y780=\"\",\"\",Qeydiyyat!Y780)","v":""},null,{"$f":"IF(Qeydiyyat!AC780=\"\",\"\",Qeydiyyat!AC780)","v":""}]
[null,532,{"$f":"IF(Qeydiyyat!C781=\"\",\"\",Qeydiyyat!C781)","v":""},{"$f":"IF(Qeydiyyat!B781=\"\",\"\",Qeydiyyat!B781)","v":""},{"$f":"IF(Qeydiyyat!D781=\"\",\"\",Qeydiyyat!D781)","v":""},{"$f":"IF(Qeydiyyat!K781=\"\",\"\",Qeydiyyat!K781)","v":""},{"$f":"IF(Qeydiyyat!AB781=\"\",\"\",Qeydiyyat!AB781)","v":""},{"$f":"IF(Qeydiyyat!AA781=\"\",\"\",Qeydiyyat!AA781)","v":""},{"$f":"IF(Qeydiyyat!X781=\"\",\"\",Qeydiyyat!X781)","v":""},{"$f":"IF(Qeydiyyat!Y781=\"\",\"\",Qeydiyyat!Y781)","v":""},null,{"$f":"IF(Qeydiyyat!AC781=\"\",\"\",Qeydiyyat!AC781)","v":""}]
[null,533,{"$f":"IF(Qeydiyyat!C782=\"\",\"\",Qeydiyyat!C782)","v":""},{"$f":"IF(Qeydiyyat!B782=\"\",\"\",Qeydiyyat!B782)","v":""},{"$f":"IF(Qeydiyyat!D782=\"\",\"\",Qeydiyyat!D782)","v":""},{"$f":"IF(Qeydiyyat!K782=\"\",\"\",Qeydiyyat!K782)","v":""},{"$f":"IF(Qeydiyyat!AB782=\"\",\"\",Qeydiyyat!AB782)","v":""},{"$f":"IF(Qeydiyyat!AA782=\"\",\"\",Qeydiyyat!AA782)","v":""},{"$f":"IF(Qeydiyyat!X782=\"\",\"\",Qeydiyyat!X782)","v":""},{"$f":"IF(Qeydiyyat!Y782=\"\",\"\",Qeydiyyat!Y782)","v":""},null,{"$f":"IF(Qeydiyyat!AC782=\"\",\"\",Qeydiyyat!AC782)","v":""}]
[null,534,{"$f":"IF(Qeydiyyat!C783=\"\",\"\",Qeydiyyat!C783)","v":""},{"$f":"IF(Qeydiyyat!B783=\"\",\"\",Qeydiyyat!B783)","v":""},{"$f":"IF(Qeydiyyat!D783=\"\",\"\",Qeydiyyat!D783)","v":""},{"$f":"IF(Qeydiyyat!K783=\"\",\"\",Qeydiyyat!K783)","v":""},{"$f":"IF(Qeydiyyat!AB783=\"\",\"\",Qeydiyyat!AB783)","v":""},{"$f":"IF(Qeydiyyat!AA783=\"\",\"\",Qeydiyyat!AA783)","v":""},{"$f":"IF(Qeydiyyat!X783=\"\",\"\",Qeydiyyat!X783)","v":""},{"$f":"IF(Qeydiyyat!Y783=\"\",\"\",Qeydiyyat!Y783)","v":""},null,{"$f":"IF(Qeydiyyat!AC783=\"\",\"\",Qeydiyyat!AC783)","v":""}]
[null,535,{"$f":"IF(Qeydiyyat!C784=\"\",\"\",Qeydiyyat!C784)","v":""},{"$f":"IF(Qeydiyyat!B784=\"\",\"\",Qeydiyyat!B784)","v":""},{"$f":"IF(Qeydiyyat!D784=\"\",\"\",Qeydiyyat!D784)","v":""},{"$f":"IF(Qeydiyyat!K784=\"\",\"\",Qeydiyyat!K784)","v":""},{"$f":"IF(Qeydiyyat!AB784=\"\",\"\",Qeydiyyat!AB784)","v":""},{"$f":"IF(Qeydiyyat!AA784=\"\",\"\",Qeydiyyat!AA784)","v":""},{"$f":"IF(Qeydiyyat!X784=\"\",\"\",Qeydiyyat!X784)","v":""},{"$f":"IF(Qeydiyyat!Y784=\"\",\"\",Qeydiyyat!Y784)","v":""},null,{"$f":"IF(Qeydiyyat!AC784=\"\",\"\",Qeydiyyat!AC784)","v":""}]
[null,536,{"$f":"IF(Qeydiyyat!C785=\"\",\"\",Qeydiyyat!C785)","v":""},{"$f":"IF(Qeydiyyat!B785=\"\",\"\",Qeydiyyat!B785)","v":""},{"$f":"IF(Qeydiyyat!D785=\"\",\"\",Qeydiyyat!D785)","v":""},{"$f":"IF(Qeydiyyat!K785=\"\",\"\",Qeydiyyat!K785)","v":""},{"$f":"IF(Qeydiyyat!AB785=\"\",\"\",Qeydiyyat!AB785)","v":""},{"$f":"IF(Qeydiyyat!AA785=\"\",\"\",Qeydiyyat!AA785)","v":""},{"$f":"IF(Qeydiyyat!X785=\"\",\"\",Qeydiyyat!X785)","v":""},{"$f":"IF(Qeydiyyat!Y785=\"\",\"\",Qeydiyyat!Y785)","v":""},null,{"$f":"IF(Qeydiyyat!AC785=\"\",\"\",Qeydiyyat!AC785)","v":""}]
[null,537,{"$f":"IF(Qeydiyyat!C786=\"\",\"\",Qeydiyyat!C786)","v":""},{"$f":"IF(Qeydiyyat!B786=\"\",\"\",Qeydiyyat!B786)","v":""},{"$f":"IF(Qeydiyyat!D786=\"\",\"\",Qeydiyyat!D786)","v":""},{"$f":"IF(Qeydiyyat!K786=\"\",\"\",Qeydiyyat!K786)","v":""},{"$f":"IF(Qeydiyyat!AB786=\"\",\"\",Qeydiyyat!AB786)","v":""},{"$f":"IF(Qeydiyyat!AA786=\"\",\"\",Qeydiyyat!AA786)","v":""},{"$f":"IF(Qeydiyyat!X786=\"\",\"\",Qeydiyyat!X786)","v":""},{"$f":"IF(Qeydiyyat!Y786=\"\",\"\",Qeydiyyat!Y786)","v":""},null,{"$f":"IF(Qeydiyyat!AC786=\"\",\"\",Qeydiyyat!AC786)","v":""}]
[null,538,{"$f":"IF(Qeydiyyat!C787=\"\",\"\",Qeydiyyat!C787)","v":""},{"$f":"IF(Qeydiyyat!B787=\"\",\"\",Qeydiyyat!B787)","v":""},{"$f":"IF(Qeydiyyat!D787=\"\",\"\",Qeydiyyat!D787)","v":""},{"$f":"IF(Qeydiyyat!K787=\"\",\"\",Qeydiyyat!K787)","v":""},{"$f":"IF(Qeydiyyat!AB787=\"\",\"\",Qeydiyyat!AB787)","v":""},{"$f":"IF(Qeydiyyat!AA787=\"\",\"\",Qeydiyyat!AA787)","v":""},{"$f":"IF(Qeydiyyat!X787=\"\",\"\",Qeydiyyat!X787)","v":""},{"$f":"IF(Qeydiyyat!Y787=\"\",\"\",Qeydiyyat!Y787)","v":""},null,{"$f":"IF(Qeydiyyat!AC787=\"\",\"\",Qeydiyyat!AC787)","v":""}]
[null,539,{"$f":"IF(Qeydiyyat!C788=\"\",\"\",Qeydiyyat!C788)","v":""},{"$f":"IF(Qeydiyyat!B788=\"\",\"\",Qeydiyyat!B788)","v":""},{"$f":"IF(Qeydiyyat!D788=\"\",\"\",Qeydiyyat!D788)","v":""},{"$f":"IF(Qeydiyyat!K788=\"\",\"\",Qeydiyyat!K788)","v":""},{"$f":"IF(Qeydiyyat!AB788=\"\",\"\",Qeydiyyat!AB788)","v":""},{"$f":"IF(Qeydiyyat!AA788=\"\",\"\",Qeydiyyat!AA788)","v":""},{"$f":"IF(Qeydiyyat!X788=\"\",\"\",Qeydiyyat!X788)","v":""},{"$f":"IF(Qeydiyyat!Y788=\"\",\"\",Qeydiyyat!Y788)","v":""},null,{"$f":"IF(Qeydiyyat!AC788=\"\",\"\",Qeydiyyat!AC788)","v":""}]
[null,540,{"$f":"IF(Qeydiyyat!C789=\"\",\"\",Qeydiyyat!C789)","v":""},{"$f":"IF(Qeydiyyat!B789=\"\",\"\",Qeydiyyat!B789)","v":""},{"$f":"IF(Qeydiyyat!D789=\"\",\"\",Qeydiyyat!D789)","v":""},{"$f":"IF(Qeydiyyat!K789=\"\",\"\",Qeydiyyat!K789)","v":""},{"$f":"IF(Qeydiyyat!AB789=\"\",\"\",Qeydiyyat!AB789)","v":""},{"$f":"IF(Qeydiyyat!AA789=\"\",\"\",Qeydiyyat!AA789)","v":""},{"$f":"IF(Qeydiyyat!X789=\"\",\"\",Qeydiyyat!X789)","v":""},{"$f":"IF(Qeydiyyat!Y789=\"\",\"\",Qeydiyyat!Y789)","v":""},null,{"$f":"IF(Qeydiyyat!AC789=\"\",\"\",Qeydiyyat!AC789)","v":""}]
[null,541,{"$f":"IF(Qeydiyyat!C790=\"\",\"\",Qeydiyyat!C790)","v":""},{"$f":"IF(Qeydiyyat!B790=\"\",\"\",Qeydiyyat!B790)","v":""},{"$f":"IF(Qeydiyyat!D790=\"\",\"\",Qeydiyyat!D790)","v":""},{"$f":"IF(Qeydiyyat!K790=\"\",\"\",Qeydiyyat!K790)","v":""},{"$f":"IF(Qeydiyyat!AB790=\"\",\"\",Qeydiyyat!AB790)","v":""},{"$f":"IF(Qeydiyyat!AA790=\"\",\"\",Qeydiyyat!AA790)","v":""},{"$f":"IF(Qeydiyyat!X790=\"\",\"\",Qeydiyyat!X790)","v":""},{"$f":"IF(Qeydiyyat!Y790=\"\",\"\",Qeydiyyat!Y790)","v":""},null,{"$f":"IF(Qeydiyyat!AC790=\"\",\"\",Qeydiyyat!AC790)","v":""}]
[null,542,{"$f":"IF(Qeydiyyat!C791=\"\",\"\",Qeydiyyat!C791)","v":""},{"$f":"IF(Qeydiyyat!B791=\"\",\"\",Qeydiyyat!B791)","v":""},{"$f":"IF(Qeydiyyat!D791=\"\",\"\",Qeydiyyat!D791)","v":""},{"$f":"IF(Qeydiyyat!K791=\"\",\"\",Qeydiyyat!K791)","v":""},{"$f":"IF(Qeydiyyat!AB791=\"\",\"\",Qeydiyyat!AB791)","v":""},{"$f":"IF(Qeydiyyat!AA791=\"\",\"\",Qeydiyyat!AA791)","v":""},{"$f":"IF(Qeydiyyat!X791=\"\",\"\",Qeydiyyat!X791)","v":""},{"$f":"IF(Qeydiyyat!Y791=\"\",\"\",Qeydiyyat!Y791)","v":""},null,{"$f":"IF(Qeydiyyat!AC791=\"\",\"\",Qeydiyyat!AC791)","v":""}]
[null,543,{"$f":"IF(Qeydiyyat!C792=\"\",\"\",Qeydiyyat!C792)","v":""},{"$f":"IF(Qeydiyyat!B792=\"\",\"\",Qeydiyyat!B792)","v":""},{"$f":"IF(Qeydiyyat!D792=\"\",\"\",Qeydiyyat!D792)","v":""},{"$f":"IF(Qeydiyyat!K792=\"\",\"\",Qeydiyyat!K792)","v":""},{"$f":"IF(Qeydiyyat!AB792=\"\",\"\",Qeydiyyat!AB792)","v":""},{"$f":"IF(Qeydiyyat!AA792=\"\",\"\",Qeydiyyat!AA792)","v":""},{"$f":"IF(Qeydiyyat!X792=\"\",\"\",Qeydiyyat!X792)","v":""},{"$f":"IF(Qeydiyyat!Y792=\"\",\"\",Qeydiyyat!Y792)","v":""},null,{"$f":"IF(Qeydiyyat!AC792=\"\",\"\",Qeydiyyat!AC792)","v":""}]
[null,544,{"$f":"IF(Qeydiyyat!C793=\"\",\"\",Qeydiyyat!C793)","v":""},{"$f":"IF(Qeydiyyat!B793=\"\",\"\",Qeydiyyat!B793)","v":""},{"$f":"IF(Qeydiyyat!D793=\"\",\"\",Qeydiyyat!D793)","v":""},{"$f":"IF(Qeydiyyat!K793=\"\",\"\",Qeydiyyat!K793)","v":""},{"$f":"IF(Qeydiyyat!AB793=\"\",\"\",Qeydiyyat!AB793)","v":""},{"$f":"IF(Qeydiyyat!AA793=\"\",\"\",Qeydiyyat!AA793)","v":""},{"$f":"IF(Qeydiyyat!X793=\"\",\"\",Qeydiyyat!X793)","v":""},{"$f":"IF(Qeydiyyat!Y793=\"\",\"\",Qeydiyyat!Y793)","v":""},null,{"$f":"IF(Qeydiyyat!AC793=\"\",\"\",Qeydiyyat!AC793)","v":""}]
[null,545,{"$f":"IF(Qeydiyyat!C794=\"\",\"\",Qeydiyyat!C794)","v":""},{"$f":"IF(Qeydiyyat!B794=\"\",\"\",Qeydiyyat!B794)","v":""},{"$f":"IF(Qeydiyyat!D794=\"\",\"\",Qeydiyyat!D794)","v":""},{"$f":"IF(Qeydiyyat!K794=\"\",\"\",Qeydiyyat!K794)","v":""},{"$f":"IF(Qeydiyyat!AB794=\"\",\"\",Qeydiyyat!AB794)","v":""},{"$f":"IF(Qeydiyyat!AA794=\"\",\"\",Qeydiyyat!AA794)","v":""},{"$f":"IF(Qeydiyyat!X794=\"\",\"\",Qeydiyyat!X794)","v":""},{"$f":"IF(Qeydiyyat!Y794=\"\",\"\",Qeydiyyat!Y794)","v":""},null,{"$f":"IF(Qeydiyyat!AC794=\"\",\"\",Qeydiyyat!AC794)","v":""}]
[null,546,{"$f":"IF(Qeydiyyat!C795=\"\",\"\",Qeydiyyat!C795)","v":""},{"$f":"IF(Qeydiyyat!B795=\"\",\"\",Qeydiyyat!B795)","v":""},{"$f":"IF(Qeydiyyat!D795=\"\",\"\",Qeydiyyat!D795)","v":""},{"$f":"IF(Qeydiyyat!K795=\"\",\"\",Qeydiyyat!K795)","v":""},{"$f":"IF(Qeydiyyat!AB795=\"\",\"\",Qeydiyyat!AB795)","v":""},{"$f":"IF(Qeydiyyat!AA795=\"\",\"\",Qeydiyyat!AA795)","v":""},{"$f":"IF(Qeydiyyat!X795=\"\",\"\",Qeydiyyat!X795)","v":""},{"$f":"IF(Qeydiyyat!Y795=\"\",\"\",Qeydiyyat!Y795)","v":""},null,{"$f":"IF(Qeydiyyat!AC795=\"\",\"\",Qeydiyyat!AC795)","v":""}]
[null,547,{"$f":"IF(Qeydiyyat!C796=\"\",\"\",Qeydiyyat!C796)","v":""},{"$f":"IF(Qeydiyyat!B796=\"\",\"\",Qeydiyyat!B796)","v":""},{"$f":"IF(Qeydiyyat!D796=\"\",\"\",Qeydiyyat!D796)","v":""},{"$f":"IF(Qeydiyyat!K796=\"\",\"\",Qeydiyyat!K796)","v":""},{"$f":"IF(Qeydiyyat!AB796=\"\",\"\",Qeydiyyat!AB796)","v":""},{"$f":"IF(Qeydiyyat!AA796=\"\",\"\",Qeydiyyat!AA796)","v":""},{"$f":"IF(Qeydiyyat!X796=\"\",\"\",Qeydiyyat!X796)","v":""},{"$f":"IF(Qeydiyyat!Y796=\"\",\"\",Qeydiyyat!Y796)","v":""},null,{"$f":"IF(Qeydiyyat!AC796=\"\",\"\",Qeydiyyat!AC796)","v":""}]
[null,548,{"$f":"IF(Qeydiyyat!C797=\"\",\"\",Qeydiyyat!C797)","v":""},{"$f":"IF(Qeydiyyat!B797=\"\",\"\",Qeydiyyat!B797)","v":""},{"$f":"IF(Qeydiyyat!D797=\"\",\"\",Qeydiyyat!D797)","v":""},{"$f":"IF(Qeydiyyat!K797=\"\",\"\",Qeydiyyat!K797)","v":""},{"$f":"IF(Qeydiyyat!AB797=\"\",\"\",Qeydiyyat!AB797)","v":""},{"$f":"IF(Qeydiyyat!AA797=\"\",\"\",Qeydiyyat!AA797)","v":""},{"$f":"IF(Qeydiyyat!X797=\"\",\"\",Qeydiyyat!X797)","v":""},{"$f":"IF(Qeydiyyat!Y797=\"\",\"\",Qeydiyyat!Y797)","v":""},null,{"$f":"IF(Qeydiyyat!AC797=\"\",\"\",Qeydiyyat!AC797)","v":""}]
[null,549,{"$f":"IF(Qeydiyyat!C798=\"\",\"\",Qeydiyyat!C798)","v":""},{"$f":"IF(Qeydiyyat!B798=\"\",\"\",Qeydiyyat!B798)","v":""},{"$f":"IF(Qeydiyyat!D798=\"\",\"\",Qeydiyyat!D798)","v":""},{"$f":"IF(Qeydiyyat!K798=\"\",\"\",Qeydiyyat!K798)","v":""},{"$f":"IF(Qeydiyyat!AB798=\"\",\"\",Qeydiyyat!AB798)","v":""},{"$f":"IF(Qeydiyyat!AA798=\"\",\"\",Qeydiyyat!AA798)","v":""},{"$f":"IF(Qeydiyyat!X798=\"\",\"\",Qeydiyyat!X798)","v":""},{"$f":"IF(Qeydiyyat!Y798=\"\",\"\",Qeydiyyat!Y798)","v":""},null,{"$f":"IF(Qeydiyyat!AC798=\"\",\"\",Qeydiyyat!AC798)","v":""}]
[null,550,{"$f":"IF(Qeydiyyat!C799=\"\",\"\",Qeydiyyat!C799)","v":""},{"$f":"IF(Qeydiyyat!B799=\"\",\"\",Qeydiyyat!B799)","v":""},{"$f":"IF(Qeydiyyat!D799=\"\",\"\",Qeydiyyat!D799)","v":""},{"$f":"IF(Qeydiyyat!K799=\"\",\"\",Qeydiyyat!K799)","v":""},{"$f":"IF(Qeydiyyat!AB799=\"\",\"\",Qeydiyyat!AB799)","v":""},{"$f":"IF(Qeydiyyat!AA799=\"\",\"\",Qeydiyyat!AA799)","v":""},{"$f":"IF(Qeydiyyat!X799=\"\",\"\",Qeydiyyat!X799)","v":""},{"$f":"IF(Qeydiyyat!Y799=\"\",\"\",Qeydiyyat!Y799)","v":""},null,{"$f":"IF(Qeydiyyat!AC799=\"\",\"\",Qeydiyyat!AC799)","v":""}]
[null,551,{"$f":"IF(Qeydiyyat!C800=\"\",\"\",Qeydiyyat!C800)","v":""},{"$f":"IF(Qeydiyyat!B800=\"\",\"\",Qeydiyyat!B800)","v":""},{"$f":"IF(Qeydiyyat!D800=\"\",\"\",Qeydiyyat!D800)","v":""},{"$f":"IF(Qeydiyyat!K800=\"\",\"\",Qeydiyyat!K800)","v":""},{"$f":"IF(Qeydiyyat!AB800=\"\",\"\",Qeydiyyat!AB800)","v":""},{"$f":"IF(Qeydiyyat!AA800=\"\",\"\",Qeydiyyat!AA800)","v":""},{"$f":"IF(Qeydiyyat!X800=\"\",\"\",Qeydiyyat!X800)","v":""},{"$f":"IF(Qeydiyyat!Y800=\"\",\"\",Qeydiyyat!Y800)","v":""},null,{"$f":"IF(Qeydiyyat!AC800=\"\",\"\",Qeydiyyat!AC800)","v":""}]
[null,552,{"$f":"IF(Qeydiyyat!C801=\"\",\"\",Qeydiyyat!C801)","v":""},{"$f":"IF(Qeydiyyat!B801=\"\",\"\",Qeydiyyat!B801)","v":""},{"$f":"IF(Qeydiyyat!D801=\"\",\"\",Qeydiyyat!D801)","v":""},{"$f":"IF(Qeydiyyat!K801=\"\",\"\",Qeydiyyat!K801)","v":""},{"$f":"IF(Qeydiyyat!AB801=\"\",\"\",Qeydiyyat!AB801)","v":""},{"$f":"IF(Qeydiyyat!AA801=\"\",\"\",Qeydiyyat!AA801)","v":""},{"$f":"IF(Qeydiyyat!X801=\"\",\"\",Qeydiyyat!X801)","v":""},{"$f":"IF(Qeydiyyat!Y801=\"\",\"\",Qeydiyyat!Y801)","v":""},null,{"$f":"IF(Qeydiyyat!AC801=\"\",\"\",Qeydiyyat!AC801)","v":""}]
[null,553,{"$f":"IF(Qeydiyyat!C802=\"\",\"\",Qeydiyyat!C802)","v":""},{"$f":"IF(Qeydiyyat!B802=\"\",\"\",Qeydiyyat!B802)","v":""},{"$f":"IF(Qeydiyyat!D802=\"\",\"\",Qeydiyyat!D802)","v":""},{"$f":"IF(Qeydiyyat!K802=\"\",\"\",Qeydiyyat!K802)","v":""},{"$f":"IF(Qeydiyyat!AB802=\"\",\"\",Qeydiyyat!AB802)","v":""},{"$f":"IF(Qeydiyyat!AA802=\"\",\"\",Qeydiyyat!AA802)","v":""},{"$f":"IF(Qeydiyyat!X802=\"\",\"\",Qeydiyyat!X802)","v":""},{"$f":"IF(Qeydiyyat!Y802=\"\",\"\",Qeydiyyat!Y802)","v":""},null,{"$f":"IF(Qeydiyyat!AC802=\"\",\"\",Qeydiyyat!AC802)","v":""}]
[null,554,{"$f":"IF(Qeydiyyat!C803=\"\",\"\",Qeydiyyat!C803)","v":""},{"$f":"IF(Qeydiyyat!B803=\"\",\"\",Qeydiyyat!B803)","v":""},{"$f":"IF(Qeydiyyat!D803=\"\",\"\",Qeydiyyat!D803)","v":""},{"$f":"IF(Qeydiyyat!K803=\"\",\"\",Qeydiyyat!K803)","v":""},{"$f":"IF(Qeydiyyat!AB803=\"\",\"\",Qeydiyyat!AB803)","v":""},{"$f":"IF(Qeydiyyat!AA803=\"\",\"\",Qeydiyyat!AA803)","v":""},{"$f":"IF(Qeydiyyat!X803=\"\",\"\",Qeydiyyat!X803)","v":""},{"$f":"IF(Qeydiyyat!Y803=\"\",\"\",Qeydiyyat!Y803)","v":""},null,{"$f":"IF(Qeydiyyat!AC803=\"\",\"\",Qeydiyyat!AC803)","v":""}]
[null,555,{"$f":"IF(Qeydiyyat!C804=\"\",\"\",Qeydiyyat!C804)","v":""},{"$f":"IF(Qeydiyyat!B804=\"\",\"\",Qeydiyyat!B804)","v":""},{"$f":"IF(Qeydiyyat!D804=\"\",\"\",Qeydiyyat!D804)","v":""},{"$f":"IF(Qeydiyyat!K804=\"\",\"\",Qeydiyyat!K804)","v":""},{"$f":"IF(Qeydiyyat!AB804=\"\",\"\",Qeydiyyat!AB804)","v":""},{"$f":"IF(Qeydiyyat!AA804=\"\",\"\",Qeydiyyat!AA804)","v":""},{"$f":"IF(Qeydiyyat!X804=\"\",\"\",Qeydiyyat!X804)","v":""},{"$f":"IF(Qeydiyyat!Y804=\"\",\"\",Qeydiyyat!Y804)","v":""},null,{"$f":"IF(Qeydiyyat!AC804=\"\",\"\",Qeydiyyat!AC804)","v":""}]
[null,556,{"$f":"IF(Qeydiyyat!C805=\"\",\"\",Qeydiyyat!C805)","v":""},{"$f":"IF(Qeydiyyat!B805=\"\",\"\",Qeydiyyat!B805)","v":""},{"$f":"IF(Qeydiyyat!D805=\"\",\"\",Qeydiyyat!D805)","v":""},{"$f":"IF(Qeydiyyat!K805=\"\",\"\",Qeydiyyat!K805)","v":""},{"$f":"IF(Qeydiyyat!AB805=\"\",\"\",Qeydiyyat!AB805)","v":""},{"$f":"IF(Qeydiyyat!AA805=\"\",\"\",Qeydiyyat!AA805)","v":""},{"$f":"IF(Qeydiyyat!X805=\"\",\"\",Qeydiyyat!X805)","v":""},{"$f":"IF(Qeydiyyat!Y805=\"\",\"\",Qeydiyyat!Y805)","v":""},null,{"$f":"IF(Qeydiyyat!AC805=\"\",\"\",Qeydiyyat!AC805)","v":""}]
[null,557,{"$f":"IF(Qeydiyyat!C806=\"\",\"\",Qeydiyyat!C806)","v":""},{"$f":"IF(Qeydiyyat!B806=\"\",\"\",Qeydiyyat!B806)","v":""},{"$f":"IF(Qeydiyyat!D806=\"\",\"\",Qeydiyyat!D806)","v":""},{"$f":"IF(Qeydiyyat!K806=\"\",\"\",Qeydiyyat!K806)","v":""},{"$f":"IF(Qeydiyyat!AB806=\"\",\"\",Qeydiyyat!AB806)","v":""},{"$f":"IF(Qeydiyyat!AA806=\"\",\"\",Qeydiyyat!AA806)","v":""},{"$f":"IF(Qeydiyyat!X806=\"\",\"\",Qeydiyyat!X806)","v":""},{"$f":"IF(Qeydiyyat!Y806=\"\",\"\",Qeydiyyat!Y806)","v":""},null,{"$f":"IF(Qeydiyyat!AC806=\"\",\"\",Qeydiyyat!AC806)","v":""}]
[null,558,{"$f":"IF(Qeydiyyat!C807=\"\",\"\",Qeydiyyat!C807)","v":""},{"$f":"IF(Qeydiyyat!B807=\"\",\"\",Qeydiyyat!B807)","v":""},{"$f":"IF(Qeydiyyat!D807=\"\",\"\",Qeydiyyat!D807)","v":""},{"$f":"IF(Qeydiyyat!K807=\"\",\"\",Qeydiyyat!K807)","v":""},{"$f":"IF(Qeydiyyat!AB807=\"\",\"\",Qeydiyyat!AB807)","v":""},{"$f":"IF(Qeydiyyat!AA807=\"\",\"\",Qeydiyyat!AA807)","v":""},{"$f":"IF(Qeydiyyat!X807=\"\",\"\",Qeydiyyat!X807)","v":""},{"$f":"IF(Qeydiyyat!Y807=\"\",\"\",Qeydiyyat!Y807)","v":""},null,{"$f":"IF(Qeydiyyat!AC807=\"\",\"\",Qeydiyyat!AC807)","v":""}]
[null,559,{"$f":"IF(Qeydiyyat!C808=\"\",\"\",Qeydiyyat!C808)","v":""},{"$f":"IF(Qeydiyyat!B808=\"\",\"\",Qeydiyyat!B808)","v":""},{"$f":"IF(Qeydiyyat!D808=\"\",\"\",Qeydiyyat!D808)","v":""},{"$f":"IF(Qeydiyyat!K808=\"\",\"\",Qeydiyyat!K808)","v":""},{"$f":"IF(Qeydiyyat!AB808=\"\",\"\",Qeydiyyat!AB808)","v":""},{"$f":"IF(Qeydiyyat!AA808=\"\",\"\",Qeydiyyat!AA808)","v":""},{"$f":"IF(Qeydiyyat!X808=\"\",\"\",Qeydiyyat!X808)","v":""},{"$f":"IF(Qeydiyyat!Y808=\"\",\"\",Qeydiyyat!Y808)","v":""},null,{"$f":"IF(Qeydiyyat!AC808=\"\",\"\",Qeydiyyat!AC808)","v":""}]
[null,560,{"$f":"IF(Qeydiyyat!C809=\"\",\"\",Qeydiyyat!C809)","v":""},{"$f":"IF(Qeydiyyat!B809=\"\",\"\",Qeydiyyat!B809)","v":""},{"$f":"IF(Qeydiyyat!D809=\"\",\"\",Qeydiyyat!D809)","v":""},{"$f":"IF(Qeydiyyat!K809=\"\",\"\",Qeydiyyat!K809)","v":""},{"$f":"IF(Qeydiyyat!AB809=\"\",\"\",Qeydiyyat!AB809)","v":""},{"$f":"IF(Qeydiyyat!AA809=\"\",\"\",Qeydiyyat!AA809)","v":""},{"$f":"IF(Qeydiyyat!X809=\"\",\"\",Qeydiyyat!X809)","v":""},{"$f":"IF(Qeydiyyat!Y809=\"\",\"\",Qeydiyyat!Y809)","v":""},null,{"$f":"IF(Qeydiyyat!AC809=\"\",\"\",Qeydiyyat!AC809)","v":""}]
[null,561,{"$f":"IF(Qeydiyyat!C810=\"\",\"\",Qeydiyyat!C810)","v":""},{"$f":"IF(Qeydiyyat!B810=\"\",\"\",Qeydiyyat!B810)","v":""},{"$f":"IF(Qeydiyyat!D810=\"\",\"\",Qeydiyyat!D810)","v":""},{"$f":"IF(Qeydiyyat!K810=\"\",\"\",Qeydiyyat!K810)","v":""},{"$f":"IF(Qeydiyyat!AB810=\"\",\"\",Qeydiyyat!AB810)","v":""},{"$f":"IF(Qeydiyyat!AA810=\"\",\"\",Qeydiyyat!AA810)","v":""},{"$f":"IF(Qeydiyyat!X810=\"\",\"\",Qeydiyyat!X810)","v":""},{"$f":"IF(Qeydiyyat!Y810=\"\",\"\",Qeydiyyat!Y810)","v":""},null,{"$f":"IF(Qeydiyyat!AC810=\"\",\"\",Qeydiyyat!AC810)","v":""}]
[null,562,{"$f":"IF(Qeydiyyat!C811=\"\",\"\",Qeydiyyat!C811)","v":""},{"$f":"IF(Qeydiyyat!B811=\"\",\"\",Qeydiyyat!B811)","v":""},{"$f":"IF(Qeydiyyat!D811=\"\",\"\",Qeydiyyat!D811)","v":""},{"$f":"IF(Qeydiyyat!K811=\"\",\"\",Qeydiyyat!K811)","v":""},{"$f":"IF(Qeydiyyat!AB811=\"\",\"\",Qeydiyyat!AB811)","v":""},{"$f":"IF(Qeydiyyat!AA811=\"\",\"\",Qeydiyyat!AA811)","v":""},{"$f":"IF(Qeydiyyat!X811=\"\",\"\",Qeydiyyat!X811)","v":""},{"$f":"IF(Qeydiyyat!Y811=\"\",\"\",Qeydiyyat!Y811)","v":""},null,{"$f":"IF(Qeydiyyat!AC811=\"\",\"\",Qeydiyyat!AC811)","v":""}]
[null,563,{"$f":"IF(Qeydiyyat!C812=\"\",\"\",Qeydiyyat!C812)","v":""},{"$f":"IF(Qeydiyyat!B812=\"\",\"\",Qeydiyyat!B812)","v":""},{"$f":"IF(Qeydiyyat!D812=\"\",\"\",Qeydiyyat!D812)","v":""},{"$f":"IF(Qeydiyyat!K812=\"\",\"\",Qeydiyyat!K812)","v":""},{"$f":"IF(Qeydiyyat!AB812=\"\",\"\",Qeydiyyat!AB812)","v":""},{"$f":"IF(Qeydiyyat!AA812=\"\",\"\",Qeydiyyat!AA812)","v":""},{"$f":"IF(Qeydiyyat!X812=\"\",\"\",Qeydiyyat!X812)","v":""},{"$f":"IF(Qeydiyyat!Y812=\"\",\"\",Qeydiyyat!Y812)","v":""},null,{"$f":"IF(Qeydiyyat!AC812=\"\",\"\",Qeydiyyat!AC812)","v":""}]
[null,564,{"$f":"IF(Qeydiyyat!C813=\"\",\"\",Qeydiyyat!C813)","v":""},{"$f":"IF(Qeydiyyat!B813=\"\",\"\",Qeydiyyat!B813)","v":""},{"$f":"IF(Qeydiyyat!D813=\"\",\"\",Qeydiyyat!D813)","v":""},{"$f":"IF(Qeydiyyat!K813=\"\",\"\",Qeydiyyat!K813)","v":""},{"$f":"IF(Qeydiyyat!AB813=\"\",\"\",Qeydiyyat!AB813)","v":""},{"$f":"IF(Qeydiyyat!AA813=\"\",\"\",Qeydiyyat!AA813)","v":""},{"$f":"IF(Qeydiyyat!X813=\"\",\"\",Qeydiyyat!X813)","v":""},{"$f":"IF(Qeydiyyat!Y813=\"\",\"\",Qeydiyyat!Y813)","v":""},null,{"$f":"IF(Qeydiyyat!AC813=\"\",\"\",Qeydiyyat!AC813)","v":""}]
[null,565,{"$f":"IF(Qeydiyyat!C814=\"\",\"\",Qeydiyyat!C814)","v":""},{"$f":"IF(Qeydiyyat!B814=\"\",\"\",Qeydiyyat!B814)","v":""},{"$f":"IF(Qeydiyyat!D814=\"\",\"\",Qeydiyyat!D814)","v":""},{"$f":"IF(Qeydiyyat!K814=\"\",\"\",Qeydiyyat!K814)","v":""},{"$f":"IF(Qeydiyyat!AB814=\"\",\"\",Qeydiyyat!AB814)","v":""},{"$f":"IF(Qeydiyyat!AA814=\"\",\"\",Qeydiyyat!AA814)","v":""},{"$f":"IF(Qeydiyyat!X814=\"\",\"\",Qeydiyyat!X814)","v":""},{"$f":"IF(Qeydiyyat!Y814=\"\",\"\",Qeydiyyat!Y814)","v":""},null,{"$f":"IF(Qeydiyyat!AC814=\"\",\"\",Qeydiyyat!AC814)","v":""}]
[null,566,{"$f":"IF(Qeydiyyat!C815=\"\",\"\",Qeydiyyat!C815)","v":""},{"$f":"IF(Qeydiyyat!B815=\"\",\"\",Qeydiyyat!B815)","v":""},{"$f":"IF(Qeydiyyat!D815=\"\",\"\",Qeydiyyat!D815)","v":""},{"$f":"IF(Qeydiyyat!K815=\"\",\"\",Qeydiyyat!K815)","v":""},{"$f":"IF(Qeydiyyat!AB815=\"\",\"\",Qeydiyyat!AB815)","v":""},{"$f":"IF(Qeydiyyat!AA815=\"\",\"\",Qeydiyyat!AA815)","v":""},{"$f":"IF(Qeydiyyat!X815=\"\",\"\",Qeydiyyat!X815)","v":""},{"$f":"IF(Qeydiyyat!Y815=\"\",\"\",Qeydiyyat!Y815)","v":""},null,{"$f":"IF(Qeydiyyat!AC815=\"\",\"\",Qeydiyyat!AC815)","v":""}]
[null,567,{"$f":"IF(Qeydiyyat!C816=\"\",\"\",Qeydiyyat!C816)","v":""},{"$f":"IF(Qeydiyyat!B816=\"\",\"\",Qeydiyyat!B816)","v":""},{"$f":"IF(Qeydiyyat!D816=\"\",\"\",Qeydiyyat!D816)","v":""},{"$f":"IF(Qeydiyyat!K816=\"\",\"\",Qeydiyyat!K816)","v":""},{"$f":"IF(Qeydiyyat!AB816=\"\",\"\",Qeydiyyat!AB816)","v":""},{"$f":"IF(Qeydiyyat!AA816=\"\",\"\",Qeydiyyat!AA816)","v":""},{"$f":"IF(Qeydiyyat!X816=\"\",\"\",Qeydiyyat!X816)","v":""},{"$f":"IF(Qeydiyyat!Y816=\"\",\"\",Qeydiyyat!Y816)","v":""},null,{"$f":"IF(Qeydiyyat!AC816=\"\",\"\",Qeydiyyat!AC816)","v":""}]
[null,568,{"$f":"IF(Qeydiyyat!C817=\"\",\"\",Qeydiyyat!C817)","v":""},{"$f":"IF(Qeydiyyat!B817=\"\",\"\",Qeydiyyat!B817)","v":""},{"$f":"IF(Qeydiyyat!D817=\"\",\"\",Qeydiyyat!D817)","v":""},{"$f":"IF(Qeydiyyat!K817=\"\",\"\",Qeydiyyat!K817)","v":""},{"$f":"IF(Qeydiyyat!AB817=\"\",\"\",Qeydiyyat!AB817)","v":""},{"$f":"IF(Qeydiyyat!AA817=\"\",\"\",Qeydiyyat!AA817)","v":""},{"$f":"IF(Qeydiyyat!X817=\"\",\"\",Qeydiyyat!X817)","v":""},{"$f":"IF(Qeydiyyat!Y817=\"\",\"\",Qeydiyyat!Y817)","v":""},null,{"$f":"IF(Qeydiyyat!AC817=\"\",\"\",Qeydiyyat!AC817)","v":""}]
[null,569,{"$f":"IF(Qeydiyyat!C818=\"\",\"\",Qeydiyyat!C818)","v":""},{"$f":"IF(Qeydiyyat!B818=\"\",\"\",Qeydiyyat!B818)","v":""},{"$f":"IF(Qeydiyyat!D818=\"\",\"\",Qeydiyyat!D818)","v":""},{"$f":"IF(Qeydiyyat!K818=\"\",\"\",Qeydiyyat!K818)","v":""},{"$f":"IF(Qeydiyyat!AB818=\"\",\"\",Qeydiyyat!AB818)","v":""},{"$f":"IF(Qeydiyyat!AA818=\"\",\"\",Qeydiyyat!AA818)","v":""},{"$f":"IF(Qeydiyyat!X818=\"\",\"\",Qeydiyyat!X818)","v":""},{"$f":"IF(Qeydiyyat!Y818=\"\",\"\",Qeydiyyat!Y818)","v":""},null,{"$f":"IF(Qeydiyyat!AC818=\"\",\"\",Qeydiyyat!AC818)","v":""}]
[null,570,{"$f":"IF(Qeydiyyat!C819=\"\",\"\",Qeydiyyat!C819)","v":""},{"$f":"IF(Qeydiyyat!B819=\"\",\"\",Qeydiyyat!B819)","v":""},{"$f":"IF(Qeydiyyat!D819=\"\",\"\",Qeydiyyat!D819)","v":""},{"$f":"IF(Qeydiyyat!K819=\"\",\"\",Qeydiyyat!K819)","v":""},{"$f":"IF(Qeydiyyat!AB819=\"\",\"\",Qeydiyyat!AB819)","v":""},{"$f":"IF(Qeydiyyat!AA819=\"\",\"\",Qeydiyyat!AA819)","v":""},{"$f":"IF(Qeydiyyat!X819=\"\",\"\",Qeydiyyat!X819)","v":""},{"$f":"IF(Qeydiyyat!Y819=\"\",\"\",Qeydiyyat!Y819)","v":""},null,{"$f":"IF(Qeydiyyat!AC819=\"\",\"\",Qeydiyyat!AC819)","v":""}]
[null,571,{"$f":"IF(Qeydiyyat!C820=\"\",\"\",Qeydiyyat!C820)","v":""},{"$f":"IF(Qeydiyyat!B820=\"\",\"\",Qeydiyyat!B820)","v":""},{"$f":"IF(Qeydiyyat!D820=\"\",\"\",Qeydiyyat!D820)","v":""},{"$f":"IF(Qeydiyyat!K820=\"\",\"\",Qeydiyyat!K820)","v":""},{"$f":"IF(Qeydiyyat!AB820=\"\",\"\",Qeydiyyat!AB820)","v":""},{"$f":"IF(Qeydiyyat!AA820=\"\",\"\",Qeydiyyat!AA820)","v":""},{"$f":"IF(Qeydiyyat!X820=\"\",\"\",Qeydiyyat!X820)","v":""},{"$f":"IF(Qeydiyyat!Y820=\"\",\"\",Qeydiyyat!Y820)","v":""},null,{"$f":"IF(Qeydiyyat!AC820=\"\",\"\",Qeydiyyat!AC820)","v":""}]
[null,572,{"$f":"IF(Qeydiyyat!C821=\"\",\"\",Qeydiyyat!C821)","v":""},{"$f":"IF(Qeydiyyat!B821=\"\",\"\",Qeydiyyat!B821)","v":""},{"$f":"IF(Qeydiyyat!D821=\"\",\"\",Qeydiyyat!D821)","v":""},{"$f":"IF(Qeydiyyat!K821=\"\",\"\",Qeydiyyat!K821)","v":""},{"$f":"IF(Qeydiyyat!AB821=\"\",\"\",Qeydiyyat!AB821)","v":""},{"$f":"IF(Qeydiyyat!AA821=\"\",\"\",Qeydiyyat!AA821)","v":""},{"$f":"IF(Qeydiyyat!X821=\"\",\"\",Qeydiyyat!X821)","v":""},{"$f":"IF(Qeydiyyat!Y821=\"\",\"\",Qeydiyyat!Y821)","v":""},null,{"$f":"IF(Qeydiyyat!AC821=\"\",\"\",Qeydiyyat!AC821)","v":""}]
[null,573,{"$f":"IF(Qeydiyyat!C822=\"\",\"\",Qeydiyyat!C822)","v":""},{"$f":"IF(Qeydiyyat!B822=\"\",\"\",Qeydiyyat!B822)","v":""},{"$f":"IF(Qeydiyyat!D822=\"\",\"\",Qeydiyyat!D822)","v":""},{"$f":"IF(Qeydiyyat!K822=\"\",\"\",Qeydiyyat!K822)","v":""},{"$f":"IF(Qeydiyyat!AB822=\"\",\"\",Qeydiyyat!AB822)","v":""},{"$f":"IF(Qeydiyyat!AA822=\"\",\"\",Qeydiyyat!AA822)","v":""},{"$f":"IF(Qeydiyyat!X822=\"\",\"\",Qeydiyyat!X822)","v":""},{"$f":"IF(Qeydiyyat!Y822=\"\",\"\",Qeydiyyat!Y822)","v":""},null,{"$f":"IF(Qeydiyyat!AC822=\"\",\"\",Qeydiyyat!AC822)","v":""}]
[null,574,{"$f":"IF(Qeydiyyat!C823=\"\",\"\",Qeydiyyat!C823)","v":""},{"$f":"IF(Qeydiyyat!B823=\"\",\"\",Qeydiyyat!B823)","v":""},{"$f":"IF(Qeydiyyat!D823=\"\",\"\",Qeydiyyat!D823)","v":""},{"$f":"IF(Qeydiyyat!K823=\"\",\"\",Qeydiyyat!K823)","v":""},{"$f":"IF(Qeydiyyat!AB823=\"\",\"\",Qeydiyyat!AB823)","v":""},{"$f":"IF(Qeydiyyat!AA823=\"\",\"\",Qeydiyyat!AA823)","v":""},{"$f":"IF(Qeydiyyat!X823=\"\",\"\",Qeydiyyat!X823)","v":""},{"$f":"IF(Qeydiyyat!Y823=\"\",\"\",Qeydiyyat!Y823)","v":""},null,{"$f":"IF(Qeydiyyat!AC823=\"\",\"\",Qeydiyyat!AC823)","v":""}]
[null,575,{"$f":"IF(Qeydiyyat!C824=\"\",\"\",Qeydiyyat!C824)","v":""},{"$f":"IF(Qeydiyyat!B824=\"\",\"\",Qeydiyyat!B824)","v":""},{"$f":"IF(Qeydiyyat!D824=\"\",\"\",Qeydiyyat!D824)","v":""},{"$f":"IF(Qeydiyyat!K824=\"\",\"\",Qeydiyyat!K824)","v":""},{"$f":"IF(Qeydiyyat!AB824=\"\",\"\",Qeydiyyat!AB824)","v":""},{"$f":"IF(Qeydiyyat!AA824=\"\",\"\",Qeydiyyat!AA824)","v":""},{"$f":"IF(Qeydiyyat!X824=\"\",\"\",Qeydiyyat!X824)","v":""},{"$f":"IF(Qeydiyyat!Y824=\"\",\"\",Qeydiyyat!Y824)","v":""},null,{"$f":"IF(Qeydiyyat!AC824=\"\",\"\",Qeydiyyat!AC824)","v":""}]
[null,576,{"$f":"IF(Qeydiyyat!C825=\"\",\"\",Qeydiyyat!C825)","v":""},{"$f":"IF(Qeydiyyat!B825=\"\",\"\",Qeydiyyat!B825)","v":""},{"$f":"IF(Qeydiyyat!D825=\"\",\"\",Qeydiyyat!D825)","v":""},{"$f":"IF(Qeydiyyat!K825=\"\",\"\",Qeydiyyat!K825)","v":""},{"$f":"IF(Qeydiyyat!AB825=\"\",\"\",Qeydiyyat!AB825)","v":""},{"$f":"IF(Qeydiyyat!AA825=\"\",\"\",Qeydiyyat!AA825)","v":""},{"$f":"IF(Qeydiyyat!X825=\"\",\"\",Qeydiyyat!X825)","v":""},{"$f":"IF(Qeydiyyat!Y825=\"\",\"\",Qeydiyyat!Y825)","v":""},null,{"$f":"IF(Qeydiyyat!AC825=\"\",\"\",Qeydiyyat!AC825)","v":""}]
[null,577,{"$f":"IF(Qeydiyyat!C826=\"\",\"\",Qeydiyyat!C826)","v":""},{"$f":"IF(Qeydiyyat!B826=\"\",\"\",Qeydiyyat!B826)","v":""},{"$f":"IF(Qeydiyyat!D826=\"\",\"\",Qeydiyyat!D826)","v":""},{"$f":"IF(Qeydiyyat!K826=\"\",\"\",Qeydiyyat!K826)","v":""},{"$f":"IF(Qeydiyyat!AB826=\"\",\"\",Qeydiyyat!AB826)","v":""},{"$f":"IF(Qeydiyyat!AA826=\"\",\"\",Qeydiyyat!AA826)","v":""},{"$f":"IF(Qeydiyyat!X826=\"\",\"\",Qeydiyyat!X826)","v":""},{"$f":"IF(Qeydiyyat!Y826=\"\",\"\",Qeydiyyat!Y826)","v":""},null,{"$f":"IF(Qeydiyyat!AC826=\"\",\"\",Qeydiyyat!AC826)","v":""}]
[null,578,{"$f":"IF(Qeydiyyat!C827=\"\",\"\",Qeydiyyat!C827)","v":""},{"$f":"IF(Qeydiyyat!B827=\"\",\"\",Qeydiyyat!B827)","v":""},{"$f":"IF(Qeydiyyat!D827=\"\",\"\",Qeydiyyat!D827)","v":""},{"$f":"IF(Qeydiyyat!K827=\"\",\"\",Qeydiyyat!K827)","v":""},{"$f":"IF(Qeydiyyat!AB827=\"\",\"\",Qeydiyyat!AB827)","v":""},{"$f":"IF(Qeydiyyat!AA827=\"\",\"\",Qeydiyyat!AA827)","v":""},{"$f":"IF(Qeydiyyat!X827=\"\",\"\",Qeydiyyat!X827)","v":""},{"$f":"IF(Qeydiyyat!Y827=\"\",\"\",Qeydiyyat!Y827)","v":""},null,{"$f":"IF(Qeydiyyat!AC827=\"\",\"\",Qeydiyyat!AC827)","v":""}]
[null,579,{"$f":"IF(Qeydiyyat!C828=\"\",\"\",Qeydiyyat!C828)","v":""},{"$f":"IF(Qeydiyyat!B828=\"\",\"\",Qeydiyyat!B828)","v":""},{"$f":"IF(Qeydiyyat!D828=\"\",\"\",Qeydiyyat!D828)","v":""},{"$f":"IF(Qeydiyyat!K828=\"\",\"\",Qeydiyyat!K828)","v":""},{"$f":"IF(Qeydiyyat!AB828=\"\",\"\",Qeydiyyat!AB828)","v":""},{"$f":"IF(Qeydiyyat!AA828=\"\",\"\",Qeydiyyat!AA828)","v":""},{"$f":"IF(Qeydiyyat!X828=\"\",\"\",Qeydiyyat!X828)","v":""},{"$f":"IF(Qeydiyyat!Y828=\"\",\"\",Qeydiyyat!Y828)","v":""},null,{"$f":"IF(Qeydiyyat!AC828=\"\",\"\",Qeydiyyat!AC828)","v":""}]
[null,580,{"$f":"IF(Qeydiyyat!C829=\"\",\"\",Qeydiyyat!C829)","v":""},{"$f":"IF(Qeydiyyat!B829=\"\",\"\",Qeydiyyat!B829)","v":""},{"$f":"IF(Qeydiyyat!D829=\"\",\"\",Qeydiyyat!D829)","v":""},{"$f":"IF(Qeydiyyat!K829=\"\",\"\",Qeydiyyat!K829)","v":""},{"$f":"IF(Qeydiyyat!AB829=\"\",\"\",Qeydiyyat!AB829)","v":""},{"$f":"IF(Qeydiyyat!AA829=\"\",\"\",Qeydiyyat!AA829)","v":""},{"$f":"IF(Qeydiyyat!X829=\"\",\"\",Qeydiyyat!X829)","v":""},{"$f":"IF(Qeydiyyat!Y829=\"\",\"\",Qeydiyyat!Y829)","v":""},null,{"$f":"IF(Qeydiyyat!AC829=\"\",\"\",Qeydiyyat!AC829)","v":""}]
[null,{"$f":"B598+1","v":581},{"$f":"IF(Qeydiyyat!C830=\"\",\"\",Qeydiyyat!C830)","v":""},{"$f":"IF(Qeydiyyat!B830=\"\",\"\",Qeydiyyat!B830)","v":""},{"$f":"IF(Qeydiyyat!D830=\"\",\"\",Qeydiyyat!D830)","v":""},{"$f":"IF(Qeydiyyat!K830=\"\",\"\",Qeydiyyat!K830)","v":""},{"$f":"IF(Qeydiyyat!AB830=\"\",\"\",Qeydiyyat!AB830)","v":""},{"$f":"IF(Qeydiyyat!AA830=\"\",\"\",Qeydiyyat!AA830)","v":""},{"$f":"IF(Qeydiyyat!X830=\"\",\"\",Qeydiyyat!X830)","v":""},{"$f":"IF(Qeydiyyat!Y830=\"\",\"\",Qeydiyyat!Y830)","v":""},null,{"$f":"IF(Qeydiyyat!AC830=\"\",\"\",Qeydiyyat!AC830)","v":""}]
[null,582,{"$f":"IF(Qeydiyyat!C831=\"\",\"\",Qeydiyyat!C831)","v":""},{"$f":"IF(Qeydiyyat!B831=\"\",\"\",Qeydiyyat!B831)","v":""},{"$f":"IF(Qeydiyyat!D831=\"\",\"\",Qeydiyyat!D831)","v":""},{"$f":"IF(Qeydiyyat!K831=\"\",\"\",Qeydiyyat!K831)","v":""},{"$f":"IF(Qeydiyyat!AB831=\"\",\"\",Qeydiyyat!AB831)","v":""},{"$f":"IF(Qeydiyyat!AA831=\"\",\"\",Qeydiyyat!AA831)","v":""},{"$f":"IF(Qeydiyyat!X831=\"\",\"\",Qeydiyyat!X831)","v":""},{"$f":"IF(Qeydiyyat!Y831=\"\",\"\",Qeydiyyat!Y831)","v":""},null,{"$f":"IF(Qeydiyyat!AC831=\"\",\"\",Qeydiyyat!AC831)","v":""}]
[null,583,{"$f":"IF(Qeydiyyat!C832=\"\",\"\",Qeydiyyat!C832)","v":""},{"$f":"IF(Qeydiyyat!B832=\"\",\"\",Qeydiyyat!B832)","v":""},{"$f":"IF(Qeydiyyat!D832=\"\",\"\",Qeydiyyat!D832)","v":""},{"$f":"IF(Qeydiyyat!K832=\"\",\"\",Qeydiyyat!K832)","v":""},{"$f":"IF(Qeydiyyat!AB832=\"\",\"\",Qeydiyyat!AB832)","v":""},{"$f":"IF(Qeydiyyat!AA832=\"\",\"\",Qeydiyyat!AA832)","v":""},{"$f":"IF(Qeydiyyat!X832=\"\",\"\",Qeydiyyat!X832)","v":""},{"$f":"IF(Qeydiyyat!Y832=\"\",\"\",Qeydiyyat!Y832)","v":""},null,{"$f":"IF(Qeydiyyat!AC832=\"\",\"\",Qeydiyyat!AC832)","v":""}]
[null,584,{"$f":"IF(Qeydiyyat!C833=\"\",\"\",Qeydiyyat!C833)","v":""},{"$f":"IF(Qeydiyyat!B833=\"\",\"\",Qeydiyyat!B833)","v":""},{"$f":"IF(Qeydiyyat!D833=\"\",\"\",Qeydiyyat!D833)","v":""},{"$f":"IF(Qeydiyyat!K833=\"\",\"\",Qeydiyyat!K833)","v":""},{"$f":"IF(Qeydiyyat!AB833=\"\",\"\",Qeydiyyat!AB833)","v":""},{"$f":"IF(Qeydiyyat!AA833=\"\",\"\",Qeydiyyat!AA833)","v":""},{"$f":"IF(Qeydiyyat!X833=\"\",\"\",Qeydiyyat!X833)","v":""},{"$f":"IF(Qeydiyyat!Y833=\"\",\"\",Qeydiyyat!Y833)","v":""},null,{"$f":"IF(Qeydiyyat!AC833=\"\",\"\",Qeydiyyat!AC833)","v":""}]
[null,585,{"$f":"IF(Qeydiyyat!C834=\"\",\"\",Qeydiyyat!C834)","v":""},{"$f":"IF(Qeydiyyat!B834=\"\",\"\",Qeydiyyat!B834)","v":""},{"$f":"IF(Qeydiyyat!D834=\"\",\"\",Qeydiyyat!D834)","v":""},{"$f":"IF(Qeydiyyat!K834=\"\",\"\",Qeydiyyat!K834)","v":""},{"$f":"IF(Qeydiyyat!AB834=\"\",\"\",Qeydiyyat!AB834)","v":""},{"$f":"IF(Qeydiyyat!AA834=\"\",\"\",Qeydiyyat!AA834)","v":""},{"$f":"IF(Qeydiyyat!X834=\"\",\"\",Qeydiyyat!X834)","v":""},{"$f":"IF(Qeydiyyat!Y834=\"\",\"\",Qeydiyyat!Y834)","v":""},null,{"$f":"IF(Qeydiyyat!AC834=\"\",\"\",Qeydiyyat!AC834)","v":""}]
[null,586,{"$f":"IF(Qeydiyyat!C835=\"\",\"\",Qeydiyyat!C835)","v":""},{"$f":"IF(Qeydiyyat!B835=\"\",\"\",Qeydiyyat!B835)","v":""},{"$f":"IF(Qeydiyyat!D835=\"\",\"\",Qeydiyyat!D835)","v":""},{"$f":"IF(Qeydiyyat!K835=\"\",\"\",Qeydiyyat!K835)","v":""},{"$f":"IF(Qeydiyyat!AB835=\"\",\"\",Qeydiyyat!AB835)","v":""},{"$f":"IF(Qeydiyyat!AA835=\"\",\"\",Qeydiyyat!AA835)","v":""},{"$f":"IF(Qeydiyyat!X835=\"\",\"\",Qeydiyyat!X835)","v":""},{"$f":"IF(Qeydiyyat!Y835=\"\",\"\",Qeydiyyat!Y835)","v":""},null,{"$f":"IF(Qeydiyyat!AC835=\"\",\"\",Qeydiyyat!AC835)","v":""}]
[null,587,{"$f":"IF(Qeydiyyat!C836=\"\",\"\",Qeydiyyat!C836)","v":""},{"$f":"IF(Qeydiyyat!B836=\"\",\"\",Qeydiyyat!B836)","v":""},{"$f":"IF(Qeydiyyat!D836=\"\",\"\",Qeydiyyat!D836)","v":""},{"$f":"IF(Qeydiyyat!K836=\"\",\"\",Qeydiyyat!K836)","v":""},{"$f":"IF(Qeydiyyat!AB836=\"\",\"\",Qeydiyyat!AB836)","v":""},{"$f":"IF(Qeydiyyat!AA836=\"\",\"\",Qeydiyyat!AA836)","v":""},{"$f":"IF(Qeydiyyat!X836=\"\",\"\",Qeydiyyat!X836)","v":""},{"$f":"IF(Qeydiyyat!Y836=\"\",\"\",Qeydiyyat!Y836)","v":""},null,{"$f":"IF(Qeydiyyat!AC836=\"\",\"\",Qeydiyyat!AC836)","v":""}]
[null,588,{"$f":"IF(Qeydiyyat!C837=\"\",\"\",Qeydiyyat!C837)","v":""},{"$f":"IF(Qeydiyyat!B837=\"\",\"\",Qeydiyyat!B837)","v":""},{"$f":"IF(Qeydiyyat!D837=\"\",\"\",Qeydiyyat!D837)","v":""},{"$f":"IF(Qeydiyyat!K837=\"\",\"\",Qeydiyyat!K837)","v":""},{"$f":"IF(Qeydiyyat!AB837=\"\",\"\",Qeydiyyat!AB837)","v":""},{"$f":"IF(Qeydiyyat!AA837=\"\",\"\",Qeydiyyat!AA837)","v":""},{"$f":"IF(Qeydiyyat!X837=\"\",\"\",Qeydiyyat!X837)","v":""},{"$f":"IF(Qeydiyyat!Y837=\"\",\"\",Qeydiyyat!Y837)","v":""},null,{"$f":"IF(Qeydiyyat!AC837=\"\",\"\",Qeydiyyat!AC837)","v":""}]
[null,589,{"$f":"IF(Qeydiyyat!C838=\"\",\"\",Qeydiyyat!C838)","v":""},{"$f":"IF(Qeydiyyat!B838=\"\",\"\",Qeydiyyat!B838)","v":""},{"$f":"IF(Qeydiyyat!D838=\"\",\"\",Qeydiyyat!D838)","v":""},{"$f":"IF(Qeydiyyat!K838=\"\",\"\",Qeydiyyat!K838)","v":""},{"$f":"IF(Qeydiyyat!AB838=\"\",\"\",Qeydiyyat!AB838)","v":""},{"$f":"IF(Qeydiyyat!AA838=\"\",\"\",Qeydiyyat!AA838)","v":""},{"$f":"IF(Qeydiyyat!X838=\"\",\"\",Qeydiyyat!X838)","v":""},{"$f":"IF(Qeydiyyat!Y838=\"\",\"\",Qeydiyyat!Y838)","v":""},null,{"$f":"IF(Qeydiyyat!AC838=\"\",\"\",Qeydiyyat!AC838)","v":""}]
[null,590,{"$f":"IF(Qeydiyyat!C839=\"\",\"\",Qeydiyyat!C839)","v":""},{"$f":"IF(Qeydiyyat!B839=\"\",\"\",Qeydiyyat!B839)","v":""},{"$f":"IF(Qeydiyyat!D839=\"\",\"\",Qeydiyyat!D839)","v":""},{"$f":"IF(Qeydiyyat!K839=\"\",\"\",Qeydiyyat!K839)","v":""},{"$f":"IF(Qeydiyyat!AB839=\"\",\"\",Qeydiyyat!AB839)","v":""},{"$f":"IF(Qeydiyyat!AA839=\"\",\"\",Qeydiyyat!AA839)","v":""},{"$f":"IF(Qeydiyyat!X839=\"\",\"\",Qeydiyyat!X839)","v":""},{"$f":"IF(Qeydiyyat!Y839=\"\",\"\",Qeydiyyat!Y839)","v":""},null,{"$f":"IF(Qeydiyyat!AC839=\"\",\"\",Qeydiyyat!AC839)","v":""}]
[null,591,{"$f":"IF(Qeydiyyat!C840=\"\",\"\",Qeydiyyat!C840)","v":""},{"$f":"IF(Qeydiyyat!B840=\"\",\"\",Qeydiyyat!B840)","v":""},{"$f":"IF(Qeydiyyat!D840=\"\",\"\",Qeydiyyat!D840)","v":""},{"$f":"IF(Qeydiyyat!K840=\"\",\"\",Qeydiyyat!K840)","v":""},{"$f":"IF(Qeydiyyat!AB840=\"\",\"\",Qeydiyyat!AB840)","v":""},{"$f":"IF(Qeydiyyat!AA840=\"\",\"\",Qeydiyyat!AA840)","v":""},{"$f":"IF(Qeydiyyat!X840=\"\",\"\",Qeydiyyat!X840)","v":""},{"$f":"IF(Qeydiyyat!Y840=\"\",\"\",Qeydiyyat!Y840)","v":""},null,{"$f":"IF(Qeydiyyat!AC840=\"\",\"\",Qeydiyyat!AC840)","v":""}]
[null,592,{"$f":"IF(Qeydiyyat!C841=\"\",\"\",Qeydiyyat!C841)","v":""},{"$f":"IF(Qeydiyyat!B841=\"\",\"\",Qeydiyyat!B841)","v":""},{"$f":"IF(Qeydiyyat!D841=\"\",\"\",Qeydiyyat!D841)","v":""},{"$f":"IF(Qeydiyyat!K841=\"\",\"\",Qeydiyyat!K841)","v":""},{"$f":"IF(Qeydiyyat!AB841=\"\",\"\",Qeydiyyat!AB841)","v":""},{"$f":"IF(Qeydiyyat!AA841=\"\",\"\",Qeydiyyat!AA841)","v":""},{"$f":"IF(Qeydiyyat!X841=\"\",\"\",Qeydiyyat!X841)","v":""},{"$f":"IF(Qeydiyyat!Y841=\"\",\"\",Qeydiyyat!Y841)","v":""},null,{"$f":"IF(Qeydiyyat!AC841=\"\",\"\",Qeydiyyat!AC841)","v":""}]
[null,593,{"$f":"IF(Qeydiyyat!C842=\"\",\"\",Qeydiyyat!C842)","v":""},{"$f":"IF(Qeydiyyat!B842=\"\",\"\",Qeydiyyat!B842)","v":""},{"$f":"IF(Qeydiyyat!D842=\"\",\"\",Qeydiyyat!D842)","v":""},{"$f":"IF(Qeydiyyat!K842=\"\",\"\",Qeydiyyat!K842)","v":""},{"$f":"IF(Qeydiyyat!AB842=\"\",\"\",Qeydiyyat!AB842)","v":""},{"$f":"IF(Qeydiyyat!AA842=\"\",\"\",Qeydiyyat!AA842)","v":""},{"$f":"IF(Qeydiyyat!X842=\"\",\"\",Qeydiyyat!X842)","v":""},{"$f":"IF(Qeydiyyat!Y842=\"\",\"\",Qeydiyyat!Y842)","v":""},null,{"$f":"IF(Qeydiyyat!AC842=\"\",\"\",Qeydiyyat!AC842)","v":""}]
[null,594,{"$f":"IF(Qeydiyyat!C843=\"\",\"\",Qeydiyyat!C843)","v":""},{"$f":"IF(Qeydiyyat!B843=\"\",\"\",Qeydiyyat!B843)","v":""},{"$f":"IF(Qeydiyyat!D843=\"\",\"\",Qeydiyyat!D843)","v":""},{"$f":"IF(Qeydiyyat!K843=\"\",\"\",Qeydiyyat!K843)","v":""},{"$f":"IF(Qeydiyyat!AB843=\"\",\"\",Qeydiyyat!AB843)","v":""},{"$f":"IF(Qeydiyyat!AA843=\"\",\"\",Qeydiyyat!AA843)","v":""},{"$f":"IF(Qeydiyyat!X843=\"\",\"\",Qeydiyyat!X843)","v":""},{"$f":"IF(Qeydiyyat!Y843=\"\",\"\",Qeydiyyat!Y843)","v":""},null,{"$f":"IF(Qeydiyyat!AC843=\"\",\"\",Qeydiyyat!AC843)","v":""}]
[null,595,{"$f":"IF(Qeydiyyat!C844=\"\",\"\",Qeydiyyat!C844)","v":""},{"$f":"IF(Qeydiyyat!B844=\"\",\"\",Qeydiyyat!B844)","v":""},{"$f":"IF(Qeydiyyat!D844=\"\",\"\",Qeydiyyat!D844)","v":""},{"$f":"IF(Qeydiyyat!K844=\"\",\"\",Qeydiyyat!K844)","v":""},{"$f":"IF(Qeydiyyat!AB844=\"\",\"\",Qeydiyyat!AB844)","v":""},{"$f":"IF(Qeydiyyat!AA844=\"\",\"\",Qeydiyyat!AA844)","v":""},{"$f":"IF(Qeydiyyat!X844=\"\",\"\",Qeydiyyat!X844)","v":""},{"$f":"IF(Qeydiyyat!Y844=\"\",\"\",Qeydiyyat!Y844)","v":""},null,{"$f":"IF(Qeydiyyat!AC844=\"\",\"\",Qeydiyyat!AC844)","v":""}]
[null,596,{"$f":"IF(Qeydiyyat!C845=\"\",\"\",Qeydiyyat!C845)","v":""},{"$f":"IF(Qeydiyyat!B845=\"\",\"\",Qeydiyyat!B845)","v":""},{"$f":"IF(Qeydiyyat!D845=\"\",\"\",Qeydiyyat!D845)","v":""},{"$f":"IF(Qeydiyyat!K845=\"\",\"\",Qeydiyyat!K845)","v":""},{"$f":"IF(Qeydiyyat!AB845=\"\",\"\",Qeydiyyat!AB845)","v":""},{"$f":"IF(Qeydiyyat!AA845=\"\",\"\",Qeydiyyat!AA845)","v":""},{"$f":"IF(Qeydiyyat!X845=\"\",\"\",Qeydiyyat!X845)","v":""},{"$f":"IF(Qeydiyyat!Y845=\"\",\"\",Qeydiyyat!Y845)","v":""},null,{"$f":"IF(Qeydiyyat!AC845=\"\",\"\",Qeydiyyat!AC845)","v":""}]
[null,597,{"$f":"IF(Qeydiyyat!C846=\"\",\"\",Qeydiyyat!C846)","v":""},{"$f":"IF(Qeydiyyat!B846=\"\",\"\",Qeydiyyat!B846)","v":""},{"$f":"IF(Qeydiyyat!D846=\"\",\"\",Qeydiyyat!D846)","v":""},{"$f":"IF(Qeydiyyat!K846=\"\",\"\",Qeydiyyat!K846)","v":""},{"$f":"IF(Qeydiyyat!AB846=\"\",\"\",Qeydiyyat!AB846)","v":""},{"$f":"IF(Qeydiyyat!AA846=\"\",\"\",Qeydiyyat!AA846)","v":""},{"$f":"IF(Qeydiyyat!X846=\"\",\"\",Qeydiyyat!X846)","v":""},{"$f":"IF(Qeydiyyat!Y846=\"\",\"\",Qeydiyyat!Y846)","v":""},null,{"$f":"IF(Qeydiyyat!AC846=\"\",\"\",Qeydiyyat!AC846)","v":""}]
[null,598,{"$f":"IF(Qeydiyyat!C847=\"\",\"\",Qeydiyyat!C847)","v":""},{"$f":"IF(Qeydiyyat!B847=\"\",\"\",Qeydiyyat!B847)","v":""},{"$f":"IF(Qeydiyyat!D847=\"\",\"\",Qeydiyyat!D847)","v":""},{"$f":"IF(Qeydiyyat!K847=\"\",\"\",Qeydiyyat!K847)","v":""},{"$f":"IF(Qeydiyyat!AB847=\"\",\"\",Qeydiyyat!AB847)","v":""},{"$f":"IF(Qeydiyyat!AA847=\"\",\"\",Qeydiyyat!AA847)","v":""},{"$f":"IF(Qeydiyyat!X847=\"\",\"\",Qeydiyyat!X847)","v":""},{"$f":"IF(Qeydiyyat!Y847=\"\",\"\",Qeydiyyat!Y847)","v":""},null,{"$f":"IF(Qeydiyyat!AC847=\"\",\"\",Qeydiyyat!AC847)","v":""}]
[null,599,{"$f":"IF(Qeydiyyat!C848=\"\",\"\",Qeydiyyat!C848)","v":""},{"$f":"IF(Qeydiyyat!B848=\"\",\"\",Qeydiyyat!B848)","v":""},{"$f":"IF(Qeydiyyat!D848=\"\",\"\",Qeydiyyat!D848)","v":""},{"$f":"IF(Qeydiyyat!K848=\"\",\"\",Qeydiyyat!K848)","v":""},{"$f":"IF(Qeydiyyat!AB848=\"\",\"\",Qeydiyyat!AB848)","v":""},{"$f":"IF(Qeydiyyat!AA848=\"\",\"\",Qeydiyyat!AA848)","v":""},{"$f":"IF(Qeydiyyat!X848=\"\",\"\",Qeydiyyat!X848)","v":""},{"$f":"IF(Qeydiyyat!Y848=\"\",\"\",Qeydiyyat!Y848)","v":""},null,{"$f":"IF(Qeydiyyat!AC848=\"\",\"\",Qeydiyyat!AC848)","v":""}]
[null,600,{"$f":"IF(Qeydiyyat!C849=\"\",\"\",Qeydiyyat!C849)","v":""},{"$f":"IF(Qeydiyyat!B849=\"\",\"\",Qeydiyyat!B849)","v":""},{"$f":"IF(Qeydiyyat!D849=\"\",\"\",Qeydiyyat!D849)","v":""},{"$f":"IF(Qeydiyyat!K849=\"\",\"\",Qeydiyyat!K849)","v":""},{"$f":"IF(Qeydiyyat!AB849=\"\",\"\",Qeydiyyat!AB849)","v":""},{"$f":"IF(Qeydiyyat!AA849=\"\",\"\",Qeydiyyat!AA849)","v":""},{"$f":"IF(Qeydiyyat!X849=\"\",\"\",Qeydiyyat!X849)","v":""},{"$f":"IF(Qeydiyyat!Y849=\"\",\"\",Qeydiyyat!Y849)","v":""},null,{"$f":"IF(Qeydiyyat!AC849=\"\",\"\",Qeydiyyat!AC849)","v":""}]
[null,601,{"$f":"IF(Qeydiyyat!C850=\"\",\"\",Qeydiyyat!C850)","v":""},{"$f":"IF(Qeydiyyat!B850=\"\",\"\",Qeydiyyat!B850)","v":""},{"$f":"IF(Qeydiyyat!D850=\"\",\"\",Qeydiyyat!D850)","v":""},{"$f":"IF(Qeydiyyat!K850=\"\",\"\",Qeydiyyat!K850)","v":""},{"$f":"IF(Qeydiyyat!AB850=\"\",\"\",Qeydiyyat!AB850)","v":""},{"$f":"IF(Qeydiyyat!AA850=\"\",\"\",Qeydiyyat!AA850)","v":""},{"$f":"IF(Qeydiyyat!X850=\"\",\"\",Qeydiyyat!X850)","v":""},{"$f":"IF(Qeydiyyat!Y850=\"\",\"\",Qeydiyyat!Y850)","v":""},null,{"$f":"IF(Qeydiyyat!AC850=\"\",\"\",Qeydiyyat!AC850)","v":""}]
[null,602,{"$f":"IF(Qeydiyyat!C851=\"\",\"\",Qeydiyyat!C851)","v":""},{"$f":"IF(Qeydiyyat!B851=\"\",\"\",Qeydiyyat!B851)","v":""},{"$f":"IF(Qeydiyyat!D851=\"\",\"\",Qeydiyyat!D851)","v":""},{"$f":"IF(Qeydiyyat!K851=\"\",\"\",Qeydiyyat!K851)","v":""},{"$f":"IF(Qeydiyyat!AB851=\"\",\"\",Qeydiyyat!AB851)","v":""},{"$f":"IF(Qeydiyyat!AA851=\"\",\"\",Qeydiyyat!AA851)","v":""},{"$f":"IF(Qeydiyyat!X851=\"\",\"\",Qeydiyyat!X851)","v":""},{"$f":"IF(Qeydiyyat!Y851=\"\",\"\",Qeydiyyat!Y851)","v":""},null,{"$f":"IF(Qeydiyyat!AC851=\"\",\"\",Qeydiyyat!AC851)","v":""}]
[null,603,{"$f":"IF(Qeydiyyat!C852=\"\",\"\",Qeydiyyat!C852)","v":""},{"$f":"IF(Qeydiyyat!B852=\"\",\"\",Qeydiyyat!B852)","v":""},{"$f":"IF(Qeydiyyat!D852=\"\",\"\",Qeydiyyat!D852)","v":""},{"$f":"IF(Qeydiyyat!K852=\"\",\"\",Qeydiyyat!K852)","v":""},{"$f":"IF(Qeydiyyat!AB852=\"\",\"\",Qeydiyyat!AB852)","v":""},{"$f":"IF(Qeydiyyat!AA852=\"\",\"\",Qeydiyyat!AA852)","v":""},{"$f":"IF(Qeydiyyat!X852=\"\",\"\",Qeydiyyat!X852)","v":""},{"$f":"IF(Qeydiyyat!Y852=\"\",\"\",Qeydiyyat!Y852)","v":""},null,{"$f":"IF(Qeydiyyat!AC852=\"\",\"\",Qeydiyyat!AC852)","v":""}]
[null,604,{"$f":"IF(Qeydiyyat!C853=\"\",\"\",Qeydiyyat!C853)","v":""},{"$f":"IF(Qeydiyyat!B853=\"\",\"\",Qeydiyyat!B853)","v":""},{"$f":"IF(Qeydiyyat!D853=\"\",\"\",Qeydiyyat!D853)","v":""},{"$f":"IF(Qeydiyyat!K853=\"\",\"\",Qeydiyyat!K853)","v":""},{"$f":"IF(Qeydiyyat!AB853=\"\",\"\",Qeydiyyat!AB853)","v":""},{"$f":"IF(Qeydiyyat!AA853=\"\",\"\",Qeydiyyat!AA853)","v":""},{"$f":"IF(Qeydiyyat!X853=\"\",\"\",Qeydiyyat!X853)","v":""},{"$f":"IF(Qeydiyyat!Y853=\"\",\"\",Qeydiyyat!Y853)","v":""},null,{"$f":"IF(Qeydiyyat!AC853=\"\",\"\",Qeydiyyat!AC853)","v":""}]
[null,605,{"$f":"IF(Qeydiyyat!C854=\"\",\"\",Qeydiyyat!C854)","v":""},{"$f":"IF(Qeydiyyat!B854=\"\",\"\",Qeydiyyat!B854)","v":""},{"$f":"IF(Qeydiyyat!D854=\"\",\"\",Qeydiyyat!D854)","v":""},{"$f":"IF(Qeydiyyat!K854=\"\",\"\",Qeydiyyat!K854)","v":""},{"$f":"IF(Qeydiyyat!AB854=\"\",\"\",Qeydiyyat!AB854)","v":""},{"$f":"IF(Qeydiyyat!AA854=\"\",\"\",Qeydiyyat!AA854)","v":""},{"$f":"IF(Qeydiyyat!X854=\"\",\"\",Qeydiyyat!X854)","v":""},{"$f":"IF(Qeydiyyat!Y854=\"\",\"\",Qeydiyyat!Y854)","v":""},null,{"$f":"IF(Qeydiyyat!AC854=\"\",\"\",Qeydiyyat!AC854)","v":""}]
[null,606,{"$f":"IF(Qeydiyyat!C855=\"\",\"\",Qeydiyyat!C855)","v":""},{"$f":"IF(Qeydiyyat!B855=\"\",\"\",Qeydiyyat!B855)","v":""},{"$f":"IF(Qeydiyyat!D855=\"\",\"\",Qeydiyyat!D855)","v":""},{"$f":"IF(Qeydiyyat!K855=\"\",\"\",Qeydiyyat!K855)","v":""},{"$f":"IF(Qeydiyyat!AB855=\"\",\"\",Qeydiyyat!AB855)","v":""},{"$f":"IF(Qeydiyyat!AA855=\"\",\"\",Qeydiyyat!AA855)","v":""},{"$f":"IF(Qeydiyyat!X855=\"\",\"\",Qeydiyyat!X855)","v":""},{"$f":"IF(Qeydiyyat!Y855=\"\",\"\",Qeydiyyat!Y855)","v":""},null,{"$f":"IF(Qeydiyyat!AC855=\"\",\"\",Qeydiyyat!AC855)","v":""}]
[null,607,{"$f":"IF(Qeydiyyat!C856=\"\",\"\",Qeydiyyat!C856)","v":""},{"$f":"IF(Qeydiyyat!B856=\"\",\"\",Qeydiyyat!B856)","v":""},{"$f":"IF(Qeydiyyat!D856=\"\",\"\",Qeydiyyat!D856)","v":""},{"$f":"IF(Qeydiyyat!K856=\"\",\"\",Qeydiyyat!K856)","v":""},{"$f":"IF(Qeydiyyat!AB856=\"\",\"\",Qeydiyyat!AB856)","v":""},{"$f":"IF(Qeydiyyat!AA856=\"\",\"\",Qeydiyyat!AA856)","v":""},{"$f":"IF(Qeydiyyat!X856=\"\",\"\",Qeydiyyat!X856)","v":""},{"$f":"IF(Qeydiyyat!Y856=\"\",\"\",Qeydiyyat!Y856)","v":""},null,{"$f":"IF(Qeydiyyat!AC856=\"\",\"\",Qeydiyyat!AC856)","v":""}]
[null,608,{"$f":"IF(Qeydiyyat!C857=\"\",\"\",Qeydiyyat!C857)","v":""},{"$f":"IF(Qeydiyyat!B857=\"\",\"\",Qeydiyyat!B857)","v":""},{"$f":"IF(Qeydiyyat!D857=\"\",\"\",Qeydiyyat!D857)","v":""},{"$f":"IF(Qeydiyyat!K857=\"\",\"\",Qeydiyyat!K857)","v":""},{"$f":"IF(Qeydiyyat!AB857=\"\",\"\",Qeydiyyat!AB857)","v":""},{"$f":"IF(Qeydiyyat!AA857=\"\",\"\",Qeydiyyat!AA857)","v":""},{"$f":"IF(Qeydiyyat!X857=\"\",\"\",Qeydiyyat!X857)","v":""},{"$f":"IF(Qeydiyyat!Y857=\"\",\"\",Qeydiyyat!Y857)","v":""},null,{"$f":"IF(Qeydiyyat!AC857=\"\",\"\",Qeydiyyat!AC857)","v":""}]
[null,609,{"$f":"IF(Qeydiyyat!C858=\"\",\"\",Qeydiyyat!C858)","v":""},{"$f":"IF(Qeydiyyat!B858=\"\",\"\",Qeydiyyat!B858)","v":""},{"$f":"IF(Qeydiyyat!D858=\"\",\"\",Qeydiyyat!D858)","v":""},{"$f":"IF(Qeydiyyat!K858=\"\",\"\",Qeydiyyat!K858)","v":""},{"$f":"IF(Qeydiyyat!AB858=\"\",\"\",Qeydiyyat!AB858)","v":""},{"$f":"IF(Qeydiyyat!AA858=\"\",\"\",Qeydiyyat!AA858)","v":""},{"$f":"IF(Qeydiyyat!X858=\"\",\"\",Qeydiyyat!X858)","v":""},{"$f":"IF(Qeydiyyat!Y858=\"\",\"\",Qeydiyyat!Y858)","v":""},null,{"$f":"IF(Qeydiyyat!AC858=\"\",\"\",Qeydiyyat!AC858)","v":""}]
[null,610,{"$f":"IF(Qeydiyyat!C859=\"\",\"\",Qeydiyyat!C859)","v":""},{"$f":"IF(Qeydiyyat!B859=\"\",\"\",Qeydiyyat!B859)","v":""},{"$f":"IF(Qeydiyyat!D859=\"\",\"\",Qeydiyyat!D859)","v":""},{"$f":"IF(Qeydiyyat!K859=\"\",\"\",Qeydiyyat!K859)","v":""},{"$f":"IF(Qeydiyyat!AB859=\"\",\"\",Qeydiyyat!AB859)","v":""},{"$f":"IF(Qeydiyyat!AA859=\"\",\"\",Qeydiyyat!AA859)","v":""},{"$f":"IF(Qeydiyyat!X859=\"\",\"\",Qeydiyyat!X859)","v":""},{"$f":"IF(Qeydiyyat!Y859=\"\",\"\",Qeydiyyat!Y859)","v":""},null,{"$f":"IF(Qeydiyyat!AC859=\"\",\"\",Qeydiyyat!AC859)","v":""}]
[null,611,{"$f":"IF(Qeydiyyat!C860=\"\",\"\",Qeydiyyat!C860)","v":""},{"$f":"IF(Qeydiyyat!B860=\"\",\"\",Qeydiyyat!B860)","v":""},{"$f":"IF(Qeydiyyat!D860=\"\",\"\",Qeydiyyat!D860)","v":""},{"$f":"IF(Qeydiyyat!K860=\"\",\"\",Qeydiyyat!K860)","v":""},{"$f":"IF(Qeydiyyat!AB860=\"\",\"\",Qeydiyyat!AB860)","v":""},{"$f":"IF(Qeydiyyat!AA860=\"\",\"\",Qeydiyyat!AA860)","v":""},{"$f":"IF(Qeydiyyat!X860=\"\",\"\",Qeydiyyat!X860)","v":""},{"$f":"IF(Qeydiyyat!Y860=\"\",\"\",Qeydiyyat!Y860)","v":""},null,{"$f":"IF(Qeydiyyat!AC860=\"\",\"\",Qeydiyyat!AC860)","v":""}]
[null,612,{"$f":"IF(Qeydiyyat!C861=\"\",\"\",Qeydiyyat!C861)","v":""},{"$f":"IF(Qeydiyyat!B861=\"\",\"\",Qeydiyyat!B861)","v":""},{"$f":"IF(Qeydiyyat!D861=\"\",\"\",Qeydiyyat!D861)","v":""},{"$f":"IF(Qeydiyyat!K861=\"\",\"\",Qeydiyyat!K861)","v":""},{"$f":"IF(Qeydiyyat!AB861=\"\",\"\",Qeydiyyat!AB861)","v":""},{"$f":"IF(Qeydiyyat!AA861=\"\",\"\",Qeydiyyat!AA861)","v":""},{"$f":"IF(Qeydiyyat!X861=\"\",\"\",Qeydiyyat!X861)","v":""},{"$f":"IF(Qeydiyyat!Y861=\"\",\"\",Qeydiyyat!Y861)","v":""},null,{"$f":"IF(Qeydiyyat!AC861=\"\",\"\",Qeydiyyat!AC861)","v":""}]
[null,613,{"$f":"IF(Qeydiyyat!C862=\"\",\"\",Qeydiyyat!C862)","v":""},{"$f":"IF(Qeydiyyat!B862=\"\",\"\",Qeydiyyat!B862)","v":""},{"$f":"IF(Qeydiyyat!D862=\"\",\"\",Qeydiyyat!D862)","v":""},{"$f":"IF(Qeydiyyat!K862=\"\",\"\",Qeydiyyat!K862)","v":""},{"$f":"IF(Qeydiyyat!AB862=\"\",\"\",Qeydiyyat!AB862)","v":""},{"$f":"IF(Qeydiyyat!AA862=\"\",\"\",Qeydiyyat!AA862)","v":""},{"$f":"IF(Qeydiyyat!X862=\"\",\"\",Qeydiyyat!X862)","v":""},{"$f":"IF(Qeydiyyat!Y862=\"\",\"\",Qeydiyyat!Y862)","v":""},null,{"$f":"IF(Qeydiyyat!AC862=\"\",\"\",Qeydiyyat!AC862)","v":""}]
[null,614,{"$f":"IF(Qeydiyyat!C863=\"\",\"\",Qeydiyyat!C863)","v":""},{"$f":"IF(Qeydiyyat!B863=\"\",\"\",Qeydiyyat!B863)","v":""},{"$f":"IF(Qeydiyyat!D863=\"\",\"\",Qeydiyyat!D863)","v":""},{"$f":"IF(Qeydiyyat!K863=\"\",\"\",Qeydiyyat!K863)","v":""},{"$f":"IF(Qeydiyyat!AB863=\"\",\"\",Qeydiyyat!AB863)","v":""},{"$f":"IF(Qeydiyyat!AA863=\"\",\"\",Qeydiyyat!AA863)","v":""},{"$f":"IF(Qeydiyyat!X863=\"\",\"\",Qeydiyyat!X863)","v":""},{"$f":"IF(Qeydiyyat!Y863=\"\",\"\",Qeydiyyat!Y863)","v":""},null,{"$f":"IF(Qeydiyyat!AC863=\"\",\"\",Qeydiyyat!AC863)","v":""}]
[null,615,{"$f":"IF(Qeydiyyat!C864=\"\",\"\",Qeydiyyat!C864)","v":""},{"$f":"IF(Qeydiyyat!B864=\"\",\"\",Qeydiyyat!B864)","v":""},{"$f":"IF(Qeydiyyat!D864=\"\",\"\",Qeydiyyat!D864)","v":""},{"$f":"IF(Qeydiyyat!K864=\"\",\"\",Qeydiyyat!K864)","v":""},{"$f":"IF(Qeydiyyat!AB864=\"\",\"\",Qeydiyyat!AB864)","v":""},{"$f":"IF(Qeydiyyat!AA864=\"\",\"\",Qeydiyyat!AA864)","v":""},{"$f":"IF(Qeydiyyat!X864=\"\",\"\",Qeydiyyat!X864)","v":""},{"$f":"IF(Qeydiyyat!Y864=\"\",\"\",Qeydiyyat!Y864)","v":""},null,{"$f":"IF(Qeydiyyat!AC864=\"\",\"\",Qeydiyyat!AC864)","v":""}]
[null,616,{"$f":"IF(Qeydiyyat!C865=\"\",\"\",Qeydiyyat!C865)","v":""},{"$f":"IF(Qeydiyyat!B865=\"\",\"\",Qeydiyyat!B865)","v":""},{"$f":"IF(Qeydiyyat!D865=\"\",\"\",Qeydiyyat!D865)","v":""},{"$f":"IF(Qeydiyyat!K865=\"\",\"\",Qeydiyyat!K865)","v":""},{"$f":"IF(Qeydiyyat!AB865=\"\",\"\",Qeydiyyat!AB865)","v":""},{"$f":"IF(Qeydiyyat!AA865=\"\",\"\",Qeydiyyat!AA865)","v":""},{"$f":"IF(Qeydiyyat!X865=\"\",\"\",Qeydiyyat!X865)","v":""},{"$f":"IF(Qeydiyyat!Y865=\"\",\"\",Qeydiyyat!Y865)","v":""},null,{"$f":"IF(Qeydiyyat!AC865=\"\",\"\",Qeydiyyat!AC865)","v":""}]
[null,617,{"$f":"IF(Qeydiyyat!C866=\"\",\"\",Qeydiyyat!C866)","v":""},{"$f":"IF(Qeydiyyat!B866=\"\",\"\",Qeydiyyat!B866)","v":""},{"$f":"IF(Qeydiyyat!D866=\"\",\"\",Qeydiyyat!D866)","v":""},{"$f":"IF(Qeydiyyat!K866=\"\",\"\",Qeydiyyat!K866)","v":""},{"$f":"IF(Qeydiyyat!AB866=\"\",\"\",Qeydiyyat!AB866)","v":""},{"$f":"IF(Qeydiyyat!AA866=\"\",\"\",Qeydiyyat!AA866)","v":""},{"$f":"IF(Qeydiyyat!X866=\"\",\"\",Qeydiyyat!X866)","v":""},{"$f":"IF(Qeydiyyat!Y866=\"\",\"\",Qeydiyyat!Y866)","v":""},null,{"$f":"IF(Qeydiyyat!AC866=\"\",\"\",Qeydiyyat!AC866)","v":""}]
[null,618,{"$f":"IF(Qeydiyyat!C867=\"\",\"\",Qeydiyyat!C867)","v":""},{"$f":"IF(Qeydiyyat!B867=\"\",\"\",Qeydiyyat!B867)","v":""},{"$f":"IF(Qeydiyyat!D867=\"\",\"\",Qeydiyyat!D867)","v":""},{"$f":"IF(Qeydiyyat!K867=\"\",\"\",Qeydiyyat!K867)","v":""},{"$f":"IF(Qeydiyyat!AB867=\"\",\"\",Qeydiyyat!AB867)","v":""},{"$f":"IF(Qeydiyyat!AA867=\"\",\"\",Qeydiyyat!AA867)","v":""},{"$f":"IF(Qeydiyyat!X867=\"\",\"\",Qeydiyyat!X867)","v":""},{"$f":"IF(Qeydiyyat!Y867=\"\",\"\",Qeydiyyat!Y867)","v":""},null,{"$f":"IF(Qeydiyyat!AC867=\"\",\"\",Qeydiyyat!AC867)","v":""}]
[null,619,{"$f":"IF(Qeydiyyat!C868=\"\",\"\",Qeydiyyat!C868)","v":""},{"$f":"IF(Qeydiyyat!B868=\"\",\"\",Qeydiyyat!B868)","v":""},{"$f":"IF(Qeydiyyat!D868=\"\",\"\",Qeydiyyat!D868)","v":""},{"$f":"IF(Qeydiyyat!K868=\"\",\"\",Qeydiyyat!K868)","v":""},{"$f":"IF(Qeydiyyat!AB868=\"\",\"\",Qeydiyyat!AB868)","v":""},{"$f":"IF(Qeydiyyat!AA868=\"\",\"\",Qeydiyyat!AA868)","v":""},{"$f":"IF(Qeydiyyat!X868=\"\",\"\",Qeydiyyat!X868)","v":""},{"$f":"IF(Qeydiyyat!Y868=\"\",\"\",Qeydiyyat!Y868)","v":""},null,{"$f":"IF(Qeydiyyat!AC868=\"\",\"\",Qeydiyyat!AC868)","v":""}]
[null,620,{"$f":"IF(Qeydiyyat!C869=\"\",\"\",Qeydiyyat!C869)","v":""},{"$f":"IF(Qeydiyyat!B869=\"\",\"\",Qeydiyyat!B869)","v":""},{"$f":"IF(Qeydiyyat!D869=\"\",\"\",Qeydiyyat!D869)","v":""},{"$f":"IF(Qeydiyyat!K869=\"\",\"\",Qeydiyyat!K869)","v":""},{"$f":"IF(Qeydiyyat!AB869=\"\",\"\",Qeydiyyat!AB869)","v":""},{"$f":"IF(Qeydiyyat!AA869=\"\",\"\",Qeydiyyat!AA869)","v":""},{"$f":"IF(Qeydiyyat!X869=\"\",\"\",Qeydiyyat!X869)","v":""},{"$f":"IF(Qeydiyyat!Y869=\"\",\"\",Qeydiyyat!Y869)","v":""},null,{"$f":"IF(Qeydiyyat!AC869=\"\",\"\",Qeydiyyat!AC869)","v":""}]
[null,621,{"$f":"IF(Qeydiyyat!C870=\"\",\"\",Qeydiyyat!C870)","v":""},{"$f":"IF(Qeydiyyat!B870=\"\",\"\",Qeydiyyat!B870)","v":""},{"$f":"IF(Qeydiyyat!D870=\"\",\"\",Qeydiyyat!D870)","v":""},{"$f":"IF(Qeydiyyat!K870=\"\",\"\",Qeydiyyat!K870)","v":""},{"$f":"IF(Qeydiyyat!AB870=\"\",\"\",Qeydiyyat!AB870)","v":""},{"$f":"IF(Qeydiyyat!AA870=\"\",\"\",Qeydiyyat!AA870)","v":""},{"$f":"IF(Qeydiyyat!X870=\"\",\"\",Qeydiyyat!X870)","v":""},{"$f":"IF(Qeydiyyat!Y870=\"\",\"\",Qeydiyyat!Y870)","v":""},null,{"$f":"IF(Qeydiyyat!AC870=\"\",\"\",Qeydiyyat!AC870)","v":""}]
[null,622,{"$f":"IF(Qeydiyyat!C871=\"\",\"\",Qeydiyyat!C871)","v":""},{"$f":"IF(Qeydiyyat!B871=\"\",\"\",Qeydiyyat!B871)","v":""},{"$f":"IF(Qeydiyyat!D871=\"\",\"\",Qeydiyyat!D871)","v":""},{"$f":"IF(Qeydiyyat!K871=\"\",\"\",Qeydiyyat!K871)","v":""},{"$f":"IF(Qeydiyyat!AB871=\"\",\"\",Qeydiyyat!AB871)","v":""},{"$f":"IF(Qeydiyyat!AA871=\"\",\"\",Qeydiyyat!AA871)","v":""},{"$f":"IF(Qeydiyyat!X871=\"\",\"\",Qeydiyyat!X871)","v":""},{"$f":"IF(Qeydiyyat!Y871=\"\",\"\",Qeydiyyat!Y871)","v":""},null,{"$f":"IF(Qeydiyyat!AC871=\"\",\"\",Qeydiyyat!AC871)","v":""}]
[null,623,{"$f":"IF(Qeydiyyat!C872=\"\",\"\",Qeydiyyat!C872)","v":""},{"$f":"IF(Qeydiyyat!B872=\"\",\"\",Qeydiyyat!B872)","v":""},{"$f":"IF(Qeydiyyat!D872=\"\",\"\",Qeydiyyat!D872)","v":""},{"$f":"IF(Qeydiyyat!K872=\"\",\"\",Qeydiyyat!K872)","v":""},{"$f":"IF(Qeydiyyat!AB872=\"\",\"\",Qeydiyyat!AB872)","v":""},{"$f":"IF(Qeydiyyat!AA872=\"\",\"\",Qeydiyyat!AA872)","v":""},{"$f":"IF(Qeydiyyat!X872=\"\",\"\",Qeydiyyat!X872)","v":""},{"$f":"IF(Qeydiyyat!Y872=\"\",\"\",Qeydiyyat!Y872)","v":""},null,{"$f":"IF(Qeydiyyat!AC872=\"\",\"\",Qeydiyyat!AC872)","v":""}]
[null,624,{"$f":"IF(Qeydiyyat!C873=\"\",\"\",Qeydiyyat!C873)","v":""},{"$f":"IF(Qeydiyyat!B873=\"\",\"\",Qeydiyyat!B873)","v":""},{"$f":"IF(Qeydiyyat!D873=\"\",\"\",Qeydiyyat!D873)","v":""},{"$f":"IF(Qeydiyyat!K873=\"\",\"\",Qeydiyyat!K873)","v":""},{"$f":"IF(Qeydiyyat!AB873=\"\",\"\",Qeydiyyat!AB873)","v":""},{"$f":"IF(Qeydiyyat!AA873=\"\",\"\",Qeydiyyat!AA873)","v":""},{"$f":"IF(Qeydiyyat!X873=\"\",\"\",Qeydiyyat!X873)","v":""},{"$f":"IF(Qeydiyyat!Y873=\"\",\"\",Qeydiyyat!Y873)","v":""},null,{"$f":"IF(Qeydiyyat!AC873=\"\",\"\",Qeydiyyat!AC873)","v":""}]
[null,625,{"$f":"IF(Qeydiyyat!C874=\"\",\"\",Qeydiyyat!C874)","v":""},{"$f":"IF(Qeydiyyat!B874=\"\",\"\",Qeydiyyat!B874)","v":""},{"$f":"IF(Qeydiyyat!D874=\"\",\"\",Qeydiyyat!D874)","v":""},{"$f":"IF(Qeydiyyat!K874=\"\",\"\",Qeydiyyat!K874)","v":""},{"$f":"IF(Qeydiyyat!AB874=\"\",\"\",Qeydiyyat!AB874)","v":""},{"$f":"IF(Qeydiyyat!AA874=\"\",\"\",Qeydiyyat!AA874)","v":""},{"$f":"IF(Qeydiyyat!X874=\"\",\"\",Qeydiyyat!X874)","v":""},{"$f":"IF(Qeydiyyat!Y874=\"\",\"\",Qeydiyyat!Y874)","v":""},null,{"$f":"IF(Qeydiyyat!AC874=\"\",\"\",Qeydiyyat!AC874)","v":""}]
[null,626,{"$f":"IF(Qeydiyyat!C875=\"\",\"\",Qeydiyyat!C875)","v":""},{"$f":"IF(Qeydiyyat!B875=\"\",\"\",Qeydiyyat!B875)","v":""},{"$f":"IF(Qeydiyyat!D875=\"\",\"\",Qeydiyyat!D875)","v":""},{"$f":"IF(Qeydiyyat!K875=\"\",\"\",Qeydiyyat!K875)","v":""},{"$f":"IF(Qeydiyyat!AB875=\"\",\"\",Qeydiyyat!AB875)","v":""},{"$f":"IF(Qeydiyyat!AA875=\"\",\"\",Qeydiyyat!AA875)","v":""},{"$f":"IF(Qeydiyyat!X875=\"\",\"\",Qeydiyyat!X875)","v":""},{"$f":"IF(Qeydiyyat!Y875=\"\",\"\",Qeydiyyat!Y875)","v":""},null,{"$f":"IF(Qeydiyyat!AC875=\"\",\"\",Qeydiyyat!AC875)","v":""}]
[null,627,{"$f":"IF(Qeydiyyat!C876=\"\",\"\",Qeydiyyat!C876)","v":""},{"$f":"IF(Qeydiyyat!B876=\"\",\"\",Qeydiyyat!B876)","v":""},{"$f":"IF(Qeydiyyat!D876=\"\",\"\",Qeydiyyat!D876)","v":""},{"$f":"IF(Qeydiyyat!K876=\"\",\"\",Qeydiyyat!K876)","v":""},{"$f":"IF(Qeydiyyat!AB876=\"\",\"\",Qeydiyyat!AB876)","v":""},{"$f":"IF(Qeydiyyat!AA876=\"\",\"\",Qeydiyyat!AA876)","v":""},{"$f":"IF(Qeydiyyat!X876=\"\",\"\",Qeydiyyat!X876)","v":""},{"$f":"IF(Qeydiyyat!Y876=\"\",\"\",Qeydiyyat!Y876)","v":""},null,{"$f":"IF(Qeydiyyat!AC876=\"\",\"\",Qeydiyyat!AC876)","v":""}]
[null,628,{"$f":"IF(Qeydiyyat!C877=\"\",\"\",Qeydiyyat!C877)","v":""},{"$f":"IF(Qeydiyyat!B877=\"\",\"\",Qeydiyyat!B877)","v":""},{"$f":"IF(Qeydiyyat!D877=\"\",\"\",Qeydiyyat!D877)","v":""},{"$f":"IF(Qeydiyyat!K877=\"\",\"\",Qeydiyyat!K877)","v":""},{"$f":"IF(Qeydiyyat!AB877=\"\",\"\",Qeydiyyat!AB877)","v":""},{"$f":"IF(Qeydiyyat!AA877=\"\",\"\",Qeydiyyat!AA877)","v":""},{"$f":"IF(Qeydiyyat!X877=\"\",\"\",Qeydiyyat!X877)","v":""},{"$f":"IF(Qeydiyyat!Y877=\"\",\"\",Qeydiyyat!Y877)","v":""},null,{"$f":"IF(Qeydiyyat!AC877=\"\",\"\",Qeydiyyat!AC877)","v":""}]
[null,629,{"$f":"IF(Qeydiyyat!C878=\"\",\"\",Qeydiyyat!C878)","v":""},{"$f":"IF(Qeydiyyat!B878=\"\",\"\",Qeydiyyat!B878)","v":""},{"$f":"IF(Qeydiyyat!D878=\"\",\"\",Qeydiyyat!D878)","v":""},{"$f":"IF(Qeydiyyat!K878=\"\",\"\",Qeydiyyat!K878)","v":""},{"$f":"IF(Qeydiyyat!AB878=\"\",\"\",Qeydiyyat!AB878)","v":""},{"$f":"IF(Qeydiyyat!AA878=\"\",\"\",Qeydiyyat!AA878)","v":""},{"$f":"IF(Qeydiyyat!X878=\"\",\"\",Qeydiyyat!X878)","v":""},{"$f":"IF(Qeydiyyat!Y878=\"\",\"\",Qeydiyyat!Y878)","v":""},null,{"$f":"IF(Qeydiyyat!AC878=\"\",\"\",Qeydiyyat!AC878)","v":""}]
[null,630,{"$f":"IF(Qeydiyyat!C879=\"\",\"\",Qeydiyyat!C879)","v":""},{"$f":"IF(Qeydiyyat!B879=\"\",\"\",Qeydiyyat!B879)","v":""},{"$f":"IF(Qeydiyyat!D879=\"\",\"\",Qeydiyyat!D879)","v":""},{"$f":"IF(Qeydiyyat!K879=\"\",\"\",Qeydiyyat!K879)","v":""},{"$f":"IF(Qeydiyyat!AB879=\"\",\"\",Qeydiyyat!AB879)","v":""},{"$f":"IF(Qeydiyyat!AA879=\"\",\"\",Qeydiyyat!AA879)","v":""},{"$f":"IF(Qeydiyyat!X879=\"\",\"\",Qeydiyyat!X879)","v":""},{"$f":"IF(Qeydiyyat!Y879=\"\",\"\",Qeydiyyat!Y879)","v":""},null,{"$f":"IF(Qeydiyyat!AC879=\"\",\"\",Qeydiyyat!AC879)","v":""}]
[null,631,{"$f":"IF(Qeydiyyat!C880=\"\",\"\",Qeydiyyat!C880)","v":""},{"$f":"IF(Qeydiyyat!B880=\"\",\"\",Qeydiyyat!B880)","v":""},{"$f":"IF(Qeydiyyat!D880=\"\",\"\",Qeydiyyat!D880)","v":""},{"$f":"IF(Qeydiyyat!K880=\"\",\"\",Qeydiyyat!K880)","v":""},{"$f":"IF(Qeydiyyat!AB880=\"\",\"\",Qeydiyyat!AB880)","v":""},{"$f":"IF(Qeydiyyat!AA880=\"\",\"\",Qeydiyyat!AA880)","v":""},{"$f":"IF(Qeydiyyat!X880=\"\",\"\",Qeydiyyat!X880)","v":""},{"$f":"IF(Qeydiyyat!Y880=\"\",\"\",Qeydiyyat!Y880)","v":""},null,{"$f":"IF(Qeydiyyat!AC880=\"\",\"\",Qeydiyyat!AC880)","v":""}]
[null,632,{"$f":"IF(Qeydiyyat!C881=\"\",\"\",Qeydiyyat!C881)","v":""},{"$f":"IF(Qeydiyyat!B881=\"\",\"\",Qeydiyyat!B881)","v":""},{"$f":"IF(Qeydiyyat!D881=\"\",\"\",Qeydiyyat!D881)","v":""},{"$f":"IF(Qeydiyyat!K881=\"\",\"\",Qeydiyyat!K881)","v":""},{"$f":"IF(Qeydiyyat!AB881=\"\",\"\",Qeydiyyat!AB881)","v":""},{"$f":"IF(Qeydiyyat!AA881=\"\",\"\",Qeydiyyat!AA881)","v":""},{"$f":"IF(Qeydiyyat!X881=\"\",\"\",Qeydiyyat!X881)","v":""},{"$f":"IF(Qeydiyyat!Y881=\"\",\"\",Qeydiyyat!Y881)","v":""},null,{"$f":"IF(Qeydiyyat!AC881=\"\",\"\",Qeydiyyat!AC881)","v":""}]
[null,633,{"$f":"IF(Qeydiyyat!C882=\"\",\"\",Qeydiyyat!C882)","v":""},{"$f":"IF(Qeydiyyat!B882=\"\",\"\",Qeydiyyat!B882)","v":""},{"$f":"IF(Qeydiyyat!D882=\"\",\"\",Qeydiyyat!D882)","v":""},{"$f":"IF(Qeydiyyat!K882=\"\",\"\",Qeydiyyat!K882)","v":""},{"$f":"IF(Qeydiyyat!AB882=\"\",\"\",Qeydiyyat!AB882)","v":""},{"$f":"IF(Qeydiyyat!AA882=\"\",\"\",Qeydiyyat!AA882)","v":""},{"$f":"IF(Qeydiyyat!X882=\"\",\"\",Qeydiyyat!X882)","v":""},{"$f":"IF(Qeydiyyat!Y882=\"\",\"\",Qeydiyyat!Y882)","v":""},null,{"$f":"IF(Qeydiyyat!AC882=\"\",\"\",Qeydiyyat!AC882)","v":""}]
[null,634,{"$f":"IF(Qeydiyyat!C883=\"\",\"\",Qeydiyyat!C883)","v":""},{"$f":"IF(Qeydiyyat!B883=\"\",\"\",Qeydiyyat!B883)","v":""},{"$f":"IF(Qeydiyyat!D883=\"\",\"\",Qeydiyyat!D883)","v":""},{"$f":"IF(Qeydiyyat!K883=\"\",\"\",Qeydiyyat!K883)","v":""},{"$f":"IF(Qeydiyyat!AB883=\"\",\"\",Qeydiyyat!AB883)","v":""},{"$f":"IF(Qeydiyyat!AA883=\"\",\"\",Qeydiyyat!AA883)","v":""},{"$f":"IF(Qeydiyyat!X883=\"\",\"\",Qeydiyyat!X883)","v":""},{"$f":"IF(Qeydiyyat!Y883=\"\",\"\",Qeydiyyat!Y883)","v":""},null,{"$f":"IF(Qeydiyyat!AC883=\"\",\"\",Qeydiyyat!AC883)","v":""}]
[null,635,{"$f":"IF(Qeydiyyat!C884=\"\",\"\",Qeydiyyat!C884)","v":""},{"$f":"IF(Qeydiyyat!B884=\"\",\"\",Qeydiyyat!B884)","v":""},{"$f":"IF(Qeydiyyat!D884=\"\",\"\",Qeydiyyat!D884)","v":""},{"$f":"IF(Qeydiyyat!K884=\"\",\"\",Qeydiyyat!K884)","v":""},{"$f":"IF(Qeydiyyat!AB884=\"\",\"\",Qeydiyyat!AB884)","v":""},{"$f":"IF(Qeydiyyat!AA884=\"\",\"\",Qeydiyyat!AA884)","v":""},{"$f":"IF(Qeydiyyat!X884=\"\",\"\",Qeydiyyat!X884)","v":""},{"$f":"IF(Qeydiyyat!Y884=\"\",\"\",Qeydiyyat!Y884)","v":""},null,{"$f":"IF(Qeydiyyat!AC884=\"\",\"\",Qeydiyyat!AC884)","v":""}]
[null,636,{"$f":"IF(Qeydiyyat!C885=\"\",\"\",Qeydiyyat!C885)","v":""},{"$f":"IF(Qeydiyyat!B885=\"\",\"\",Qeydiyyat!B885)","v":""},{"$f":"IF(Qeydiyyat!D885=\"\",\"\",Qeydiyyat!D885)","v":""},{"$f":"IF(Qeydiyyat!K885=\"\",\"\",Qeydiyyat!K885)","v":""},{"$f":"IF(Qeydiyyat!AB885=\"\",\"\",Qeydiyyat!AB885)","v":""},{"$f":"IF(Qeydiyyat!AA885=\"\",\"\",Qeydiyyat!AA885)","v":""},{"$f":"IF(Qeydiyyat!X885=\"\",\"\",Qeydiyyat!X885)","v":""},{"$f":"IF(Qeydiyyat!Y885=\"\",\"\",Qeydiyyat!Y885)","v":""},null,{"$f":"IF(Qeydiyyat!AC885=\"\",\"\",Qeydiyyat!AC885)","v":""}]
[null,637,{"$f":"IF(Qeydiyyat!C886=\"\",\"\",Qeydiyyat!C886)","v":""},{"$f":"IF(Qeydiyyat!B886=\"\",\"\",Qeydiyyat!B886)","v":""},{"$f":"IF(Qeydiyyat!D886=\"\",\"\",Qeydiyyat!D886)","v":""},{"$f":"IF(Qeydiyyat!K886=\"\",\"\",Qeydiyyat!K886)","v":""},{"$f":"IF(Qeydiyyat!AB886=\"\",\"\",Qeydiyyat!AB886)","v":""},{"$f":"IF(Qeydiyyat!AA886=\"\",\"\",Qeydiyyat!AA886)","v":""},{"$f":"IF(Qeydiyyat!X886=\"\",\"\",Qeydiyyat!X886)","v":""},{"$f":"IF(Qeydiyyat!Y886=\"\",\"\",Qeydiyyat!Y886)","v":""},null,{"$f":"IF(Qeydiyyat!AC886=\"\",\"\",Qeydiyyat!AC886)","v":""}]
[null,638,{"$f":"IF(Qeydiyyat!C887=\"\",\"\",Qeydiyyat!C887)","v":""},{"$f":"IF(Qeydiyyat!B887=\"\",\"\",Qeydiyyat!B887)","v":""},{"$f":"IF(Qeydiyyat!D887=\"\",\"\",Qeydiyyat!D887)","v":""},{"$f":"IF(Qeydiyyat!K887=\"\",\"\",Qeydiyyat!K887)","v":""},{"$f":"IF(Qeydiyyat!AB887=\"\",\"\",Qeydiyyat!AB887)","v":""},{"$f":"IF(Qeydiyyat!AA887=\"\",\"\",Qeydiyyat!AA887)","v":""},{"$f":"IF(Qeydiyyat!X887=\"\",\"\",Qeydiyyat!X887)","v":""},{"$f":"IF(Qeydiyyat!Y887=\"\",\"\",Qeydiyyat!Y887)","v":""},null,{"$f":"IF(Qeydiyyat!AC887=\"\",\"\",Qeydiyyat!AC887)","v":""}]
[null,639,{"$f":"IF(Qeydiyyat!C888=\"\",\"\",Qeydiyyat!C888)","v":""},{"$f":"IF(Qeydiyyat!B888=\"\",\"\",Qeydiyyat!B888)","v":""},{"$f":"IF(Qeydiyyat!D888=\"\",\"\",Qeydiyyat!D888)","v":""},{"$f":"IF(Qeydiyyat!K888=\"\",\"\",Qeydiyyat!K888)","v":""},{"$f":"IF(Qeydiyyat!AB888=\"\",\"\",Qeydiyyat!AB888)","v":""},{"$f":"IF(Qeydiyyat!AA888=\"\",\"\",Qeydiyyat!AA888)","v":""},{"$f":"IF(Qeydiyyat!X888=\"\",\"\",Qeydiyyat!X888)","v":""},{"$f":"IF(Qeydiyyat!Y888=\"\",\"\",Qeydiyyat!Y888)","v":""},null,{"$f":"IF(Qeydiyyat!AC888=\"\",\"\",Qeydiyyat!AC888)","v":""}]
[null,640,{"$f":"IF(Qeydiyyat!C889=\"\",\"\",Qeydiyyat!C889)","v":""},{"$f":"IF(Qeydiyyat!B889=\"\",\"\",Qeydiyyat!B889)","v":""},{"$f":"IF(Qeydiyyat!D889=\"\",\"\",Qeydiyyat!D889)","v":""},{"$f":"IF(Qeydiyyat!K889=\"\",\"\",Qeydiyyat!K889)","v":""},{"$f":"IF(Qeydiyyat!AB889=\"\",\"\",Qeydiyyat!AB889)","v":""},{"$f":"IF(Qeydiyyat!AA889=\"\",\"\",Qeydiyyat!AA889)","v":""},{"$f":"IF(Qeydiyyat!X889=\"\",\"\",Qeydiyyat!X889)","v":""},{"$f":"IF(Qeydiyyat!Y889=\"\",\"\",Qeydiyyat!Y889)","v":""},null,{"$f":"IF(Qeydiyyat!AC889=\"\",\"\",Qeydiyyat!AC889)","v":""}]
[null,641,{"$f":"IF(Qeydiyyat!C890=\"\",\"\",Qeydiyyat!C890)","v":""},{"$f":"IF(Qeydiyyat!B890=\"\",\"\",Qeydiyyat!B890)","v":""},{"$f":"IF(Qeydiyyat!D890=\"\",\"\",Qeydiyyat!D890)","v":""},{"$f":"IF(Qeydiyyat!K890=\"\",\"\",Qeydiyyat!K890)","v":""},{"$f":"IF(Qeydiyyat!AB890=\"\",\"\",Qeydiyyat!AB890)","v":""},{"$f":"IF(Qeydiyyat!AA890=\"\",\"\",Qeydiyyat!AA890)","v":""},{"$f":"IF(Qeydiyyat!X890=\"\",\"\",Qeydiyyat!X890)","v":""},{"$f":"IF(Qeydiyyat!Y890=\"\",\"\",Qeydiyyat!Y890)","v":""},null,{"$f":"IF(Qeydiyyat!AC890=\"\",\"\",Qeydiyyat!AC890)","v":""}]
[null,642,{"$f":"IF(Qeydiyyat!C891=\"\",\"\",Qeydiyyat!C891)","v":""},{"$f":"IF(Qeydiyyat!B891=\"\",\"\",Qeydiyyat!B891)","v":""},{"$f":"IF(Qeydiyyat!D891=\"\",\"\",Qeydiyyat!D891)","v":""},{"$f":"IF(Qeydiyyat!K891=\"\",\"\",Qeydiyyat!K891)","v":""},{"$f":"IF(Qeydiyyat!AB891=\"\",\"\",Qeydiyyat!AB891)","v":""},{"$f":"IF(Qeydiyyat!AA891=\"\",\"\",Qeydiyyat!AA891)","v":""},{"$f":"IF(Qeydiyyat!X891=\"\",\"\",Qeydiyyat!X891)","v":""},{"$f":"IF(Qeydiyyat!Y891=\"\",\"\",Qeydiyyat!Y891)","v":""},null,{"$f":"IF(Qeydiyyat!AC891=\"\",\"\",Qeydiyyat!AC891)","v":""}]
[null,643,{"$f":"IF(Qeydiyyat!C892=\"\",\"\",Qeydiyyat!C892)","v":""},{"$f":"IF(Qeydiyyat!B892=\"\",\"\",Qeydiyyat!B892)","v":""},{"$f":"IF(Qeydiyyat!D892=\"\",\"\",Qeydiyyat!D892)","v":""},{"$f":"IF(Qeydiyyat!K892=\"\",\"\",Qeydiyyat!K892)","v":""},{"$f":"IF(Qeydiyyat!AB892=\"\",\"\",Qeydiyyat!AB892)","v":""},{"$f":"IF(Qeydiyyat!AA892=\"\",\"\",Qeydiyyat!AA892)","v":""},{"$f":"IF(Qeydiyyat!X892=\"\",\"\",Qeydiyyat!X892)","v":""},{"$f":"IF(Qeydiyyat!Y892=\"\",\"\",Qeydiyyat!Y892)","v":""},null,{"$f":"IF(Qeydiyyat!AC892=\"\",\"\",Qeydiyyat!AC892)","v":""}]
[null,644,{"$f":"IF(Qeydiyyat!C893=\"\",\"\",Qeydiyyat!C893)","v":""},{"$f":"IF(Qeydiyyat!B893=\"\",\"\",Qeydiyyat!B893)","v":""},{"$f":"IF(Qeydiyyat!D893=\"\",\"\",Qeydiyyat!D893)","v":""},{"$f":"IF(Qeydiyyat!K893=\"\",\"\",Qeydiyyat!K893)","v":""},{"$f":"IF(Qeydiyyat!AB893=\"\",\"\",Qeydiyyat!AB893)","v":""},{"$f":"IF(Qeydiyyat!AA893=\"\",\"\",Qeydiyyat!AA893)","v":""},{"$f":"IF(Qeydiyyat!X893=\"\",\"\",Qeydiyyat!X893)","v":""},{"$f":"IF(Qeydiyyat!Y893=\"\",\"\",Qeydiyyat!Y893)","v":""},null,{"$f":"IF(Qeydiyyat!AC893=\"\",\"\",Qeydiyyat!AC893)","v":""}]
[null,{"$f":"B662+1","v":645},{"$f":"IF(Qeydiyyat!C894=\"\",\"\",Qeydiyyat!C894)","v":""},{"$f":"IF(Qeydiyyat!B894=\"\",\"\",Qeydiyyat!B894)","v":""},{"$f":"IF(Qeydiyyat!D894=\"\",\"\",Qeydiyyat!D894)","v":""},{"$f":"IF(Qeydiyyat!K894=\"\",\"\",Qeydiyyat!K894)","v":""},{"$f":"IF(Qeydiyyat!AB894=\"\",\"\",Qeydiyyat!AB894)","v":""},{"$f":"IF(Qeydiyyat!AA894=\"\",\"\",Qeydiyyat!AA894)","v":""},{"$f":"IF(Qeydiyyat!X894=\"\",\"\",Qeydiyyat!X894)","v":""},{"$f":"IF(Qeydiyyat!Y894=\"\",\"\",Qeydiyyat!Y894)","v":""},null,{"$f":"IF(Qeydiyyat!AC894=\"\",\"\",Qeydiyyat!AC894)","v":""}]
[null,646,{"$f":"IF(Qeydiyyat!C895=\"\",\"\",Qeydiyyat!C895)","v":""},{"$f":"IF(Qeydiyyat!B895=\"\",\"\",Qeydiyyat!B895)","v":""},{"$f":"IF(Qeydiyyat!D895=\"\",\"\",Qeydiyyat!D895)","v":""},{"$f":"IF(Qeydiyyat!K895=\"\",\"\",Qeydiyyat!K895)","v":""},{"$f":"IF(Qeydiyyat!AB895=\"\",\"\",Qeydiyyat!AB895)","v":""},{"$f":"IF(Qeydiyyat!AA895=\"\",\"\",Qeydiyyat!AA895)","v":""},{"$f":"IF(Qeydiyyat!X895=\"\",\"\",Qeydiyyat!X895)","v":""},{"$f":"IF(Qeydiyyat!Y895=\"\",\"\",Qeydiyyat!Y895)","v":""},null,{"$f":"IF(Qeydiyyat!AC895=\"\",\"\",Qeydiyyat!AC895)","v":""}]
[null,647,{"$f":"IF(Qeydiyyat!C896=\"\",\"\",Qeydiyyat!C896)","v":""},{"$f":"IF(Qeydiyyat!B896=\"\",\"\",Qeydiyyat!B896)","v":""},{"$f":"IF(Qeydiyyat!D896=\"\",\"\",Qeydiyyat!D896)","v":""},{"$f":"IF(Qeydiyyat!K896=\"\",\"\",Qeydiyyat!K896)","v":""},{"$f":"IF(Qeydiyyat!AB896=\"\",\"\",Qeydiyyat!AB896)","v":""},{"$f":"IF(Qeydiyyat!AA896=\"\",\"\",Qeydiyyat!AA896)","v":""},{"$f":"IF(Qeydiyyat!X896=\"\",\"\",Qeydiyyat!X896)","v":""},{"$f":"IF(Qeydiyyat!Y896=\"\",\"\",Qeydiyyat!Y896)","v":""},null,{"$f":"IF(Qeydiyyat!AC896=\"\",\"\",Qeydiyyat!AC896)","v":""}]
[null,648,{"$f":"IF(Qeydiyyat!C897=\"\",\"\",Qeydiyyat!C897)","v":""},{"$f":"IF(Qeydiyyat!B897=\"\",\"\",Qeydiyyat!B897)","v":""},{"$f":"IF(Qeydiyyat!D897=\"\",\"\",Qeydiyyat!D897)","v":""},{"$f":"IF(Qeydiyyat!K897=\"\",\"\",Qeydiyyat!K897)","v":""},{"$f":"IF(Qeydiyyat!AB897=\"\",\"\",Qeydiyyat!AB897)","v":""},{"$f":"IF(Qeydiyyat!AA897=\"\",\"\",Qeydiyyat!AA897)","v":""},{"$f":"IF(Qeydiyyat!X897=\"\",\"\",Qeydiyyat!X897)","v":""},{"$f":"IF(Qeydiyyat!Y897=\"\",\"\",Qeydiyyat!Y897)","v":""},null,{"$f":"IF(Qeydiyyat!AC897=\"\",\"\",Qeydiyyat!AC897)","v":""}]
[null,649,{"$f":"IF(Qeydiyyat!C898=\"\",\"\",Qeydiyyat!C898)","v":""},{"$f":"IF(Qeydiyyat!B898=\"\",\"\",Qeydiyyat!B898)","v":""},{"$f":"IF(Qeydiyyat!D898=\"\",\"\",Qeydiyyat!D898)","v":""},{"$f":"IF(Qeydiyyat!K898=\"\",\"\",Qeydiyyat!K898)","v":""},{"$f":"IF(Qeydiyyat!AB898=\"\",\"\",Qeydiyyat!AB898)","v":""},{"$f":"IF(Qeydiyyat!AA898=\"\",\"\",Qeydiyyat!AA898)","v":""},{"$f":"IF(Qeydiyyat!X898=\"\",\"\",Qeydiyyat!X898)","v":""},{"$f":"IF(Qeydiyyat!Y898=\"\",\"\",Qeydiyyat!Y898)","v":""},null,{"$f":"IF(Qeydiyyat!AC898=\"\",\"\",Qeydiyyat!AC898)","v":""}]
[null,650,{"$f":"IF(Qeydiyyat!C899=\"\",\"\",Qeydiyyat!C899)","v":""},{"$f":"IF(Qeydiyyat!B899=\"\",\"\",Qeydiyyat!B899)","v":""},{"$f":"IF(Qeydiyyat!D899=\"\",\"\",Qeydiyyat!D899)","v":""},{"$f":"IF(Qeydiyyat!K899=\"\",\"\",Qeydiyyat!K899)","v":""},{"$f":"IF(Qeydiyyat!AB899=\"\",\"\",Qeydiyyat!AB899)","v":""},{"$f":"IF(Qeydiyyat!AA899=\"\",\"\",Qeydiyyat!AA899)","v":""},{"$f":"IF(Qeydiyyat!X899=\"\",\"\",Qeydiyyat!X899)","v":""},{"$f":"IF(Qeydiyyat!Y899=\"\",\"\",Qeydiyyat!Y899)","v":""},null,{"$f":"IF(Qeydiyyat!AC899=\"\",\"\",Qeydiyyat!AC899)","v":""}]
[null,651,{"$f":"IF(Qeydiyyat!C900=\"\",\"\",Qeydiyyat!C900)","v":""},{"$f":"IF(Qeydiyyat!B900=\"\",\"\",Qeydiyyat!B900)","v":""},{"$f":"IF(Qeydiyyat!D900=\"\",\"\",Qeydiyyat!D900)","v":""},{"$f":"IF(Qeydiyyat!K900=\"\",\"\",Qeydiyyat!K900)","v":""},{"$f":"IF(Qeydiyyat!AB900=\"\",\"\",Qeydiyyat!AB900)","v":""},{"$f":"IF(Qeydiyyat!AA900=\"\",\"\",Qeydiyyat!AA900)","v":""},{"$f":"IF(Qeydiyyat!X900=\"\",\"\",Qeydiyyat!X900)","v":""},{"$f":"IF(Qeydiyyat!Y900=\"\",\"\",Qeydiyyat!Y900)","v":""},null,{"$f":"IF(Qeydiyyat!AC900=\"\",\"\",Qeydiyyat!AC900)","v":""}]
[null,652,{"$f":"IF(Qeydiyyat!C901=\"\",\"\",Qeydiyyat!C901)","v":""},{"$f":"IF(Qeydiyyat!B901=\"\",\"\",Qeydiyyat!B901)","v":""},{"$f":"IF(Qeydiyyat!D901=\"\",\"\",Qeydiyyat!D901)","v":""},{"$f":"IF(Qeydiyyat!K901=\"\",\"\",Qeydiyyat!K901)","v":""},{"$f":"IF(Qeydiyyat!AB901=\"\",\"\",Qeydiyyat!AB901)","v":""},{"$f":"IF(Qeydiyyat!AA901=\"\",\"\",Qeydiyyat!AA901)","v":""},{"$f":"IF(Qeydiyyat!X901=\"\",\"\",Qeydiyyat!X901)","v":""},{"$f":"IF(Qeydiyyat!Y901=\"\",\"\",Qeydiyyat!Y901)","v":""},null,{"$f":"IF(Qeydiyyat!AC901=\"\",\"\",Qeydiyyat!AC901)","v":""}]
[null,653,{"$f":"IF(Qeydiyyat!C902=\"\",\"\",Qeydiyyat!C902)","v":""},{"$f":"IF(Qeydiyyat!B902=\"\",\"\",Qeydiyyat!B902)","v":""},{"$f":"IF(Qeydiyyat!D902=\"\",\"\",Qeydiyyat!D902)","v":""},{"$f":"IF(Qeydiyyat!K902=\"\",\"\",Qeydiyyat!K902)","v":""},{"$f":"IF(Qeydiyyat!AB902=\"\",\"\",Qeydiyyat!AB902)","v":""},{"$f":"IF(Qeydiyyat!AA902=\"\",\"\",Qeydiyyat!AA902)","v":""},{"$f":"IF(Qeydiyyat!X902=\"\",\"\",Qeydiyyat!X902)","v":""},{"$f":"IF(Qeydiyyat!Y902=\"\",\"\",Qeydiyyat!Y902)","v":""},null,{"$f":"IF(Qeydiyyat!AC902=\"\",\"\",Qeydiyyat!AC902)","v":""}]
[null,654,{"$f":"IF(Qeydiyyat!C903=\"\",\"\",Qeydiyyat!C903)","v":""},{"$f":"IF(Qeydiyyat!B903=\"\",\"\",Qeydiyyat!B903)","v":""},{"$f":"IF(Qeydiyyat!D903=\"\",\"\",Qeydiyyat!D903)","v":""},{"$f":"IF(Qeydiyyat!K903=\"\",\"\",Qeydiyyat!K903)","v":""},{"$f":"IF(Qeydiyyat!AB903=\"\",\"\",Qeydiyyat!AB903)","v":""},{"$f":"IF(Qeydiyyat!AA903=\"\",\"\",Qeydiyyat!AA903)","v":""},{"$f":"IF(Qeydiyyat!X903=\"\",\"\",Qeydiyyat!X903)","v":""},{"$f":"IF(Qeydiyyat!Y903=\"\",\"\",Qeydiyyat!Y903)","v":""},null,{"$f":"IF(Qeydiyyat!AC903=\"\",\"\",Qeydiyyat!AC903)","v":""}]
[null,655,{"$f":"IF(Qeydiyyat!C904=\"\",\"\",Qeydiyyat!C904)","v":""},{"$f":"IF(Qeydiyyat!B904=\"\",\"\",Qeydiyyat!B904)","v":""},{"$f":"IF(Qeydiyyat!D904=\"\",\"\",Qeydiyyat!D904)","v":""},{"$f":"IF(Qeydiyyat!K904=\"\",\"\",Qeydiyyat!K904)","v":""},{"$f":"IF(Qeydiyyat!AB904=\"\",\"\",Qeydiyyat!AB904)","v":""},{"$f":"IF(Qeydiyyat!AA904=\"\",\"\",Qeydiyyat!AA904)","v":""},{"$f":"IF(Qeydiyyat!X904=\"\",\"\",Qeydiyyat!X904)","v":""},{"$f":"IF(Qeydiyyat!Y904=\"\",\"\",Qeydiyyat!Y904)","v":""},null,{"$f":"IF(Qeydiyyat!AC904=\"\",\"\",Qeydiyyat!AC904)","v":""}]
[null,656,{"$f":"IF(Qeydiyyat!C905=\"\",\"\",Qeydiyyat!C905)","v":""},{"$f":"IF(Qeydiyyat!B905=\"\",\"\",Qeydiyyat!B905)","v":""},{"$f":"IF(Qeydiyyat!D905=\"\",\"\",Qeydiyyat!D905)","v":""},{"$f":"IF(Qeydiyyat!K905=\"\",\"\",Qeydiyyat!K905)","v":""},{"$f":"IF(Qeydiyyat!AB905=\"\",\"\",Qeydiyyat!AB905)","v":""},{"$f":"IF(Qeydiyyat!AA905=\"\",\"\",Qeydiyyat!AA905)","v":""},{"$f":"IF(Qeydiyyat!X905=\"\",\"\",Qeydiyyat!X905)","v":""},{"$f":"IF(Qeydiyyat!Y905=\"\",\"\",Qeydiyyat!Y905)","v":""},null,{"$f":"IF(Qeydiyyat!AC905=\"\",\"\",Qeydiyyat!AC905)","v":""}]
[null,657,{"$f":"IF(Qeydiyyat!C906=\"\",\"\",Qeydiyyat!C906)","v":""},{"$f":"IF(Qeydiyyat!B906=\"\",\"\",Qeydiyyat!B906)","v":""},{"$f":"IF(Qeydiyyat!D906=\"\",\"\",Qeydiyyat!D906)","v":""},{"$f":"IF(Qeydiyyat!K906=\"\",\"\",Qeydiyyat!K906)","v":""},{"$f":"IF(Qeydiyyat!AB906=\"\",\"\",Qeydiyyat!AB906)","v":""},{"$f":"IF(Qeydiyyat!AA906=\"\",\"\",Qeydiyyat!AA906)","v":""},{"$f":"IF(Qeydiyyat!X906=\"\",\"\",Qeydiyyat!X906)","v":""},{"$f":"IF(Qeydiyyat!Y906=\"\",\"\",Qeydiyyat!Y906)","v":""},null,{"$f":"IF(Qeydiyyat!AC906=\"\",\"\",Qeydiyyat!AC906)","v":""}]
[null,658,{"$f":"IF(Qeydiyyat!C907=\"\",\"\",Qeydiyyat!C907)","v":""},{"$f":"IF(Qeydiyyat!B907=\"\",\"\",Qeydiyyat!B907)","v":""},{"$f":"IF(Qeydiyyat!D907=\"\",\"\",Qeydiyyat!D907)","v":""},{"$f":"IF(Qeydiyyat!K907=\"\",\"\",Qeydiyyat!K907)","v":""},{"$f":"IF(Qeydiyyat!AB907=\"\",\"\",Qeydiyyat!AB907)","v":""},{"$f":"IF(Qeydiyyat!AA907=\"\",\"\",Qeydiyyat!AA907)","v":""},{"$f":"IF(Qeydiyyat!X907=\"\",\"\",Qeydiyyat!X907)","v":""},{"$f":"IF(Qeydiyyat!Y907=\"\",\"\",Qeydiyyat!Y907)","v":""},null,{"$f":"IF(Qeydiyyat!AC907=\"\",\"\",Qeydiyyat!AC907)","v":""}]
[null,659,{"$f":"IF(Qeydiyyat!C908=\"\",\"\",Qeydiyyat!C908)","v":""},{"$f":"IF(Qeydiyyat!B908=\"\",\"\",Qeydiyyat!B908)","v":""},{"$f":"IF(Qeydiyyat!D908=\"\",\"\",Qeydiyyat!D908)","v":""},{"$f":"IF(Qeydiyyat!K908=\"\",\"\",Qeydiyyat!K908)","v":""},{"$f":"IF(Qeydiyyat!AB908=\"\",\"\",Qeydiyyat!AB908)","v":""},{"$f":"IF(Qeydiyyat!AA908=\"\",\"\",Qeydiyyat!AA908)","v":""},{"$f":"IF(Qeydiyyat!X908=\"\",\"\",Qeydiyyat!X908)","v":""},{"$f":"IF(Qeydiyyat!Y908=\"\",\"\",Qeydiyyat!Y908)","v":""},null,{"$f":"IF(Qeydiyyat!AC908=\"\",\"\",Qeydiyyat!AC908)","v":""}]
[null,660,{"$f":"IF(Qeydiyyat!C909=\"\",\"\",Qeydiyyat!C909)","v":""},{"$f":"IF(Qeydiyyat!B909=\"\",\"\",Qeydiyyat!B909)","v":""},{"$f":"IF(Qeydiyyat!D909=\"\",\"\",Qeydiyyat!D909)","v":""},{"$f":"IF(Qeydiyyat!K909=\"\",\"\",Qeydiyyat!K909)","v":""},{"$f":"IF(Qeydiyyat!AB909=\"\",\"\",Qeydiyyat!AB909)","v":""},{"$f":"IF(Qeydiyyat!AA909=\"\",\"\",Qeydiyyat!AA909)","v":""},{"$f":"IF(Qeydiyyat!X909=\"\",\"\",Qeydiyyat!X909)","v":""},{"$f":"IF(Qeydiyyat!Y909=\"\",\"\",Qeydiyyat!Y909)","v":""},null,{"$f":"IF(Qeydiyyat!AC909=\"\",\"\",Qeydiyyat!AC909)","v":""}]
[null,661,{"$f":"IF(Qeydiyyat!C910=\"\",\"\",Qeydiyyat!C910)","v":""},{"$f":"IF(Qeydiyyat!B910=\"\",\"\",Qeydiyyat!B910)","v":""},{"$f":"IF(Qeydiyyat!D910=\"\",\"\",Qeydiyyat!D910)","v":""},{"$f":"IF(Qeydiyyat!K910=\"\",\"\",Qeydiyyat!K910)","v":""},{"$f":"IF(Qeydiyyat!AB910=\"\",\"\",Qeydiyyat!AB910)","v":""},{"$f":"IF(Qeydiyyat!AA910=\"\",\"\",Qeydiyyat!AA910)","v":""},{"$f":"IF(Qeydiyyat!X910=\"\",\"\",Qeydiyyat!X910)","v":""},{"$f":"IF(Qeydiyyat!Y910=\"\",\"\",Qeydiyyat!Y910)","v":""},null,{"$f":"IF(Qeydiyyat!AC910=\"\",\"\",Qeydiyyat!AC910)","v":""}]
[null,662,{"$f":"IF(Qeydiyyat!C911=\"\",\"\",Qeydiyyat!C911)","v":""},{"$f":"IF(Qeydiyyat!B911=\"\",\"\",Qeydiyyat!B911)","v":""},{"$f":"IF(Qeydiyyat!D911=\"\",\"\",Qeydiyyat!D911)","v":""},{"$f":"IF(Qeydiyyat!K911=\"\",\"\",Qeydiyyat!K911)","v":""},{"$f":"IF(Qeydiyyat!AB911=\"\",\"\",Qeydiyyat!AB911)","v":""},{"$f":"IF(Qeydiyyat!AA911=\"\",\"\",Qeydiyyat!AA911)","v":""},{"$f":"IF(Qeydiyyat!X911=\"\",\"\",Qeydiyyat!X911)","v":""},{"$f":"IF(Qeydiyyat!Y911=\"\",\"\",Qeydiyyat!Y911)","v":""},null,{"$f":"IF(Qeydiyyat!AC911=\"\",\"\",Qeydiyyat!AC911)","v":""}]
[null,663,{"$f":"IF(Qeydiyyat!C912=\"\",\"\",Qeydiyyat!C912)","v":""},{"$f":"IF(Qeydiyyat!B912=\"\",\"\",Qeydiyyat!B912)","v":""},{"$f":"IF(Qeydiyyat!D912=\"\",\"\",Qeydiyyat!D912)","v":""},{"$f":"IF(Qeydiyyat!K912=\"\",\"\",Qeydiyyat!K912)","v":""},{"$f":"IF(Qeydiyyat!AB912=\"\",\"\",Qeydiyyat!AB912)","v":""},{"$f":"IF(Qeydiyyat!AA912=\"\",\"\",Qeydiyyat!AA912)","v":""},{"$f":"IF(Qeydiyyat!X912=\"\",\"\",Qeydiyyat!X912)","v":""},{"$f":"IF(Qeydiyyat!Y912=\"\",\"\",Qeydiyyat!Y912)","v":""},null,{"$f":"IF(Qeydiyyat!AC912=\"\",\"\",Qeydiyyat!AC912)","v":""}]
[null,664,{"$f":"IF(Qeydiyyat!C913=\"\",\"\",Qeydiyyat!C913)","v":""},{"$f":"IF(Qeydiyyat!B913=\"\",\"\",Qeydiyyat!B913)","v":""},{"$f":"IF(Qeydiyyat!D913=\"\",\"\",Qeydiyyat!D913)","v":""},{"$f":"IF(Qeydiyyat!K913=\"\",\"\",Qeydiyyat!K913)","v":""},{"$f":"IF(Qeydiyyat!AB913=\"\",\"\",Qeydiyyat!AB913)","v":""},{"$f":"IF(Qeydiyyat!AA913=\"\",\"\",Qeydiyyat!AA913)","v":""},{"$f":"IF(Qeydiyyat!X913=\"\",\"\",Qeydiyyat!X913)","v":""},{"$f":"IF(Qeydiyyat!Y913=\"\",\"\",Qeydiyyat!Y913)","v":""},null,{"$f":"IF(Qeydiyyat!AC913=\"\",\"\",Qeydiyyat!AC913)","v":""}]
[null,665,{"$f":"IF(Qeydiyyat!C914=\"\",\"\",Qeydiyyat!C914)","v":""},{"$f":"IF(Qeydiyyat!B914=\"\",\"\",Qeydiyyat!B914)","v":""},{"$f":"IF(Qeydiyyat!D914=\"\",\"\",Qeydiyyat!D914)","v":""},{"$f":"IF(Qeydiyyat!K914=\"\",\"\",Qeydiyyat!K914)","v":""},{"$f":"IF(Qeydiyyat!AB914=\"\",\"\",Qeydiyyat!AB914)","v":""},{"$f":"IF(Qeydiyyat!AA914=\"\",\"\",Qeydiyyat!AA914)","v":""},{"$f":"IF(Qeydiyyat!X914=\"\",\"\",Qeydiyyat!X914)","v":""},{"$f":"IF(Qeydiyyat!Y914=\"\",\"\",Qeydiyyat!Y914)","v":""},null,{"$f":"IF(Qeydiyyat!AC914=\"\",\"\",Qeydiyyat!AC914)","v":""}]
[null,666,{"$f":"IF(Qeydiyyat!C915=\"\",\"\",Qeydiyyat!C915)","v":""},{"$f":"IF(Qeydiyyat!B915=\"\",\"\",Qeydiyyat!B915)","v":""},{"$f":"IF(Qeydiyyat!D915=\"\",\"\",Qeydiyyat!D915)","v":""},{"$f":"IF(Qeydiyyat!K915=\"\",\"\",Qeydiyyat!K915)","v":""},{"$f":"IF(Qeydiyyat!AB915=\"\",\"\",Qeydiyyat!AB915)","v":""},{"$f":"IF(Qeydiyyat!AA915=\"\",\"\",Qeydiyyat!AA915)","v":""},{"$f":"IF(Qeydiyyat!X915=\"\",\"\",Qeydiyyat!X915)","v":""},{"$f":"IF(Qeydiyyat!Y915=\"\",\"\",Qeydiyyat!Y915)","v":""},null,{"$f":"IF(Qeydiyyat!AC915=\"\",\"\",Qeydiyyat!AC915)","v":""}]
[null,667,{"$f":"IF(Qeydiyyat!C916=\"\",\"\",Qeydiyyat!C916)","v":""},{"$f":"IF(Qeydiyyat!B916=\"\",\"\",Qeydiyyat!B916)","v":""},{"$f":"IF(Qeydiyyat!D916=\"\",\"\",Qeydiyyat!D916)","v":""},{"$f":"IF(Qeydiyyat!K916=\"\",\"\",Qeydiyyat!K916)","v":""},{"$f":"IF(Qeydiyyat!AB916=\"\",\"\",Qeydiyyat!AB916)","v":""},{"$f":"IF(Qeydiyyat!AA916=\"\",\"\",Qeydiyyat!AA916)","v":""},{"$f":"IF(Qeydiyyat!X916=\"\",\"\",Qeydiyyat!X916)","v":""},{"$f":"IF(Qeydiyyat!Y916=\"\",\"\",Qeydiyyat!Y916)","v":""},null,{"$f":"IF(Qeydiyyat!AC916=\"\",\"\",Qeydiyyat!AC916)","v":""}]
[null,668,{"$f":"IF(Qeydiyyat!C917=\"\",\"\",Qeydiyyat!C917)","v":""},{"$f":"IF(Qeydiyyat!B917=\"\",\"\",Qeydiyyat!B917)","v":""},{"$f":"IF(Qeydiyyat!D917=\"\",\"\",Qeydiyyat!D917)","v":""},{"$f":"IF(Qeydiyyat!K917=\"\",\"\",Qeydiyyat!K917)","v":""},{"$f":"IF(Qeydiyyat!AB917=\"\",\"\",Qeydiyyat!AB917)","v":""},{"$f":"IF(Qeydiyyat!AA917=\"\",\"\",Qeydiyyat!AA917)","v":""},{"$f":"IF(Qeydiyyat!X917=\"\",\"\",Qeydiyyat!X917)","v":""},{"$f":"IF(Qeydiyyat!Y917=\"\",\"\",Qeydiyyat!Y917)","v":""},null,{"$f":"IF(Qeydiyyat!AC917=\"\",\"\",Qeydiyyat!AC917)","v":""}]
[null,669,{"$f":"IF(Qeydiyyat!C918=\"\",\"\",Qeydiyyat!C918)","v":""},{"$f":"IF(Qeydiyyat!B918=\"\",\"\",Qeydiyyat!B918)","v":""},{"$f":"IF(Qeydiyyat!D918=\"\",\"\",Qeydiyyat!D918)","v":""},{"$f":"IF(Qeydiyyat!K918=\"\",\"\",Qeydiyyat!K918)","v":""},{"$f":"IF(Qeydiyyat!AB918=\"\",\"\",Qeydiyyat!AB918)","v":""},{"$f":"IF(Qeydiyyat!AA918=\"\",\"\",Qeydiyyat!AA918)","v":""},{"$f":"IF(Qeydiyyat!X918=\"\",\"\",Qeydiyyat!X918)","v":""},{"$f":"IF(Qeydiyyat!Y918=\"\",\"\",Qeydiyyat!Y918)","v":""},null,{"$f":"IF(Qeydiyyat!AC918=\"\",\"\",Qeydiyyat!AC918)","v":""}]
[null,670,{"$f":"IF(Qeydiyyat!C919=\"\",\"\",Qeydiyyat!C919)","v":""},{"$f":"IF(Qeydiyyat!B919=\"\",\"\",Qeydiyyat!B919)","v":""},{"$f":"IF(Qeydiyyat!D919=\"\",\"\",Qeydiyyat!D919)","v":""},{"$f":"IF(Qeydiyyat!K919=\"\",\"\",Qeydiyyat!K919)","v":""},{"$f":"IF(Qeydiyyat!AB919=\"\",\"\",Qeydiyyat!AB919)","v":""},{"$f":"IF(Qeydiyyat!AA919=\"\",\"\",Qeydiyyat!AA919)","v":""},{"$f":"IF(Qeydiyyat!X919=\"\",\"\",Qeydiyyat!X919)","v":""},{"$f":"IF(Qeydiyyat!Y919=\"\",\"\",Qeydiyyat!Y919)","v":""},null,{"$f":"IF(Qeydiyyat!AC919=\"\",\"\",Qeydiyyat!AC919)","v":""}]
[null,671,{"$f":"IF(Qeydiyyat!C920=\"\",\"\",Qeydiyyat!C920)","v":""},{"$f":"IF(Qeydiyyat!B920=\"\",\"\",Qeydiyyat!B920)","v":""},{"$f":"IF(Qeydiyyat!D920=\"\",\"\",Qeydiyyat!D920)","v":""},{"$f":"IF(Qeydiyyat!K920=\"\",\"\",Qeydiyyat!K920)","v":""},{"$f":"IF(Qeydiyyat!AB920=\"\",\"\",Qeydiyyat!AB920)","v":""},{"$f":"IF(Qeydiyyat!AA920=\"\",\"\",Qeydiyyat!AA920)","v":""},{"$f":"IF(Qeydiyyat!X920=\"\",\"\",Qeydiyyat!X920)","v":""},{"$f":"IF(Qeydiyyat!Y920=\"\",\"\",Qeydiyyat!Y920)","v":""},null,{"$f":"IF(Qeydiyyat!AC920=\"\",\"\",Qeydiyyat!AC920)","v":""}]
[null,672,{"$f":"IF(Qeydiyyat!C921=\"\",\"\",Qeydiyyat!C921)","v":""},{"$f":"IF(Qeydiyyat!B921=\"\",\"\",Qeydiyyat!B921)","v":""},{"$f":"IF(Qeydiyyat!D921=\"\",\"\",Qeydiyyat!D921)","v":""},{"$f":"IF(Qeydiyyat!K921=\"\",\"\",Qeydiyyat!K921)","v":""},{"$f":"IF(Qeydiyyat!AB921=\"\",\"\",Qeydiyyat!AB921)","v":""},{"$f":"IF(Qeydiyyat!AA921=\"\",\"\",Qeydiyyat!AA921)","v":""},{"$f":"IF(Qeydiyyat!X921=\"\",\"\",Qeydiyyat!X921)","v":""},{"$f":"IF(Qeydiyyat!Y921=\"\",\"\",Qeydiyyat!Y921)","v":""},null,{"$f":"IF(Qeydiyyat!AC921=\"\",\"\",Qeydiyyat!AC921)","v":""}]
[null,673,{"$f":"IF(Qeydiyyat!C922=\"\",\"\",Qeydiyyat!C922)","v":""},{"$f":"IF(Qeydiyyat!B922=\"\",\"\",Qeydiyyat!B922)","v":""},{"$f":"IF(Qeydiyyat!D922=\"\",\"\",Qeydiyyat!D922)","v":""},{"$f":"IF(Qeydiyyat!K922=\"\",\"\",Qeydiyyat!K922)","v":""},{"$f":"IF(Qeydiyyat!AB922=\"\",\"\",Qeydiyyat!AB922)","v":""},{"$f":"IF(Qeydiyyat!AA922=\"\",\"\",Qeydiyyat!AA922)","v":""},{"$f":"IF(Qeydiyyat!X922=\"\",\"\",Qeydiyyat!X922)","v":""},{"$f":"IF(Qeydiyyat!Y922=\"\",\"\",Qeydiyyat!Y922)","v":""},null,{"$f":"IF(Qeydiyyat!AC922=\"\",\"\",Qeydiyyat!AC922)","v":""}]
[null,674,{"$f":"IF(Qeydiyyat!C923=\"\",\"\",Qeydiyyat!C923)","v":""},{"$f":"IF(Qeydiyyat!B923=\"\",\"\",Qeydiyyat!B923)","v":""},{"$f":"IF(Qeydiyyat!D923=\"\",\"\",Qeydiyyat!D923)","v":""},{"$f":"IF(Qeydiyyat!K923=\"\",\"\",Qeydiyyat!K923)","v":""},{"$f":"IF(Qeydiyyat!AB923=\"\",\"\",Qeydiyyat!AB923)","v":""},{"$f":"IF(Qeydiyyat!AA923=\"\",\"\",Qeydiyyat!AA923)","v":""},{"$f":"IF(Qeydiyyat!X923=\"\",\"\",Qeydiyyat!X923)","v":""},{"$f":"IF(Qeydiyyat!Y923=\"\",\"\",Qeydiyyat!Y923)","v":""},null,{"$f":"IF(Qeydiyyat!AC923=\"\",\"\",Qeydiyyat!AC923)","v":""}]
[null,675,{"$f":"IF(Qeydiyyat!C924=\"\",\"\",Qeydiyyat!C924)","v":""},{"$f":"IF(Qeydiyyat!B924=\"\",\"\",Qeydiyyat!B924)","v":""},{"$f":"IF(Qeydiyyat!D924=\"\",\"\",Qeydiyyat!D924)","v":""},{"$f":"IF(Qeydiyyat!K924=\"\",\"\",Qeydiyyat!K924)","v":""},{"$f":"IF(Qeydiyyat!AB924=\"\",\"\",Qeydiyyat!AB924)","v":""},{"$f":"IF(Qeydiyyat!AA924=\"\",\"\",Qeydiyyat!AA924)","v":""},{"$f":"IF(Qeydiyyat!X924=\"\",\"\",Qeydiyyat!X924)","v":""},{"$f":"IF(Qeydiyyat!Y924=\"\",\"\",Qeydiyyat!Y924)","v":""},null,{"$f":"IF(Qeydiyyat!AC924=\"\",\"\",Qeydiyyat!AC924)","v":""}]
[null,676,{"$f":"IF(Qeydiyyat!C925=\"\",\"\",Qeydiyyat!C925)","v":""},{"$f":"IF(Qeydiyyat!B925=\"\",\"\",Qeydiyyat!B925)","v":""},{"$f":"IF(Qeydiyyat!D925=\"\",\"\",Qeydiyyat!D925)","v":""},{"$f":"IF(Qeydiyyat!K925=\"\",\"\",Qeydiyyat!K925)","v":""},{"$f":"IF(Qeydiyyat!AB925=\"\",\"\",Qeydiyyat!AB925)","v":""},{"$f":"IF(Qeydiyyat!AA925=\"\",\"\",Qeydiyyat!AA925)","v":""},{"$f":"IF(Qeydiyyat!X925=\"\",\"\",Qeydiyyat!X925)","v":""},{"$f":"IF(Qeydiyyat!Y925=\"\",\"\",Qeydiyyat!Y925)","v":""},null,{"$f":"IF(Qeydiyyat!AC925=\"\",\"\",Qeydiyyat!AC925)","v":""}]
[null,677,{"$f":"IF(Qeydiyyat!C926=\"\",\"\",Qeydiyyat!C926)","v":""},{"$f":"IF(Qeydiyyat!B926=\"\",\"\",Qeydiyyat!B926)","v":""},{"$f":"IF(Qeydiyyat!D926=\"\",\"\",Qeydiyyat!D926)","v":""},{"$f":"IF(Qeydiyyat!K926=\"\",\"\",Qeydiyyat!K926)","v":""},{"$f":"IF(Qeydiyyat!AB926=\"\",\"\",Qeydiyyat!AB926)","v":""},{"$f":"IF(Qeydiyyat!AA926=\"\",\"\",Qeydiyyat!AA926)","v":""},{"$f":"IF(Qeydiyyat!X926=\"\",\"\",Qeydiyyat!X926)","v":""},{"$f":"IF(Qeydiyyat!Y926=\"\",\"\",Qeydiyyat!Y926)","v":""},null,{"$f":"IF(Qeydiyyat!AC926=\"\",\"\",Qeydiyyat!AC926)","v":""}]
[null,678,{"$f":"IF(Qeydiyyat!C927=\"\",\"\",Qeydiyyat!C927)","v":""},{"$f":"IF(Qeydiyyat!B927=\"\",\"\",Qeydiyyat!B927)","v":""},{"$f":"IF(Qeydiyyat!D927=\"\",\"\",Qeydiyyat!D927)","v":""},{"$f":"IF(Qeydiyyat!K927=\"\",\"\",Qeydiyyat!K927)","v":""},{"$f":"IF(Qeydiyyat!AB927=\"\",\"\",Qeydiyyat!AB927)","v":""},{"$f":"IF(Qeydiyyat!AA927=\"\",\"\",Qeydiyyat!AA927)","v":""},{"$f":"IF(Qeydiyyat!X927=\"\",\"\",Qeydiyyat!X927)","v":""},{"$f":"IF(Qeydiyyat!Y927=\"\",\"\",Qeydiyyat!Y927)","v":""},null,{"$f":"IF(Qeydiyyat!AC927=\"\",\"\",Qeydiyyat!AC927)","v":""}]
[null,679,{"$f":"IF(Qeydiyyat!C928=\"\",\"\",Qeydiyyat!C928)","v":""},{"$f":"IF(Qeydiyyat!B928=\"\",\"\",Qeydiyyat!B928)","v":""},{"$f":"IF(Qeydiyyat!D928=\"\",\"\",Qeydiyyat!D928)","v":""},{"$f":"IF(Qeydiyyat!K928=\"\",\"\",Qeydiyyat!K928)","v":""},{"$f":"IF(Qeydiyyat!AB928=\"\",\"\",Qeydiyyat!AB928)","v":""},{"$f":"IF(Qeydiyyat!AA928=\"\",\"\",Qeydiyyat!AA928)","v":""},{"$f":"IF(Qeydiyyat!X928=\"\",\"\",Qeydiyyat!X928)","v":""},{"$f":"IF(Qeydiyyat!Y928=\"\",\"\",Qeydiyyat!Y928)","v":""},null,{"$f":"IF(Qeydiyyat!AC928=\"\",\"\",Qeydiyyat!AC928)","v":""}]
[null,680,{"$f":"IF(Qeydiyyat!C929=\"\",\"\",Qeydiyyat!C929)","v":""},{"$f":"IF(Qeydiyyat!B929=\"\",\"\",Qeydiyyat!B929)","v":""},{"$f":"IF(Qeydiyyat!D929=\"\",\"\",Qeydiyyat!D929)","v":""},{"$f":"IF(Qeydiyyat!K929=\"\",\"\",Qeydiyyat!K929)","v":""},{"$f":"IF(Qeydiyyat!AB929=\"\",\"\",Qeydiyyat!AB929)","v":""},{"$f":"IF(Qeydiyyat!AA929=\"\",\"\",Qeydiyyat!AA929)","v":""},{"$f":"IF(Qeydiyyat!X929=\"\",\"\",Qeydiyyat!X929)","v":""},{"$f":"IF(Qeydiyyat!Y929=\"\",\"\",Qeydiyyat!Y929)","v":""},null,{"$f":"IF(Qeydiyyat!AC929=\"\",\"\",Qeydiyyat!AC929)","v":""}]
[null,681,{"$f":"IF(Qeydiyyat!C930=\"\",\"\",Qeydiyyat!C930)","v":""},{"$f":"IF(Qeydiyyat!B930=\"\",\"\",Qeydiyyat!B930)","v":""},{"$f":"IF(Qeydiyyat!D930=\"\",\"\",Qeydiyyat!D930)","v":""},{"$f":"IF(Qeydiyyat!K930=\"\",\"\",Qeydiyyat!K930)","v":""},{"$f":"IF(Qeydiyyat!AB930=\"\",\"\",Qeydiyyat!AB930)","v":""},{"$f":"IF(Qeydiyyat!AA930=\"\",\"\",Qeydiyyat!AA930)","v":""},{"$f":"IF(Qeydiyyat!X930=\"\",\"\",Qeydiyyat!X930)","v":""},{"$f":"IF(Qeydiyyat!Y930=\"\",\"\",Qeydiyyat!Y930)","v":""},null,{"$f":"IF(Qeydiyyat!AC930=\"\",\"\",Qeydiyyat!AC930)","v":""}]
[null,682,{"$f":"IF(Qeydiyyat!C931=\"\",\"\",Qeydiyyat!C931)","v":""},{"$f":"IF(Qeydiyyat!B931=\"\",\"\",Qeydiyyat!B931)","v":""},{"$f":"IF(Qeydiyyat!D931=\"\",\"\",Qeydiyyat!D931)","v":""},{"$f":"IF(Qeydiyyat!K931=\"\",\"\",Qeydiyyat!K931)","v":""},{"$f":"IF(Qeydiyyat!AB931=\"\",\"\",Qeydiyyat!AB931)","v":""},{"$f":"IF(Qeydiyyat!AA931=\"\",\"\",Qeydiyyat!AA931)","v":""},{"$f":"IF(Qeydiyyat!X931=\"\",\"\",Qeydiyyat!X931)","v":""},{"$f":"IF(Qeydiyyat!Y931=\"\",\"\",Qeydiyyat!Y931)","v":""},null,{"$f":"IF(Qeydiyyat!AC931=\"\",\"\",Qeydiyyat!AC931)","v":""}]
[null,683,{"$f":"IF(Qeydiyyat!C932=\"\",\"\",Qeydiyyat!C932)","v":""},{"$f":"IF(Qeydiyyat!B932=\"\",\"\",Qeydiyyat!B932)","v":""},{"$f":"IF(Qeydiyyat!D932=\"\",\"\",Qeydiyyat!D932)","v":""},{"$f":"IF(Qeydiyyat!K932=\"\",\"\",Qeydiyyat!K932)","v":""},{"$f":"IF(Qeydiyyat!AB932=\"\",\"\",Qeydiyyat!AB932)","v":""},{"$f":"IF(Qeydiyyat!AA932=\"\",\"\",Qeydiyyat!AA932)","v":""},{"$f":"IF(Qeydiyyat!X932=\"\",\"\",Qeydiyyat!X932)","v":""},{"$f":"IF(Qeydiyyat!Y932=\"\",\"\",Qeydiyyat!Y932)","v":""},null,{"$f":"IF(Qeydiyyat!AC932=\"\",\"\",Qeydiyyat!AC932)","v":""}]
[null,684,{"$f":"IF(Qeydiyyat!C933=\"\",\"\",Qeydiyyat!C933)","v":""},{"$f":"IF(Qeydiyyat!B933=\"\",\"\",Qeydiyyat!B933)","v":""},{"$f":"IF(Qeydiyyat!D933=\"\",\"\",Qeydiyyat!D933)","v":""},{"$f":"IF(Qeydiyyat!K933=\"\",\"\",Qeydiyyat!K933)","v":""},{"$f":"IF(Qeydiyyat!AB933=\"\",\"\",Qeydiyyat!AB933)","v":""},{"$f":"IF(Qeydiyyat!AA933=\"\",\"\",Qeydiyyat!AA933)","v":""},{"$f":"IF(Qeydiyyat!X933=\"\",\"\",Qeydiyyat!X933)","v":""},{"$f":"IF(Qeydiyyat!Y933=\"\",\"\",Qeydiyyat!Y933)","v":""},null,{"$f":"IF(Qeydiyyat!AC933=\"\",\"\",Qeydiyyat!AC933)","v":""}]
[null,685,{"$f":"IF(Qeydiyyat!C934=\"\",\"\",Qeydiyyat!C934)","v":""},{"$f":"IF(Qeydiyyat!B934=\"\",\"\",Qeydiyyat!B934)","v":""},{"$f":"IF(Qeydiyyat!D934=\"\",\"\",Qeydiyyat!D934)","v":""},{"$f":"IF(Qeydiyyat!K934=\"\",\"\",Qeydiyyat!K934)","v":""},{"$f":"IF(Qeydiyyat!AB934=\"\",\"\",Qeydiyyat!AB934)","v":""},{"$f":"IF(Qeydiyyat!AA934=\"\",\"\",Qeydiyyat!AA934)","v":""},{"$f":"IF(Qeydiyyat!X934=\"\",\"\",Qeydiyyat!X934)","v":""},{"$f":"IF(Qeydiyyat!Y934=\"\",\"\",Qeydiyyat!Y934)","v":""},null,{"$f":"IF(Qeydiyyat!AC934=\"\",\"\",Qeydiyyat!AC934)","v":""}]
[null,686,{"$f":"IF(Qeydiyyat!C935=\"\",\"\",Qeydiyyat!C935)","v":""},{"$f":"IF(Qeydiyyat!B935=\"\",\"\",Qeydiyyat!B935)","v":""},{"$f":"IF(Qeydiyyat!D935=\"\",\"\",Qeydiyyat!D935)","v":""},{"$f":"IF(Qeydiyyat!K935=\"\",\"\",Qeydiyyat!K935)","v":""},{"$f":"IF(Qeydiyyat!AB935=\"\",\"\",Qeydiyyat!AB935)","v":""},{"$f":"IF(Qeydiyyat!AA935=\"\",\"\",Qeydiyyat!AA935)","v":""},{"$f":"IF(Qeydiyyat!X935=\"\",\"\",Qeydiyyat!X935)","v":""},{"$f":"IF(Qeydiyyat!Y935=\"\",\"\",Qeydiyyat!Y935)","v":""},null,{"$f":"IF(Qeydiyyat!AC935=\"\",\"\",Qeydiyyat!AC935)","v":""}]
[null,687,{"$f":"IF(Qeydiyyat!C936=\"\",\"\",Qeydiyyat!C936)","v":""},{"$f":"IF(Qeydiyyat!B936=\"\",\"\",Qeydiyyat!B936)","v":""},{"$f":"IF(Qeydiyyat!D936=\"\",\"\",Qeydiyyat!D936)","v":""},{"$f":"IF(Qeydiyyat!K936=\"\",\"\",Qeydiyyat!K936)","v":""},{"$f":"IF(Qeydiyyat!AB936=\"\",\"\",Qeydiyyat!AB936)","v":""},{"$f":"IF(Qeydiyyat!AA936=\"\",\"\",Qeydiyyat!AA936)","v":""},{"$f":"IF(Qeydiyyat!X936=\"\",\"\",Qeydiyyat!X936)","v":""},{"$f":"IF(Qeydiyyat!Y936=\"\",\"\",Qeydiyyat!Y936)","v":""},null,{"$f":"IF(Qeydiyyat!AC936=\"\",\"\",Qeydiyyat!AC936)","v":""}]
[null,688,{"$f":"IF(Qeydiyyat!C937=\"\",\"\",Qeydiyyat!C937)","v":""},{"$f":"IF(Qeydiyyat!B937=\"\",\"\",Qeydiyyat!B937)","v":""},{"$f":"IF(Qeydiyyat!D937=\"\",\"\",Qeydiyyat!D937)","v":""},{"$f":"IF(Qeydiyyat!K937=\"\",\"\",Qeydiyyat!K937)","v":""},{"$f":"IF(Qeydiyyat!AB937=\"\",\"\",Qeydiyyat!AB937)","v":""},{"$f":"IF(Qeydiyyat!AA937=\"\",\"\",Qeydiyyat!AA937)","v":""},{"$f":"IF(Qeydiyyat!X937=\"\",\"\",Qeydiyyat!X937)","v":""},{"$f":"IF(Qeydiyyat!Y937=\"\",\"\",Qeydiyyat!Y937)","v":""},null,{"$f":"IF(Qeydiyyat!AC937=\"\",\"\",Qeydiyyat!AC937)","v":""}]
[null,689,{"$f":"IF(Qeydiyyat!C938=\"\",\"\",Qeydiyyat!C938)","v":""},{"$f":"IF(Qeydiyyat!B938=\"\",\"\",Qeydiyyat!B938)","v":""},{"$f":"IF(Qeydiyyat!D938=\"\",\"\",Qeydiyyat!D938)","v":""},{"$f":"IF(Qeydiyyat!K938=\"\",\"\",Qeydiyyat!K938)","v":""},{"$f":"IF(Qeydiyyat!AB938=\"\",\"\",Qeydiyyat!AB938)","v":""},{"$f":"IF(Qeydiyyat!AA938=\"\",\"\",Qeydiyyat!AA938)","v":""},{"$f":"IF(Qeydiyyat!X938=\"\",\"\",Qeydiyyat!X938)","v":""},{"$f":"IF(Qeydiyyat!Y938=\"\",\"\",Qeydiyyat!Y938)","v":""},null,{"$f":"IF(Qeydiyyat!AC938=\"\",\"\",Qeydiyyat!AC938)","v":""}]
[null,690,{"$f":"IF(Qeydiyyat!C939=\"\",\"\",Qeydiyyat!C939)","v":""},{"$f":"IF(Qeydiyyat!B939=\"\",\"\",Qeydiyyat!B939)","v":""},{"$f":"IF(Qeydiyyat!D939=\"\",\"\",Qeydiyyat!D939)","v":""},{"$f":"IF(Qeydiyyat!K939=\"\",\"\",Qeydiyyat!K939)","v":""},{"$f":"IF(Qeydiyyat!AB939=\"\",\"\",Qeydiyyat!AB939)","v":""},{"$f":"IF(Qeydiyyat!AA939=\"\",\"\",Qeydiyyat!AA939)","v":""},{"$f":"IF(Qeydiyyat!X939=\"\",\"\",Qeydiyyat!X939)","v":""},{"$f":"IF(Qeydiyyat!Y939=\"\",\"\",Qeydiyyat!Y939)","v":""},null,{"$f":"IF(Qeydiyyat!AC939=\"\",\"\",Qeydiyyat!AC939)","v":""}]
[null,691,{"$f":"IF(Qeydiyyat!C940=\"\",\"\",Qeydiyyat!C940)","v":""},{"$f":"IF(Qeydiyyat!B940=\"\",\"\",Qeydiyyat!B940)","v":""},{"$f":"IF(Qeydiyyat!D940=\"\",\"\",Qeydiyyat!D940)","v":""},{"$f":"IF(Qeydiyyat!K940=\"\",\"\",Qeydiyyat!K940)","v":""},{"$f":"IF(Qeydiyyat!AB940=\"\",\"\",Qeydiyyat!AB940)","v":""},{"$f":"IF(Qeydiyyat!AA940=\"\",\"\",Qeydiyyat!AA940)","v":""},{"$f":"IF(Qeydiyyat!X940=\"\",\"\",Qeydiyyat!X940)","v":""},{"$f":"IF(Qeydiyyat!Y940=\"\",\"\",Qeydiyyat!Y940)","v":""},null,{"$f":"IF(Qeydiyyat!AC940=\"\",\"\",Qeydiyyat!AC940)","v":""}]
[null,692,{"$f":"IF(Qeydiyyat!C941=\"\",\"\",Qeydiyyat!C941)","v":""},{"$f":"IF(Qeydiyyat!B941=\"\",\"\",Qeydiyyat!B941)","v":""},{"$f":"IF(Qeydiyyat!D941=\"\",\"\",Qeydiyyat!D941)","v":""},{"$f":"IF(Qeydiyyat!K941=\"\",\"\",Qeydiyyat!K941)","v":""},{"$f":"IF(Qeydiyyat!AB941=\"\",\"\",Qeydiyyat!AB941)","v":""},{"$f":"IF(Qeydiyyat!AA941=\"\",\"\",Qeydiyyat!AA941)","v":""},{"$f":"IF(Qeydiyyat!X941=\"\",\"\",Qeydiyyat!X941)","v":""},{"$f":"IF(Qeydiyyat!Y941=\"\",\"\",Qeydiyyat!Y941)","v":""},null,{"$f":"IF(Qeydiyyat!AC941=\"\",\"\",Qeydiyyat!AC941)","v":""}]
[null,693,{"$f":"IF(Qeydiyyat!C942=\"\",\"\",Qeydiyyat!C942)","v":""},{"$f":"IF(Qeydiyyat!B942=\"\",\"\",Qeydiyyat!B942)","v":""},{"$f":"IF(Qeydiyyat!D942=\"\",\"\",Qeydiyyat!D942)","v":""},{"$f":"IF(Qeydiyyat!K942=\"\",\"\",Qeydiyyat!K942)","v":""},{"$f":"IF(Qeydiyyat!AB942=\"\",\"\",Qeydiyyat!AB942)","v":""},{"$f":"IF(Qeydiyyat!AA942=\"\",\"\",Qeydiyyat!AA942)","v":""},{"$f":"IF(Qeydiyyat!X942=\"\",\"\",Qeydiyyat!X942)","v":""},{"$f":"IF(Qeydiyyat!Y942=\"\",\"\",Qeydiyyat!Y942)","v":""},null,{"$f":"IF(Qeydiyyat!AC942=\"\",\"\",Qeydiyyat!AC942)","v":""}]
[null,694,{"$f":"IF(Qeydiyyat!C943=\"\",\"\",Qeydiyyat!C943)","v":""},{"$f":"IF(Qeydiyyat!B943=\"\",\"\",Qeydiyyat!B943)","v":""},{"$f":"IF(Qeydiyyat!D943=\"\",\"\",Qeydiyyat!D943)","v":""},{"$f":"IF(Qeydiyyat!K943=\"\",\"\",Qeydiyyat!K943)","v":""},{"$f":"IF(Qeydiyyat!AB943=\"\",\"\",Qeydiyyat!AB943)","v":""},{"$f":"IF(Qeydiyyat!AA943=\"\",\"\",Qeydiyyat!AA943)","v":""},{"$f":"IF(Qeydiyyat!X943=\"\",\"\",Qeydiyyat!X943)","v":""},{"$f":"IF(Qeydiyyat!Y943=\"\",\"\",Qeydiyyat!Y943)","v":""},null,{"$f":"IF(Qeydiyyat!AC943=\"\",\"\",Qeydiyyat!AC943)","v":""}]
[null,695,{"$f":"IF(Qeydiyyat!C944=\"\",\"\",Qeydiyyat!C944)","v":""},{"$f":"IF(Qeydiyyat!B944=\"\",\"\",Qeydiyyat!B944)","v":""},{"$f":"IF(Qeydiyyat!D944=\"\",\"\",Qeydiyyat!D944)","v":""},{"$f":"IF(Qeydiyyat!K944=\"\",\"\",Qeydiyyat!K944)","v":""},{"$f":"IF(Qeydiyyat!AB944=\"\",\"\",Qeydiyyat!AB944)","v":""},{"$f":"IF(Qeydiyyat!AA944=\"\",\"\",Qeydiyyat!AA944)","v":""},{"$f":"IF(Qeydiyyat!X944=\"\",\"\",Qeydiyyat!X944)","v":""},{"$f":"IF(Qeydiyyat!Y944=\"\",\"\",Qeydiyyat!Y944)","v":""},null,{"$f":"IF(Qeydiyyat!AC944=\"\",\"\",Qeydiyyat!AC944)","v":""}]
[null,696,{"$f":"IF(Qeydiyyat!C945=\"\",\"\",Qeydiyyat!C945)","v":""},{"$f":"IF(Qeydiyyat!B945=\"\",\"\",Qeydiyyat!B945)","v":""},{"$f":"IF(Qeydiyyat!D945=\"\",\"\",Qeydiyyat!D945)","v":""},{"$f":"IF(Qeydiyyat!K945=\"\",\"\",Qeydiyyat!K945)","v":""},{"$f":"IF(Qeydiyyat!AB945=\"\",\"\",Qeydiyyat!AB945)","v":""},{"$f":"IF(Qeydiyyat!AA945=\"\",\"\",Qeydiyyat!AA945)","v":""},{"$f":"IF(Qeydiyyat!X945=\"\",\"\",Qeydiyyat!X945)","v":""},{"$f":"IF(Qeydiyyat!Y945=\"\",\"\",Qeydiyyat!Y945)","v":""},null,{"$f":"IF(Qeydiyyat!AC945=\"\",\"\",Qeydiyyat!AC945)","v":""}]
[null,697,{"$f":"IF(Qeydiyyat!C946=\"\",\"\",Qeydiyyat!C946)","v":""},{"$f":"IF(Qeydiyyat!B946=\"\",\"\",Qeydiyyat!B946)","v":""},{"$f":"IF(Qeydiyyat!D946=\"\",\"\",Qeydiyyat!D946)","v":""},{"$f":"IF(Qeydiyyat!K946=\"\",\"\",Qeydiyyat!K946)","v":""},{"$f":"IF(Qeydiyyat!AB946=\"\",\"\",Qeydiyyat!AB946)","v":""},{"$f":"IF(Qeydiyyat!AA946=\"\",\"\",Qeydiyyat!AA946)","v":""},{"$f":"IF(Qeydiyyat!X946=\"\",\"\",Qeydiyyat!X946)","v":""},{"$f":"IF(Qeydiyyat!Y946=\"\",\"\",Qeydiyyat!Y946)","v":""},null,{"$f":"IF(Qeydiyyat!AC946=\"\",\"\",Qeydiyyat!AC946)","v":""}]
[null,698,{"$f":"IF(Qeydiyyat!C947=\"\",\"\",Qeydiyyat!C947)","v":""},{"$f":"IF(Qeydiyyat!B947=\"\",\"\",Qeydiyyat!B947)","v":""},{"$f":"IF(Qeydiyyat!D947=\"\",\"\",Qeydiyyat!D947)","v":""},{"$f":"IF(Qeydiyyat!K947=\"\",\"\",Qeydiyyat!K947)","v":""},{"$f":"IF(Qeydiyyat!AB947=\"\",\"\",Qeydiyyat!AB947)","v":""},{"$f":"IF(Qeydiyyat!AA947=\"\",\"\",Qeydiyyat!AA947)","v":""},{"$f":"IF(Qeydiyyat!X947=\"\",\"\",Qeydiyyat!X947)","v":""},{"$f":"IF(Qeydiyyat!Y947=\"\",\"\",Qeydiyyat!Y947)","v":""},null,{"$f":"IF(Qeydiyyat!AC947=\"\",\"\",Qeydiyyat!AC947)","v":""}]
[null,699,{"$f":"IF(Qeydiyyat!C948=\"\",\"\",Qeydiyyat!C948)","v":""},{"$f":"IF(Qeydiyyat!B948=\"\",\"\",Qeydiyyat!B948)","v":""},{"$f":"IF(Qeydiyyat!D948=\"\",\"\",Qeydiyyat!D948)","v":""},{"$f":"IF(Qeydiyyat!K948=\"\",\"\",Qeydiyyat!K948)","v":""},{"$f":"IF(Qeydiyyat!AB948=\"\",\"\",Qeydiyyat!AB948)","v":""},{"$f":"IF(Qeydiyyat!AA948=\"\",\"\",Qeydiyyat!AA948)","v":""},{"$f":"IF(Qeydiyyat!X948=\"\",\"\",Qeydiyyat!X948)","v":""},{"$f":"IF(Qeydiyyat!Y948=\"\",\"\",Qeydiyyat!Y948)","v":""},null,{"$f":"IF(Qeydiyyat!AC948=\"\",\"\",Qeydiyyat!AC948)","v":""}]
[null,700,{"$f":"IF(Qeydiyyat!C949=\"\",\"\",Qeydiyyat!C949)","v":""},{"$f":"IF(Qeydiyyat!B949=\"\",\"\",Qeydiyyat!B949)","v":""},{"$f":"IF(Qeydiyyat!D949=\"\",\"\",Qeydiyyat!D949)","v":""},{"$f":"IF(Qeydiyyat!K949=\"\",\"\",Qeydiyyat!K949)","v":""},{"$f":"IF(Qeydiyyat!AB949=\"\",\"\",Qeydiyyat!AB949)","v":""},{"$f":"IF(Qeydiyyat!AA949=\"\",\"\",Qeydiyyat!AA949)","v":""},{"$f":"IF(Qeydiyyat!X949=\"\",\"\",Qeydiyyat!X949)","v":""},{"$f":"IF(Qeydiyyat!Y949=\"\",\"\",Qeydiyyat!Y949)","v":""},null,{"$f":"IF(Qeydiyyat!AC949=\"\",\"\",Qeydiyyat!AC949)","v":""}]
[null,701,{"$f":"IF(Qeydiyyat!C950=\"\",\"\",Qeydiyyat!C950)","v":""},{"$f":"IF(Qeydiyyat!B950=\"\",\"\",Qeydiyyat!B950)","v":""},{"$f":"IF(Qeydiyyat!D950=\"\",\"\",Qeydiyyat!D950)","v":""},{"$f":"IF(Qeydiyyat!K950=\"\",\"\",Qeydiyyat!K950)","v":""},{"$f":"IF(Qeydiyyat!AB950=\"\",\"\",Qeydiyyat!AB950)","v":""},{"$f":"IF(Qeydiyyat!AA950=\"\",\"\",Qeydiyyat!AA950)","v":""},{"$f":"IF(Qeydiyyat!X950=\"\",\"\",Qeydiyyat!X950)","v":""},{"$f":"IF(Qeydiyyat!Y950=\"\",\"\",Qeydiyyat!Y950)","v":""},null,{"$f":"IF(Qeydiyyat!AC950=\"\",\"\",Qeydiyyat!AC950)","v":""}]
[null,702,{"$f":"IF(Qeydiyyat!C951=\"\",\"\",Qeydiyyat!C951)","v":""},{"$f":"IF(Qeydiyyat!B951=\"\",\"\",Qeydiyyat!B951)","v":""},{"$f":"IF(Qeydiyyat!D951=\"\",\"\",Qeydiyyat!D951)","v":""},{"$f":"IF(Qeydiyyat!K951=\"\",\"\",Qeydiyyat!K951)","v":""},{"$f":"IF(Qeydiyyat!AB951=\"\",\"\",Qeydiyyat!AB951)","v":""},{"$f":"IF(Qeydiyyat!AA951=\"\",\"\",Qeydiyyat!AA951)","v":""},{"$f":"IF(Qeydiyyat!X951=\"\",\"\",Qeydiyyat!X951)","v":""},{"$f":"IF(Qeydiyyat!Y951=\"\",\"\",Qeydiyyat!Y951)","v":""},null,{"$f":"IF(Qeydiyyat!AC951=\"\",\"\",Qeydiyyat!AC951)","v":""}]
[null,703,{"$f":"IF(Qeydiyyat!C952=\"\",\"\",Qeydiyyat!C952)","v":""},{"$f":"IF(Qeydiyyat!B952=\"\",\"\",Qeydiyyat!B952)","v":""},{"$f":"IF(Qeydiyyat!D952=\"\",\"\",Qeydiyyat!D952)","v":""},{"$f":"IF(Qeydiyyat!K952=\"\",\"\",Qeydiyyat!K952)","v":""},{"$f":"IF(Qeydiyyat!AB952=\"\",\"\",Qeydiyyat!AB952)","v":""},{"$f":"IF(Qeydiyyat!AA952=\"\",\"\",Qeydiyyat!AA952)","v":""},{"$f":"IF(Qeydiyyat!X952=\"\",\"\",Qeydiyyat!X952)","v":""},{"$f":"IF(Qeydiyyat!Y952=\"\",\"\",Qeydiyyat!Y952)","v":""},null,{"$f":"IF(Qeydiyyat!AC952=\"\",\"\",Qeydiyyat!AC952)","v":""}]
[null,704,{"$f":"IF(Qeydiyyat!C953=\"\",\"\",Qeydiyyat!C953)","v":""},{"$f":"IF(Qeydiyyat!B953=\"\",\"\",Qeydiyyat!B953)","v":""},{"$f":"IF(Qeydiyyat!D953=\"\",\"\",Qeydiyyat!D953)","v":""},{"$f":"IF(Qeydiyyat!K953=\"\",\"\",Qeydiyyat!K953)","v":""},{"$f":"IF(Qeydiyyat!AB953=\"\",\"\",Qeydiyyat!AB953)","v":""},{"$f":"IF(Qeydiyyat!AA953=\"\",\"\",Qeydiyyat!AA953)","v":""},{"$f":"IF(Qeydiyyat!X953=\"\",\"\",Qeydiyyat!X953)","v":""},{"$f":"IF(Qeydiyyat!Y953=\"\",\"\",Qeydiyyat!Y953)","v":""},null,{"$f":"IF(Qeydiyyat!AC953=\"\",\"\",Qeydiyyat!AC953)","v":""}]
[null,705,{"$f":"IF(Qeydiyyat!C954=\"\",\"\",Qeydiyyat!C954)","v":""},{"$f":"IF(Qeydiyyat!B954=\"\",\"\",Qeydiyyat!B954)","v":""},{"$f":"IF(Qeydiyyat!D954=\"\",\"\",Qeydiyyat!D954)","v":""},{"$f":"IF(Qeydiyyat!K954=\"\",\"\",Qeydiyyat!K954)","v":""},{"$f":"IF(Qeydiyyat!AB954=\"\",\"\",Qeydiyyat!AB954)","v":""},{"$f":"IF(Qeydiyyat!AA954=\"\",\"\",Qeydiyyat!AA954)","v":""},{"$f":"IF(Qeydiyyat!X954=\"\",\"\",Qeydiyyat!X954)","v":""},{"$f":"IF(Qeydiyyat!Y954=\"\",\"\",Qeydiyyat!Y954)","v":""},null,{"$f":"IF(Qeydiyyat!AC954=\"\",\"\",Qeydiyyat!AC954)","v":""}]
[null,706,{"$f":"IF(Qeydiyyat!C955=\"\",\"\",Qeydiyyat!C955)","v":""},{"$f":"IF(Qeydiyyat!B955=\"\",\"\",Qeydiyyat!B955)","v":""},{"$f":"IF(Qeydiyyat!D955=\"\",\"\",Qeydiyyat!D955)","v":""},{"$f":"IF(Qeydiyyat!K955=\"\",\"\",Qeydiyyat!K955)","v":""},{"$f":"IF(Qeydiyyat!AB955=\"\",\"\",Qeydiyyat!AB955)","v":""},{"$f":"IF(Qeydiyyat!AA955=\"\",\"\",Qeydiyyat!AA955)","v":""},{"$f":"IF(Qeydiyyat!X955=\"\",\"\",Qeydiyyat!X955)","v":""},{"$f":"IF(Qeydiyyat!Y955=\"\",\"\",Qeydiyyat!Y955)","v":""},null,{"$f":"IF(Qeydiyyat!AC955=\"\",\"\",Qeydiyyat!AC955)","v":""}]
[null,707,{"$f":"IF(Qeydiyyat!C956=\"\",\"\",Qeydiyyat!C956)","v":""},{"$f":"IF(Qeydiyyat!B956=\"\",\"\",Qeydiyyat!B956)","v":""},{"$f":"IF(Qeydiyyat!D956=\"\",\"\",Qeydiyyat!D956)","v":""},{"$f":"IF(Qeydiyyat!K956=\"\",\"\",Qeydiyyat!K956)","v":""},{"$f":"IF(Qeydiyyat!AB956=\"\",\"\",Qeydiyyat!AB956)","v":""},{"$f":"IF(Qeydiyyat!AA956=\"\",\"\",Qeydiyyat!AA956)","v":""},{"$f":"IF(Qeydiyyat!X956=\"\",\"\",Qeydiyyat!X956)","v":""},{"$f":"IF(Qeydiyyat!Y956=\"\",\"\",Qeydiyyat!Y956)","v":""},null,{"$f":"IF(Qeydiyyat!AC956=\"\",\"\",Qeydiyyat!AC956)","v":""}]
[null,708,{"$f":"IF(Qeydiyyat!C957=\"\",\"\",Qeydiyyat!C957)","v":""},{"$f":"IF(Qeydiyyat!B957=\"\",\"\",Qeydiyyat!B957)","v":""},{"$f":"IF(Qeydiyyat!D957=\"\",\"\",Qeydiyyat!D957)","v":""},{"$f":"IF(Qeydiyyat!K957=\"\",\"\",Qeydiyyat!K957)","v":""},{"$f":"IF(Qeydiyyat!AB957=\"\",\"\",Qeydiyyat!AB957)","v":""},{"$f":"IF(Qeydiyyat!AA957=\"\",\"\",Qeydiyyat!AA957)","v":""},{"$f":"IF(Qeydiyyat!X957=\"\",\"\",Qeydiyyat!X957)","v":""},{"$f":"IF(Qeydiyyat!Y957=\"\",\"\",Qeydiyyat!Y957)","v":""},null,{"$f":"IF(Qeydiyyat!AC957=\"\",\"\",Qeydiyyat!AC957)","v":""}]
[null,{"$f":"B726+1","v":709},{"$f":"IF(Qeydiyyat!C958=\"\",\"\",Qeydiyyat!C958)","v":""},{"$f":"IF(Qeydiyyat!B958=\"\",\"\",Qeydiyyat!B958)","v":""},{"$f":"IF(Qeydiyyat!D958=\"\",\"\",Qeydiyyat!D958)","v":""},{"$f":"IF(Qeydiyyat!K958=\"\",\"\",Qeydiyyat!K958)","v":""},{"$f":"IF(Qeydiyyat!AB958=\"\",\"\",Qeydiyyat!AB958)","v":""},{"$f":"IF(Qeydiyyat!AA958=\"\",\"\",Qeydiyyat!AA958)","v":""},{"$f":"IF(Qeydiyyat!X958=\"\",\"\",Qeydiyyat!X958)","v":""},{"$f":"IF(Qeydiyyat!Y958=\"\",\"\",Qeydiyyat!Y958)","v":""},null,{"$f":"IF(Qeydiyyat!AC958=\"\",\"\",Qeydiyyat!AC958)","v":""}]
[null,710,{"$f":"IF(Qeydiyyat!C959=\"\",\"\",Qeydiyyat!C959)","v":""},{"$f":"IF(Qeydiyyat!B959=\"\",\"\",Qeydiyyat!B959)","v":""},{"$f":"IF(Qeydiyyat!D959=\"\",\"\",Qeydiyyat!D959)","v":""},{"$f":"IF(Qeydiyyat!K959=\"\",\"\",Qeydiyyat!K959)","v":""},{"$f":"IF(Qeydiyyat!AB959=\"\",\"\",Qeydiyyat!AB959)","v":""},{"$f":"IF(Qeydiyyat!AA959=\"\",\"\",Qeydiyyat!AA959)","v":""},{"$f":"IF(Qeydiyyat!X959=\"\",\"\",Qeydiyyat!X959)","v":""},{"$f":"IF(Qeydiyyat!Y959=\"\",\"\",Qeydiyyat!Y959)","v":""},null,{"$f":"IF(Qeydiyyat!AC959=\"\",\"\",Qeydiyyat!AC959)","v":""}]
[null,711,{"$f":"IF(Qeydiyyat!C960=\"\",\"\",Qeydiyyat!C960)","v":""},{"$f":"IF(Qeydiyyat!B960=\"\",\"\",Qeydiyyat!B960)","v":""},{"$f":"IF(Qeydiyyat!D960=\"\",\"\",Qeydiyyat!D960)","v":""},{"$f":"IF(Qeydiyyat!K960=\"\",\"\",Qeydiyyat!K960)","v":""},{"$f":"IF(Qeydiyyat!AB960=\"\",\"\",Qeydiyyat!AB960)","v":""},{"$f":"IF(Qeydiyyat!AA960=\"\",\"\",Qeydiyyat!AA960)","v":""},{"$f":"IF(Qeydiyyat!X960=\"\",\"\",Qeydiyyat!X960)","v":""},{"$f":"IF(Qeydiyyat!Y960=\"\",\"\",Qeydiyyat!Y960)","v":""},null,{"$f":"IF(Qeydiyyat!AC960=\"\",\"\",Qeydiyyat!AC960)","v":""}]
[null,712,{"$f":"IF(Qeydiyyat!C961=\"\",\"\",Qeydiyyat!C961)","v":""},{"$f":"IF(Qeydiyyat!B961=\"\",\"\",Qeydiyyat!B961)","v":""},{"$f":"IF(Qeydiyyat!D961=\"\",\"\",Qeydiyyat!D961)","v":""},{"$f":"IF(Qeydiyyat!K961=\"\",\"\",Qeydiyyat!K961)","v":""},{"$f":"IF(Qeydiyyat!AB961=\"\",\"\",Qeydiyyat!AB961)","v":""},{"$f":"IF(Qeydiyyat!AA961=\"\",\"\",Qeydiyyat!AA961)","v":""},{"$f":"IF(Qeydiyyat!X961=\"\",\"\",Qeydiyyat!X961)","v":""},{"$f":"IF(Qeydiyyat!Y961=\"\",\"\",Qeydiyyat!Y961)","v":""},null,{"$f":"IF(Qeydiyyat!AC961=\"\",\"\",Qeydiyyat!AC961)","v":""}]
[null,713,{"$f":"IF(Qeydiyyat!C962=\"\",\"\",Qeydiyyat!C962)","v":""},{"$f":"IF(Qeydiyyat!B962=\"\",\"\",Qeydiyyat!B962)","v":""},{"$f":"IF(Qeydiyyat!D962=\"\",\"\",Qeydiyyat!D962)","v":""},{"$f":"IF(Qeydiyyat!K962=\"\",\"\",Qeydiyyat!K962)","v":""},{"$f":"IF(Qeydiyyat!AB962=\"\",\"\",Qeydiyyat!AB962)","v":""},{"$f":"IF(Qeydiyyat!AA962=\"\",\"\",Qeydiyyat!AA962)","v":""},{"$f":"IF(Qeydiyyat!X962=\"\",\"\",Qeydiyyat!X962)","v":""},{"$f":"IF(Qeydiyyat!Y962=\"\",\"\",Qeydiyyat!Y962)","v":""},null,{"$f":"IF(Qeydiyyat!AC962=\"\",\"\",Qeydiyyat!AC962)","v":""}]
[null,714,{"$f":"IF(Qeydiyyat!C963=\"\",\"\",Qeydiyyat!C963)","v":""},{"$f":"IF(Qeydiyyat!B963=\"\",\"\",Qeydiyyat!B963)","v":""},{"$f":"IF(Qeydiyyat!D963=\"\",\"\",Qeydiyyat!D963)","v":""},{"$f":"IF(Qeydiyyat!K963=\"\",\"\",Qeydiyyat!K963)","v":""},{"$f":"IF(Qeydiyyat!AB963=\"\",\"\",Qeydiyyat!AB963)","v":""},{"$f":"IF(Qeydiyyat!AA963=\"\",\"\",Qeydiyyat!AA963)","v":""},{"$f":"IF(Qeydiyyat!X963=\"\",\"\",Qeydiyyat!X963)","v":""},{"$f":"IF(Qeydiyyat!Y963=\"\",\"\",Qeydiyyat!Y963)","v":""},null,{"$f":"IF(Qeydiyyat!AC963=\"\",\"\",Qeydiyyat!AC963)","v":""}]
[null,715,{"$f":"IF(Qeydiyyat!C964=\"\",\"\",Qeydiyyat!C964)","v":""},{"$f":"IF(Qeydiyyat!B964=\"\",\"\",Qeydiyyat!B964)","v":""},{"$f":"IF(Qeydiyyat!D964=\"\",\"\",Qeydiyyat!D964)","v":""},{"$f":"IF(Qeydiyyat!K964=\"\",\"\",Qeydiyyat!K964)","v":""},{"$f":"IF(Qeydiyyat!AB964=\"\",\"\",Qeydiyyat!AB964)","v":""},{"$f":"IF(Qeydiyyat!AA964=\"\",\"\",Qeydiyyat!AA964)","v":""},{"$f":"IF(Qeydiyyat!X964=\"\",\"\",Qeydiyyat!X964)","v":""},{"$f":"IF(Qeydiyyat!Y964=\"\",\"\",Qeydiyyat!Y964)","v":""},null,{"$f":"IF(Qeydiyyat!AC964=\"\",\"\",Qeydiyyat!AC964)","v":""}]
[null,716,{"$f":"IF(Qeydiyyat!C965=\"\",\"\",Qeydiyyat!C965)","v":""},{"$f":"IF(Qeydiyyat!B965=\"\",\"\",Qeydiyyat!B965)","v":""},{"$f":"IF(Qeydiyyat!D965=\"\",\"\",Qeydiyyat!D965)","v":""},{"$f":"IF(Qeydiyyat!K965=\"\",\"\",Qeydiyyat!K965)","v":""},{"$f":"IF(Qeydiyyat!AB965=\"\",\"\",Qeydiyyat!AB965)","v":""},{"$f":"IF(Qeydiyyat!AA965=\"\",\"\",Qeydiyyat!AA965)","v":""},{"$f":"IF(Qeydiyyat!X965=\"\",\"\",Qeydiyyat!X965)","v":""},{"$f":"IF(Qeydiyyat!Y965=\"\",\"\",Qeydiyyat!Y965)","v":""},null,{"$f":"IF(Qeydiyyat!AC965=\"\",\"\",Qeydiyyat!AC965)","v":""}]
[null,717,{"$f":"IF(Qeydiyyat!C966=\"\",\"\",Qeydiyyat!C966)","v":""},{"$f":"IF(Qeydiyyat!B966=\"\",\"\",Qeydiyyat!B966)","v":""},{"$f":"IF(Qeydiyyat!D966=\"\",\"\",Qeydiyyat!D966)","v":""},{"$f":"IF(Qeydiyyat!K966=\"\",\"\",Qeydiyyat!K966)","v":""},{"$f":"IF(Qeydiyyat!AB966=\"\",\"\",Qeydiyyat!AB966)","v":""},{"$f":"IF(Qeydiyyat!AA966=\"\",\"\",Qeydiyyat!AA966)","v":""},{"$f":"IF(Qeydiyyat!X966=\"\",\"\",Qeydiyyat!X966)","v":""},{"$f":"IF(Qeydiyyat!Y966=\"\",\"\",Qeydiyyat!Y966)","v":""},null,{"$f":"IF(Qeydiyyat!AC966=\"\",\"\",Qeydiyyat!AC966)","v":""}]
[null,718,{"$f":"IF(Qeydiyyat!C967=\"\",\"\",Qeydiyyat!C967)","v":""},{"$f":"IF(Qeydiyyat!B967=\"\",\"\",Qeydiyyat!B967)","v":""},{"$f":"IF(Qeydiyyat!D967=\"\",\"\",Qeydiyyat!D967)","v":""},{"$f":"IF(Qeydiyyat!K967=\"\",\"\",Qeydiyyat!K967)","v":""},{"$f":"IF(Qeydiyyat!AB967=\"\",\"\",Qeydiyyat!AB967)","v":""},{"$f":"IF(Qeydiyyat!AA967=\"\",\"\",Qeydiyyat!AA967)","v":""},{"$f":"IF(Qeydiyyat!X967=\"\",\"\",Qeydiyyat!X967)","v":""},{"$f":"IF(Qeydiyyat!Y967=\"\",\"\",Qeydiyyat!Y967)","v":""},null,{"$f":"IF(Qeydiyyat!AC967=\"\",\"\",Qeydiyyat!AC967)","v":""}]
[null,719,{"$f":"IF(Qeydiyyat!C968=\"\",\"\",Qeydiyyat!C968)","v":""},{"$f":"IF(Qeydiyyat!B968=\"\",\"\",Qeydiyyat!B968)","v":""},{"$f":"IF(Qeydiyyat!D968=\"\",\"\",Qeydiyyat!D968)","v":""},{"$f":"IF(Qeydiyyat!K968=\"\",\"\",Qeydiyyat!K968)","v":""},{"$f":"IF(Qeydiyyat!AB968=\"\",\"\",Qeydiyyat!AB968)","v":""},{"$f":"IF(Qeydiyyat!AA968=\"\",\"\",Qeydiyyat!AA968)","v":""},{"$f":"IF(Qeydiyyat!X968=\"\",\"\",Qeydiyyat!X968)","v":""},{"$f":"IF(Qeydiyyat!Y968=\"\",\"\",Qeydiyyat!Y968)","v":""},null,{"$f":"IF(Qeydiyyat!AC968=\"\",\"\",Qeydiyyat!AC968)","v":""}]
[null,720,{"$f":"IF(Qeydiyyat!C969=\"\",\"\",Qeydiyyat!C969)","v":""},{"$f":"IF(Qeydiyyat!B969=\"\",\"\",Qeydiyyat!B969)","v":""},{"$f":"IF(Qeydiyyat!D969=\"\",\"\",Qeydiyyat!D969)","v":""},{"$f":"IF(Qeydiyyat!K969=\"\",\"\",Qeydiyyat!K969)","v":""},{"$f":"IF(Qeydiyyat!AB969=\"\",\"\",Qeydiyyat!AB969)","v":""},{"$f":"IF(Qeydiyyat!AA969=\"\",\"\",Qeydiyyat!AA969)","v":""},{"$f":"IF(Qeydiyyat!X969=\"\",\"\",Qeydiyyat!X969)","v":""},{"$f":"IF(Qeydiyyat!Y969=\"\",\"\",Qeydiyyat!Y969)","v":""},null,{"$f":"IF(Qeydiyyat!AC969=\"\",\"\",Qeydiyyat!AC969)","v":""}]
[null,721,{"$f":"IF(Qeydiyyat!C970=\"\",\"\",Qeydiyyat!C970)","v":""},{"$f":"IF(Qeydiyyat!B970=\"\",\"\",Qeydiyyat!B970)","v":""},{"$f":"IF(Qeydiyyat!D970=\"\",\"\",Qeydiyyat!D970)","v":""},{"$f":"IF(Qeydiyyat!K970=\"\",\"\",Qeydiyyat!K970)","v":""},{"$f":"IF(Qeydiyyat!AB970=\"\",\"\",Qeydiyyat!AB970)","v":""},{"$f":"IF(Qeydiyyat!AA970=\"\",\"\",Qeydiyyat!AA970)","v":""},{"$f":"IF(Qeydiyyat!X970=\"\",\"\",Qeydiyyat!X970)","v":""},{"$f":"IF(Qeydiyyat!Y970=\"\",\"\",Qeydiyyat!Y970)","v":""},null,{"$f":"IF(Qeydiyyat!AC970=\"\",\"\",Qeydiyyat!AC970)","v":""}]
[null,722,{"$f":"IF(Qeydiyyat!C971=\"\",\"\",Qeydiyyat!C971)","v":""},{"$f":"IF(Qeydiyyat!B971=\"\",\"\",Qeydiyyat!B971)","v":""},{"$f":"IF(Qeydiyyat!D971=\"\",\"\",Qeydiyyat!D971)","v":""},{"$f":"IF(Qeydiyyat!K971=\"\",\"\",Qeydiyyat!K971)","v":""},{"$f":"IF(Qeydiyyat!AB971=\"\",\"\",Qeydiyyat!AB971)","v":""},{"$f":"IF(Qeydiyyat!AA971=\"\",\"\",Qeydiyyat!AA971)","v":""},{"$f":"IF(Qeydiyyat!X971=\"\",\"\",Qeydiyyat!X971)","v":""},{"$f":"IF(Qeydiyyat!Y971=\"\",\"\",Qeydiyyat!Y971)","v":""},null,{"$f":"IF(Qeydiyyat!AC971=\"\",\"\",Qeydiyyat!AC971)","v":""}]
[null,723,{"$f":"IF(Qeydiyyat!C972=\"\",\"\",Qeydiyyat!C972)","v":""},{"$f":"IF(Qeydiyyat!B972=\"\",\"\",Qeydiyyat!B972)","v":""},{"$f":"IF(Qeydiyyat!D972=\"\",\"\",Qeydiyyat!D972)","v":""},{"$f":"IF(Qeydiyyat!K972=\"\",\"\",Qeydiyyat!K972)","v":""},{"$f":"IF(Qeydiyyat!AB972=\"\",\"\",Qeydiyyat!AB972)","v":""},{"$f":"IF(Qeydiyyat!AA972=\"\",\"\",Qeydiyyat!AA972)","v":""},{"$f":"IF(Qeydiyyat!X972=\"\",\"\",Qeydiyyat!X972)","v":""},{"$f":"IF(Qeydiyyat!Y972=\"\",\"\",Qeydiyyat!Y972)","v":""},null,{"$f":"IF(Qeydiyyat!AC972=\"\",\"\",Qeydiyyat!AC972)","v":""}]
[null,724,{"$f":"IF(Qeydiyyat!C973=\"\",\"\",Qeydiyyat!C973)","v":""},{"$f":"IF(Qeydiyyat!B973=\"\",\"\",Qeydiyyat!B973)","v":""},{"$f":"IF(Qeydiyyat!D973=\"\",\"\",Qeydiyyat!D973)","v":""},{"$f":"IF(Qeydiyyat!K973=\"\",\"\",Qeydiyyat!K973)","v":""},{"$f":"IF(Qeydiyyat!AB973=\"\",\"\",Qeydiyyat!AB973)","v":""},{"$f":"IF(Qeydiyyat!AA973=\"\",\"\",Qeydiyyat!AA973)","v":""},{"$f":"IF(Qeydiyyat!X973=\"\",\"\",Qeydiyyat!X973)","v":""},{"$f":"IF(Qeydiyyat!Y973=\"\",\"\",Qeydiyyat!Y973)","v":""},null,{"$f":"IF(Qeydiyyat!AC973=\"\",\"\",Qeydiyyat!AC973)","v":""}]
[null,725,{"$f":"IF(Qeydiyyat!C974=\"\",\"\",Qeydiyyat!C974)","v":""},{"$f":"IF(Qeydiyyat!B974=\"\",\"\",Qeydiyyat!B974)","v":""},{"$f":"IF(Qeydiyyat!D974=\"\",\"\",Qeydiyyat!D974)","v":""},{"$f":"IF(Qeydiyyat!K974=\"\",\"\",Qeydiyyat!K974)","v":""},{"$f":"IF(Qeydiyyat!AB974=\"\",\"\",Qeydiyyat!AB974)","v":""},{"$f":"IF(Qeydiyyat!AA974=\"\",\"\",Qeydiyyat!AA974)","v":""},{"$f":"IF(Qeydiyyat!X974=\"\",\"\",Qeydiyyat!X974)","v":""},{"$f":"IF(Qeydiyyat!Y974=\"\",\"\",Qeydiyyat!Y974)","v":""},null,{"$f":"IF(Qeydiyyat!AC974=\"\",\"\",Qeydiyyat!AC974)","v":""}]
[null,726,{"$f":"IF(Qeydiyyat!C975=\"\",\"\",Qeydiyyat!C975)","v":""},{"$f":"IF(Qeydiyyat!B975=\"\",\"\",Qeydiyyat!B975)","v":""},{"$f":"IF(Qeydiyyat!D975=\"\",\"\",Qeydiyyat!D975)","v":""},{"$f":"IF(Qeydiyyat!K975=\"\",\"\",Qeydiyyat!K975)","v":""},{"$f":"IF(Qeydiyyat!AB975=\"\",\"\",Qeydiyyat!AB975)","v":""},{"$f":"IF(Qeydiyyat!AA975=\"\",\"\",Qeydiyyat!AA975)","v":""},{"$f":"IF(Qeydiyyat!X975=\"\",\"\",Qeydiyyat!X975)","v":""},{"$f":"IF(Qeydiyyat!Y975=\"\",\"\",Qeydiyyat!Y975)","v":""},null,{"$f":"IF(Qeydiyyat!AC975=\"\",\"\",Qeydiyyat!AC975)","v":""}]
[null,727,{"$f":"IF(Qeydiyyat!C976=\"\",\"\",Qeydiyyat!C976)","v":""},{"$f":"IF(Qeydiyyat!B976=\"\",\"\",Qeydiyyat!B976)","v":""},{"$f":"IF(Qeydiyyat!D976=\"\",\"\",Qeydiyyat!D976)","v":""},{"$f":"IF(Qeydiyyat!K976=\"\",\"\",Qeydiyyat!K976)","v":""},{"$f":"IF(Qeydiyyat!AB976=\"\",\"\",Qeydiyyat!AB976)","v":""},{"$f":"IF(Qeydiyyat!AA976=\"\",\"\",Qeydiyyat!AA976)","v":""},{"$f":"IF(Qeydiyyat!X976=\"\",\"\",Qeydiyyat!X976)","v":""},{"$f":"IF(Qeydiyyat!Y976=\"\",\"\",Qeydiyyat!Y976)","v":""},null,{"$f":"IF(Qeydiyyat!AC976=\"\",\"\",Qeydiyyat!AC976)","v":""}]
[null,728,{"$f":"IF(Qeydiyyat!C977=\"\",\"\",Qeydiyyat!C977)","v":""},{"$f":"IF(Qeydiyyat!B977=\"\",\"\",Qeydiyyat!B977)","v":""},{"$f":"IF(Qeydiyyat!D977=\"\",\"\",Qeydiyyat!D977)","v":""},{"$f":"IF(Qeydiyyat!K977=\"\",\"\",Qeydiyyat!K977)","v":""},{"$f":"IF(Qeydiyyat!AB977=\"\",\"\",Qeydiyyat!AB977)","v":""},{"$f":"IF(Qeydiyyat!AA977=\"\",\"\",Qeydiyyat!AA977)","v":""},{"$f":"IF(Qeydiyyat!X977=\"\",\"\",Qeydiyyat!X977)","v":""},{"$f":"IF(Qeydiyyat!Y977=\"\",\"\",Qeydiyyat!Y977)","v":""},null,{"$f":"IF(Qeydiyyat!AC977=\"\",\"\",Qeydiyyat!AC977)","v":""}]
[null,729,{"$f":"IF(Qeydiyyat!C978=\"\",\"\",Qeydiyyat!C978)","v":""},{"$f":"IF(Qeydiyyat!B978=\"\",\"\",Qeydiyyat!B978)","v":""},{"$f":"IF(Qeydiyyat!D978=\"\",\"\",Qeydiyyat!D978)","v":""},{"$f":"IF(Qeydiyyat!K978=\"\",\"\",Qeydiyyat!K978)","v":""},{"$f":"IF(Qeydiyyat!AB978=\"\",\"\",Qeydiyyat!AB978)","v":""},{"$f":"IF(Qeydiyyat!AA978=\"\",\"\",Qeydiyyat!AA978)","v":""},{"$f":"IF(Qeydiyyat!X978=\"\",\"\",Qeydiyyat!X978)","v":""},{"$f":"IF(Qeydiyyat!Y978=\"\",\"\",Qeydiyyat!Y978)","v":""},null,{"$f":"IF(Qeydiyyat!AC978=\"\",\"\",Qeydiyyat!AC978)","v":""}]
[null,730,{"$f":"IF(Qeydiyyat!C979=\"\",\"\",Qeydiyyat!C979)","v":""},{"$f":"IF(Qeydiyyat!B979=\"\",\"\",Qeydiyyat!B979)","v":""},{"$f":"IF(Qeydiyyat!D979=\"\",\"\",Qeydiyyat!D979)","v":""},{"$f":"IF(Qeydiyyat!K979=\"\",\"\",Qeydiyyat!K979)","v":""},{"$f":"IF(Qeydiyyat!AB979=\"\",\"\",Qeydiyyat!AB979)","v":""},{"$f":"IF(Qeydiyyat!AA979=\"\",\"\",Qeydiyyat!AA979)","v":""},{"$f":"IF(Qeydiyyat!X979=\"\",\"\",Qeydiyyat!X979)","v":""},{"$f":"IF(Qeydiyyat!Y979=\"\",\"\",Qeydiyyat!Y979)","v":""},null,{"$f":"IF(Qeydiyyat!AC979=\"\",\"\",Qeydiyyat!AC979)","v":""}]
[null,731,{"$f":"IF(Qeydiyyat!C980=\"\",\"\",Qeydiyyat!C980)","v":""},{"$f":"IF(Qeydiyyat!B980=\"\",\"\",Qeydiyyat!B980)","v":""},{"$f":"IF(Qeydiyyat!D980=\"\",\"\",Qeydiyyat!D980)","v":""},{"$f":"IF(Qeydiyyat!K980=\"\",\"\",Qeydiyyat!K980)","v":""},{"$f":"IF(Qeydiyyat!AB980=\"\",\"\",Qeydiyyat!AB980)","v":""},{"$f":"IF(Qeydiyyat!AA980=\"\",\"\",Qeydiyyat!AA980)","v":""},{"$f":"IF(Qeydiyyat!X980=\"\",\"\",Qeydiyyat!X980)","v":""},{"$f":"IF(Qeydiyyat!Y980=\"\",\"\",Qeydiyyat!Y980)","v":""},null,{"$f":"IF(Qeydiyyat!AC980=\"\",\"\",Qeydiyyat!AC980)","v":""}]
[null,732,{"$f":"IF(Qeydiyyat!C981=\"\",\"\",Qeydiyyat!C981)","v":""},{"$f":"IF(Qeydiyyat!B981=\"\",\"\",Qeydiyyat!B981)","v":""},{"$f":"IF(Qeydiyyat!D981=\"\",\"\",Qeydiyyat!D981)","v":""},{"$f":"IF(Qeydiyyat!K981=\"\",\"\",Qeydiyyat!K981)","v":""},{"$f":"IF(Qeydiyyat!AB981=\"\",\"\",Qeydiyyat!AB981)","v":""},{"$f":"IF(Qeydiyyat!AA981=\"\",\"\",Qeydiyyat!AA981)","v":""},{"$f":"IF(Qeydiyyat!X981=\"\",\"\",Qeydiyyat!X981)","v":""},{"$f":"IF(Qeydiyyat!Y981=\"\",\"\",Qeydiyyat!Y981)","v":""},null,{"$f":"IF(Qeydiyyat!AC981=\"\",\"\",Qeydiyyat!AC981)","v":""}]
[null,733,{"$f":"IF(Qeydiyyat!C982=\"\",\"\",Qeydiyyat!C982)","v":""},{"$f":"IF(Qeydiyyat!B982=\"\",\"\",Qeydiyyat!B982)","v":""},{"$f":"IF(Qeydiyyat!D982=\"\",\"\",Qeydiyyat!D982)","v":""},{"$f":"IF(Qeydiyyat!K982=\"\",\"\",Qeydiyyat!K982)","v":""},{"$f":"IF(Qeydiyyat!AB982=\"\",\"\",Qeydiyyat!AB982)","v":""},{"$f":"IF(Qeydiyyat!AA982=\"\",\"\",Qeydiyyat!AA982)","v":""},{"$f":"IF(Qeydiyyat!X982=\"\",\"\",Qeydiyyat!X982)","v":""},{"$f":"IF(Qeydiyyat!Y982=\"\",\"\",Qeydiyyat!Y982)","v":""},null,{"$f":"IF(Qeydiyyat!AC982=\"\",\"\",Qeydiyyat!AC982)","v":""}]
[null,734,{"$f":"IF(Qeydiyyat!C983=\"\",\"\",Qeydiyyat!C983)","v":""},{"$f":"IF(Qeydiyyat!B983=\"\",\"\",Qeydiyyat!B983)","v":""},{"$f":"IF(Qeydiyyat!D983=\"\",\"\",Qeydiyyat!D983)","v":""},{"$f":"IF(Qeydiyyat!K983=\"\",\"\",Qeydiyyat!K983)","v":""},{"$f":"IF(Qeydiyyat!AB983=\"\",\"\",Qeydiyyat!AB983)","v":""},{"$f":"IF(Qeydiyyat!AA983=\"\",\"\",Qeydiyyat!AA983)","v":""},{"$f":"IF(Qeydiyyat!X983=\"\",\"\",Qeydiyyat!X983)","v":""},{"$f":"IF(Qeydiyyat!Y983=\"\",\"\",Qeydiyyat!Y983)","v":""},null,{"$f":"IF(Qeydiyyat!AC983=\"\",\"\",Qeydiyyat!AC983)","v":""}]
[null,735,{"$f":"IF(Qeydiyyat!C984=\"\",\"\",Qeydiyyat!C984)","v":""},{"$f":"IF(Qeydiyyat!B984=\"\",\"\",Qeydiyyat!B984)","v":""},{"$f":"IF(Qeydiyyat!D984=\"\",\"\",Qeydiyyat!D984)","v":""},{"$f":"IF(Qeydiyyat!K984=\"\",\"\",Qeydiyyat!K984)","v":""},{"$f":"IF(Qeydiyyat!AB984=\"\",\"\",Qeydiyyat!AB984)","v":""},{"$f":"IF(Qeydiyyat!AA984=\"\",\"\",Qeydiyyat!AA984)","v":""},{"$f":"IF(Qeydiyyat!X984=\"\",\"\",Qeydiyyat!X984)","v":""},{"$f":"IF(Qeydiyyat!Y984=\"\",\"\",Qeydiyyat!Y984)","v":""},null,{"$f":"IF(Qeydiyyat!AC984=\"\",\"\",Qeydiyyat!AC984)","v":""}]
[null,736,{"$f":"IF(Qeydiyyat!C985=\"\",\"\",Qeydiyyat!C985)","v":""},{"$f":"IF(Qeydiyyat!B985=\"\",\"\",Qeydiyyat!B985)","v":""},{"$f":"IF(Qeydiyyat!D985=\"\",\"\",Qeydiyyat!D985)","v":""},{"$f":"IF(Qeydiyyat!K985=\"\",\"\",Qeydiyyat!K985)","v":""},{"$f":"IF(Qeydiyyat!AB985=\"\",\"\",Qeydiyyat!AB985)","v":""},{"$f":"IF(Qeydiyyat!AA985=\"\",\"\",Qeydiyyat!AA985)","v":""},{"$f":"IF(Qeydiyyat!X985=\"\",\"\",Qeydiyyat!X985)","v":""},{"$f":"IF(Qeydiyyat!Y985=\"\",\"\",Qeydiyyat!Y985)","v":""},null,{"$f":"IF(Qeydiyyat!AC985=\"\",\"\",Qeydiyyat!AC985)","v":""}]
[null,737,{"$f":"IF(Qeydiyyat!C986=\"\",\"\",Qeydiyyat!C986)","v":""},{"$f":"IF(Qeydiyyat!B986=\"\",\"\",Qeydiyyat!B986)","v":""},{"$f":"IF(Qeydiyyat!D986=\"\",\"\",Qeydiyyat!D986)","v":""},{"$f":"IF(Qeydiyyat!K986=\"\",\"\",Qeydiyyat!K986)","v":""},{"$f":"IF(Qeydiyyat!AB986=\"\",\"\",Qeydiyyat!AB986)","v":""},{"$f":"IF(Qeydiyyat!AA986=\"\",\"\",Qeydiyyat!AA986)","v":""},{"$f":"IF(Qeydiyyat!X986=\"\",\"\",Qeydiyyat!X986)","v":""},{"$f":"IF(Qeydiyyat!Y986=\"\",\"\",Qeydiyyat!Y986)","v":""},null,{"$f":"IF(Qeydiyyat!AC986=\"\",\"\",Qeydiyyat!AC986)","v":""}]
[null,738,{"$f":"IF(Qeydiyyat!C987=\"\",\"\",Qeydiyyat!C987)","v":""},{"$f":"IF(Qeydiyyat!B987=\"\",\"\",Qeydiyyat!B987)","v":""},{"$f":"IF(Qeydiyyat!D987=\"\",\"\",Qeydiyyat!D987)","v":""},{"$f":"IF(Qeydiyyat!K987=\"\",\"\",Qeydiyyat!K987)","v":""},{"$f":"IF(Qeydiyyat!AB987=\"\",\"\",Qeydiyyat!AB987)","v":""},{"$f":"IF(Qeydiyyat!AA987=\"\",\"\",Qeydiyyat!AA987)","v":""},{"$f":"IF(Qeydiyyat!X987=\"\",\"\",Qeydiyyat!X987)","v":""},{"$f":"IF(Qeydiyyat!Y987=\"\",\"\",Qeydiyyat!Y987)","v":""},null,{"$f":"IF(Qeydiyyat!AC987=\"\",\"\",Qeydiyyat!AC987)","v":""}]
[null,739,{"$f":"IF(Qeydiyyat!C988=\"\",\"\",Qeydiyyat!C988)","v":""},{"$f":"IF(Qeydiyyat!B988=\"\",\"\",Qeydiyyat!B988)","v":""},{"$f":"IF(Qeydiyyat!D988=\"\",\"\",Qeydiyyat!D988)","v":""},{"$f":"IF(Qeydiyyat!K988=\"\",\"\",Qeydiyyat!K988)","v":""},{"$f":"IF(Qeydiyyat!AB988=\"\",\"\",Qeydiyyat!AB988)","v":""},{"$f":"IF(Qeydiyyat!AA988=\"\",\"\",Qeydiyyat!AA988)","v":""},{"$f":"IF(Qeydiyyat!X988=\"\",\"\",Qeydiyyat!X988)","v":""},{"$f":"IF(Qeydiyyat!Y988=\"\",\"\",Qeydiyyat!Y988)","v":""},null,{"$f":"IF(Qeydiyyat!AC988=\"\",\"\",Qeydiyyat!AC988)","v":""}]
[null,740,{"$f":"IF(Qeydiyyat!C989=\"\",\"\",Qeydiyyat!C989)","v":""},{"$f":"IF(Qeydiyyat!B989=\"\",\"\",Qeydiyyat!B989)","v":""},{"$f":"IF(Qeydiyyat!D989=\"\",\"\",Qeydiyyat!D989)","v":""},{"$f":"IF(Qeydiyyat!K989=\"\",\"\",Qeydiyyat!K989)","v":""},{"$f":"IF(Qeydiyyat!AB989=\"\",\"\",Qeydiyyat!AB989)","v":""},{"$f":"IF(Qeydiyyat!AA989=\"\",\"\",Qeydiyyat!AA989)","v":""},{"$f":"IF(Qeydiyyat!X989=\"\",\"\",Qeydiyyat!X989)","v":""},{"$f":"IF(Qeydiyyat!Y989=\"\",\"\",Qeydiyyat!Y989)","v":""},null,{"$f":"IF(Qeydiyyat!AC989=\"\",\"\",Qeydiyyat!AC989)","v":""}]
[null,741,{"$f":"IF(Qeydiyyat!C990=\"\",\"\",Qeydiyyat!C990)","v":""},{"$f":"IF(Qeydiyyat!B990=\"\",\"\",Qeydiyyat!B990)","v":""},{"$f":"IF(Qeydiyyat!D990=\"\",\"\",Qeydiyyat!D990)","v":""},{"$f":"IF(Qeydiyyat!K990=\"\",\"\",Qeydiyyat!K990)","v":""},{"$f":"IF(Qeydiyyat!AB990=\"\",\"\",Qeydiyyat!AB990)","v":""},{"$f":"IF(Qeydiyyat!AA990=\"\",\"\",Qeydiyyat!AA990)","v":""},{"$f":"IF(Qeydiyyat!X990=\"\",\"\",Qeydiyyat!X990)","v":""},{"$f":"IF(Qeydiyyat!Y990=\"\",\"\",Qeydiyyat!Y990)","v":""},null,{"$f":"IF(Qeydiyyat!AC990=\"\",\"\",Qeydiyyat!AC990)","v":""}]
[null,742,{"$f":"IF(Qeydiyyat!C991=\"\",\"\",Qeydiyyat!C991)","v":""},{"$f":"IF(Qeydiyyat!B991=\"\",\"\",Qeydiyyat!B991)","v":""},{"$f":"IF(Qeydiyyat!D991=\"\",\"\",Qeydiyyat!D991)","v":""},{"$f":"IF(Qeydiyyat!K991=\"\",\"\",Qeydiyyat!K991)","v":""},{"$f":"IF(Qeydiyyat!AB991=\"\",\"\",Qeydiyyat!AB991)","v":""},{"$f":"IF(Qeydiyyat!AA991=\"\",\"\",Qeydiyyat!AA991)","v":""},{"$f":"IF(Qeydiyyat!X991=\"\",\"\",Qeydiyyat!X991)","v":""},{"$f":"IF(Qeydiyyat!Y991=\"\",\"\",Qeydiyyat!Y991)","v":""},null,{"$f":"IF(Qeydiyyat!AC991=\"\",\"\",Qeydiyyat!AC991)","v":""}]
[null,743,{"$f":"IF(Qeydiyyat!C992=\"\",\"\",Qeydiyyat!C992)","v":""},{"$f":"IF(Qeydiyyat!B992=\"\",\"\",Qeydiyyat!B992)","v":""},{"$f":"IF(Qeydiyyat!D992=\"\",\"\",Qeydiyyat!D992)","v":""},{"$f":"IF(Qeydiyyat!K992=\"\",\"\",Qeydiyyat!K992)","v":""},{"$f":"IF(Qeydiyyat!AB992=\"\",\"\",Qeydiyyat!AB992)","v":""},{"$f":"IF(Qeydiyyat!AA992=\"\",\"\",Qeydiyyat!AA992)","v":""},{"$f":"IF(Qeydiyyat!X992=\"\",\"\",Qeydiyyat!X992)","v":""},{"$f":"IF(Qeydiyyat!Y992=\"\",\"\",Qeydiyyat!Y992)","v":""},null,{"$f":"IF(Qeydiyyat!AC992=\"\",\"\",Qeydiyyat!AC992)","v":""}]
[null,744,{"$f":"IF(Qeydiyyat!C993=\"\",\"\",Qeydiyyat!C993)","v":""},{"$f":"IF(Qeydiyyat!B993=\"\",\"\",Qeydiyyat!B993)","v":""},{"$f":"IF(Qeydiyyat!D993=\"\",\"\",Qeydiyyat!D993)","v":""},{"$f":"IF(Qeydiyyat!K993=\"\",\"\",Qeydiyyat!K993)","v":""},{"$f":"IF(Qeydiyyat!AB993=\"\",\"\",Qeydiyyat!AB993)","v":""},{"$f":"IF(Qeydiyyat!AA993=\"\",\"\",Qeydiyyat!AA993)","v":""},{"$f":"IF(Qeydiyyat!X993=\"\",\"\",Qeydiyyat!X993)","v":""},{"$f":"IF(Qeydiyyat!Y993=\"\",\"\",Qeydiyyat!Y993)","v":""},null,{"$f":"IF(Qeydiyyat!AC993=\"\",\"\",Qeydiyyat!AC993)","v":""}]
[null,745,{"$f":"IF(Qeydiyyat!C994=\"\",\"\",Qeydiyyat!C994)","v":""},{"$f":"IF(Qeydiyyat!B994=\"\",\"\",Qeydiyyat!B994)","v":""},{"$f":"IF(Qeydiyyat!D994=\"\",\"\",Qeydiyyat!D994)","v":""},{"$f":"IF(Qeydiyyat!K994=\"\",\"\",Qeydiyyat!K994)","v":""},{"$f":"IF(Qeydiyyat!AB994=\"\",\"\",Qeydiyyat!AB994)","v":""},{"$f":"IF(Qeydiyyat!AA994=\"\",\"\",Qeydiyyat!AA994)","v":""},{"$f":"IF(Qeydiyyat!X994=\"\",\"\",Qeydiyyat!X994)","v":""},{"$f":"IF(Qeydiyyat!Y994=\"\",\"\",Qeydiyyat!Y994)","v":""},null,{"$f":"IF(Qeydiyyat!AC994=\"\",\"\",Qeydiyyat!AC994)","v":""}]
[null,746,{"$f":"IF(Qeydiyyat!C995=\"\",\"\",Qeydiyyat!C995)","v":""},{"$f":"IF(Qeydiyyat!B995=\"\",\"\",Qeydiyyat!B995)","v":""},{"$f":"IF(Qeydiyyat!D995=\"\",\"\",Qeydiyyat!D995)","v":""},{"$f":"IF(Qeydiyyat!K995=\"\",\"\",Qeydiyyat!K995)","v":""},{"$f":"IF(Qeydiyyat!AB995=\"\",\"\",Qeydiyyat!AB995)","v":""},{"$f":"IF(Qeydiyyat!AA995=\"\",\"\",Qeydiyyat!AA995)","v":""},{"$f":"IF(Qeydiyyat!X995=\"\",\"\",Qeydiyyat!X995)","v":""},{"$f":"IF(Qeydiyyat!Y995=\"\",\"\",Qeydiyyat!Y995)","v":""},null,{"$f":"IF(Qeydiyyat!AC995=\"\",\"\",Qeydiyyat!AC995)","v":""}]
[null,747,{"$f":"IF(Qeydiyyat!C996=\"\",\"\",Qeydiyyat!C996)","v":""},{"$f":"IF(Qeydiyyat!B996=\"\",\"\",Qeydiyyat!B996)","v":""},{"$f":"IF(Qeydiyyat!D996=\"\",\"\",Qeydiyyat!D996)","v":""},{"$f":"IF(Qeydiyyat!K996=\"\",\"\",Qeydiyyat!K996)","v":""},{"$f":"IF(Qeydiyyat!AB996=\"\",\"\",Qeydiyyat!AB996)","v":""},{"$f":"IF(Qeydiyyat!AA996=\"\",\"\",Qeydiyyat!AA996)","v":""},{"$f":"IF(Qeydiyyat!X996=\"\",\"\",Qeydiyyat!X996)","v":""},{"$f":"IF(Qeydiyyat!Y996=\"\",\"\",Qeydiyyat!Y996)","v":""},null,{"$f":"IF(Qeydiyyat!AC996=\"\",\"\",Qeydiyyat!AC996)","v":""}]
[null,748,{"$f":"IF(Qeydiyyat!C997=\"\",\"\",Qeydiyyat!C997)","v":""},{"$f":"IF(Qeydiyyat!B997=\"\",\"\",Qeydiyyat!B997)","v":""},{"$f":"IF(Qeydiyyat!D997=\"\",\"\",Qeydiyyat!D997)","v":""},{"$f":"IF(Qeydiyyat!K997=\"\",\"\",Qeydiyyat!K997)","v":""},{"$f":"IF(Qeydiyyat!AB997=\"\",\"\",Qeydiyyat!AB997)","v":""},{"$f":"IF(Qeydiyyat!AA997=\"\",\"\",Qeydiyyat!AA997)","v":""},{"$f":"IF(Qeydiyyat!X997=\"\",\"\",Qeydiyyat!X997)","v":""},{"$f":"IF(Qeydiyyat!Y997=\"\",\"\",Qeydiyyat!Y997)","v":""},null,{"$f":"IF(Qeydiyyat!AC997=\"\",\"\",Qeydiyyat!AC997)","v":""}]
[null,749,{"$f":"IF(Qeydiyyat!C998=\"\",\"\",Qeydiyyat!C998)","v":""},{"$f":"IF(Qeydiyyat!B998=\"\",\"\",Qeydiyyat!B998)","v":""},{"$f":"IF(Qeydiyyat!D998=\"\",\"\",Qeydiyyat!D998)","v":""},{"$f":"IF(Qeydiyyat!K998=\"\",\"\",Qeydiyyat!K998)","v":""},{"$f":"IF(Qeydiyyat!AB998=\"\",\"\",Qeydiyyat!AB998)","v":""},{"$f":"IF(Qeydiyyat!AA998=\"\",\"\",Qeydiyyat!AA998)","v":""},{"$f":"IF(Qeydiyyat!X998=\"\",\"\",Qeydiyyat!X998)","v":""},{"$f":"IF(Qeydiyyat!Y998=\"\",\"\",Qeydiyyat!Y998)","v":""},null,{"$f":"IF(Qeydiyyat!AC998=\"\",\"\",Qeydiyyat!AC998)","v":""}]
[null,750,{"$f":"IF(Qeydiyyat!C999=\"\",\"\",Qeydiyyat!C999)","v":""},{"$f":"IF(Qeydiyyat!B999=\"\",\"\",Qeydiyyat!B999)","v":""},{"$f":"IF(Qeydiyyat!D999=\"\",\"\",Qeydiyyat!D999)","v":""},{"$f":"IF(Qeydiyyat!K999=\"\",\"\",Qeydiyyat!K999)","v":""},{"$f":"IF(Qeydiyyat!AB999=\"\",\"\",Qeydiyyat!AB999)","v":""},{"$f":"IF(Qeydiyyat!AA999=\"\",\"\",Qeydiyyat!AA999)","v":""},{"$f":"IF(Qeydiyyat!X999=\"\",\"\",Qeydiyyat!X999)","v":""},{"$f":"IF(Qeydiyyat!Y999=\"\",\"\",Qeydiyyat!Y999)","v":""},null,{"$f":"IF(Qeydiyyat!AC999=\"\",\"\",Qeydiyyat!AC999)","v":""}]
[null,751,{"$f":"IF(Qeydiyyat!C1000=\"\",\"\",Qeydiyyat!C1000)","v":""},{"$f":"IF(Qeydiyyat!B1000=\"\",\"\",Qeydiyyat!B1000)","v":""},{"$f":"IF(Qeydiyyat!D1000=\"\",\"\",Qeydiyyat!D1000)","v":""},{"$f":"IF(Qeydiyyat!K1000=\"\",\"\",Qeydiyyat!K1000)","v":""},{"$f":"IF(Qeydiyyat!AB1000=\"\",\"\",Qeydiyyat!AB1000)","v":""},{"$f":"IF(Qeydiyyat!AA1000=\"\",\"\",Qeydiyyat!AA1000)","v":""},{"$f":"IF(Qeydiyyat!X1000=\"\",\"\",Qeydiyyat!X1000)","v":""},{"$f":"IF(Qeydiyyat!Y1000=\"\",\"\",Qeydiyyat!Y1000)","v":""},null,{"$f":"IF(Qeydiyyat!AC1000=\"\",\"\",Qeydiyyat!AC1000)","v":""}]
[null,752,{"$f":"IF(Qeydiyyat!C1001=\"\",\"\",Qeydiyyat!C1001)","v":""},{"$f":"IF(Qeydiyyat!B1001=\"\",\"\",Qeydiyyat!B1001)","v":""},{"$f":"IF(Qeydiyyat!D1001=\"\",\"\",Qeydiyyat!D1001)","v":""},{"$f":"IF(Qeydiyyat!K1001=\"\",\"\",Qeydiyyat!K1001)","v":""},{"$f":"IF(Qeydiyyat!AB1001=\"\",\"\",Qeydiyyat!AB1001)","v":""},{"$f":"IF(Qeydiyyat!AA1001=\"\",\"\",Qeydiyyat!AA1001)","v":""},{"$f":"IF(Qeydiyyat!X1001=\"\",\"\",Qeydiyyat!X1001)","v":""},{"$f":"IF(Qeydiyyat!Y1001=\"\",\"\",Qeydiyyat!Y1001)","v":""},null,{"$f":"IF(Qeydiyyat!AC1001=\"\",\"\",Qeydiyyat!AC1001)","v":""}]
[null,753,{"$f":"IF(Qeydiyyat!C1002=\"\",\"\",Qeydiyyat!C1002)","v":""},{"$f":"IF(Qeydiyyat!B1002=\"\",\"\",Qeydiyyat!B1002)","v":""},{"$f":"IF(Qeydiyyat!D1002=\"\",\"\",Qeydiyyat!D1002)","v":""},{"$f":"IF(Qeydiyyat!K1002=\"\",\"\",Qeydiyyat!K1002)","v":""},{"$f":"IF(Qeydiyyat!AB1002=\"\",\"\",Qeydiyyat!AB1002)","v":""},{"$f":"IF(Qeydiyyat!AA1002=\"\",\"\",Qeydiyyat!AA1002)","v":""},{"$f":"IF(Qeydiyyat!X1002=\"\",\"\",Qeydiyyat!X1002)","v":""},{"$f":"IF(Qeydiyyat!Y1002=\"\",\"\",Qeydiyyat!Y1002)","v":""},null,{"$f":"IF(Qeydiyyat!AC1002=\"\",\"\",Qeydiyyat!AC1002)","v":""}]
[null,754,{"$f":"IF(Qeydiyyat!C1003=\"\",\"\",Qeydiyyat!C1003)","v":""},{"$f":"IF(Qeydiyyat!B1003=\"\",\"\",Qeydiyyat!B1003)","v":""},{"$f":"IF(Qeydiyyat!D1003=\"\",\"\",Qeydiyyat!D1003)","v":""},{"$f":"IF(Qeydiyyat!K1003=\"\",\"\",Qeydiyyat!K1003)","v":""},{"$f":"IF(Qeydiyyat!AB1003=\"\",\"\",Qeydiyyat!AB1003)","v":""},{"$f":"IF(Qeydiyyat!AA1003=\"\",\"\",Qeydiyyat!AA1003)","v":""},{"$f":"IF(Qeydiyyat!X1003=\"\",\"\",Qeydiyyat!X1003)","v":""},{"$f":"IF(Qeydiyyat!Y1003=\"\",\"\",Qeydiyyat!Y1003)","v":""},null,{"$f":"IF(Qeydiyyat!AC1003=\"\",\"\",Qeydiyyat!AC1003)","v":""}]
[null,755,{"$f":"IF(Qeydiyyat!C1004=\"\",\"\",Qeydiyyat!C1004)","v":""},{"$f":"IF(Qeydiyyat!B1004=\"\",\"\",Qeydiyyat!B1004)","v":""},{"$f":"IF(Qeydiyyat!D1004=\"\",\"\",Qeydiyyat!D1004)","v":""},{"$f":"IF(Qeydiyyat!K1004=\"\",\"\",Qeydiyyat!K1004)","v":""},{"$f":"IF(Qeydiyyat!AB1004=\"\",\"\",Qeydiyyat!AB1004)","v":""},{"$f":"IF(Qeydiyyat!AA1004=\"\",\"\",Qeydiyyat!AA1004)","v":""},{"$f":"IF(Qeydiyyat!X1004=\"\",\"\",Qeydiyyat!X1004)","v":""},{"$f":"IF(Qeydiyyat!Y1004=\"\",\"\",Qeydiyyat!Y1004)","v":""},null,{"$f":"IF(Qeydiyyat!AC1004=\"\",\"\",Qeydiyyat!AC1004)","v":""}]
[null,756,{"$f":"IF(Qeydiyyat!C1005=\"\",\"\",Qeydiyyat!C1005)","v":""},{"$f":"IF(Qeydiyyat!B1005=\"\",\"\",Qeydiyyat!B1005)","v":""},{"$f":"IF(Qeydiyyat!D1005=\"\",\"\",Qeydiyyat!D1005)","v":""},{"$f":"IF(Qeydiyyat!K1005=\"\",\"\",Qeydiyyat!K1005)","v":""},{"$f":"IF(Qeydiyyat!AB1005=\"\",\"\",Qeydiyyat!AB1005)","v":""},{"$f":"IF(Qeydiyyat!AA1005=\"\",\"\",Qeydiyyat!AA1005)","v":""},{"$f":"IF(Qeydiyyat!X1005=\"\",\"\",Qeydiyyat!X1005)","v":""},{"$f":"IF(Qeydiyyat!Y1005=\"\",\"\",Qeydiyyat!Y1005)","v":""},null,{"$f":"IF(Qeydiyyat!AC1005=\"\",\"\",Qeydiyyat!AC1005)","v":""}]
[null,757,{"$f":"IF(Qeydiyyat!C1006=\"\",\"\",Qeydiyyat!C1006)","v":""},{"$f":"IF(Qeydiyyat!B1006=\"\",\"\",Qeydiyyat!B1006)","v":""},{"$f":"IF(Qeydiyyat!D1006=\"\",\"\",Qeydiyyat!D1006)","v":""},{"$f":"IF(Qeydiyyat!K1006=\"\",\"\",Qeydiyyat!K1006)","v":""},{"$f":"IF(Qeydiyyat!AB1006=\"\",\"\",Qeydiyyat!AB1006)","v":""},{"$f":"IF(Qeydiyyat!AA1006=\"\",\"\",Qeydiyyat!AA1006)","v":""},{"$f":"IF(Qeydiyyat!X1006=\"\",\"\",Qeydiyyat!X1006)","v":""},{"$f":"IF(Qeydiyyat!Y1006=\"\",\"\",Qeydiyyat!Y1006)","v":""},null,{"$f":"IF(Qeydiyyat!AC1006=\"\",\"\",Qeydiyyat!AC1006)","v":""}]
[null,758,{"$f":"IF(Qeydiyyat!C1007=\"\",\"\",Qeydiyyat!C1007)","v":""},{"$f":"IF(Qeydiyyat!B1007=\"\",\"\",Qeydiyyat!B1007)","v":""},{"$f":"IF(Qeydiyyat!D1007=\"\",\"\",Qeydiyyat!D1007)","v":""},{"$f":"IF(Qeydiyyat!K1007=\"\",\"\",Qeydiyyat!K1007)","v":""},{"$f":"IF(Qeydiyyat!AB1007=\"\",\"\",Qeydiyyat!AB1007)","v":""},{"$f":"IF(Qeydiyyat!AA1007=\"\",\"\",Qeydiyyat!AA1007)","v":""},{"$f":"IF(Qeydiyyat!X1007=\"\",\"\",Qeydiyyat!X1007)","v":""},{"$f":"IF(Qeydiyyat!Y1007=\"\",\"\",Qeydiyyat!Y1007)","v":""},null,{"$f":"IF(Qeydiyyat!AC1007=\"\",\"\",Qeydiyyat!AC1007)","v":""}]
[null,759,{"$f":"IF(Qeydiyyat!C1008=\"\",\"\",Qeydiyyat!C1008)","v":""},{"$f":"IF(Qeydiyyat!B1008=\"\",\"\",Qeydiyyat!B1008)","v":""},{"$f":"IF(Qeydiyyat!D1008=\"\",\"\",Qeydiyyat!D1008)","v":""},{"$f":"IF(Qeydiyyat!K1008=\"\",\"\",Qeydiyyat!K1008)","v":""},{"$f":"IF(Qeydiyyat!AB1008=\"\",\"\",Qeydiyyat!AB1008)","v":""},{"$f":"IF(Qeydiyyat!AA1008=\"\",\"\",Qeydiyyat!AA1008)","v":""},{"$f":"IF(Qeydiyyat!X1008=\"\",\"\",Qeydiyyat!X1008)","v":""},{"$f":"IF(Qeydiyyat!Y1008=\"\",\"\",Qeydiyyat!Y1008)","v":""},null,{"$f":"IF(Qeydiyyat!AC1008=\"\",\"\",Qeydiyyat!AC1008)","v":""}]
[null,760,{"$f":"IF(Qeydiyyat!C1009=\"\",\"\",Qeydiyyat!C1009)","v":""},{"$f":"IF(Qeydiyyat!B1009=\"\",\"\",Qeydiyyat!B1009)","v":""},{"$f":"IF(Qeydiyyat!D1009=\"\",\"\",Qeydiyyat!D1009)","v":""},{"$f":"IF(Qeydiyyat!K1009=\"\",\"\",Qeydiyyat!K1009)","v":""},{"$f":"IF(Qeydiyyat!AB1009=\"\",\"\",Qeydiyyat!AB1009)","v":""},{"$f":"IF(Qeydiyyat!AA1009=\"\",\"\",Qeydiyyat!AA1009)","v":""},{"$f":"IF(Qeydiyyat!X1009=\"\",\"\",Qeydiyyat!X1009)","v":""},{"$f":"IF(Qeydiyyat!Y1009=\"\",\"\",Qeydiyyat!Y1009)","v":""},null,{"$f":"IF(Qeydiyyat!AC1009=\"\",\"\",Qeydiyyat!AC1009)","v":""}]
[null,761,{"$f":"IF(Qeydiyyat!C1010=\"\",\"\",Qeydiyyat!C1010)","v":""},{"$f":"IF(Qeydiyyat!B1010=\"\",\"\",Qeydiyyat!B1010)","v":""},{"$f":"IF(Qeydiyyat!D1010=\"\",\"\",Qeydiyyat!D1010)","v":""},{"$f":"IF(Qeydiyyat!K1010=\"\",\"\",Qeydiyyat!K1010)","v":""},{"$f":"IF(Qeydiyyat!AB1010=\"\",\"\",Qeydiyyat!AB1010)","v":""},{"$f":"IF(Qeydiyyat!AA1010=\"\",\"\",Qeydiyyat!AA1010)","v":""},{"$f":"IF(Qeydiyyat!X1010=\"\",\"\",Qeydiyyat!X1010)","v":""},{"$f":"IF(Qeydiyyat!Y1010=\"\",\"\",Qeydiyyat!Y1010)","v":""},null,{"$f":"IF(Qeydiyyat!AC1010=\"\",\"\",Qeydiyyat!AC1010)","v":""}]
[null,762,{"$f":"IF(Qeydiyyat!C1011=\"\",\"\",Qeydiyyat!C1011)","v":""},{"$f":"IF(Qeydiyyat!B1011=\"\",\"\",Qeydiyyat!B1011)","v":""},{"$f":"IF(Qeydiyyat!D1011=\"\",\"\",Qeydiyyat!D1011)","v":""},{"$f":"IF(Qeydiyyat!K1011=\"\",\"\",Qeydiyyat!K1011)","v":""},{"$f":"IF(Qeydiyyat!AB1011=\"\",\"\",Qeydiyyat!AB1011)","v":""},{"$f":"IF(Qeydiyyat!AA1011=\"\",\"\",Qeydiyyat!AA1011)","v":""},{"$f":"IF(Qeydiyyat!X1011=\"\",\"\",Qeydiyyat!X1011)","v":""},{"$f":"IF(Qeydiyyat!Y1011=\"\",\"\",Qeydiyyat!Y1011)","v":""},null,{"$f":"IF(Qeydiyyat!AC1011=\"\",\"\",Qeydiyyat!AC1011)","v":""}]
[null,763,{"$f":"IF(Qeydiyyat!C1012=\"\",\"\",Qeydiyyat!C1012)","v":""},{"$f":"IF(Qeydiyyat!B1012=\"\",\"\",Qeydiyyat!B1012)","v":""},{"$f":"IF(Qeydiyyat!D1012=\"\",\"\",Qeydiyyat!D1012)","v":""},{"$f":"IF(Qeydiyyat!K1012=\"\",\"\",Qeydiyyat!K1012)","v":""},{"$f":"IF(Qeydiyyat!AB1012=\"\",\"\",Qeydiyyat!AB1012)","v":""},{"$f":"IF(Qeydiyyat!AA1012=\"\",\"\",Qeydiyyat!AA1012)","v":""},{"$f":"IF(Qeydiyyat!X1012=\"\",\"\",Qeydiyyat!X1012)","v":""},{"$f":"IF(Qeydiyyat!Y1012=\"\",\"\",Qeydiyyat!Y1012)","v":""},null,{"$f":"IF(Qeydiyyat!AC1012=\"\",\"\",Qeydiyyat!AC1012)","v":""}]
[null,764,{"$f":"IF(Qeydiyyat!C1013=\"\",\"\",Qeydiyyat!C1013)","v":""},{"$f":"IF(Qeydiyyat!B1013=\"\",\"\",Qeydiyyat!B1013)","v":""},{"$f":"IF(Qeydiyyat!D1013=\"\",\"\",Qeydiyyat!D1013)","v":""},{"$f":"IF(Qeydiyyat!K1013=\"\",\"\",Qeydiyyat!K1013)","v":""},{"$f":"IF(Qeydiyyat!AB1013=\"\",\"\",Qeydiyyat!AB1013)","v":""},{"$f":"IF(Qeydiyyat!AA1013=\"\",\"\",Qeydiyyat!AA1013)","v":""},{"$f":"IF(Qeydiyyat!X1013=\"\",\"\",Qeydiyyat!X1013)","v":""},{"$f":"IF(Qeydiyyat!Y1013=\"\",\"\",Qeydiyyat!Y1013)","v":""},null,{"$f":"IF(Qeydiyyat!AC1013=\"\",\"\",Qeydiyyat!AC1013)","v":""}]
[null,765,{"$f":"IF(Qeydiyyat!C1014=\"\",\"\",Qeydiyyat!C1014)","v":""},{"$f":"IF(Qeydiyyat!B1014=\"\",\"\",Qeydiyyat!B1014)","v":""},{"$f":"IF(Qeydiyyat!D1014=\"\",\"\",Qeydiyyat!D1014)","v":""},{"$f":"IF(Qeydiyyat!K1014=\"\",\"\",Qeydiyyat!K1014)","v":""},{"$f":"IF(Qeydiyyat!AB1014=\"\",\"\",Qeydiyyat!AB1014)","v":""},{"$f":"IF(Qeydiyyat!AA1014=\"\",\"\",Qeydiyyat!AA1014)","v":""},{"$f":"IF(Qeydiyyat!X1014=\"\",\"\",Qeydiyyat!X1014)","v":""},{"$f":"IF(Qeydiyyat!Y1014=\"\",\"\",Qeydiyyat!Y1014)","v":""},null,{"$f":"IF(Qeydiyyat!AC1014=\"\",\"\",Qeydiyyat!AC1014)","v":""}]
[null,766,{"$f":"IF(Qeydiyyat!C1015=\"\",\"\",Qeydiyyat!C1015)","v":""},{"$f":"IF(Qeydiyyat!B1015=\"\",\"\",Qeydiyyat!B1015)","v":""},{"$f":"IF(Qeydiyyat!D1015=\"\",\"\",Qeydiyyat!D1015)","v":""},{"$f":"IF(Qeydiyyat!K1015=\"\",\"\",Qeydiyyat!K1015)","v":""},{"$f":"IF(Qeydiyyat!AB1015=\"\",\"\",Qeydiyyat!AB1015)","v":""},{"$f":"IF(Qeydiyyat!AA1015=\"\",\"\",Qeydiyyat!AA1015)","v":""},{"$f":"IF(Qeydiyyat!X1015=\"\",\"\",Qeydiyyat!X1015)","v":""},{"$f":"IF(Qeydiyyat!Y1015=\"\",\"\",Qeydiyyat!Y1015)","v":""},null,{"$f":"IF(Qeydiyyat!AC1015=\"\",\"\",Qeydiyyat!AC1015)","v":""}]
[null,767,{"$f":"IF(Qeydiyyat!C1016=\"\",\"\",Qeydiyyat!C1016)","v":""},{"$f":"IF(Qeydiyyat!B1016=\"\",\"\",Qeydiyyat!B1016)","v":""},{"$f":"IF(Qeydiyyat!D1016=\"\",\"\",Qeydiyyat!D1016)","v":""},{"$f":"IF(Qeydiyyat!K1016=\"\",\"\",Qeydiyyat!K1016)","v":""},{"$f":"IF(Qeydiyyat!AB1016=\"\",\"\",Qeydiyyat!AB1016)","v":""},{"$f":"IF(Qeydiyyat!AA1016=\"\",\"\",Qeydiyyat!AA1016)","v":""},{"$f":"IF(Qeydiyyat!X1016=\"\",\"\",Qeydiyyat!X1016)","v":""},{"$f":"IF(Qeydiyyat!Y1016=\"\",\"\",Qeydiyyat!Y1016)","v":""},null,{"$f":"IF(Qeydiyyat!AC1016=\"\",\"\",Qeydiyyat!AC1016)","v":""}]
[null,768,{"$f":"IF(Qeydiyyat!C1017=\"\",\"\",Qeydiyyat!C1017)","v":""},{"$f":"IF(Qeydiyyat!B1017=\"\",\"\",Qeydiyyat!B1017)","v":""},{"$f":"IF(Qeydiyyat!D1017=\"\",\"\",Qeydiyyat!D1017)","v":""},{"$f":"IF(Qeydiyyat!K1017=\"\",\"\",Qeydiyyat!K1017)","v":""},{"$f":"IF(Qeydiyyat!AB1017=\"\",\"\",Qeydiyyat!AB1017)","v":""},{"$f":"IF(Qeydiyyat!AA1017=\"\",\"\",Qeydiyyat!AA1017)","v":""},{"$f":"IF(Qeydiyyat!X1017=\"\",\"\",Qeydiyyat!X1017)","v":""},{"$f":"IF(Qeydiyyat!Y1017=\"\",\"\",Qeydiyyat!Y1017)","v":""},null,{"$f":"IF(Qeydiyyat!AC1017=\"\",\"\",Qeydiyyat!AC1017)","v":""}]
[null,769,{"$f":"IF(Qeydiyyat!C1018=\"\",\"\",Qeydiyyat!C1018)","v":""},{"$f":"IF(Qeydiyyat!B1018=\"\",\"\",Qeydiyyat!B1018)","v":""},{"$f":"IF(Qeydiyyat!D1018=\"\",\"\",Qeydiyyat!D1018)","v":""},{"$f":"IF(Qeydiyyat!K1018=\"\",\"\",Qeydiyyat!K1018)","v":""},{"$f":"IF(Qeydiyyat!AB1018=\"\",\"\",Qeydiyyat!AB1018)","v":""},{"$f":"IF(Qeydiyyat!AA1018=\"\",\"\",Qeydiyyat!AA1018)","v":""},{"$f":"IF(Qeydiyyat!X1018=\"\",\"\",Qeydiyyat!X1018)","v":""},{"$f":"IF(Qeydiyyat!Y1018=\"\",\"\",Qeydiyyat!Y1018)","v":""},null,{"$f":"IF(Qeydiyyat!AC1018=\"\",\"\",Qeydiyyat!AC1018)","v":""}]
[null,770,{"$f":"IF(Qeydiyyat!C1019=\"\",\"\",Qeydiyyat!C1019)","v":""},{"$f":"IF(Qeydiyyat!B1019=\"\",\"\",Qeydiyyat!B1019)","v":""},{"$f":"IF(Qeydiyyat!D1019=\"\",\"\",Qeydiyyat!D1019)","v":""},{"$f":"IF(Qeydiyyat!K1019=\"\",\"\",Qeydiyyat!K1019)","v":""},{"$f":"IF(Qeydiyyat!AB1019=\"\",\"\",Qeydiyyat!AB1019)","v":""},{"$f":"IF(Qeydiyyat!AA1019=\"\",\"\",Qeydiyyat!AA1019)","v":""},{"$f":"IF(Qeydiyyat!X1019=\"\",\"\",Qeydiyyat!X1019)","v":""},{"$f":"IF(Qeydiyyat!Y1019=\"\",\"\",Qeydiyyat!Y1019)","v":""},null,{"$f":"IF(Qeydiyyat!AC1019=\"\",\"\",Qeydiyyat!AC1019)","v":""}]
[null,771,{"$f":"IF(Qeydiyyat!C1020=\"\",\"\",Qeydiyyat!C1020)","v":""},{"$f":"IF(Qeydiyyat!B1020=\"\",\"\",Qeydiyyat!B1020)","v":""},{"$f":"IF(Qeydiyyat!D1020=\"\",\"\",Qeydiyyat!D1020)","v":""},{"$f":"IF(Qeydiyyat!K1020=\"\",\"\",Qeydiyyat!K1020)","v":""},{"$f":"IF(Qeydiyyat!AB1020=\"\",\"\",Qeydiyyat!AB1020)","v":""},{"$f":"IF(Qeydiyyat!AA1020=\"\",\"\",Qeydiyyat!AA1020)","v":""},{"$f":"IF(Qeydiyyat!X1020=\"\",\"\",Qeydiyyat!X1020)","v":""},{"$f":"IF(Qeydiyyat!Y1020=\"\",\"\",Qeydiyyat!Y1020)","v":""},null,{"$f":"IF(Qeydiyyat!AC1020=\"\",\"\",Qeydiyyat!AC1020)","v":""}]
[null,772,{"$f":"IF(Qeydiyyat!C1021=\"\",\"\",Qeydiyyat!C1021)","v":""},{"$f":"IF(Qeydiyyat!B1021=\"\",\"\",Qeydiyyat!B1021)","v":""},{"$f":"IF(Qeydiyyat!D1021=\"\",\"\",Qeydiyyat!D1021)","v":""},{"$f":"IF(Qeydiyyat!K1021=\"\",\"\",Qeydiyyat!K1021)","v":""},{"$f":"IF(Qeydiyyat!AB1021=\"\",\"\",Qeydiyyat!AB1021)","v":""},{"$f":"IF(Qeydiyyat!AA1021=\"\",\"\",Qeydiyyat!AA1021)","v":""},{"$f":"IF(Qeydiyyat!X1021=\"\",\"\",Qeydiyyat!X1021)","v":""},{"$f":"IF(Qeydiyyat!Y1021=\"\",\"\",Qeydiyyat!Y1021)","v":""},null,{"$f":"IF(Qeydiyyat!AC1021=\"\",\"\",Qeydiyyat!AC1021)","v":""}]
[null,{"$f":"B790+1","v":773},{"$f":"IF(Qeydiyyat!C1022=\"\",\"\",Qeydiyyat!C1022)","v":""},{"$f":"IF(Qeydiyyat!B1022=\"\",\"\",Qeydiyyat!B1022)","v":""},{"$f":"IF(Qeydiyyat!D1022=\"\",\"\",Qeydiyyat!D1022)","v":""},{"$f":"IF(Qeydiyyat!K1022=\"\",\"\",Qeydiyyat!K1022)","v":""},{"$f":"IF(Qeydiyyat!AB1022=\"\",\"\",Qeydiyyat!AB1022)","v":""},{"$f":"IF(Qeydiyyat!AA1022=\"\",\"\",Qeydiyyat!AA1022)","v":""},{"$f":"IF(Qeydiyyat!X1022=\"\",\"\",Qeydiyyat!X1022)","v":""},{"$f":"IF(Qeydiyyat!Y1022=\"\",\"\",Qeydiyyat!Y1022)","v":""},null,{"$f":"IF(Qeydiyyat!AC1022=\"\",\"\",Qeydiyyat!AC1022)","v":""}]
[null,774,{"$f":"IF(Qeydiyyat!C1023=\"\",\"\",Qeydiyyat!C1023)","v":""},{"$f":"IF(Qeydiyyat!B1023=\"\",\"\",Qeydiyyat!B1023)","v":""},{"$f":"IF(Qeydiyyat!D1023=\"\",\"\",Qeydiyyat!D1023)","v":""},{"$f":"IF(Qeydiyyat!K1023=\"\",\"\",Qeydiyyat!K1023)","v":""},{"$f":"IF(Qeydiyyat!AB1023=\"\",\"\",Qeydiyyat!AB1023)","v":""},{"$f":"IF(Qeydiyyat!AA1023=\"\",\"\",Qeydiyyat!AA1023)","v":""},{"$f":"IF(Qeydiyyat!X1023=\"\",\"\",Qeydiyyat!X1023)","v":""},{"$f":"IF(Qeydiyyat!Y1023=\"\",\"\",Qeydiyyat!Y1023)","v":""},null,{"$f":"IF(Qeydiyyat!AC1023=\"\",\"\",Qeydiyyat!AC1023)","v":""}]
[null,775,{"$f":"IF(Qeydiyyat!C1024=\"\",\"\",Qeydiyyat!C1024)","v":""},{"$f":"IF(Qeydiyyat!B1024=\"\",\"\",Qeydiyyat!B1024)","v":""},{"$f":"IF(Qeydiyyat!D1024=\"\",\"\",Qeydiyyat!D1024)","v":""},{"$f":"IF(Qeydiyyat!K1024=\"\",\"\",Qeydiyyat!K1024)","v":""},{"$f":"IF(Qeydiyyat!AB1024=\"\",\"\",Qeydiyyat!AB1024)","v":""},{"$f":"IF(Qeydiyyat!AA1024=\"\",\"\",Qeydiyyat!AA1024)","v":""},{"$f":"IF(Qeydiyyat!X1024=\"\",\"\",Qeydiyyat!X1024)","v":""},{"$f":"IF(Qeydiyyat!Y1024=\"\",\"\",Qeydiyyat!Y1024)","v":""},null,{"$f":"IF(Qeydiyyat!AC1024=\"\",\"\",Qeydiyyat!AC1024)","v":""}]
[null,776,{"$f":"IF(Qeydiyyat!C1025=\"\",\"\",Qeydiyyat!C1025)","v":""},{"$f":"IF(Qeydiyyat!B1025=\"\",\"\",Qeydiyyat!B1025)","v":""},{"$f":"IF(Qeydiyyat!D1025=\"\",\"\",Qeydiyyat!D1025)","v":""},{"$f":"IF(Qeydiyyat!K1025=\"\",\"\",Qeydiyyat!K1025)","v":""},{"$f":"IF(Qeydiyyat!AB1025=\"\",\"\",Qeydiyyat!AB1025)","v":""},{"$f":"IF(Qeydiyyat!AA1025=\"\",\"\",Qeydiyyat!AA1025)","v":""},{"$f":"IF(Qeydiyyat!X1025=\"\",\"\",Qeydiyyat!X1025)","v":""},{"$f":"IF(Qeydiyyat!Y1025=\"\",\"\",Qeydiyyat!Y1025)","v":""},null,{"$f":"IF(Qeydiyyat!AC1025=\"\",\"\",Qeydiyyat!AC1025)","v":""}]
[null,777,{"$f":"IF(Qeydiyyat!C1026=\"\",\"\",Qeydiyyat!C1026)","v":""},{"$f":"IF(Qeydiyyat!B1026=\"\",\"\",Qeydiyyat!B1026)","v":""},{"$f":"IF(Qeydiyyat!D1026=\"\",\"\",Qeydiyyat!D1026)","v":""},{"$f":"IF(Qeydiyyat!K1026=\"\",\"\",Qeydiyyat!K1026)","v":""},{"$f":"IF(Qeydiyyat!AB1026=\"\",\"\",Qeydiyyat!AB1026)","v":""},{"$f":"IF(Qeydiyyat!AA1026=\"\",\"\",Qeydiyyat!AA1026)","v":""},{"$f":"IF(Qeydiyyat!X1026=\"\",\"\",Qeydiyyat!X1026)","v":""},{"$f":"IF(Qeydiyyat!Y1026=\"\",\"\",Qeydiyyat!Y1026)","v":""},null,{"$f":"IF(Qeydiyyat!AC1026=\"\",\"\",Qeydiyyat!AC1026)","v":""}]
[null,778,{"$f":"IF(Qeydiyyat!C1027=\"\",\"\",Qeydiyyat!C1027)","v":""},{"$f":"IF(Qeydiyyat!B1027=\"\",\"\",Qeydiyyat!B1027)","v":""},{"$f":"IF(Qeydiyyat!D1027=\"\",\"\",Qeydiyyat!D1027)","v":""},{"$f":"IF(Qeydiyyat!K1027=\"\",\"\",Qeydiyyat!K1027)","v":""},{"$f":"IF(Qeydiyyat!AB1027=\"\",\"\",Qeydiyyat!AB1027)","v":""},{"$f":"IF(Qeydiyyat!AA1027=\"\",\"\",Qeydiyyat!AA1027)","v":""},{"$f":"IF(Qeydiyyat!X1027=\"\",\"\",Qeydiyyat!X1027)","v":""},{"$f":"IF(Qeydiyyat!Y1027=\"\",\"\",Qeydiyyat!Y1027)","v":""},null,{"$f":"IF(Qeydiyyat!AC1027=\"\",\"\",Qeydiyyat!AC1027)","v":""}]
[null,779,{"$f":"IF(Qeydiyyat!C1028=\"\",\"\",Qeydiyyat!C1028)","v":""},{"$f":"IF(Qeydiyyat!B1028=\"\",\"\",Qeydiyyat!B1028)","v":""},{"$f":"IF(Qeydiyyat!D1028=\"\",\"\",Qeydiyyat!D1028)","v":""},{"$f":"IF(Qeydiyyat!K1028=\"\",\"\",Qeydiyyat!K1028)","v":""},{"$f":"IF(Qeydiyyat!AB1028=\"\",\"\",Qeydiyyat!AB1028)","v":""},{"$f":"IF(Qeydiyyat!AA1028=\"\",\"\",Qeydiyyat!AA1028)","v":""},{"$f":"IF(Qeydiyyat!X1028=\"\",\"\",Qeydiyyat!X1028)","v":""},{"$f":"IF(Qeydiyyat!Y1028=\"\",\"\",Qeydiyyat!Y1028)","v":""},null,{"$f":"IF(Qeydiyyat!AC1028=\"\",\"\",Qeydiyyat!AC1028)","v":""}]
[null,780,{"$f":"IF(Qeydiyyat!C1029=\"\",\"\",Qeydiyyat!C1029)","v":""},{"$f":"IF(Qeydiyyat!B1029=\"\",\"\",Qeydiyyat!B1029)","v":""},{"$f":"IF(Qeydiyyat!D1029=\"\",\"\",Qeydiyyat!D1029)","v":""},{"$f":"IF(Qeydiyyat!K1029=\"\",\"\",Qeydiyyat!K1029)","v":""},{"$f":"IF(Qeydiyyat!AB1029=\"\",\"\",Qeydiyyat!AB1029)","v":""},{"$f":"IF(Qeydiyyat!AA1029=\"\",\"\",Qeydiyyat!AA1029)","v":""},{"$f":"IF(Qeydiyyat!X1029=\"\",\"\",Qeydiyyat!X1029)","v":""},{"$f":"IF(Qeydiyyat!Y1029=\"\",\"\",Qeydiyyat!Y1029)","v":""},null,{"$f":"IF(Qeydiyyat!AC1029=\"\",\"\",Qeydiyyat!AC1029)","v":""}]
[null,781,{"$f":"IF(Qeydiyyat!C1030=\"\",\"\",Qeydiyyat!C1030)","v":""},{"$f":"IF(Qeydiyyat!B1030=\"\",\"\",Qeydiyyat!B1030)","v":""},{"$f":"IF(Qeydiyyat!D1030=\"\",\"\",Qeydiyyat!D1030)","v":""},{"$f":"IF(Qeydiyyat!K1030=\"\",\"\",Qeydiyyat!K1030)","v":""},{"$f":"IF(Qeydiyyat!AB1030=\"\",\"\",Qeydiyyat!AB1030)","v":""},{"$f":"IF(Qeydiyyat!AA1030=\"\",\"\",Qeydiyyat!AA1030)","v":""},{"$f":"IF(Qeydiyyat!X1030=\"\",\"\",Qeydiyyat!X1030)","v":""},{"$f":"IF(Qeydiyyat!Y1030=\"\",\"\",Qeydiyyat!Y1030)","v":""},null,{"$f":"IF(Qeydiyyat!AC1030=\"\",\"\",Qeydiyyat!AC1030)","v":""}]
[null,782,{"$f":"IF(Qeydiyyat!C1031=\"\",\"\",Qeydiyyat!C1031)","v":""},{"$f":"IF(Qeydiyyat!B1031=\"\",\"\",Qeydiyyat!B1031)","v":""},{"$f":"IF(Qeydiyyat!D1031=\"\",\"\",Qeydiyyat!D1031)","v":""},{"$f":"IF(Qeydiyyat!K1031=\"\",\"\",Qeydiyyat!K1031)","v":""},{"$f":"IF(Qeydiyyat!AB1031=\"\",\"\",Qeydiyyat!AB1031)","v":""},{"$f":"IF(Qeydiyyat!AA1031=\"\",\"\",Qeydiyyat!AA1031)","v":""},{"$f":"IF(Qeydiyyat!X1031=\"\",\"\",Qeydiyyat!X1031)","v":""},{"$f":"IF(Qeydiyyat!Y1031=\"\",\"\",Qeydiyyat!Y1031)","v":""},null,{"$f":"IF(Qeydiyyat!AC1031=\"\",\"\",Qeydiyyat!AC1031)","v":""}]
[null,783,{"$f":"IF(Qeydiyyat!C1032=\"\",\"\",Qeydiyyat!C1032)","v":""},{"$f":"IF(Qeydiyyat!B1032=\"\",\"\",Qeydiyyat!B1032)","v":""},{"$f":"IF(Qeydiyyat!D1032=\"\",\"\",Qeydiyyat!D1032)","v":""},{"$f":"IF(Qeydiyyat!K1032=\"\",\"\",Qeydiyyat!K1032)","v":""},{"$f":"IF(Qeydiyyat!AB1032=\"\",\"\",Qeydiyyat!AB1032)","v":""},{"$f":"IF(Qeydiyyat!AA1032=\"\",\"\",Qeydiyyat!AA1032)","v":""},{"$f":"IF(Qeydiyyat!X1032=\"\",\"\",Qeydiyyat!X1032)","v":""},{"$f":"IF(Qeydiyyat!Y1032=\"\",\"\",Qeydiyyat!Y1032)","v":""},null,{"$f":"IF(Qeydiyyat!AC1032=\"\",\"\",Qeydiyyat!AC1032)","v":""}]
[null,784,{"$f":"IF(Qeydiyyat!C1033=\"\",\"\",Qeydiyyat!C1033)","v":""},{"$f":"IF(Qeydiyyat!B1033=\"\",\"\",Qeydiyyat!B1033)","v":""},{"$f":"IF(Qeydiyyat!D1033=\"\",\"\",Qeydiyyat!D1033)","v":""},{"$f":"IF(Qeydiyyat!K1033=\"\",\"\",Qeydiyyat!K1033)","v":""},{"$f":"IF(Qeydiyyat!AB1033=\"\",\"\",Qeydiyyat!AB1033)","v":""},{"$f":"IF(Qeydiyyat!AA1033=\"\",\"\",Qeydiyyat!AA1033)","v":""},{"$f":"IF(Qeydiyyat!X1033=\"\",\"\",Qeydiyyat!X1033)","v":""},{"$f":"IF(Qeydiyyat!Y1033=\"\",\"\",Qeydiyyat!Y1033)","v":""},null,{"$f":"IF(Qeydiyyat!AC1033=\"\",\"\",Qeydiyyat!AC1033)","v":""}]
[null,785,{"$f":"IF(Qeydiyyat!C1034=\"\",\"\",Qeydiyyat!C1034)","v":""},{"$f":"IF(Qeydiyyat!B1034=\"\",\"\",Qeydiyyat!B1034)","v":""},{"$f":"IF(Qeydiyyat!D1034=\"\",\"\",Qeydiyyat!D1034)","v":""},{"$f":"IF(Qeydiyyat!K1034=\"\",\"\",Qeydiyyat!K1034)","v":""},{"$f":"IF(Qeydiyyat!AB1034=\"\",\"\",Qeydiyyat!AB1034)","v":""},{"$f":"IF(Qeydiyyat!AA1034=\"\",\"\",Qeydiyyat!AA1034)","v":""},{"$f":"IF(Qeydiyyat!X1034=\"\",\"\",Qeydiyyat!X1034)","v":""},{"$f":"IF(Qeydiyyat!Y1034=\"\",\"\",Qeydiyyat!Y1034)","v":""},null,{"$f":"IF(Qeydiyyat!AC1034=\"\",\"\",Qeydiyyat!AC1034)","v":""}]
[null,786,{"$f":"IF(Qeydiyyat!C1035=\"\",\"\",Qeydiyyat!C1035)","v":""},{"$f":"IF(Qeydiyyat!B1035=\"\",\"\",Qeydiyyat!B1035)","v":""},{"$f":"IF(Qeydiyyat!D1035=\"\",\"\",Qeydiyyat!D1035)","v":""},{"$f":"IF(Qeydiyyat!K1035=\"\",\"\",Qeydiyyat!K1035)","v":""},{"$f":"IF(Qeydiyyat!AB1035=\"\",\"\",Qeydiyyat!AB1035)","v":""},{"$f":"IF(Qeydiyyat!AA1035=\"\",\"\",Qeydiyyat!AA1035)","v":""},{"$f":"IF(Qeydiyyat!X1035=\"\",\"\",Qeydiyyat!X1035)","v":""},{"$f":"IF(Qeydiyyat!Y1035=\"\",\"\",Qeydiyyat!Y1035)","v":""},null,{"$f":"IF(Qeydiyyat!AC1035=\"\",\"\",Qeydiyyat!AC1035)","v":""}]
[null,787,{"$f":"IF(Qeydiyyat!C1036=\"\",\"\",Qeydiyyat!C1036)","v":""},{"$f":"IF(Qeydiyyat!B1036=\"\",\"\",Qeydiyyat!B1036)","v":""},{"$f":"IF(Qeydiyyat!D1036=\"\",\"\",Qeydiyyat!D1036)","v":""},{"$f":"IF(Qeydiyyat!K1036=\"\",\"\",Qeydiyyat!K1036)","v":""},{"$f":"IF(Qeydiyyat!AB1036=\"\",\"\",Qeydiyyat!AB1036)","v":""},{"$f":"IF(Qeydiyyat!AA1036=\"\",\"\",Qeydiyyat!AA1036)","v":""},{"$f":"IF(Qeydiyyat!X1036=\"\",\"\",Qeydiyyat!X1036)","v":""},{"$f":"IF(Qeydiyyat!Y1036=\"\",\"\",Qeydiyyat!Y1036)","v":""},null,{"$f":"IF(Qeydiyyat!AC1036=\"\",\"\",Qeydiyyat!AC1036)","v":""}]
[null,788,{"$f":"IF(Qeydiyyat!C1037=\"\",\"\",Qeydiyyat!C1037)","v":""},{"$f":"IF(Qeydiyyat!B1037=\"\",\"\",Qeydiyyat!B1037)","v":""},{"$f":"IF(Qeydiyyat!D1037=\"\",\"\",Qeydiyyat!D1037)","v":""},{"$f":"IF(Qeydiyyat!K1037=\"\",\"\",Qeydiyyat!K1037)","v":""},{"$f":"IF(Qeydiyyat!AB1037=\"\",\"\",Qeydiyyat!AB1037)","v":""},{"$f":"IF(Qeydiyyat!AA1037=\"\",\"\",Qeydiyyat!AA1037)","v":""},{"$f":"IF(Qeydiyyat!X1037=\"\",\"\",Qeydiyyat!X1037)","v":""},{"$f":"IF(Qeydiyyat!Y1037=\"\",\"\",Qeydiyyat!Y1037)","v":""},null,{"$f":"IF(Qeydiyyat!AC1037=\"\",\"\",Qeydiyyat!AC1037)","v":""}]
[null,789,{"$f":"IF(Qeydiyyat!C1038=\"\",\"\",Qeydiyyat!C1038)","v":""},{"$f":"IF(Qeydiyyat!B1038=\"\",\"\",Qeydiyyat!B1038)","v":""},{"$f":"IF(Qeydiyyat!D1038=\"\",\"\",Qeydiyyat!D1038)","v":""},{"$f":"IF(Qeydiyyat!K1038=\"\",\"\",Qeydiyyat!K1038)","v":""},{"$f":"IF(Qeydiyyat!AB1038=\"\",\"\",Qeydiyyat!AB1038)","v":""},{"$f":"IF(Qeydiyyat!AA1038=\"\",\"\",Qeydiyyat!AA1038)","v":""},{"$f":"IF(Qeydiyyat!X1038=\"\",\"\",Qeydiyyat!X1038)","v":""},{"$f":"IF(Qeydiyyat!Y1038=\"\",\"\",Qeydiyyat!Y1038)","v":""},null,{"$f":"IF(Qeydiyyat!AC1038=\"\",\"\",Qeydiyyat!AC1038)","v":""}]
[null,790,{"$f":"IF(Qeydiyyat!C1039=\"\",\"\",Qeydiyyat!C1039)","v":""},{"$f":"IF(Qeydiyyat!B1039=\"\",\"\",Qeydiyyat!B1039)","v":""},{"$f":"IF(Qeydiyyat!D1039=\"\",\"\",Qeydiyyat!D1039)","v":""},{"$f":"IF(Qeydiyyat!K1039=\"\",\"\",Qeydiyyat!K1039)","v":""},{"$f":"IF(Qeydiyyat!AB1039=\"\",\"\",Qeydiyyat!AB1039)","v":""},{"$f":"IF(Qeydiyyat!AA1039=\"\",\"\",Qeydiyyat!AA1039)","v":""},{"$f":"IF(Qeydiyyat!X1039=\"\",\"\",Qeydiyyat!X1039)","v":""},{"$f":"IF(Qeydiyyat!Y1039=\"\",\"\",Qeydiyyat!Y1039)","v":""},null,{"$f":"IF(Qeydiyyat!AC1039=\"\",\"\",Qeydiyyat!AC1039)","v":""}]
[null,791,{"$f":"IF(Qeydiyyat!C1040=\"\",\"\",Qeydiyyat!C1040)","v":""},{"$f":"IF(Qeydiyyat!B1040=\"\",\"\",Qeydiyyat!B1040)","v":""},{"$f":"IF(Qeydiyyat!D1040=\"\",\"\",Qeydiyyat!D1040)","v":""},{"$f":"IF(Qeydiyyat!K1040=\"\",\"\",Qeydiyyat!K1040)","v":""},{"$f":"IF(Qeydiyyat!AB1040=\"\",\"\",Qeydiyyat!AB1040)","v":""},{"$f":"IF(Qeydiyyat!AA1040=\"\",\"\",Qeydiyyat!AA1040)","v":""},{"$f":"IF(Qeydiyyat!X1040=\"\",\"\",Qeydiyyat!X1040)","v":""},{"$f":"IF(Qeydiyyat!Y1040=\"\",\"\",Qeydiyyat!Y1040)","v":""},null,{"$f":"IF(Qeydiyyat!AC1040=\"\",\"\",Qeydiyyat!AC1040)","v":""}]
[null,792,{"$f":"IF(Qeydiyyat!C1041=\"\",\"\",Qeydiyyat!C1041)","v":""},{"$f":"IF(Qeydiyyat!B1041=\"\",\"\",Qeydiyyat!B1041)","v":""},{"$f":"IF(Qeydiyyat!D1041=\"\",\"\",Qeydiyyat!D1041)","v":""},{"$f":"IF(Qeydiyyat!K1041=\"\",\"\",Qeydiyyat!K1041)","v":""},{"$f":"IF(Qeydiyyat!AB1041=\"\",\"\",Qeydiyyat!AB1041)","v":""},{"$f":"IF(Qeydiyyat!AA1041=\"\",\"\",Qeydiyyat!AA1041)","v":""},{"$f":"IF(Qeydiyyat!X1041=\"\",\"\",Qeydiyyat!X1041)","v":""},{"$f":"IF(Qeydiyyat!Y1041=\"\",\"\",Qeydiyyat!Y1041)","v":""},null,{"$f":"IF(Qeydiyyat!AC1041=\"\",\"\",Qeydiyyat!AC1041)","v":""}]
[null,793,{"$f":"IF(Qeydiyyat!C1042=\"\",\"\",Qeydiyyat!C1042)","v":""},{"$f":"IF(Qeydiyyat!B1042=\"\",\"\",Qeydiyyat!B1042)","v":""},{"$f":"IF(Qeydiyyat!D1042=\"\",\"\",Qeydiyyat!D1042)","v":""},{"$f":"IF(Qeydiyyat!K1042=\"\",\"\",Qeydiyyat!K1042)","v":""},{"$f":"IF(Qeydiyyat!AB1042=\"\",\"\",Qeydiyyat!AB1042)","v":""},{"$f":"IF(Qeydiyyat!AA1042=\"\",\"\",Qeydiyyat!AA1042)","v":""},{"$f":"IF(Qeydiyyat!X1042=\"\",\"\",Qeydiyyat!X1042)","v":""},{"$f":"IF(Qeydiyyat!Y1042=\"\",\"\",Qeydiyyat!Y1042)","v":""},null,{"$f":"IF(Qeydiyyat!AC1042=\"\",\"\",Qeydiyyat!AC1042)","v":""}]
[null,794,{"$f":"IF(Qeydiyyat!C1043=\"\",\"\",Qeydiyyat!C1043)","v":""},{"$f":"IF(Qeydiyyat!B1043=\"\",\"\",Qeydiyyat!B1043)","v":""},{"$f":"IF(Qeydiyyat!D1043=\"\",\"\",Qeydiyyat!D1043)","v":""},{"$f":"IF(Qeydiyyat!K1043=\"\",\"\",Qeydiyyat!K1043)","v":""},{"$f":"IF(Qeydiyyat!AB1043=\"\",\"\",Qeydiyyat!AB1043)","v":""},{"$f":"IF(Qeydiyyat!AA1043=\"\",\"\",Qeydiyyat!AA1043)","v":""},{"$f":"IF(Qeydiyyat!X1043=\"\",\"\",Qeydiyyat!X1043)","v":""},{"$f":"IF(Qeydiyyat!Y1043=\"\",\"\",Qeydiyyat!Y1043)","v":""},null,{"$f":"IF(Qeydiyyat!AC1043=\"\",\"\",Qeydiyyat!AC1043)","v":""}]
[null,795,{"$f":"IF(Qeydiyyat!C1044=\"\",\"\",Qeydiyyat!C1044)","v":""},{"$f":"IF(Qeydiyyat!B1044=\"\",\"\",Qeydiyyat!B1044)","v":""},{"$f":"IF(Qeydiyyat!D1044=\"\",\"\",Qeydiyyat!D1044)","v":""},{"$f":"IF(Qeydiyyat!K1044=\"\",\"\",Qeydiyyat!K1044)","v":""},{"$f":"IF(Qeydiyyat!AB1044=\"\",\"\",Qeydiyyat!AB1044)","v":""},{"$f":"IF(Qeydiyyat!AA1044=\"\",\"\",Qeydiyyat!AA1044)","v":""},{"$f":"IF(Qeydiyyat!X1044=\"\",\"\",Qeydiyyat!X1044)","v":""},{"$f":"IF(Qeydiyyat!Y1044=\"\",\"\",Qeydiyyat!Y1044)","v":""},null,{"$f":"IF(Qeydiyyat!AC1044=\"\",\"\",Qeydiyyat!AC1044)","v":""}]
[null,796,{"$f":"IF(Qeydiyyat!C1045=\"\",\"\",Qeydiyyat!C1045)","v":""},{"$f":"IF(Qeydiyyat!B1045=\"\",\"\",Qeydiyyat!B1045)","v":""},{"$f":"IF(Qeydiyyat!D1045=\"\",\"\",Qeydiyyat!D1045)","v":""},{"$f":"IF(Qeydiyyat!K1045=\"\",\"\",Qeydiyyat!K1045)","v":""},{"$f":"IF(Qeydiyyat!AB1045=\"\",\"\",Qeydiyyat!AB1045)","v":""},{"$f":"IF(Qeydiyyat!AA1045=\"\",\"\",Qeydiyyat!AA1045)","v":""},{"$f":"IF(Qeydiyyat!X1045=\"\",\"\",Qeydiyyat!X1045)","v":""},{"$f":"IF(Qeydiyyat!Y1045=\"\",\"\",Qeydiyyat!Y1045)","v":""},null,{"$f":"IF(Qeydiyyat!AC1045=\"\",\"\",Qeydiyyat!AC1045)","v":""}]
[null,797,{"$f":"IF(Qeydiyyat!C1046=\"\",\"\",Qeydiyyat!C1046)","v":""},{"$f":"IF(Qeydiyyat!B1046=\"\",\"\",Qeydiyyat!B1046)","v":""},{"$f":"IF(Qeydiyyat!D1046=\"\",\"\",Qeydiyyat!D1046)","v":""},{"$f":"IF(Qeydiyyat!K1046=\"\",\"\",Qeydiyyat!K1046)","v":""},{"$f":"IF(Qeydiyyat!AB1046=\"\",\"\",Qeydiyyat!AB1046)","v":""},{"$f":"IF(Qeydiyyat!AA1046=\"\",\"\",Qeydiyyat!AA1046)","v":""},{"$f":"IF(Qeydiyyat!X1046=\"\",\"\",Qeydiyyat!X1046)","v":""},{"$f":"IF(Qeydiyyat!Y1046=\"\",\"\",Qeydiyyat!Y1046)","v":""},null,{"$f":"IF(Qeydiyyat!AC1046=\"\",\"\",Qeydiyyat!AC1046)","v":""}]
[null,798,{"$f":"IF(Qeydiyyat!C1047=\"\",\"\",Qeydiyyat!C1047)","v":""},{"$f":"IF(Qeydiyyat!B1047=\"\",\"\",Qeydiyyat!B1047)","v":""},{"$f":"IF(Qeydiyyat!D1047=\"\",\"\",Qeydiyyat!D1047)","v":""},{"$f":"IF(Qeydiyyat!K1047=\"\",\"\",Qeydiyyat!K1047)","v":""},{"$f":"IF(Qeydiyyat!AB1047=\"\",\"\",Qeydiyyat!AB1047)","v":""},{"$f":"IF(Qeydiyyat!AA1047=\"\",\"\",Qeydiyyat!AA1047)","v":""},{"$f":"IF(Qeydiyyat!X1047=\"\",\"\",Qeydiyyat!X1047)","v":""},{"$f":"IF(Qeydiyyat!Y1047=\"\",\"\",Qeydiyyat!Y1047)","v":""},null,{"$f":"IF(Qeydiyyat!AC1047=\"\",\"\",Qeydiyyat!AC1047)","v":""}]
[null,799,{"$f":"IF(Qeydiyyat!C1048=\"\",\"\",Qeydiyyat!C1048)","v":""},{"$f":"IF(Qeydiyyat!B1048=\"\",\"\",Qeydiyyat!B1048)","v":""},{"$f":"IF(Qeydiyyat!D1048=\"\",\"\",Qeydiyyat!D1048)","v":""},{"$f":"IF(Qeydiyyat!K1048=\"\",\"\",Qeydiyyat!K1048)","v":""},{"$f":"IF(Qeydiyyat!AB1048=\"\",\"\",Qeydiyyat!AB1048)","v":""},{"$f":"IF(Qeydiyyat!AA1048=\"\",\"\",Qeydiyyat!AA1048)","v":""},{"$f":"IF(Qeydiyyat!X1048=\"\",\"\",Qeydiyyat!X1048)","v":""},{"$f":"IF(Qeydiyyat!Y1048=\"\",\"\",Qeydiyyat!Y1048)","v":""},null,{"$f":"IF(Qeydiyyat!AC1048=\"\",\"\",Qeydiyyat!AC1048)","v":""}]
[null,800,{"$f":"IF(Qeydiyyat!C1049=\"\",\"\",Qeydiyyat!C1049)","v":""},{"$f":"IF(Qeydiyyat!B1049=\"\",\"\",Qeydiyyat!B1049)","v":""},{"$f":"IF(Qeydiyyat!D1049=\"\",\"\",Qeydiyyat!D1049)","v":""},{"$f":"IF(Qeydiyyat!K1049=\"\",\"\",Qeydiyyat!K1049)","v":""},{"$f":"IF(Qeydiyyat!AB1049=\"\",\"\",Qeydiyyat!AB1049)","v":""},{"$f":"IF(Qeydiyyat!AA1049=\"\",\"\",Qeydiyyat!AA1049)","v":""},{"$f":"IF(Qeydiyyat!X1049=\"\",\"\",Qeydiyyat!X1049)","v":""},{"$f":"IF(Qeydiyyat!Y1049=\"\",\"\",Qeydiyyat!Y1049)","v":""},null,{"$f":"IF(Qeydiyyat!AC1049=\"\",\"\",Qeydiyyat!AC1049)","v":""}]
[null,801,{"$f":"IF(Qeydiyyat!C1050=\"\",\"\",Qeydiyyat!C1050)","v":""},{"$f":"IF(Qeydiyyat!B1050=\"\",\"\",Qeydiyyat!B1050)","v":""},{"$f":"IF(Qeydiyyat!D1050=\"\",\"\",Qeydiyyat!D1050)","v":""},{"$f":"IF(Qeydiyyat!K1050=\"\",\"\",Qeydiyyat!K1050)","v":""},{"$f":"IF(Qeydiyyat!AB1050=\"\",\"\",Qeydiyyat!AB1050)","v":""},{"$f":"IF(Qeydiyyat!AA1050=\"\",\"\",Qeydiyyat!AA1050)","v":""},{"$f":"IF(Qeydiyyat!X1050=\"\",\"\",Qeydiyyat!X1050)","v":""},{"$f":"IF(Qeydiyyat!Y1050=\"\",\"\",Qeydiyyat!Y1050)","v":""},null,{"$f":"IF(Qeydiyyat!AC1050=\"\",\"\",Qeydiyyat!AC1050)","v":""}]
[null,802,{"$f":"IF(Qeydiyyat!C1051=\"\",\"\",Qeydiyyat!C1051)","v":""},{"$f":"IF(Qeydiyyat!B1051=\"\",\"\",Qeydiyyat!B1051)","v":""},{"$f":"IF(Qeydiyyat!D1051=\"\",\"\",Qeydiyyat!D1051)","v":""},{"$f":"IF(Qeydiyyat!K1051=\"\",\"\",Qeydiyyat!K1051)","v":""},{"$f":"IF(Qeydiyyat!AB1051=\"\",\"\",Qeydiyyat!AB1051)","v":""},{"$f":"IF(Qeydiyyat!AA1051=\"\",\"\",Qeydiyyat!AA1051)","v":""},{"$f":"IF(Qeydiyyat!X1051=\"\",\"\",Qeydiyyat!X1051)","v":""},{"$f":"IF(Qeydiyyat!Y1051=\"\",\"\",Qeydiyyat!Y1051)","v":""},null,{"$f":"IF(Qeydiyyat!AC1051=\"\",\"\",Qeydiyyat!AC1051)","v":""}]
[null,803,{"$f":"IF(Qeydiyyat!C1052=\"\",\"\",Qeydiyyat!C1052)","v":""},{"$f":"IF(Qeydiyyat!B1052=\"\",\"\",Qeydiyyat!B1052)","v":""},{"$f":"IF(Qeydiyyat!D1052=\"\",\"\",Qeydiyyat!D1052)","v":""},{"$f":"IF(Qeydiyyat!K1052=\"\",\"\",Qeydiyyat!K1052)","v":""},{"$f":"IF(Qeydiyyat!AB1052=\"\",\"\",Qeydiyyat!AB1052)","v":""},{"$f":"IF(Qeydiyyat!AA1052=\"\",\"\",Qeydiyyat!AA1052)","v":""},{"$f":"IF(Qeydiyyat!X1052=\"\",\"\",Qeydiyyat!X1052)","v":""},{"$f":"IF(Qeydiyyat!Y1052=\"\",\"\",Qeydiyyat!Y1052)","v":""},null,{"$f":"IF(Qeydiyyat!AC1052=\"\",\"\",Qeydiyyat!AC1052)","v":""}]
[null,804,{"$f":"IF(Qeydiyyat!C1053=\"\",\"\",Qeydiyyat!C1053)","v":""},{"$f":"IF(Qeydiyyat!B1053=\"\",\"\",Qeydiyyat!B1053)","v":""},{"$f":"IF(Qeydiyyat!D1053=\"\",\"\",Qeydiyyat!D1053)","v":""},{"$f":"IF(Qeydiyyat!K1053=\"\",\"\",Qeydiyyat!K1053)","v":""},{"$f":"IF(Qeydiyyat!AB1053=\"\",\"\",Qeydiyyat!AB1053)","v":""},{"$f":"IF(Qeydiyyat!AA1053=\"\",\"\",Qeydiyyat!AA1053)","v":""},{"$f":"IF(Qeydiyyat!X1053=\"\",\"\",Qeydiyyat!X1053)","v":""},{"$f":"IF(Qeydiyyat!Y1053=\"\",\"\",Qeydiyyat!Y1053)","v":""},null,{"$f":"IF(Qeydiyyat!AC1053=\"\",\"\",Qeydiyyat!AC1053)","v":""}]
[null,805,{"$f":"IF(Qeydiyyat!C1054=\"\",\"\",Qeydiyyat!C1054)","v":""},{"$f":"IF(Qeydiyyat!B1054=\"\",\"\",Qeydiyyat!B1054)","v":""},{"$f":"IF(Qeydiyyat!D1054=\"\",\"\",Qeydiyyat!D1054)","v":""},{"$f":"IF(Qeydiyyat!K1054=\"\",\"\",Qeydiyyat!K1054)","v":""},{"$f":"IF(Qeydiyyat!AB1054=\"\",\"\",Qeydiyyat!AB1054)","v":""},{"$f":"IF(Qeydiyyat!AA1054=\"\",\"\",Qeydiyyat!AA1054)","v":""},{"$f":"IF(Qeydiyyat!X1054=\"\",\"\",Qeydiyyat!X1054)","v":""},{"$f":"IF(Qeydiyyat!Y1054=\"\",\"\",Qeydiyyat!Y1054)","v":""},null,{"$f":"IF(Qeydiyyat!AC1054=\"\",\"\",Qeydiyyat!AC1054)","v":""}]
[null,806,{"$f":"IF(Qeydiyyat!C1055=\"\",\"\",Qeydiyyat!C1055)","v":""},{"$f":"IF(Qeydiyyat!B1055=\"\",\"\",Qeydiyyat!B1055)","v":""},{"$f":"IF(Qeydiyyat!D1055=\"\",\"\",Qeydiyyat!D1055)","v":""},{"$f":"IF(Qeydiyyat!K1055=\"\",\"\",Qeydiyyat!K1055)","v":""},{"$f":"IF(Qeydiyyat!AB1055=\"\",\"\",Qeydiyyat!AB1055)","v":""},{"$f":"IF(Qeydiyyat!AA1055=\"\",\"\",Qeydiyyat!AA1055)","v":""},{"$f":"IF(Qeydiyyat!X1055=\"\",\"\",Qeydiyyat!X1055)","v":""},{"$f":"IF(Qeydiyyat!Y1055=\"\",\"\",Qeydiyyat!Y1055)","v":""},null,{"$f":"IF(Qeydiyyat!AC1055=\"\",\"\",Qeydiyyat!AC1055)","v":""}]
[null,807,{"$f":"IF(Qeydiyyat!C1056=\"\",\"\",Qeydiyyat!C1056)","v":""},{"$f":"IF(Qeydiyyat!B1056=\"\",\"\",Qeydiyyat!B1056)","v":""},{"$f":"IF(Qeydiyyat!D1056=\"\",\"\",Qeydiyyat!D1056)","v":""},{"$f":"IF(Qeydiyyat!K1056=\"\",\"\",Qeydiyyat!K1056)","v":""},{"$f":"IF(Qeydiyyat!AB1056=\"\",\"\",Qeydiyyat!AB1056)","v":""},{"$f":"IF(Qeydiyyat!AA1056=\"\",\"\",Qeydiyyat!AA1056)","v":""},{"$f":"IF(Qeydiyyat!X1056=\"\",\"\",Qeydiyyat!X1056)","v":""},{"$f":"IF(Qeydiyyat!Y1056=\"\",\"\",Qeydiyyat!Y1056)","v":""},null,{"$f":"IF(Qeydiyyat!AC1056=\"\",\"\",Qeydiyyat!AC1056)","v":""}]
[null,808,{"$f":"IF(Qeydiyyat!C1057=\"\",\"\",Qeydiyyat!C1057)","v":""},{"$f":"IF(Qeydiyyat!B1057=\"\",\"\",Qeydiyyat!B1057)","v":""},{"$f":"IF(Qeydiyyat!D1057=\"\",\"\",Qeydiyyat!D1057)","v":""},{"$f":"IF(Qeydiyyat!K1057=\"\",\"\",Qeydiyyat!K1057)","v":""},{"$f":"IF(Qeydiyyat!AB1057=\"\",\"\",Qeydiyyat!AB1057)","v":""},{"$f":"IF(Qeydiyyat!AA1057=\"\",\"\",Qeydiyyat!AA1057)","v":""},{"$f":"IF(Qeydiyyat!X1057=\"\",\"\",Qeydiyyat!X1057)","v":""},{"$f":"IF(Qeydiyyat!Y1057=\"\",\"\",Qeydiyyat!Y1057)","v":""},null,{"$f":"IF(Qeydiyyat!AC1057=\"\",\"\",Qeydiyyat!AC1057)","v":""}]
[null,809,{"$f":"IF(Qeydiyyat!C1058=\"\",\"\",Qeydiyyat!C1058)","v":""},{"$f":"IF(Qeydiyyat!B1058=\"\",\"\",Qeydiyyat!B1058)","v":""},{"$f":"IF(Qeydiyyat!D1058=\"\",\"\",Qeydiyyat!D1058)","v":""},{"$f":"IF(Qeydiyyat!K1058=\"\",\"\",Qeydiyyat!K1058)","v":""},{"$f":"IF(Qeydiyyat!AB1058=\"\",\"\",Qeydiyyat!AB1058)","v":""},{"$f":"IF(Qeydiyyat!AA1058=\"\",\"\",Qeydiyyat!AA1058)","v":""},{"$f":"IF(Qeydiyyat!X1058=\"\",\"\",Qeydiyyat!X1058)","v":""},{"$f":"IF(Qeydiyyat!Y1058=\"\",\"\",Qeydiyyat!Y1058)","v":""},null,{"$f":"IF(Qeydiyyat!AC1058=\"\",\"\",Qeydiyyat!AC1058)","v":""}]
[null,810,{"$f":"IF(Qeydiyyat!C1059=\"\",\"\",Qeydiyyat!C1059)","v":""},{"$f":"IF(Qeydiyyat!B1059=\"\",\"\",Qeydiyyat!B1059)","v":""},{"$f":"IF(Qeydiyyat!D1059=\"\",\"\",Qeydiyyat!D1059)","v":""},{"$f":"IF(Qeydiyyat!K1059=\"\",\"\",Qeydiyyat!K1059)","v":""},{"$f":"IF(Qeydiyyat!AB1059=\"\",\"\",Qeydiyyat!AB1059)","v":""},{"$f":"IF(Qeydiyyat!AA1059=\"\",\"\",Qeydiyyat!AA1059)","v":""},{"$f":"IF(Qeydiyyat!X1059=\"\",\"\",Qeydiyyat!X1059)","v":""},{"$f":"IF(Qeydiyyat!Y1059=\"\",\"\",Qeydiyyat!Y1059)","v":""},null,{"$f":"IF(Qeydiyyat!AC1059=\"\",\"\",Qeydiyyat!AC1059)","v":""}]
[null,811,{"$f":"IF(Qeydiyyat!C1060=\"\",\"\",Qeydiyyat!C1060)","v":""},{"$f":"IF(Qeydiyyat!B1060=\"\",\"\",Qeydiyyat!B1060)","v":""},{"$f":"IF(Qeydiyyat!D1060=\"\",\"\",Qeydiyyat!D1060)","v":""},{"$f":"IF(Qeydiyyat!K1060=\"\",\"\",Qeydiyyat!K1060)","v":""},{"$f":"IF(Qeydiyyat!AB1060=\"\",\"\",Qeydiyyat!AB1060)","v":""},{"$f":"IF(Qeydiyyat!AA1060=\"\",\"\",Qeydiyyat!AA1060)","v":""},{"$f":"IF(Qeydiyyat!X1060=\"\",\"\",Qeydiyyat!X1060)","v":""},{"$f":"IF(Qeydiyyat!Y1060=\"\",\"\",Qeydiyyat!Y1060)","v":""},null,{"$f":"IF(Qeydiyyat!AC1060=\"\",\"\",Qeydiyyat!AC1060)","v":""}]
[null,812,{"$f":"IF(Qeydiyyat!C1061=\"\",\"\",Qeydiyyat!C1061)","v":""},{"$f":"IF(Qeydiyyat!B1061=\"\",\"\",Qeydiyyat!B1061)","v":""},{"$f":"IF(Qeydiyyat!D1061=\"\",\"\",Qeydiyyat!D1061)","v":""},{"$f":"IF(Qeydiyyat!K1061=\"\",\"\",Qeydiyyat!K1061)","v":""},{"$f":"IF(Qeydiyyat!AB1061=\"\",\"\",Qeydiyyat!AB1061)","v":""},{"$f":"IF(Qeydiyyat!AA1061=\"\",\"\",Qeydiyyat!AA1061)","v":""},{"$f":"IF(Qeydiyyat!X1061=\"\",\"\",Qeydiyyat!X1061)","v":""},{"$f":"IF(Qeydiyyat!Y1061=\"\",\"\",Qeydiyyat!Y1061)","v":""},null,{"$f":"IF(Qeydiyyat!AC1061=\"\",\"\",Qeydiyyat!AC1061)","v":""}]
[null,813,{"$f":"IF(Qeydiyyat!C1062=\"\",\"\",Qeydiyyat!C1062)","v":""},{"$f":"IF(Qeydiyyat!B1062=\"\",\"\",Qeydiyyat!B1062)","v":""},{"$f":"IF(Qeydiyyat!D1062=\"\",\"\",Qeydiyyat!D1062)","v":""},{"$f":"IF(Qeydiyyat!K1062=\"\",\"\",Qeydiyyat!K1062)","v":""},{"$f":"IF(Qeydiyyat!AB1062=\"\",\"\",Qeydiyyat!AB1062)","v":""},{"$f":"IF(Qeydiyyat!AA1062=\"\",\"\",Qeydiyyat!AA1062)","v":""},{"$f":"IF(Qeydiyyat!X1062=\"\",\"\",Qeydiyyat!X1062)","v":""},{"$f":"IF(Qeydiyyat!Y1062=\"\",\"\",Qeydiyyat!Y1062)","v":""},null,{"$f":"IF(Qeydiyyat!AC1062=\"\",\"\",Qeydiyyat!AC1062)","v":""}]
[null,814,{"$f":"IF(Qeydiyyat!C1063=\"\",\"\",Qeydiyyat!C1063)","v":""},{"$f":"IF(Qeydiyyat!B1063=\"\",\"\",Qeydiyyat!B1063)","v":""},{"$f":"IF(Qeydiyyat!D1063=\"\",\"\",Qeydiyyat!D1063)","v":""},{"$f":"IF(Qeydiyyat!K1063=\"\",\"\",Qeydiyyat!K1063)","v":""},{"$f":"IF(Qeydiyyat!AB1063=\"\",\"\",Qeydiyyat!AB1063)","v":""},{"$f":"IF(Qeydiyyat!AA1063=\"\",\"\",Qeydiyyat!AA1063)","v":""},{"$f":"IF(Qeydiyyat!X1063=\"\",\"\",Qeydiyyat!X1063)","v":""},{"$f":"IF(Qeydiyyat!Y1063=\"\",\"\",Qeydiyyat!Y1063)","v":""},null,{"$f":"IF(Qeydiyyat!AC1063=\"\",\"\",Qeydiyyat!AC1063)","v":""}]
[null,815,{"$f":"IF(Qeydiyyat!C1064=\"\",\"\",Qeydiyyat!C1064)","v":""},{"$f":"IF(Qeydiyyat!B1064=\"\",\"\",Qeydiyyat!B1064)","v":""},{"$f":"IF(Qeydiyyat!D1064=\"\",\"\",Qeydiyyat!D1064)","v":""},{"$f":"IF(Qeydiyyat!K1064=\"\",\"\",Qeydiyyat!K1064)","v":""},{"$f":"IF(Qeydiyyat!AB1064=\"\",\"\",Qeydiyyat!AB1064)","v":""},{"$f":"IF(Qeydiyyat!AA1064=\"\",\"\",Qeydiyyat!AA1064)","v":""},{"$f":"IF(Qeydiyyat!X1064=\"\",\"\",Qeydiyyat!X1064)","v":""},{"$f":"IF(Qeydiyyat!Y1064=\"\",\"\",Qeydiyyat!Y1064)","v":""},null,{"$f":"IF(Qeydiyyat!AC1064=\"\",\"\",Qeydiyyat!AC1064)","v":""}]
[null,816,{"$f":"IF(Qeydiyyat!C1065=\"\",\"\",Qeydiyyat!C1065)","v":""},{"$f":"IF(Qeydiyyat!B1065=\"\",\"\",Qeydiyyat!B1065)","v":""},{"$f":"IF(Qeydiyyat!D1065=\"\",\"\",Qeydiyyat!D1065)","v":""},{"$f":"IF(Qeydiyyat!K1065=\"\",\"\",Qeydiyyat!K1065)","v":""},{"$f":"IF(Qeydiyyat!AB1065=\"\",\"\",Qeydiyyat!AB1065)","v":""},{"$f":"IF(Qeydiyyat!AA1065=\"\",\"\",Qeydiyyat!AA1065)","v":""},{"$f":"IF(Qeydiyyat!X1065=\"\",\"\",Qeydiyyat!X1065)","v":""},{"$f":"IF(Qeydiyyat!Y1065=\"\",\"\",Qeydiyyat!Y1065)","v":""},null,{"$f":"IF(Qeydiyyat!AC1065=\"\",\"\",Qeydiyyat!AC1065)","v":""}]
[null,817,{"$f":"IF(Qeydiyyat!C1066=\"\",\"\",Qeydiyyat!C1066)","v":""},{"$f":"IF(Qeydiyyat!B1066=\"\",\"\",Qeydiyyat!B1066)","v":""},{"$f":"IF(Qeydiyyat!D1066=\"\",\"\",Qeydiyyat!D1066)","v":""},{"$f":"IF(Qeydiyyat!K1066=\"\",\"\",Qeydiyyat!K1066)","v":""},{"$f":"IF(Qeydiyyat!AB1066=\"\",\"\",Qeydiyyat!AB1066)","v":""},{"$f":"IF(Qeydiyyat!AA1066=\"\",\"\",Qeydiyyat!AA1066)","v":""},{"$f":"IF(Qeydiyyat!X1066=\"\",\"\",Qeydiyyat!X1066)","v":""},{"$f":"IF(Qeydiyyat!Y1066=\"\",\"\",Qeydiyyat!Y1066)","v":""},null,{"$f":"IF(Qeydiyyat!AC1066=\"\",\"\",Qeydiyyat!AC1066)","v":""}]
[null,818,{"$f":"IF(Qeydiyyat!C1067=\"\",\"\",Qeydiyyat!C1067)","v":""},{"$f":"IF(Qeydiyyat!B1067=\"\",\"\",Qeydiyyat!B1067)","v":""},{"$f":"IF(Qeydiyyat!D1067=\"\",\"\",Qeydiyyat!D1067)","v":""},{"$f":"IF(Qeydiyyat!K1067=\"\",\"\",Qeydiyyat!K1067)","v":""},{"$f":"IF(Qeydiyyat!AB1067=\"\",\"\",Qeydiyyat!AB1067)","v":""},{"$f":"IF(Qeydiyyat!AA1067=\"\",\"\",Qeydiyyat!AA1067)","v":""},{"$f":"IF(Qeydiyyat!X1067=\"\",\"\",Qeydiyyat!X1067)","v":""},{"$f":"IF(Qeydiyyat!Y1067=\"\",\"\",Qeydiyyat!Y1067)","v":""},null,{"$f":"IF(Qeydiyyat!AC1067=\"\",\"\",Qeydiyyat!AC1067)","v":""}]
[null,819,{"$f":"IF(Qeydiyyat!C1068=\"\",\"\",Qeydiyyat!C1068)","v":""},{"$f":"IF(Qeydiyyat!B1068=\"\",\"\",Qeydiyyat!B1068)","v":""},{"$f":"IF(Qeydiyyat!D1068=\"\",\"\",Qeydiyyat!D1068)","v":""},{"$f":"IF(Qeydiyyat!K1068=\"\",\"\",Qeydiyyat!K1068)","v":""},{"$f":"IF(Qeydiyyat!AB1068=\"\",\"\",Qeydiyyat!AB1068)","v":""},{"$f":"IF(Qeydiyyat!AA1068=\"\",\"\",Qeydiyyat!AA1068)","v":""},{"$f":"IF(Qeydiyyat!X1068=\"\",\"\",Qeydiyyat!X1068)","v":""},{"$f":"IF(Qeydiyyat!Y1068=\"\",\"\",Qeydiyyat!Y1068)","v":""},null,{"$f":"IF(Qeydiyyat!AC1068=\"\",\"\",Qeydiyyat!AC1068)","v":""}]
[null,820,{"$f":"IF(Qeydiyyat!C1069=\"\",\"\",Qeydiyyat!C1069)","v":""},{"$f":"IF(Qeydiyyat!B1069=\"\",\"\",Qeydiyyat!B1069)","v":""},{"$f":"IF(Qeydiyyat!D1069=\"\",\"\",Qeydiyyat!D1069)","v":""},{"$f":"IF(Qeydiyyat!K1069=\"\",\"\",Qeydiyyat!K1069)","v":""},{"$f":"IF(Qeydiyyat!AB1069=\"\",\"\",Qeydiyyat!AB1069)","v":""},{"$f":"IF(Qeydiyyat!AA1069=\"\",\"\",Qeydiyyat!AA1069)","v":""},{"$f":"IF(Qeydiyyat!X1069=\"\",\"\",Qeydiyyat!X1069)","v":""},{"$f":"IF(Qeydiyyat!Y1069=\"\",\"\",Qeydiyyat!Y1069)","v":""},null,{"$f":"IF(Qeydiyyat!AC1069=\"\",\"\",Qeydiyyat!AC1069)","v":""}]
[null,821,{"$f":"IF(Qeydiyyat!C1070=\"\",\"\",Qeydiyyat!C1070)","v":""},{"$f":"IF(Qeydiyyat!B1070=\"\",\"\",Qeydiyyat!B1070)","v":""},{"$f":"IF(Qeydiyyat!D1070=\"\",\"\",Qeydiyyat!D1070)","v":""},{"$f":"IF(Qeydiyyat!K1070=\"\",\"\",Qeydiyyat!K1070)","v":""},{"$f":"IF(Qeydiyyat!AB1070=\"\",\"\",Qeydiyyat!AB1070)","v":""},{"$f":"IF(Qeydiyyat!AA1070=\"\",\"\",Qeydiyyat!AA1070)","v":""},{"$f":"IF(Qeydiyyat!X1070=\"\",\"\",Qeydiyyat!X1070)","v":""},{"$f":"IF(Qeydiyyat!Y1070=\"\",\"\",Qeydiyyat!Y1070)","v":""},null,{"$f":"IF(Qeydiyyat!AC1070=\"\",\"\",Qeydiyyat!AC1070)","v":""}]
[null,822,{"$f":"IF(Qeydiyyat!C1071=\"\",\"\",Qeydiyyat!C1071)","v":""},{"$f":"IF(Qeydiyyat!B1071=\"\",\"\",Qeydiyyat!B1071)","v":""},{"$f":"IF(Qeydiyyat!D1071=\"\",\"\",Qeydiyyat!D1071)","v":""},{"$f":"IF(Qeydiyyat!K1071=\"\",\"\",Qeydiyyat!K1071)","v":""},{"$f":"IF(Qeydiyyat!AB1071=\"\",\"\",Qeydiyyat!AB1071)","v":""},{"$f":"IF(Qeydiyyat!AA1071=\"\",\"\",Qeydiyyat!AA1071)","v":""},{"$f":"IF(Qeydiyyat!X1071=\"\",\"\",Qeydiyyat!X1071)","v":""},{"$f":"IF(Qeydiyyat!Y1071=\"\",\"\",Qeydiyyat!Y1071)","v":""},null,{"$f":"IF(Qeydiyyat!AC1071=\"\",\"\",Qeydiyyat!AC1071)","v":""}]
[null,823,{"$f":"IF(Qeydiyyat!C1072=\"\",\"\",Qeydiyyat!C1072)","v":""},{"$f":"IF(Qeydiyyat!B1072=\"\",\"\",Qeydiyyat!B1072)","v":""},{"$f":"IF(Qeydiyyat!D1072=\"\",\"\",Qeydiyyat!D1072)","v":""},{"$f":"IF(Qeydiyyat!K1072=\"\",\"\",Qeydiyyat!K1072)","v":""},{"$f":"IF(Qeydiyyat!AB1072=\"\",\"\",Qeydiyyat!AB1072)","v":""},{"$f":"IF(Qeydiyyat!AA1072=\"\",\"\",Qeydiyyat!AA1072)","v":""},{"$f":"IF(Qeydiyyat!X1072=\"\",\"\",Qeydiyyat!X1072)","v":""},{"$f":"IF(Qeydiyyat!Y1072=\"\",\"\",Qeydiyyat!Y1072)","v":""},null,{"$f":"IF(Qeydiyyat!AC1072=\"\",\"\",Qeydiyyat!AC1072)","v":""}]
[null,824,{"$f":"IF(Qeydiyyat!C1073=\"\",\"\",Qeydiyyat!C1073)","v":""},{"$f":"IF(Qeydiyyat!B1073=\"\",\"\",Qeydiyyat!B1073)","v":""},{"$f":"IF(Qeydiyyat!D1073=\"\",\"\",Qeydiyyat!D1073)","v":""},{"$f":"IF(Qeydiyyat!K1073=\"\",\"\",Qeydiyyat!K1073)","v":""},{"$f":"IF(Qeydiyyat!AB1073=\"\",\"\",Qeydiyyat!AB1073)","v":""},{"$f":"IF(Qeydiyyat!AA1073=\"\",\"\",Qeydiyyat!AA1073)","v":""},{"$f":"IF(Qeydiyyat!X1073=\"\",\"\",Qeydiyyat!X1073)","v":""},{"$f":"IF(Qeydiyyat!Y1073=\"\",\"\",Qeydiyyat!Y1073)","v":""},null,{"$f":"IF(Qeydiyyat!AC1073=\"\",\"\",Qeydiyyat!AC1073)","v":""}]
[null,825,{"$f":"IF(Qeydiyyat!C1074=\"\",\"\",Qeydiyyat!C1074)","v":""},{"$f":"IF(Qeydiyyat!B1074=\"\",\"\",Qeydiyyat!B1074)","v":""},{"$f":"IF(Qeydiyyat!D1074=\"\",\"\",Qeydiyyat!D1074)","v":""},{"$f":"IF(Qeydiyyat!K1074=\"\",\"\",Qeydiyyat!K1074)","v":""},{"$f":"IF(Qeydiyyat!AB1074=\"\",\"\",Qeydiyyat!AB1074)","v":""},{"$f":"IF(Qeydiyyat!AA1074=\"\",\"\",Qeydiyyat!AA1074)","v":""},{"$f":"IF(Qeydiyyat!X1074=\"\",\"\",Qeydiyyat!X1074)","v":""},{"$f":"IF(Qeydiyyat!Y1074=\"\",\"\",Qeydiyyat!Y1074)","v":""},null,{"$f":"IF(Qeydiyyat!AC1074=\"\",\"\",Qeydiyyat!AC1074)","v":""}]
[null,826,{"$f":"IF(Qeydiyyat!C1075=\"\",\"\",Qeydiyyat!C1075)","v":""},{"$f":"IF(Qeydiyyat!B1075=\"\",\"\",Qeydiyyat!B1075)","v":""},{"$f":"IF(Qeydiyyat!D1075=\"\",\"\",Qeydiyyat!D1075)","v":""},{"$f":"IF(Qeydiyyat!K1075=\"\",\"\",Qeydiyyat!K1075)","v":""},{"$f":"IF(Qeydiyyat!AB1075=\"\",\"\",Qeydiyyat!AB1075)","v":""},{"$f":"IF(Qeydiyyat!AA1075=\"\",\"\",Qeydiyyat!AA1075)","v":""},{"$f":"IF(Qeydiyyat!X1075=\"\",\"\",Qeydiyyat!X1075)","v":""},{"$f":"IF(Qeydiyyat!Y1075=\"\",\"\",Qeydiyyat!Y1075)","v":""},null,{"$f":"IF(Qeydiyyat!AC1075=\"\",\"\",Qeydiyyat!AC1075)","v":""}]
[null,827,{"$f":"IF(Qeydiyyat!C1076=\"\",\"\",Qeydiyyat!C1076)","v":""},{"$f":"IF(Qeydiyyat!B1076=\"\",\"\",Qeydiyyat!B1076)","v":""},{"$f":"IF(Qeydiyyat!D1076=\"\",\"\",Qeydiyyat!D1076)","v":""},{"$f":"IF(Qeydiyyat!K1076=\"\",\"\",Qeydiyyat!K1076)","v":""},{"$f":"IF(Qeydiyyat!AB1076=\"\",\"\",Qeydiyyat!AB1076)","v":""},{"$f":"IF(Qeydiyyat!AA1076=\"\",\"\",Qeydiyyat!AA1076)","v":""},{"$f":"IF(Qeydiyyat!X1076=\"\",\"\",Qeydiyyat!X1076)","v":""},{"$f":"IF(Qeydiyyat!Y1076=\"\",\"\",Qeydiyyat!Y1076)","v":""},null,{"$f":"IF(Qeydiyyat!AC1076=\"\",\"\",Qeydiyyat!AC1076)","v":""}]
[null,828,{"$f":"IF(Qeydiyyat!C1077=\"\",\"\",Qeydiyyat!C1077)","v":""},{"$f":"IF(Qeydiyyat!B1077=\"\",\"\",Qeydiyyat!B1077)","v":""},{"$f":"IF(Qeydiyyat!D1077=\"\",\"\",Qeydiyyat!D1077)","v":""},{"$f":"IF(Qeydiyyat!K1077=\"\",\"\",Qeydiyyat!K1077)","v":""},{"$f":"IF(Qeydiyyat!AB1077=\"\",\"\",Qeydiyyat!AB1077)","v":""},{"$f":"IF(Qeydiyyat!AA1077=\"\",\"\",Qeydiyyat!AA1077)","v":""},{"$f":"IF(Qeydiyyat!X1077=\"\",\"\",Qeydiyyat!X1077)","v":""},{"$f":"IF(Qeydiyyat!Y1077=\"\",\"\",Qeydiyyat!Y1077)","v":""},null,{"$f":"IF(Qeydiyyat!AC1077=\"\",\"\",Qeydiyyat!AC1077)","v":""}]
[null,829,{"$f":"IF(Qeydiyyat!C1078=\"\",\"\",Qeydiyyat!C1078)","v":""},{"$f":"IF(Qeydiyyat!B1078=\"\",\"\",Qeydiyyat!B1078)","v":""},{"$f":"IF(Qeydiyyat!D1078=\"\",\"\",Qeydiyyat!D1078)","v":""},{"$f":"IF(Qeydiyyat!K1078=\"\",\"\",Qeydiyyat!K1078)","v":""},{"$f":"IF(Qeydiyyat!AB1078=\"\",\"\",Qeydiyyat!AB1078)","v":""},{"$f":"IF(Qeydiyyat!AA1078=\"\",\"\",Qeydiyyat!AA1078)","v":""},{"$f":"IF(Qeydiyyat!X1078=\"\",\"\",Qeydiyyat!X1078)","v":""},{"$f":"IF(Qeydiyyat!Y1078=\"\",\"\",Qeydiyyat!Y1078)","v":""},null,{"$f":"IF(Qeydiyyat!AC1078=\"\",\"\",Qeydiyyat!AC1078)","v":""}]
[null,830,{"$f":"IF(Qeydiyyat!C1079=\"\",\"\",Qeydiyyat!C1079)","v":""},{"$f":"IF(Qeydiyyat!B1079=\"\",\"\",Qeydiyyat!B1079)","v":""},{"$f":"IF(Qeydiyyat!D1079=\"\",\"\",Qeydiyyat!D1079)","v":""},{"$f":"IF(Qeydiyyat!K1079=\"\",\"\",Qeydiyyat!K1079)","v":""},{"$f":"IF(Qeydiyyat!AB1079=\"\",\"\",Qeydiyyat!AB1079)","v":""},{"$f":"IF(Qeydiyyat!AA1079=\"\",\"\",Qeydiyyat!AA1079)","v":""},{"$f":"IF(Qeydiyyat!X1079=\"\",\"\",Qeydiyyat!X1079)","v":""},{"$f":"IF(Qeydiyyat!Y1079=\"\",\"\",Qeydiyyat!Y1079)","v":""},null,{"$f":"IF(Qeydiyyat!AC1079=\"\",\"\",Qeydiyyat!AC1079)","v":""}]
[null,831,{"$f":"IF(Qeydiyyat!C1080=\"\",\"\",Qeydiyyat!C1080)","v":""},{"$f":"IF(Qeydiyyat!B1080=\"\",\"\",Qeydiyyat!B1080)","v":""},{"$f":"IF(Qeydiyyat!D1080=\"\",\"\",Qeydiyyat!D1080)","v":""},{"$f":"IF(Qeydiyyat!K1080=\"\",\"\",Qeydiyyat!K1080)","v":""},{"$f":"IF(Qeydiyyat!AB1080=\"\",\"\",Qeydiyyat!AB1080)","v":""},{"$f":"IF(Qeydiyyat!AA1080=\"\",\"\",Qeydiyyat!AA1080)","v":""},{"$f":"IF(Qeydiyyat!X1080=\"\",\"\",Qeydiyyat!X1080)","v":""},{"$f":"IF(Qeydiyyat!Y1080=\"\",\"\",Qeydiyyat!Y1080)","v":""},null,{"$f":"IF(Qeydiyyat!AC1080=\"\",\"\",Qeydiyyat!AC1080)","v":""}]
[null,832,{"$f":"IF(Qeydiyyat!C1081=\"\",\"\",Qeydiyyat!C1081)","v":""},{"$f":"IF(Qeydiyyat!B1081=\"\",\"\",Qeydiyyat!B1081)","v":""},{"$f":"IF(Qeydiyyat!D1081=\"\",\"\",Qeydiyyat!D1081)","v":""},{"$f":"IF(Qeydiyyat!K1081=\"\",\"\",Qeydiyyat!K1081)","v":""},{"$f":"IF(Qeydiyyat!AB1081=\"\",\"\",Qeydiyyat!AB1081)","v":""},{"$f":"IF(Qeydiyyat!AA1081=\"\",\"\",Qeydiyyat!AA1081)","v":""},{"$f":"IF(Qeydiyyat!X1081=\"\",\"\",Qeydiyyat!X1081)","v":""},{"$f":"IF(Qeydiyyat!Y1081=\"\",\"\",Qeydiyyat!Y1081)","v":""},null,{"$f":"IF(Qeydiyyat!AC1081=\"\",\"\",Qeydiyyat!AC1081)","v":""}]
[null,833,{"$f":"IF(Qeydiyyat!C1082=\"\",\"\",Qeydiyyat!C1082)","v":""},{"$f":"IF(Qeydiyyat!B1082=\"\",\"\",Qeydiyyat!B1082)","v":""},{"$f":"IF(Qeydiyyat!D1082=\"\",\"\",Qeydiyyat!D1082)","v":""},{"$f":"IF(Qeydiyyat!K1082=\"\",\"\",Qeydiyyat!K1082)","v":""},{"$f":"IF(Qeydiyyat!AB1082=\"\",\"\",Qeydiyyat!AB1082)","v":""},{"$f":"IF(Qeydiyyat!AA1082=\"\",\"\",Qeydiyyat!AA1082)","v":""},{"$f":"IF(Qeydiyyat!X1082=\"\",\"\",Qeydiyyat!X1082)","v":""},{"$f":"IF(Qeydiyyat!Y1082=\"\",\"\",Qeydiyyat!Y1082)","v":""},null,{"$f":"IF(Qeydiyyat!AC1082=\"\",\"\",Qeydiyyat!AC1082)","v":""}]
[null,834,{"$f":"IF(Qeydiyyat!C1083=\"\",\"\",Qeydiyyat!C1083)","v":""},{"$f":"IF(Qeydiyyat!B1083=\"\",\"\",Qeydiyyat!B1083)","v":""},{"$f":"IF(Qeydiyyat!D1083=\"\",\"\",Qeydiyyat!D1083)","v":""},{"$f":"IF(Qeydiyyat!K1083=\"\",\"\",Qeydiyyat!K1083)","v":""},{"$f":"IF(Qeydiyyat!AB1083=\"\",\"\",Qeydiyyat!AB1083)","v":""},{"$f":"IF(Qeydiyyat!AA1083=\"\",\"\",Qeydiyyat!AA1083)","v":""},{"$f":"IF(Qeydiyyat!X1083=\"\",\"\",Qeydiyyat!X1083)","v":""},{"$f":"IF(Qeydiyyat!Y1083=\"\",\"\",Qeydiyyat!Y1083)","v":""},null,{"$f":"IF(Qeydiyyat!AC1083=\"\",\"\",Qeydiyyat!AC1083)","v":""}]
[null,835,{"$f":"IF(Qeydiyyat!C1084=\"\",\"\",Qeydiyyat!C1084)","v":""},{"$f":"IF(Qeydiyyat!B1084=\"\",\"\",Qeydiyyat!B1084)","v":""},{"$f":"IF(Qeydiyyat!D1084=\"\",\"\",Qeydiyyat!D1084)","v":""},{"$f":"IF(Qeydiyyat!K1084=\"\",\"\",Qeydiyyat!K1084)","v":""},{"$f":"IF(Qeydiyyat!AB1084=\"\",\"\",Qeydiyyat!AB1084)","v":""},{"$f":"IF(Qeydiyyat!AA1084=\"\",\"\",Qeydiyyat!AA1084)","v":""},{"$f":"IF(Qeydiyyat!X1084=\"\",\"\",Qeydiyyat!X1084)","v":""},{"$f":"IF(Qeydiyyat!Y1084=\"\",\"\",Qeydiyyat!Y1084)","v":""},null,{"$f":"IF(Qeydiyyat!AC1084=\"\",\"\",Qeydiyyat!AC1084)","v":""}]
[null,836,{"$f":"IF(Qeydiyyat!C1085=\"\",\"\",Qeydiyyat!C1085)","v":""},{"$f":"IF(Qeydiyyat!B1085=\"\",\"\",Qeydiyyat!B1085)","v":""},{"$f":"IF(Qeydiyyat!D1085=\"\",\"\",Qeydiyyat!D1085)","v":""},{"$f":"IF(Qeydiyyat!K1085=\"\",\"\",Qeydiyyat!K1085)","v":""},{"$f":"IF(Qeydiyyat!AB1085=\"\",\"\",Qeydiyyat!AB1085)","v":""},{"$f":"IF(Qeydiyyat!AA1085=\"\",\"\",Qeydiyyat!AA1085)","v":""},{"$f":"IF(Qeydiyyat!X1085=\"\",\"\",Qeydiyyat!X1085)","v":""},{"$f":"IF(Qeydiyyat!Y1085=\"\",\"\",Qeydiyyat!Y1085)","v":""},null,{"$f":"IF(Qeydiyyat!AC1085=\"\",\"\",Qeydiyyat!AC1085)","v":""}]
[null,{"$f":"B854+1","v":837},{"$f":"IF(Qeydiyyat!C1086=\"\",\"\",Qeydiyyat!C1086)","v":""},{"$f":"IF(Qeydiyyat!B1086=\"\",\"\",Qeydiyyat!B1086)","v":""},{"$f":"IF(Qeydiyyat!D1086=\"\",\"\",Qeydiyyat!D1086)","v":""},{"$f":"IF(Qeydiyyat!K1086=\"\",\"\",Qeydiyyat!K1086)","v":""},{"$f":"IF(Qeydiyyat!AB1086=\"\",\"\",Qeydiyyat!AB1086)","v":""},{"$f":"IF(Qeydiyyat!AA1086=\"\",\"\",Qeydiyyat!AA1086)","v":""},{"$f":"IF(Qeydiyyat!X1086=\"\",\"\",Qeydiyyat!X1086)","v":""},{"$f":"IF(Qeydiyyat!Y1086=\"\",\"\",Qeydiyyat!Y1086)","v":""},null,{"$f":"IF(Qeydiyyat!AC1086=\"\",\"\",Qeydiyyat!AC1086)","v":""}]
[null,838,{"$f":"IF(Qeydiyyat!C1087=\"\",\"\",Qeydiyyat!C1087)","v":""},{"$f":"IF(Qeydiyyat!B1087=\"\",\"\",Qeydiyyat!B1087)","v":""},{"$f":"IF(Qeydiyyat!D1087=\"\",\"\",Qeydiyyat!D1087)","v":""},{"$f":"IF(Qeydiyyat!K1087=\"\",\"\",Qeydiyyat!K1087)","v":""},{"$f":"IF(Qeydiyyat!AB1087=\"\",\"\",Qeydiyyat!AB1087)","v":""},{"$f":"IF(Qeydiyyat!AA1087=\"\",\"\",Qeydiyyat!AA1087)","v":""},{"$f":"IF(Qeydiyyat!X1087=\"\",\"\",Qeydiyyat!X1087)","v":""},{"$f":"IF(Qeydiyyat!Y1087=\"\",\"\",Qeydiyyat!Y1087)","v":""},null,{"$f":"IF(Qeydiyyat!AC1087=\"\",\"\",Qeydiyyat!AC1087)","v":""}]
[null,839,{"$f":"IF(Qeydiyyat!C1088=\"\",\"\",Qeydiyyat!C1088)","v":""},{"$f":"IF(Qeydiyyat!B1088=\"\",\"\",Qeydiyyat!B1088)","v":""},{"$f":"IF(Qeydiyyat!D1088=\"\",\"\",Qeydiyyat!D1088)","v":""},{"$f":"IF(Qeydiyyat!K1088=\"\",\"\",Qeydiyyat!K1088)","v":""},{"$f":"IF(Qeydiyyat!AB1088=\"\",\"\",Qeydiyyat!AB1088)","v":""},{"$f":"IF(Qeydiyyat!AA1088=\"\",\"\",Qeydiyyat!AA1088)","v":""},{"$f":"IF(Qeydiyyat!X1088=\"\",\"\",Qeydiyyat!X1088)","v":""},{"$f":"IF(Qeydiyyat!Y1088=\"\",\"\",Qeydiyyat!Y1088)","v":""},null,{"$f":"IF(Qeydiyyat!AC1088=\"\",\"\",Qeydiyyat!AC1088)","v":""}]
[null,840,{"$f":"IF(Qeydiyyat!C1089=\"\",\"\",Qeydiyyat!C1089)","v":""},{"$f":"IF(Qeydiyyat!B1089=\"\",\"\",Qeydiyyat!B1089)","v":""},{"$f":"IF(Qeydiyyat!D1089=\"\",\"\",Qeydiyyat!D1089)","v":""},{"$f":"IF(Qeydiyyat!K1089=\"\",\"\",Qeydiyyat!K1089)","v":""},{"$f":"IF(Qeydiyyat!AB1089=\"\",\"\",Qeydiyyat!AB1089)","v":""},{"$f":"IF(Qeydiyyat!AA1089=\"\",\"\",Qeydiyyat!AA1089)","v":""},{"$f":"IF(Qeydiyyat!X1089=\"\",\"\",Qeydiyyat!X1089)","v":""},{"$f":"IF(Qeydiyyat!Y1089=\"\",\"\",Qeydiyyat!Y1089)","v":""},null,{"$f":"IF(Qeydiyyat!AC1089=\"\",\"\",Qeydiyyat!AC1089)","v":""}]
[null,841,{"$f":"IF(Qeydiyyat!C1090=\"\",\"\",Qeydiyyat!C1090)","v":""},{"$f":"IF(Qeydiyyat!B1090=\"\",\"\",Qeydiyyat!B1090)","v":""},{"$f":"IF(Qeydiyyat!D1090=\"\",\"\",Qeydiyyat!D1090)","v":""},{"$f":"IF(Qeydiyyat!K1090=\"\",\"\",Qeydiyyat!K1090)","v":""},{"$f":"IF(Qeydiyyat!AB1090=\"\",\"\",Qeydiyyat!AB1090)","v":""},{"$f":"IF(Qeydiyyat!AA1090=\"\",\"\",Qeydiyyat!AA1090)","v":""},{"$f":"IF(Qeydiyyat!X1090=\"\",\"\",Qeydiyyat!X1090)","v":""},{"$f":"IF(Qeydiyyat!Y1090=\"\",\"\",Qeydiyyat!Y1090)","v":""},null,{"$f":"IF(Qeydiyyat!AC1090=\"\",\"\",Qeydiyyat!AC1090)","v":""}]
[null,842,{"$f":"IF(Qeydiyyat!C1091=\"\",\"\",Qeydiyyat!C1091)","v":""},{"$f":"IF(Qeydiyyat!B1091=\"\",\"\",Qeydiyyat!B1091)","v":""},{"$f":"IF(Qeydiyyat!D1091=\"\",\"\",Qeydiyyat!D1091)","v":""},{"$f":"IF(Qeydiyyat!K1091=\"\",\"\",Qeydiyyat!K1091)","v":""},{"$f":"IF(Qeydiyyat!AB1091=\"\",\"\",Qeydiyyat!AB1091)","v":""},{"$f":"IF(Qeydiyyat!AA1091=\"\",\"\",Qeydiyyat!AA1091)","v":""},{"$f":"IF(Qeydiyyat!X1091=\"\",\"\",Qeydiyyat!X1091)","v":""},{"$f":"IF(Qeydiyyat!Y1091=\"\",\"\",Qeydiyyat!Y1091)","v":""},null,{"$f":"IF(Qeydiyyat!AC1091=\"\",\"\",Qeydiyyat!AC1091)","v":""}]
[null,843,{"$f":"IF(Qeydiyyat!C1092=\"\",\"\",Qeydiyyat!C1092)","v":""},{"$f":"IF(Qeydiyyat!B1092=\"\",\"\",Qeydiyyat!B1092)","v":""},{"$f":"IF(Qeydiyyat!D1092=\"\",\"\",Qeydiyyat!D1092)","v":""},{"$f":"IF(Qeydiyyat!K1092=\"\",\"\",Qeydiyyat!K1092)","v":""},{"$f":"IF(Qeydiyyat!AB1092=\"\",\"\",Qeydiyyat!AB1092)","v":""},{"$f":"IF(Qeydiyyat!AA1092=\"\",\"\",Qeydiyyat!AA1092)","v":""},{"$f":"IF(Qeydiyyat!X1092=\"\",\"\",Qeydiyyat!X1092)","v":""},{"$f":"IF(Qeydiyyat!Y1092=\"\",\"\",Qeydiyyat!Y1092)","v":""},null,{"$f":"IF(Qeydiyyat!AC1092=\"\",\"\",Qeydiyyat!AC1092)","v":""}]
[null,844,{"$f":"IF(Qeydiyyat!C1093=\"\",\"\",Qeydiyyat!C1093)","v":""},{"$f":"IF(Qeydiyyat!B1093=\"\",\"\",Qeydiyyat!B1093)","v":""},{"$f":"IF(Qeydiyyat!D1093=\"\",\"\",Qeydiyyat!D1093)","v":""},{"$f":"IF(Qeydiyyat!K1093=\"\",\"\",Qeydiyyat!K1093)","v":""},{"$f":"IF(Qeydiyyat!AB1093=\"\",\"\",Qeydiyyat!AB1093)","v":""},{"$f":"IF(Qeydiyyat!AA1093=\"\",\"\",Qeydiyyat!AA1093)","v":""},{"$f":"IF(Qeydiyyat!X1093=\"\",\"\",Qeydiyyat!X1093)","v":""},{"$f":"IF(Qeydiyyat!Y1093=\"\",\"\",Qeydiyyat!Y1093)","v":""},null,{"$f":"IF(Qeydiyyat!AC1093=\"\",\"\",Qeydiyyat!AC1093)","v":""}]
[null,845,{"$f":"IF(Qeydiyyat!C1094=\"\",\"\",Qeydiyyat!C1094)","v":""},{"$f":"IF(Qeydiyyat!B1094=\"\",\"\",Qeydiyyat!B1094)","v":""},{"$f":"IF(Qeydiyyat!D1094=\"\",\"\",Qeydiyyat!D1094)","v":""},{"$f":"IF(Qeydiyyat!K1094=\"\",\"\",Qeydiyyat!K1094)","v":""},{"$f":"IF(Qeydiyyat!AB1094=\"\",\"\",Qeydiyyat!AB1094)","v":""},{"$f":"IF(Qeydiyyat!AA1094=\"\",\"\",Qeydiyyat!AA1094)","v":""},{"$f":"IF(Qeydiyyat!X1094=\"\",\"\",Qeydiyyat!X1094)","v":""},{"$f":"IF(Qeydiyyat!Y1094=\"\",\"\",Qeydiyyat!Y1094)","v":""},null,{"$f":"IF(Qeydiyyat!AC1094=\"\",\"\",Qeydiyyat!AC1094)","v":""}]
[null,846,{"$f":"IF(Qeydiyyat!C1095=\"\",\"\",Qeydiyyat!C1095)","v":""},{"$f":"IF(Qeydiyyat!B1095=\"\",\"\",Qeydiyyat!B1095)","v":""},{"$f":"IF(Qeydiyyat!D1095=\"\",\"\",Qeydiyyat!D1095)","v":""},{"$f":"IF(Qeydiyyat!K1095=\"\",\"\",Qeydiyyat!K1095)","v":""},{"$f":"IF(Qeydiyyat!AB1095=\"\",\"\",Qeydiyyat!AB1095)","v":""},{"$f":"IF(Qeydiyyat!AA1095=\"\",\"\",Qeydiyyat!AA1095)","v":""},{"$f":"IF(Qeydiyyat!X1095=\"\",\"\",Qeydiyyat!X1095)","v":""},{"$f":"IF(Qeydiyyat!Y1095=\"\",\"\",Qeydiyyat!Y1095)","v":""},null,{"$f":"IF(Qeydiyyat!AC1095=\"\",\"\",Qeydiyyat!AC1095)","v":""}]
[null,847,{"$f":"IF(Qeydiyyat!C1096=\"\",\"\",Qeydiyyat!C1096)","v":""},{"$f":"IF(Qeydiyyat!B1096=\"\",\"\",Qeydiyyat!B1096)","v":""},{"$f":"IF(Qeydiyyat!D1096=\"\",\"\",Qeydiyyat!D1096)","v":""},{"$f":"IF(Qeydiyyat!K1096=\"\",\"\",Qeydiyyat!K1096)","v":""},{"$f":"IF(Qeydiyyat!AB1096=\"\",\"\",Qeydiyyat!AB1096)","v":""},{"$f":"IF(Qeydiyyat!AA1096=\"\",\"\",Qeydiyyat!AA1096)","v":""},{"$f":"IF(Qeydiyyat!X1096=\"\",\"\",Qeydiyyat!X1096)","v":""},{"$f":"IF(Qeydiyyat!Y1096=\"\",\"\",Qeydiyyat!Y1096)","v":""},null,{"$f":"IF(Qeydiyyat!AC1096=\"\",\"\",Qeydiyyat!AC1096)","v":""}]
[null,848,{"$f":"IF(Qeydiyyat!C1097=\"\",\"\",Qeydiyyat!C1097)","v":""},{"$f":"IF(Qeydiyyat!B1097=\"\",\"\",Qeydiyyat!B1097)","v":""},{"$f":"IF(Qeydiyyat!D1097=\"\",\"\",Qeydiyyat!D1097)","v":""},{"$f":"IF(Qeydiyyat!K1097=\"\",\"\",Qeydiyyat!K1097)","v":""},{"$f":"IF(Qeydiyyat!AB1097=\"\",\"\",Qeydiyyat!AB1097)","v":""},{"$f":"IF(Qeydiyyat!AA1097=\"\",\"\",Qeydiyyat!AA1097)","v":""},{"$f":"IF(Qeydiyyat!X1097=\"\",\"\",Qeydiyyat!X1097)","v":""},{"$f":"IF(Qeydiyyat!Y1097=\"\",\"\",Qeydiyyat!Y1097)","v":""},null,{"$f":"IF(Qeydiyyat!AC1097=\"\",\"\",Qeydiyyat!AC1097)","v":""}]
[null,849,{"$f":"IF(Qeydiyyat!C1098=\"\",\"\",Qeydiyyat!C1098)","v":""},{"$f":"IF(Qeydiyyat!B1098=\"\",\"\",Qeydiyyat!B1098)","v":""},{"$f":"IF(Qeydiyyat!D1098=\"\",\"\",Qeydiyyat!D1098)","v":""},{"$f":"IF(Qeydiyyat!K1098=\"\",\"\",Qeydiyyat!K1098)","v":""},{"$f":"IF(Qeydiyyat!AB1098=\"\",\"\",Qeydiyyat!AB1098)","v":""},{"$f":"IF(Qeydiyyat!AA1098=\"\",\"\",Qeydiyyat!AA1098)","v":""},{"$f":"IF(Qeydiyyat!X1098=\"\",\"\",Qeydiyyat!X1098)","v":""},{"$f":"IF(Qeydiyyat!Y1098=\"\",\"\",Qeydiyyat!Y1098)","v":""},null,{"$f":"IF(Qeydiyyat!AC1098=\"\",\"\",Qeydiyyat!AC1098)","v":""}]
[null,850,{"$f":"IF(Qeydiyyat!C1099=\"\",\"\",Qeydiyyat!C1099)","v":""},{"$f":"IF(Qeydiyyat!B1099=\"\",\"\",Qeydiyyat!B1099)","v":""},{"$f":"IF(Qeydiyyat!D1099=\"\",\"\",Qeydiyyat!D1099)","v":""},{"$f":"IF(Qeydiyyat!K1099=\"\",\"\",Qeydiyyat!K1099)","v":""},{"$f":"IF(Qeydiyyat!AB1099=\"\",\"\",Qeydiyyat!AB1099)","v":""},{"$f":"IF(Qeydiyyat!AA1099=\"\",\"\",Qeydiyyat!AA1099)","v":""},{"$f":"IF(Qeydiyyat!X1099=\"\",\"\",Qeydiyyat!X1099)","v":""},{"$f":"IF(Qeydiyyat!Y1099=\"\",\"\",Qeydiyyat!Y1099)","v":""},null,{"$f":"IF(Qeydiyyat!AC1099=\"\",\"\",Qeydiyyat!AC1099)","v":""}]
[null,851,{"$f":"IF(Qeydiyyat!C1100=\"\",\"\",Qeydiyyat!C1100)","v":""},{"$f":"IF(Qeydiyyat!B1100=\"\",\"\",Qeydiyyat!B1100)","v":""},{"$f":"IF(Qeydiyyat!D1100=\"\",\"\",Qeydiyyat!D1100)","v":""},{"$f":"IF(Qeydiyyat!K1100=\"\",\"\",Qeydiyyat!K1100)","v":""},{"$f":"IF(Qeydiyyat!AB1100=\"\",\"\",Qeydiyyat!AB1100)","v":""},{"$f":"IF(Qeydiyyat!AA1100=\"\",\"\",Qeydiyyat!AA1100)","v":""},{"$f":"IF(Qeydiyyat!X1100=\"\",\"\",Qeydiyyat!X1100)","v":""},{"$f":"IF(Qeydiyyat!Y1100=\"\",\"\",Qeydiyyat!Y1100)","v":""},null,{"$f":"IF(Qeydiyyat!AC1100=\"\",\"\",Qeydiyyat!AC1100)","v":""}]
[null,852,{"$f":"IF(Qeydiyyat!C1101=\"\",\"\",Qeydiyyat!C1101)","v":""},{"$f":"IF(Qeydiyyat!B1101=\"\",\"\",Qeydiyyat!B1101)","v":""},{"$f":"IF(Qeydiyyat!D1101=\"\",\"\",Qeydiyyat!D1101)","v":""},{"$f":"IF(Qeydiyyat!K1101=\"\",\"\",Qeydiyyat!K1101)","v":""},{"$f":"IF(Qeydiyyat!AB1101=\"\",\"\",Qeydiyyat!AB1101)","v":""},{"$f":"IF(Qeydiyyat!AA1101=\"\",\"\",Qeydiyyat!AA1101)","v":""},{"$f":"IF(Qeydiyyat!X1101=\"\",\"\",Qeydiyyat!X1101)","v":""},{"$f":"IF(Qeydiyyat!Y1101=\"\",\"\",Qeydiyyat!Y1101)","v":""},null,{"$f":"IF(Qeydiyyat!AC1101=\"\",\"\",Qeydiyyat!AC1101)","v":""}]
[null,853,{"$f":"IF(Qeydiyyat!C1102=\"\",\"\",Qeydiyyat!C1102)","v":""},{"$f":"IF(Qeydiyyat!B1102=\"\",\"\",Qeydiyyat!B1102)","v":""},{"$f":"IF(Qeydiyyat!D1102=\"\",\"\",Qeydiyyat!D1102)","v":""},{"$f":"IF(Qeydiyyat!K1102=\"\",\"\",Qeydiyyat!K1102)","v":""},{"$f":"IF(Qeydiyyat!AB1102=\"\",\"\",Qeydiyyat!AB1102)","v":""},{"$f":"IF(Qeydiyyat!AA1102=\"\",\"\",Qeydiyyat!AA1102)","v":""},{"$f":"IF(Qeydiyyat!X1102=\"\",\"\",Qeydiyyat!X1102)","v":""},{"$f":"IF(Qeydiyyat!Y1102=\"\",\"\",Qeydiyyat!Y1102)","v":""},null,{"$f":"IF(Qeydiyyat!AC1102=\"\",\"\",Qeydiyyat!AC1102)","v":""}]
[null,854,{"$f":"IF(Qeydiyyat!C1103=\"\",\"\",Qeydiyyat!C1103)","v":""},{"$f":"IF(Qeydiyyat!B1103=\"\",\"\",Qeydiyyat!B1103)","v":""},{"$f":"IF(Qeydiyyat!D1103=\"\",\"\",Qeydiyyat!D1103)","v":""},{"$f":"IF(Qeydiyyat!K1103=\"\",\"\",Qeydiyyat!K1103)","v":""},{"$f":"IF(Qeydiyyat!AB1103=\"\",\"\",Qeydiyyat!AB1103)","v":""},{"$f":"IF(Qeydiyyat!AA1103=\"\",\"\",Qeydiyyat!AA1103)","v":""},{"$f":"IF(Qeydiyyat!X1103=\"\",\"\",Qeydiyyat!X1103)","v":""},{"$f":"IF(Qeydiyyat!Y1103=\"\",\"\",Qeydiyyat!Y1103)","v":""},null,{"$f":"IF(Qeydiyyat!AC1103=\"\",\"\",Qeydiyyat!AC1103)","v":""}]
[null,855,{"$f":"IF(Qeydiyyat!C1104=\"\",\"\",Qeydiyyat!C1104)","v":""},{"$f":"IF(Qeydiyyat!B1104=\"\",\"\",Qeydiyyat!B1104)","v":""},{"$f":"IF(Qeydiyyat!D1104=\"\",\"\",Qeydiyyat!D1104)","v":""},{"$f":"IF(Qeydiyyat!K1104=\"\",\"\",Qeydiyyat!K1104)","v":""},{"$f":"IF(Qeydiyyat!AB1104=\"\",\"\",Qeydiyyat!AB1104)","v":""},{"$f":"IF(Qeydiyyat!AA1104=\"\",\"\",Qeydiyyat!AA1104)","v":""},{"$f":"IF(Qeydiyyat!X1104=\"\",\"\",Qeydiyyat!X1104)","v":""},{"$f":"IF(Qeydiyyat!Y1104=\"\",\"\",Qeydiyyat!Y1104)","v":""},null,{"$f":"IF(Qeydiyyat!AC1104=\"\",\"\",Qeydiyyat!AC1104)","v":""}]
[null,856,{"$f":"IF(Qeydiyyat!C1105=\"\",\"\",Qeydiyyat!C1105)","v":""},{"$f":"IF(Qeydiyyat!B1105=\"\",\"\",Qeydiyyat!B1105)","v":""},{"$f":"IF(Qeydiyyat!D1105=\"\",\"\",Qeydiyyat!D1105)","v":""},{"$f":"IF(Qeydiyyat!K1105=\"\",\"\",Qeydiyyat!K1105)","v":""},{"$f":"IF(Qeydiyyat!AB1105=\"\",\"\",Qeydiyyat!AB1105)","v":""},{"$f":"IF(Qeydiyyat!AA1105=\"\",\"\",Qeydiyyat!AA1105)","v":""},{"$f":"IF(Qeydiyyat!X1105=\"\",\"\",Qeydiyyat!X1105)","v":""},{"$f":"IF(Qeydiyyat!Y1105=\"\",\"\",Qeydiyyat!Y1105)","v":""},null,{"$f":"IF(Qeydiyyat!AC1105=\"\",\"\",Qeydiyyat!AC1105)","v":""}]
[null,857,{"$f":"IF(Qeydiyyat!C1106=\"\",\"\",Qeydiyyat!C1106)","v":""},{"$f":"IF(Qeydiyyat!B1106=\"\",\"\",Qeydiyyat!B1106)","v":""},{"$f":"IF(Qeydiyyat!D1106=\"\",\"\",Qeydiyyat!D1106)","v":""},{"$f":"IF(Qeydiyyat!K1106=\"\",\"\",Qeydiyyat!K1106)","v":""},{"$f":"IF(Qeydiyyat!AB1106=\"\",\"\",Qeydiyyat!AB1106)","v":""},{"$f":"IF(Qeydiyyat!AA1106=\"\",\"\",Qeydiyyat!AA1106)","v":""},{"$f":"IF(Qeydiyyat!X1106=\"\",\"\",Qeydiyyat!X1106)","v":""},{"$f":"IF(Qeydiyyat!Y1106=\"\",\"\",Qeydiyyat!Y1106)","v":""},null,{"$f":"IF(Qeydiyyat!AC1106=\"\",\"\",Qeydiyyat!AC1106)","v":""}]
[null,858,{"$f":"IF(Qeydiyyat!C1107=\"\",\"\",Qeydiyyat!C1107)","v":""},{"$f":"IF(Qeydiyyat!B1107=\"\",\"\",Qeydiyyat!B1107)","v":""},{"$f":"IF(Qeydiyyat!D1107=\"\",\"\",Qeydiyyat!D1107)","v":""},{"$f":"IF(Qeydiyyat!K1107=\"\",\"\",Qeydiyyat!K1107)","v":""},{"$f":"IF(Qeydiyyat!AB1107=\"\",\"\",Qeydiyyat!AB1107)","v":""},{"$f":"IF(Qeydiyyat!AA1107=\"\",\"\",Qeydiyyat!AA1107)","v":""},{"$f":"IF(Qeydiyyat!X1107=\"\",\"\",Qeydiyyat!X1107)","v":""},{"$f":"IF(Qeydiyyat!Y1107=\"\",\"\",Qeydiyyat!Y1107)","v":""},null,{"$f":"IF(Qeydiyyat!AC1107=\"\",\"\",Qeydiyyat!AC1107)","v":""}]
[null,859,{"$f":"IF(Qeydiyyat!C1108=\"\",\"\",Qeydiyyat!C1108)","v":""},{"$f":"IF(Qeydiyyat!B1108=\"\",\"\",Qeydiyyat!B1108)","v":""},{"$f":"IF(Qeydiyyat!D1108=\"\",\"\",Qeydiyyat!D1108)","v":""},{"$f":"IF(Qeydiyyat!K1108=\"\",\"\",Qeydiyyat!K1108)","v":""},{"$f":"IF(Qeydiyyat!AB1108=\"\",\"\",Qeydiyyat!AB1108)","v":""},{"$f":"IF(Qeydiyyat!AA1108=\"\",\"\",Qeydiyyat!AA1108)","v":""},{"$f":"IF(Qeydiyyat!X1108=\"\",\"\",Qeydiyyat!X1108)","v":""},{"$f":"IF(Qeydiyyat!Y1108=\"\",\"\",Qeydiyyat!Y1108)","v":""},null,{"$f":"IF(Qeydiyyat!AC1108=\"\",\"\",Qeydiyyat!AC1108)","v":""}]
[null,860,{"$f":"IF(Qeydiyyat!C1109=\"\",\"\",Qeydiyyat!C1109)","v":""},{"$f":"IF(Qeydiyyat!B1109=\"\",\"\",Qeydiyyat!B1109)","v":""},{"$f":"IF(Qeydiyyat!D1109=\"\",\"\",Qeydiyyat!D1109)","v":""},{"$f":"IF(Qeydiyyat!K1109=\"\",\"\",Qeydiyyat!K1109)","v":""},{"$f":"IF(Qeydiyyat!AB1109=\"\",\"\",Qeydiyyat!AB1109)","v":""},{"$f":"IF(Qeydiyyat!AA1109=\"\",\"\",Qeydiyyat!AA1109)","v":""},{"$f":"IF(Qeydiyyat!X1109=\"\",\"\",Qeydiyyat!X1109)","v":""},{"$f":"IF(Qeydiyyat!Y1109=\"\",\"\",Qeydiyyat!Y1109)","v":""},null,{"$f":"IF(Qeydiyyat!AC1109=\"\",\"\",Qeydiyyat!AC1109)","v":""}]
[null,861,{"$f":"IF(Qeydiyyat!C1110=\"\",\"\",Qeydiyyat!C1110)","v":""},{"$f":"IF(Qeydiyyat!B1110=\"\",\"\",Qeydiyyat!B1110)","v":""},{"$f":"IF(Qeydiyyat!D1110=\"\",\"\",Qeydiyyat!D1110)","v":""},{"$f":"IF(Qeydiyyat!K1110=\"\",\"\",Qeydiyyat!K1110)","v":""},{"$f":"IF(Qeydiyyat!AB1110=\"\",\"\",Qeydiyyat!AB1110)","v":""},{"$f":"IF(Qeydiyyat!AA1110=\"\",\"\",Qeydiyyat!AA1110)","v":""},{"$f":"IF(Qeydiyyat!X1110=\"\",\"\",Qeydiyyat!X1110)","v":""},{"$f":"IF(Qeydiyyat!Y1110=\"\",\"\",Qeydiyyat!Y1110)","v":""},null,{"$f":"IF(Qeydiyyat!AC1110=\"\",\"\",Qeydiyyat!AC1110)","v":""}]
[null,862,{"$f":"IF(Qeydiyyat!C1111=\"\",\"\",Qeydiyyat!C1111)","v":""},{"$f":"IF(Qeydiyyat!B1111=\"\",\"\",Qeydiyyat!B1111)","v":""},{"$f":"IF(Qeydiyyat!D1111=\"\",\"\",Qeydiyyat!D1111)","v":""},{"$f":"IF(Qeydiyyat!K1111=\"\",\"\",Qeydiyyat!K1111)","v":""},{"$f":"IF(Qeydiyyat!AB1111=\"\",\"\",Qeydiyyat!AB1111)","v":""},{"$f":"IF(Qeydiyyat!AA1111=\"\",\"\",Qeydiyyat!AA1111)","v":""},{"$f":"IF(Qeydiyyat!X1111=\"\",\"\",Qeydiyyat!X1111)","v":""},{"$f":"IF(Qeydiyyat!Y1111=\"\",\"\",Qeydiyyat!Y1111)","v":""},null,{"$f":"IF(Qeydiyyat!AC1111=\"\",\"\",Qeydiyyat!AC1111)","v":""}]
[null,863,{"$f":"IF(Qeydiyyat!C1112=\"\",\"\",Qeydiyyat!C1112)","v":""},{"$f":"IF(Qeydiyyat!B1112=\"\",\"\",Qeydiyyat!B1112)","v":""},{"$f":"IF(Qeydiyyat!D1112=\"\",\"\",Qeydiyyat!D1112)","v":""},{"$f":"IF(Qeydiyyat!K1112=\"\",\"\",Qeydiyyat!K1112)","v":""},{"$f":"IF(Qeydiyyat!AB1112=\"\",\"\",Qeydiyyat!AB1112)","v":""},{"$f":"IF(Qeydiyyat!AA1112=\"\",\"\",Qeydiyyat!AA1112)","v":""},{"$f":"IF(Qeydiyyat!X1112=\"\",\"\",Qeydiyyat!X1112)","v":""},{"$f":"IF(Qeydiyyat!Y1112=\"\",\"\",Qeydiyyat!Y1112)","v":""},null,{"$f":"IF(Qeydiyyat!AC1112=\"\",\"\",Qeydiyyat!AC1112)","v":""}]
[null,864,{"$f":"IF(Qeydiyyat!C1113=\"\",\"\",Qeydiyyat!C1113)","v":""},{"$f":"IF(Qeydiyyat!B1113=\"\",\"\",Qeydiyyat!B1113)","v":""},{"$f":"IF(Qeydiyyat!D1113=\"\",\"\",Qeydiyyat!D1113)","v":""},{"$f":"IF(Qeydiyyat!K1113=\"\",\"\",Qeydiyyat!K1113)","v":""},{"$f":"IF(Qeydiyyat!AB1113=\"\",\"\",Qeydiyyat!AB1113)","v":""},{"$f":"IF(Qeydiyyat!AA1113=\"\",\"\",Qeydiyyat!AA1113)","v":""},{"$f":"IF(Qeydiyyat!X1113=\"\",\"\",Qeydiyyat!X1113)","v":""},{"$f":"IF(Qeydiyyat!Y1113=\"\",\"\",Qeydiyyat!Y1113)","v":""},null,{"$f":"IF(Qeydiyyat!AC1113=\"\",\"\",Qeydiyyat!AC1113)","v":""}]
[null,865,{"$f":"IF(Qeydiyyat!C1114=\"\",\"\",Qeydiyyat!C1114)","v":""},{"$f":"IF(Qeydiyyat!B1114=\"\",\"\",Qeydiyyat!B1114)","v":""},{"$f":"IF(Qeydiyyat!D1114=\"\",\"\",Qeydiyyat!D1114)","v":""},{"$f":"IF(Qeydiyyat!K1114=\"\",\"\",Qeydiyyat!K1114)","v":""},{"$f":"IF(Qeydiyyat!AB1114=\"\",\"\",Qeydiyyat!AB1114)","v":""},{"$f":"IF(Qeydiyyat!AA1114=\"\",\"\",Qeydiyyat!AA1114)","v":""},{"$f":"IF(Qeydiyyat!X1114=\"\",\"\",Qeydiyyat!X1114)","v":""},{"$f":"IF(Qeydiyyat!Y1114=\"\",\"\",Qeydiyyat!Y1114)","v":""},null,{"$f":"IF(Qeydiyyat!AC1114=\"\",\"\",Qeydiyyat!AC1114)","v":""}]
[null,866,{"$f":"IF(Qeydiyyat!C1115=\"\",\"\",Qeydiyyat!C1115)","v":""},{"$f":"IF(Qeydiyyat!B1115=\"\",\"\",Qeydiyyat!B1115)","v":""},{"$f":"IF(Qeydiyyat!D1115=\"\",\"\",Qeydiyyat!D1115)","v":""},{"$f":"IF(Qeydiyyat!K1115=\"\",\"\",Qeydiyyat!K1115)","v":""},{"$f":"IF(Qeydiyyat!AB1115=\"\",\"\",Qeydiyyat!AB1115)","v":""},{"$f":"IF(Qeydiyyat!AA1115=\"\",\"\",Qeydiyyat!AA1115)","v":""},{"$f":"IF(Qeydiyyat!X1115=\"\",\"\",Qeydiyyat!X1115)","v":""},{"$f":"IF(Qeydiyyat!Y1115=\"\",\"\",Qeydiyyat!Y1115)","v":""},null,{"$f":"IF(Qeydiyyat!AC1115=\"\",\"\",Qeydiyyat!AC1115)","v":""}]
[null,867,{"$f":"IF(Qeydiyyat!C1116=\"\",\"\",Qeydiyyat!C1116)","v":""},{"$f":"IF(Qeydiyyat!B1116=\"\",\"\",Qeydiyyat!B1116)","v":""},{"$f":"IF(Qeydiyyat!D1116=\"\",\"\",Qeydiyyat!D1116)","v":""},{"$f":"IF(Qeydiyyat!K1116=\"\",\"\",Qeydiyyat!K1116)","v":""},{"$f":"IF(Qeydiyyat!AB1116=\"\",\"\",Qeydiyyat!AB1116)","v":""},{"$f":"IF(Qeydiyyat!AA1116=\"\",\"\",Qeydiyyat!AA1116)","v":""},{"$f":"IF(Qeydiyyat!X1116=\"\",\"\",Qeydiyyat!X1116)","v":""},{"$f":"IF(Qeydiyyat!Y1116=\"\",\"\",Qeydiyyat!Y1116)","v":""},null,{"$f":"IF(Qeydiyyat!AC1116=\"\",\"\",Qeydiyyat!AC1116)","v":""}]
[null,868,{"$f":"IF(Qeydiyyat!C1117=\"\",\"\",Qeydiyyat!C1117)","v":""},{"$f":"IF(Qeydiyyat!B1117=\"\",\"\",Qeydiyyat!B1117)","v":""},{"$f":"IF(Qeydiyyat!D1117=\"\",\"\",Qeydiyyat!D1117)","v":""},{"$f":"IF(Qeydiyyat!K1117=\"\",\"\",Qeydiyyat!K1117)","v":""},{"$f":"IF(Qeydiyyat!AB1117=\"\",\"\",Qeydiyyat!AB1117)","v":""},{"$f":"IF(Qeydiyyat!AA1117=\"\",\"\",Qeydiyyat!AA1117)","v":""},{"$f":"IF(Qeydiyyat!X1117=\"\",\"\",Qeydiyyat!X1117)","v":""},{"$f":"IF(Qeydiyyat!Y1117=\"\",\"\",Qeydiyyat!Y1117)","v":""},null,{"$f":"IF(Qeydiyyat!AC1117=\"\",\"\",Qeydiyyat!AC1117)","v":""}]
[null,869,{"$f":"IF(Qeydiyyat!C1118=\"\",\"\",Qeydiyyat!C1118)","v":""},{"$f":"IF(Qeydiyyat!B1118=\"\",\"\",Qeydiyyat!B1118)","v":""},{"$f":"IF(Qeydiyyat!D1118=\"\",\"\",Qeydiyyat!D1118)","v":""},{"$f":"IF(Qeydiyyat!K1118=\"\",\"\",Qeydiyyat!K1118)","v":""},{"$f":"IF(Qeydiyyat!AB1118=\"\",\"\",Qeydiyyat!AB1118)","v":""},{"$f":"IF(Qeydiyyat!AA1118=\"\",\"\",Qeydiyyat!AA1118)","v":""},{"$f":"IF(Qeydiyyat!X1118=\"\",\"\",Qeydiyyat!X1118)","v":""},{"$f":"IF(Qeydiyyat!Y1118=\"\",\"\",Qeydiyyat!Y1118)","v":""},null,{"$f":"IF(Qeydiyyat!AC1118=\"\",\"\",Qeydiyyat!AC1118)","v":""}]
[null,870,{"$f":"IF(Qeydiyyat!C1119=\"\",\"\",Qeydiyyat!C1119)","v":""},{"$f":"IF(Qeydiyyat!B1119=\"\",\"\",Qeydiyyat!B1119)","v":""},{"$f":"IF(Qeydiyyat!D1119=\"\",\"\",Qeydiyyat!D1119)","v":""},{"$f":"IF(Qeydiyyat!K1119=\"\",\"\",Qeydiyyat!K1119)","v":""},{"$f":"IF(Qeydiyyat!AB1119=\"\",\"\",Qeydiyyat!AB1119)","v":""},{"$f":"IF(Qeydiyyat!AA1119=\"\",\"\",Qeydiyyat!AA1119)","v":""},{"$f":"IF(Qeydiyyat!X1119=\"\",\"\",Qeydiyyat!X1119)","v":""},{"$f":"IF(Qeydiyyat!Y1119=\"\",\"\",Qeydiyyat!Y1119)","v":""},null,{"$f":"IF(Qeydiyyat!AC1119=\"\",\"\",Qeydiyyat!AC1119)","v":""}]
[null,871,{"$f":"IF(Qeydiyyat!C1120=\"\",\"\",Qeydiyyat!C1120)","v":""},{"$f":"IF(Qeydiyyat!B1120=\"\",\"\",Qeydiyyat!B1120)","v":""},{"$f":"IF(Qeydiyyat!D1120=\"\",\"\",Qeydiyyat!D1120)","v":""},{"$f":"IF(Qeydiyyat!K1120=\"\",\"\",Qeydiyyat!K1120)","v":""},{"$f":"IF(Qeydiyyat!AB1120=\"\",\"\",Qeydiyyat!AB1120)","v":""},{"$f":"IF(Qeydiyyat!AA1120=\"\",\"\",Qeydiyyat!AA1120)","v":""},{"$f":"IF(Qeydiyyat!X1120=\"\",\"\",Qeydiyyat!X1120)","v":""},{"$f":"IF(Qeydiyyat!Y1120=\"\",\"\",Qeydiyyat!Y1120)","v":""},null,{"$f":"IF(Qeydiyyat!AC1120=\"\",\"\",Qeydiyyat!AC1120)","v":""}]
[null,872,{"$f":"IF(Qeydiyyat!C1121=\"\",\"\",Qeydiyyat!C1121)","v":""},{"$f":"IF(Qeydiyyat!B1121=\"\",\"\",Qeydiyyat!B1121)","v":""},{"$f":"IF(Qeydiyyat!D1121=\"\",\"\",Qeydiyyat!D1121)","v":""},{"$f":"IF(Qeydiyyat!K1121=\"\",\"\",Qeydiyyat!K1121)","v":""},{"$f":"IF(Qeydiyyat!AB1121=\"\",\"\",Qeydiyyat!AB1121)","v":""},{"$f":"IF(Qeydiyyat!AA1121=\"\",\"\",Qeydiyyat!AA1121)","v":""},{"$f":"IF(Qeydiyyat!X1121=\"\",\"\",Qeydiyyat!X1121)","v":""},{"$f":"IF(Qeydiyyat!Y1121=\"\",\"\",Qeydiyyat!Y1121)","v":""},null,{"$f":"IF(Qeydiyyat!AC1121=\"\",\"\",Qeydiyyat!AC1121)","v":""}]
[null,873,{"$f":"IF(Qeydiyyat!C1122=\"\",\"\",Qeydiyyat!C1122)","v":""},{"$f":"IF(Qeydiyyat!B1122=\"\",\"\",Qeydiyyat!B1122)","v":""},{"$f":"IF(Qeydiyyat!D1122=\"\",\"\",Qeydiyyat!D1122)","v":""},{"$f":"IF(Qeydiyyat!K1122=\"\",\"\",Qeydiyyat!K1122)","v":""},{"$f":"IF(Qeydiyyat!AB1122=\"\",\"\",Qeydiyyat!AB1122)","v":""},{"$f":"IF(Qeydiyyat!AA1122=\"\",\"\",Qeydiyyat!AA1122)","v":""},{"$f":"IF(Qeydiyyat!X1122=\"\",\"\",Qeydiyyat!X1122)","v":""},{"$f":"IF(Qeydiyyat!Y1122=\"\",\"\",Qeydiyyat!Y1122)","v":""},null,{"$f":"IF(Qeydiyyat!AC1122=\"\",\"\",Qeydiyyat!AC1122)","v":""}]
[null,874,{"$f":"IF(Qeydiyyat!C1123=\"\",\"\",Qeydiyyat!C1123)","v":""},{"$f":"IF(Qeydiyyat!B1123=\"\",\"\",Qeydiyyat!B1123)","v":""},{"$f":"IF(Qeydiyyat!D1123=\"\",\"\",Qeydiyyat!D1123)","v":""},{"$f":"IF(Qeydiyyat!K1123=\"\",\"\",Qeydiyyat!K1123)","v":""},{"$f":"IF(Qeydiyyat!AB1123=\"\",\"\",Qeydiyyat!AB1123)","v":""},{"$f":"IF(Qeydiyyat!AA1123=\"\",\"\",Qeydiyyat!AA1123)","v":""},{"$f":"IF(Qeydiyyat!X1123=\"\",\"\",Qeydiyyat!X1123)","v":""},{"$f":"IF(Qeydiyyat!Y1123=\"\",\"\",Qeydiyyat!Y1123)","v":""},null,{"$f":"IF(Qeydiyyat!AC1123=\"\",\"\",Qeydiyyat!AC1123)","v":""}]
[null,875,{"$f":"IF(Qeydiyyat!C1124=\"\",\"\",Qeydiyyat!C1124)","v":""},{"$f":"IF(Qeydiyyat!B1124=\"\",\"\",Qeydiyyat!B1124)","v":""},{"$f":"IF(Qeydiyyat!D1124=\"\",\"\",Qeydiyyat!D1124)","v":""},{"$f":"IF(Qeydiyyat!K1124=\"\",\"\",Qeydiyyat!K1124)","v":""},{"$f":"IF(Qeydiyyat!AB1124=\"\",\"\",Qeydiyyat!AB1124)","v":""},{"$f":"IF(Qeydiyyat!AA1124=\"\",\"\",Qeydiyyat!AA1124)","v":""},{"$f":"IF(Qeydiyyat!X1124=\"\",\"\",Qeydiyyat!X1124)","v":""},{"$f":"IF(Qeydiyyat!Y1124=\"\",\"\",Qeydiyyat!Y1124)","v":""},null,{"$f":"IF(Qeydiyyat!AC1124=\"\",\"\",Qeydiyyat!AC1124)","v":""}]
[null,876,{"$f":"IF(Qeydiyyat!C1125=\"\",\"\",Qeydiyyat!C1125)","v":""},{"$f":"IF(Qeydiyyat!B1125=\"\",\"\",Qeydiyyat!B1125)","v":""},{"$f":"IF(Qeydiyyat!D1125=\"\",\"\",Qeydiyyat!D1125)","v":""},{"$f":"IF(Qeydiyyat!K1125=\"\",\"\",Qeydiyyat!K1125)","v":""},{"$f":"IF(Qeydiyyat!AB1125=\"\",\"\",Qeydiyyat!AB1125)","v":""},{"$f":"IF(Qeydiyyat!AA1125=\"\",\"\",Qeydiyyat!AA1125)","v":""},{"$f":"IF(Qeydiyyat!X1125=\"\",\"\",Qeydiyyat!X1125)","v":""},{"$f":"IF(Qeydiyyat!Y1125=\"\",\"\",Qeydiyyat!Y1125)","v":""},null,{"$f":"IF(Qeydiyyat!AC1125=\"\",\"\",Qeydiyyat!AC1125)","v":""}]
[null,877,{"$f":"IF(Qeydiyyat!C1126=\"\",\"\",Qeydiyyat!C1126)","v":""},{"$f":"IF(Qeydiyyat!B1126=\"\",\"\",Qeydiyyat!B1126)","v":""},{"$f":"IF(Qeydiyyat!D1126=\"\",\"\",Qeydiyyat!D1126)","v":""},{"$f":"IF(Qeydiyyat!K1126=\"\",\"\",Qeydiyyat!K1126)","v":""},{"$f":"IF(Qeydiyyat!AB1126=\"\",\"\",Qeydiyyat!AB1126)","v":""},{"$f":"IF(Qeydiyyat!AA1126=\"\",\"\",Qeydiyyat!AA1126)","v":""},{"$f":"IF(Qeydiyyat!X1126=\"\",\"\",Qeydiyyat!X1126)","v":""},{"$f":"IF(Qeydiyyat!Y1126=\"\",\"\",Qeydiyyat!Y1126)","v":""},null,{"$f":"IF(Qeydiyyat!AC1126=\"\",\"\",Qeydiyyat!AC1126)","v":""}]
[null,878,{"$f":"IF(Qeydiyyat!C1127=\"\",\"\",Qeydiyyat!C1127)","v":""},{"$f":"IF(Qeydiyyat!B1127=\"\",\"\",Qeydiyyat!B1127)","v":""},{"$f":"IF(Qeydiyyat!D1127=\"\",\"\",Qeydiyyat!D1127)","v":""},{"$f":"IF(Qeydiyyat!K1127=\"\",\"\",Qeydiyyat!K1127)","v":""},{"$f":"IF(Qeydiyyat!AB1127=\"\",\"\",Qeydiyyat!AB1127)","v":""},{"$f":"IF(Qeydiyyat!AA1127=\"\",\"\",Qeydiyyat!AA1127)","v":""},{"$f":"IF(Qeydiyyat!X1127=\"\",\"\",Qeydiyyat!X1127)","v":""},{"$f":"IF(Qeydiyyat!Y1127=\"\",\"\",Qeydiyyat!Y1127)","v":""},null,{"$f":"IF(Qeydiyyat!AC1127=\"\",\"\",Qeydiyyat!AC1127)","v":""}]
[null,879,{"$f":"IF(Qeydiyyat!C1128=\"\",\"\",Qeydiyyat!C1128)","v":""},{"$f":"IF(Qeydiyyat!B1128=\"\",\"\",Qeydiyyat!B1128)","v":""},{"$f":"IF(Qeydiyyat!D1128=\"\",\"\",Qeydiyyat!D1128)","v":""},{"$f":"IF(Qeydiyyat!K1128=\"\",\"\",Qeydiyyat!K1128)","v":""},{"$f":"IF(Qeydiyyat!AB1128=\"\",\"\",Qeydiyyat!AB1128)","v":""},{"$f":"IF(Qeydiyyat!AA1128=\"\",\"\",Qeydiyyat!AA1128)","v":""},{"$f":"IF(Qeydiyyat!X1128=\"\",\"\",Qeydiyyat!X1128)","v":""},{"$f":"IF(Qeydiyyat!Y1128=\"\",\"\",Qeydiyyat!Y1128)","v":""},null,{"$f":"IF(Qeydiyyat!AC1128=\"\",\"\",Qeydiyyat!AC1128)","v":""}]
[null,880,{"$f":"IF(Qeydiyyat!C1129=\"\",\"\",Qeydiyyat!C1129)","v":""},{"$f":"IF(Qeydiyyat!B1129=\"\",\"\",Qeydiyyat!B1129)","v":""},{"$f":"IF(Qeydiyyat!D1129=\"\",\"\",Qeydiyyat!D1129)","v":""},{"$f":"IF(Qeydiyyat!K1129=\"\",\"\",Qeydiyyat!K1129)","v":""},{"$f":"IF(Qeydiyyat!AB1129=\"\",\"\",Qeydiyyat!AB1129)","v":""},{"$f":"IF(Qeydiyyat!AA1129=\"\",\"\",Qeydiyyat!AA1129)","v":""},{"$f":"IF(Qeydiyyat!X1129=\"\",\"\",Qeydiyyat!X1129)","v":""},{"$f":"IF(Qeydiyyat!Y1129=\"\",\"\",Qeydiyyat!Y1129)","v":""},null,{"$f":"IF(Qeydiyyat!AC1129=\"\",\"\",Qeydiyyat!AC1129)","v":""}]
[null,881,{"$f":"IF(Qeydiyyat!C1130=\"\",\"\",Qeydiyyat!C1130)","v":""},{"$f":"IF(Qeydiyyat!B1130=\"\",\"\",Qeydiyyat!B1130)","v":""},{"$f":"IF(Qeydiyyat!D1130=\"\",\"\",Qeydiyyat!D1130)","v":""},{"$f":"IF(Qeydiyyat!K1130=\"\",\"\",Qeydiyyat!K1130)","v":""},{"$f":"IF(Qeydiyyat!AB1130=\"\",\"\",Qeydiyyat!AB1130)","v":""},{"$f":"IF(Qeydiyyat!AA1130=\"\",\"\",Qeydiyyat!AA1130)","v":""},{"$f":"IF(Qeydiyyat!X1130=\"\",\"\",Qeydiyyat!X1130)","v":""},{"$f":"IF(Qeydiyyat!Y1130=\"\",\"\",Qeydiyyat!Y1130)","v":""},null,{"$f":"IF(Qeydiyyat!AC1130=\"\",\"\",Qeydiyyat!AC1130)","v":""}]
[null,882,{"$f":"IF(Qeydiyyat!C1131=\"\",\"\",Qeydiyyat!C1131)","v":""},{"$f":"IF(Qeydiyyat!B1131=\"\",\"\",Qeydiyyat!B1131)","v":""},{"$f":"IF(Qeydiyyat!D1131=\"\",\"\",Qeydiyyat!D1131)","v":""},{"$f":"IF(Qeydiyyat!K1131=\"\",\"\",Qeydiyyat!K1131)","v":""},{"$f":"IF(Qeydiyyat!AB1131=\"\",\"\",Qeydiyyat!AB1131)","v":""},{"$f":"IF(Qeydiyyat!AA1131=\"\",\"\",Qeydiyyat!AA1131)","v":""},{"$f":"IF(Qeydiyyat!X1131=\"\",\"\",Qeydiyyat!X1131)","v":""},{"$f":"IF(Qeydiyyat!Y1131=\"\",\"\",Qeydiyyat!Y1131)","v":""},null,{"$f":"IF(Qeydiyyat!AC1131=\"\",\"\",Qeydiyyat!AC1131)","v":""}]
[null,883,{"$f":"IF(Qeydiyyat!C1132=\"\",\"\",Qeydiyyat!C1132)","v":""},{"$f":"IF(Qeydiyyat!B1132=\"\",\"\",Qeydiyyat!B1132)","v":""},{"$f":"IF(Qeydiyyat!D1132=\"\",\"\",Qeydiyyat!D1132)","v":""},{"$f":"IF(Qeydiyyat!K1132=\"\",\"\",Qeydiyyat!K1132)","v":""},{"$f":"IF(Qeydiyyat!AB1132=\"\",\"\",Qeydiyyat!AB1132)","v":""},{"$f":"IF(Qeydiyyat!AA1132=\"\",\"\",Qeydiyyat!AA1132)","v":""},{"$f":"IF(Qeydiyyat!X1132=\"\",\"\",Qeydiyyat!X1132)","v":""},{"$f":"IF(Qeydiyyat!Y1132=\"\",\"\",Qeydiyyat!Y1132)","v":""},null,{"$f":"IF(Qeydiyyat!AC1132=\"\",\"\",Qeydiyyat!AC1132)","v":""}]
[null,884,{"$f":"IF(Qeydiyyat!C1133=\"\",\"\",Qeydiyyat!C1133)","v":""},{"$f":"IF(Qeydiyyat!B1133=\"\",\"\",Qeydiyyat!B1133)","v":""},{"$f":"IF(Qeydiyyat!D1133=\"\",\"\",Qeydiyyat!D1133)","v":""},{"$f":"IF(Qeydiyyat!K1133=\"\",\"\",Qeydiyyat!K1133)","v":""},{"$f":"IF(Qeydiyyat!AB1133=\"\",\"\",Qeydiyyat!AB1133)","v":""},{"$f":"IF(Qeydiyyat!AA1133=\"\",\"\",Qeydiyyat!AA1133)","v":""},{"$f":"IF(Qeydiyyat!X1133=\"\",\"\",Qeydiyyat!X1133)","v":""},{"$f":"IF(Qeydiyyat!Y1133=\"\",\"\",Qeydiyyat!Y1133)","v":""},null,{"$f":"IF(Qeydiyyat!AC1133=\"\",\"\",Qeydiyyat!AC1133)","v":""}]
[null,885,{"$f":"IF(Qeydiyyat!C1134=\"\",\"\",Qeydiyyat!C1134)","v":""},{"$f":"IF(Qeydiyyat!B1134=\"\",\"\",Qeydiyyat!B1134)","v":""},{"$f":"IF(Qeydiyyat!D1134=\"\",\"\",Qeydiyyat!D1134)","v":""},{"$f":"IF(Qeydiyyat!K1134=\"\",\"\",Qeydiyyat!K1134)","v":""},{"$f":"IF(Qeydiyyat!AB1134=\"\",\"\",Qeydiyyat!AB1134)","v":""},{"$f":"IF(Qeydiyyat!AA1134=\"\",\"\",Qeydiyyat!AA1134)","v":""},{"$f":"IF(Qeydiyyat!X1134=\"\",\"\",Qeydiyyat!X1134)","v":""},{"$f":"IF(Qeydiyyat!Y1134=\"\",\"\",Qeydiyyat!Y1134)","v":""},null,{"$f":"IF(Qeydiyyat!AC1134=\"\",\"\",Qeydiyyat!AC1134)","v":""}]
[null,886,{"$f":"IF(Qeydiyyat!C1135=\"\",\"\",Qeydiyyat!C1135)","v":""},{"$f":"IF(Qeydiyyat!B1135=\"\",\"\",Qeydiyyat!B1135)","v":""},{"$f":"IF(Qeydiyyat!D1135=\"\",\"\",Qeydiyyat!D1135)","v":""},{"$f":"IF(Qeydiyyat!K1135=\"\",\"\",Qeydiyyat!K1135)","v":""},{"$f":"IF(Qeydiyyat!AB1135=\"\",\"\",Qeydiyyat!AB1135)","v":""},{"$f":"IF(Qeydiyyat!AA1135=\"\",\"\",Qeydiyyat!AA1135)","v":""},{"$f":"IF(Qeydiyyat!X1135=\"\",\"\",Qeydiyyat!X1135)","v":""},{"$f":"IF(Qeydiyyat!Y1135=\"\",\"\",Qeydiyyat!Y1135)","v":""},null,{"$f":"IF(Qeydiyyat!AC1135=\"\",\"\",Qeydiyyat!AC1135)","v":""}]
[null,887,{"$f":"IF(Qeydiyyat!C1136=\"\",\"\",Qeydiyyat!C1136)","v":""},{"$f":"IF(Qeydiyyat!B1136=\"\",\"\",Qeydiyyat!B1136)","v":""},{"$f":"IF(Qeydiyyat!D1136=\"\",\"\",Qeydiyyat!D1136)","v":""},{"$f":"IF(Qeydiyyat!K1136=\"\",\"\",Qeydiyyat!K1136)","v":""},{"$f":"IF(Qeydiyyat!AB1136=\"\",\"\",Qeydiyyat!AB1136)","v":""},{"$f":"IF(Qeydiyyat!AA1136=\"\",\"\",Qeydiyyat!AA1136)","v":""},{"$f":"IF(Qeydiyyat!X1136=\"\",\"\",Qeydiyyat!X1136)","v":""},{"$f":"IF(Qeydiyyat!Y1136=\"\",\"\",Qeydiyyat!Y1136)","v":""},null,{"$f":"IF(Qeydiyyat!AC1136=\"\",\"\",Qeydiyyat!AC1136)","v":""}]
[null,888,{"$f":"IF(Qeydiyyat!C1137=\"\",\"\",Qeydiyyat!C1137)","v":""},{"$f":"IF(Qeydiyyat!B1137=\"\",\"\",Qeydiyyat!B1137)","v":""},{"$f":"IF(Qeydiyyat!D1137=\"\",\"\",Qeydiyyat!D1137)","v":""},{"$f":"IF(Qeydiyyat!K1137=\"\",\"\",Qeydiyyat!K1137)","v":""},{"$f":"IF(Qeydiyyat!AB1137=\"\",\"\",Qeydiyyat!AB1137)","v":""},{"$f":"IF(Qeydiyyat!AA1137=\"\",\"\",Qeydiyyat!AA1137)","v":""},{"$f":"IF(Qeydiyyat!X1137=\"\",\"\",Qeydiyyat!X1137)","v":""},{"$f":"IF(Qeydiyyat!Y1137=\"\",\"\",Qeydiyyat!Y1137)","v":""},null,{"$f":"IF(Qeydiyyat!AC1137=\"\",\"\",Qeydiyyat!AC1137)","v":""}]
[null,889,{"$f":"IF(Qeydiyyat!C1138=\"\",\"\",Qeydiyyat!C1138)","v":""},{"$f":"IF(Qeydiyyat!B1138=\"\",\"\",Qeydiyyat!B1138)","v":""},{"$f":"IF(Qeydiyyat!D1138=\"\",\"\",Qeydiyyat!D1138)","v":""},{"$f":"IF(Qeydiyyat!K1138=\"\",\"\",Qeydiyyat!K1138)","v":""},{"$f":"IF(Qeydiyyat!AB1138=\"\",\"\",Qeydiyyat!AB1138)","v":""},{"$f":"IF(Qeydiyyat!AA1138=\"\",\"\",Qeydiyyat!AA1138)","v":""},{"$f":"IF(Qeydiyyat!X1138=\"\",\"\",Qeydiyyat!X1138)","v":""},{"$f":"IF(Qeydiyyat!Y1138=\"\",\"\",Qeydiyyat!Y1138)","v":""},null,{"$f":"IF(Qeydiyyat!AC1138=\"\",\"\",Qeydiyyat!AC1138)","v":""}]
[null,890,{"$f":"IF(Qeydiyyat!C1139=\"\",\"\",Qeydiyyat!C1139)","v":""},{"$f":"IF(Qeydiyyat!B1139=\"\",\"\",Qeydiyyat!B1139)","v":""},{"$f":"IF(Qeydiyyat!D1139=\"\",\"\",Qeydiyyat!D1139)","v":""},{"$f":"IF(Qeydiyyat!K1139=\"\",\"\",Qeydiyyat!K1139)","v":""},{"$f":"IF(Qeydiyyat!AB1139=\"\",\"\",Qeydiyyat!AB1139)","v":""},{"$f":"IF(Qeydiyyat!AA1139=\"\",\"\",Qeydiyyat!AA1139)","v":""},{"$f":"IF(Qeydiyyat!X1139=\"\",\"\",Qeydiyyat!X1139)","v":""},{"$f":"IF(Qeydiyyat!Y1139=\"\",\"\",Qeydiyyat!Y1139)","v":""},null,{"$f":"IF(Qeydiyyat!AC1139=\"\",\"\",Qeydiyyat!AC1139)","v":""}]
[null,891,{"$f":"IF(Qeydiyyat!C1140=\"\",\"\",Qeydiyyat!C1140)","v":""},{"$f":"IF(Qeydiyyat!B1140=\"\",\"\",Qeydiyyat!B1140)","v":""},{"$f":"IF(Qeydiyyat!D1140=\"\",\"\",Qeydiyyat!D1140)","v":""},{"$f":"IF(Qeydiyyat!K1140=\"\",\"\",Qeydiyyat!K1140)","v":""},{"$f":"IF(Qeydiyyat!AB1140=\"\",\"\",Qeydiyyat!AB1140)","v":""},{"$f":"IF(Qeydiyyat!AA1140=\"\",\"\",Qeydiyyat!AA1140)","v":""},{"$f":"IF(Qeydiyyat!X1140=\"\",\"\",Qeydiyyat!X1140)","v":""},{"$f":"IF(Qeydiyyat!Y1140=\"\",\"\",Qeydiyyat!Y1140)","v":""},null,{"$f":"IF(Qeydiyyat!AC1140=\"\",\"\",Qeydiyyat!AC1140)","v":""}]
[null,892,{"$f":"IF(Qeydiyyat!C1141=\"\",\"\",Qeydiyyat!C1141)","v":""},{"$f":"IF(Qeydiyyat!B1141=\"\",\"\",Qeydiyyat!B1141)","v":""},{"$f":"IF(Qeydiyyat!D1141=\"\",\"\",Qeydiyyat!D1141)","v":""},{"$f":"IF(Qeydiyyat!K1141=\"\",\"\",Qeydiyyat!K1141)","v":""},{"$f":"IF(Qeydiyyat!AB1141=\"\",\"\",Qeydiyyat!AB1141)","v":""},{"$f":"IF(Qeydiyyat!AA1141=\"\",\"\",Qeydiyyat!AA1141)","v":""},{"$f":"IF(Qeydiyyat!X1141=\"\",\"\",Qeydiyyat!X1141)","v":""},{"$f":"IF(Qeydiyyat!Y1141=\"\",\"\",Qeydiyyat!Y1141)","v":""},null,{"$f":"IF(Qeydiyyat!AC1141=\"\",\"\",Qeydiyyat!AC1141)","v":""}]
[null,893,{"$f":"IF(Qeydiyyat!C1142=\"\",\"\",Qeydiyyat!C1142)","v":""},{"$f":"IF(Qeydiyyat!B1142=\"\",\"\",Qeydiyyat!B1142)","v":""},{"$f":"IF(Qeydiyyat!D1142=\"\",\"\",Qeydiyyat!D1142)","v":""},{"$f":"IF(Qeydiyyat!K1142=\"\",\"\",Qeydiyyat!K1142)","v":""},{"$f":"IF(Qeydiyyat!AB1142=\"\",\"\",Qeydiyyat!AB1142)","v":""},{"$f":"IF(Qeydiyyat!AA1142=\"\",\"\",Qeydiyyat!AA1142)","v":""},{"$f":"IF(Qeydiyyat!X1142=\"\",\"\",Qeydiyyat!X1142)","v":""},{"$f":"IF(Qeydiyyat!Y1142=\"\",\"\",Qeydiyyat!Y1142)","v":""},null,{"$f":"IF(Qeydiyyat!AC1142=\"\",\"\",Qeydiyyat!AC1142)","v":""}]
[null,894,{"$f":"IF(Qeydiyyat!C1143=\"\",\"\",Qeydiyyat!C1143)","v":""},{"$f":"IF(Qeydiyyat!B1143=\"\",\"\",Qeydiyyat!B1143)","v":""},{"$f":"IF(Qeydiyyat!D1143=\"\",\"\",Qeydiyyat!D1143)","v":""},{"$f":"IF(Qeydiyyat!K1143=\"\",\"\",Qeydiyyat!K1143)","v":""},{"$f":"IF(Qeydiyyat!AB1143=\"\",\"\",Qeydiyyat!AB1143)","v":""},{"$f":"IF(Qeydiyyat!AA1143=\"\",\"\",Qeydiyyat!AA1143)","v":""},{"$f":"IF(Qeydiyyat!X1143=\"\",\"\",Qeydiyyat!X1143)","v":""},{"$f":"IF(Qeydiyyat!Y1143=\"\",\"\",Qeydiyyat!Y1143)","v":""},null,{"$f":"IF(Qeydiyyat!AC1143=\"\",\"\",Qeydiyyat!AC1143)","v":""}]
[null,895,{"$f":"IF(Qeydiyyat!C1144=\"\",\"\",Qeydiyyat!C1144)","v":""},{"$f":"IF(Qeydiyyat!B1144=\"\",\"\",Qeydiyyat!B1144)","v":""},{"$f":"IF(Qeydiyyat!D1144=\"\",\"\",Qeydiyyat!D1144)","v":""},{"$f":"IF(Qeydiyyat!K1144=\"\",\"\",Qeydiyyat!K1144)","v":""},{"$f":"IF(Qeydiyyat!AB1144=\"\",\"\",Qeydiyyat!AB1144)","v":""},{"$f":"IF(Qeydiyyat!AA1144=\"\",\"\",Qeydiyyat!AA1144)","v":""},{"$f":"IF(Qeydiyyat!X1144=\"\",\"\",Qeydiyyat!X1144)","v":""},{"$f":"IF(Qeydiyyat!Y1144=\"\",\"\",Qeydiyyat!Y1144)","v":""},null,{"$f":"IF(Qeydiyyat!AC1144=\"\",\"\",Qeydiyyat!AC1144)","v":""}]
[null,896,{"$f":"IF(Qeydiyyat!C1145=\"\",\"\",Qeydiyyat!C1145)","v":""},{"$f":"IF(Qeydiyyat!B1145=\"\",\"\",Qeydiyyat!B1145)","v":""},{"$f":"IF(Qeydiyyat!D1145=\"\",\"\",Qeydiyyat!D1145)","v":""},{"$f":"IF(Qeydiyyat!K1145=\"\",\"\",Qeydiyyat!K1145)","v":""},{"$f":"IF(Qeydiyyat!AB1145=\"\",\"\",Qeydiyyat!AB1145)","v":""},{"$f":"IF(Qeydiyyat!AA1145=\"\",\"\",Qeydiyyat!AA1145)","v":""},{"$f":"IF(Qeydiyyat!X1145=\"\",\"\",Qeydiyyat!X1145)","v":""},{"$f":"IF(Qeydiyyat!Y1145=\"\",\"\",Qeydiyyat!Y1145)","v":""},null,{"$f":"IF(Qeydiyyat!AC1145=\"\",\"\",Qeydiyyat!AC1145)","v":""}]
[null,897,{"$f":"IF(Qeydiyyat!C1146=\"\",\"\",Qeydiyyat!C1146)","v":""},{"$f":"IF(Qeydiyyat!B1146=\"\",\"\",Qeydiyyat!B1146)","v":""},{"$f":"IF(Qeydiyyat!D1146=\"\",\"\",Qeydiyyat!D1146)","v":""},{"$f":"IF(Qeydiyyat!K1146=\"\",\"\",Qeydiyyat!K1146)","v":""},{"$f":"IF(Qeydiyyat!AB1146=\"\",\"\",Qeydiyyat!AB1146)","v":""},{"$f":"IF(Qeydiyyat!AA1146=\"\",\"\",Qeydiyyat!AA1146)","v":""},{"$f":"IF(Qeydiyyat!X1146=\"\",\"\",Qeydiyyat!X1146)","v":""},{"$f":"IF(Qeydiyyat!Y1146=\"\",\"\",Qeydiyyat!Y1146)","v":""},null,{"$f":"IF(Qeydiyyat!AC1146=\"\",\"\",Qeydiyyat!AC1146)","v":""}]
[null,898,{"$f":"IF(Qeydiyyat!C1147=\"\",\"\",Qeydiyyat!C1147)","v":""},{"$f":"IF(Qeydiyyat!B1147=\"\",\"\",Qeydiyyat!B1147)","v":""},{"$f":"IF(Qeydiyyat!D1147=\"\",\"\",Qeydiyyat!D1147)","v":""},{"$f":"IF(Qeydiyyat!K1147=\"\",\"\",Qeydiyyat!K1147)","v":""},{"$f":"IF(Qeydiyyat!AB1147=\"\",\"\",Qeydiyyat!AB1147)","v":""},{"$f":"IF(Qeydiyyat!AA1147=\"\",\"\",Qeydiyyat!AA1147)","v":""},{"$f":"IF(Qeydiyyat!X1147=\"\",\"\",Qeydiyyat!X1147)","v":""},{"$f":"IF(Qeydiyyat!Y1147=\"\",\"\",Qeydiyyat!Y1147)","v":""},null,{"$f":"IF(Qeydiyyat!AC1147=\"\",\"\",Qeydiyyat!AC1147)","v":""}]
[null,899,{"$f":"IF(Qeydiyyat!C1148=\"\",\"\",Qeydiyyat!C1148)","v":""},{"$f":"IF(Qeydiyyat!B1148=\"\",\"\",Qeydiyyat!B1148)","v":""},{"$f":"IF(Qeydiyyat!D1148=\"\",\"\",Qeydiyyat!D1148)","v":""},{"$f":"IF(Qeydiyyat!K1148=\"\",\"\",Qeydiyyat!K1148)","v":""},{"$f":"IF(Qeydiyyat!AB1148=\"\",\"\",Qeydiyyat!AB1148)","v":""},{"$f":"IF(Qeydiyyat!AA1148=\"\",\"\",Qeydiyyat!AA1148)","v":""},{"$f":"IF(Qeydiyyat!X1148=\"\",\"\",Qeydiyyat!X1148)","v":""},{"$f":"IF(Qeydiyyat!Y1148=\"\",\"\",Qeydiyyat!Y1148)","v":""},null,{"$f":"IF(Qeydiyyat!AC1148=\"\",\"\",Qeydiyyat!AC1148)","v":""}]
[null,900,{"$f":"IF(Qeydiyyat!C1149=\"\",\"\",Qeydiyyat!C1149)","v":""},{"$f":"IF(Qeydiyyat!B1149=\"\",\"\",Qeydiyyat!B1149)","v":""},{"$f":"IF(Qeydiyyat!D1149=\"\",\"\",Qeydiyyat!D1149)","v":""},{"$f":"IF(Qeydiyyat!K1149=\"\",\"\",Qeydiyyat!K1149)","v":""},{"$f":"IF(Qeydiyyat!AB1149=\"\",\"\",Qeydiyyat!AB1149)","v":""},{"$f":"IF(Qeydiyyat!AA1149=\"\",\"\",Qeydiyyat!AA1149)","v":""},{"$f":"IF(Qeydiyyat!X1149=\"\",\"\",Qeydiyyat!X1149)","v":""},{"$f":"IF(Qeydiyyat!Y1149=\"\",\"\",Qeydiyyat!Y1149)","v":""},null,{"$f":"IF(Qeydiyyat!AC1149=\"\",\"\",Qeydiyyat!AC1149)","v":""}]
[null,{"$f":"B918+1","v":901},{"$f":"IF(Qeydiyyat!C1150=\"\",\"\",Qeydiyyat!C1150)","v":""},{"$f":"IF(Qeydiyyat!B1150=\"\",\"\",Qeydiyyat!B1150)","v":""},{"$f":"IF(Qeydiyyat!D1150=\"\",\"\",Qeydiyyat!D1150)","v":""},{"$f":"IF(Qeydiyyat!K1150=\"\",\"\",Qeydiyyat!K1150)","v":""},{"$f":"IF(Qeydiyyat!AB1150=\"\",\"\",Qeydiyyat!AB1150)","v":""},{"$f":"IF(Qeydiyyat!AA1150=\"\",\"\",Qeydiyyat!AA1150)","v":""},{"$f":"IF(Qeydiyyat!X1150=\"\",\"\",Qeydiyyat!X1150)","v":""},{"$f":"IF(Qeydiyyat!Y1150=\"\",\"\",Qeydiyyat!Y1150)","v":""},null,{"$f":"IF(Qeydiyyat!AC1150=\"\",\"\",Qeydiyyat!AC1150)","v":""}]
[null,902,{"$f":"IF(Qeydiyyat!C1151=\"\",\"\",Qeydiyyat!C1151)","v":""},{"$f":"IF(Qeydiyyat!B1151=\"\",\"\",Qeydiyyat!B1151)","v":""},{"$f":"IF(Qeydiyyat!D1151=\"\",\"\",Qeydiyyat!D1151)","v":""},{"$f":"IF(Qeydiyyat!K1151=\"\",\"\",Qeydiyyat!K1151)","v":""},{"$f":"IF(Qeydiyyat!AB1151=\"\",\"\",Qeydiyyat!AB1151)","v":""},{"$f":"IF(Qeydiyyat!AA1151=\"\",\"\",Qeydiyyat!AA1151)","v":""},{"$f":"IF(Qeydiyyat!X1151=\"\",\"\",Qeydiyyat!X1151)","v":""},{"$f":"IF(Qeydiyyat!Y1151=\"\",\"\",Qeydiyyat!Y1151)","v":""},null,{"$f":"IF(Qeydiyyat!AC1151=\"\",\"\",Qeydiyyat!AC1151)","v":""}]
[null,903,{"$f":"IF(Qeydiyyat!C1152=\"\",\"\",Qeydiyyat!C1152)","v":""},{"$f":"IF(Qeydiyyat!B1152=\"\",\"\",Qeydiyyat!B1152)","v":""},{"$f":"IF(Qeydiyyat!D1152=\"\",\"\",Qeydiyyat!D1152)","v":""},{"$f":"IF(Qeydiyyat!K1152=\"\",\"\",Qeydiyyat!K1152)","v":""},{"$f":"IF(Qeydiyyat!AB1152=\"\",\"\",Qeydiyyat!AB1152)","v":""},{"$f":"IF(Qeydiyyat!AA1152=\"\",\"\",Qeydiyyat!AA1152)","v":""},{"$f":"IF(Qeydiyyat!X1152=\"\",\"\",Qeydiyyat!X1152)","v":""},{"$f":"IF(Qeydiyyat!Y1152=\"\",\"\",Qeydiyyat!Y1152)","v":""},null,{"$f":"IF(Qeydiyyat!AC1152=\"\",\"\",Qeydiyyat!AC1152)","v":""}]
[null,904,{"$f":"IF(Qeydiyyat!C1153=\"\",\"\",Qeydiyyat!C1153)","v":""},{"$f":"IF(Qeydiyyat!B1153=\"\",\"\",Qeydiyyat!B1153)","v":""},{"$f":"IF(Qeydiyyat!D1153=\"\",\"\",Qeydiyyat!D1153)","v":""},{"$f":"IF(Qeydiyyat!K1153=\"\",\"\",Qeydiyyat!K1153)","v":""},{"$f":"IF(Qeydiyyat!AB1153=\"\",\"\",Qeydiyyat!AB1153)","v":""},{"$f":"IF(Qeydiyyat!AA1153=\"\",\"\",Qeydiyyat!AA1153)","v":""},{"$f":"IF(Qeydiyyat!X1153=\"\",\"\",Qeydiyyat!X1153)","v":""},{"$f":"IF(Qeydiyyat!Y1153=\"\",\"\",Qeydiyyat!Y1153)","v":""},null,{"$f":"IF(Qeydiyyat!AC1153=\"\",\"\",Qeydiyyat!AC1153)","v":""}]
[null,905,{"$f":"IF(Qeydiyyat!C1154=\"\",\"\",Qeydiyyat!C1154)","v":""},{"$f":"IF(Qeydiyyat!B1154=\"\",\"\",Qeydiyyat!B1154)","v":""},{"$f":"IF(Qeydiyyat!D1154=\"\",\"\",Qeydiyyat!D1154)","v":""},{"$f":"IF(Qeydiyyat!K1154=\"\",\"\",Qeydiyyat!K1154)","v":""},{"$f":"IF(Qeydiyyat!AB1154=\"\",\"\",Qeydiyyat!AB1154)","v":""},{"$f":"IF(Qeydiyyat!AA1154=\"\",\"\",Qeydiyyat!AA1154)","v":""},{"$f":"IF(Qeydiyyat!X1154=\"\",\"\",Qeydiyyat!X1154)","v":""},{"$f":"IF(Qeydiyyat!Y1154=\"\",\"\",Qeydiyyat!Y1154)","v":""},null,{"$f":"IF(Qeydiyyat!AC1154=\"\",\"\",Qeydiyyat!AC1154)","v":""}]
[null,906,{"$f":"IF(Qeydiyyat!C1155=\"\",\"\",Qeydiyyat!C1155)","v":""},{"$f":"IF(Qeydiyyat!B1155=\"\",\"\",Qeydiyyat!B1155)","v":""},{"$f":"IF(Qeydiyyat!D1155=\"\",\"\",Qeydiyyat!D1155)","v":""},{"$f":"IF(Qeydiyyat!K1155=\"\",\"\",Qeydiyyat!K1155)","v":""},{"$f":"IF(Qeydiyyat!AB1155=\"\",\"\",Qeydiyyat!AB1155)","v":""},{"$f":"IF(Qeydiyyat!AA1155=\"\",\"\",Qeydiyyat!AA1155)","v":""},{"$f":"IF(Qeydiyyat!X1155=\"\",\"\",Qeydiyyat!X1155)","v":""},{"$f":"IF(Qeydiyyat!Y1155=\"\",\"\",Qeydiyyat!Y1155)","v":""},null,{"$f":"IF(Qeydiyyat!AC1155=\"\",\"\",Qeydiyyat!AC1155)","v":""}]
[null,907,{"$f":"IF(Qeydiyyat!C1156=\"\",\"\",Qeydiyyat!C1156)","v":""},{"$f":"IF(Qeydiyyat!B1156=\"\",\"\",Qeydiyyat!B1156)","v":""},{"$f":"IF(Qeydiyyat!D1156=\"\",\"\",Qeydiyyat!D1156)","v":""},{"$f":"IF(Qeydiyyat!K1156=\"\",\"\",Qeydiyyat!K1156)","v":""},{"$f":"IF(Qeydiyyat!AB1156=\"\",\"\",Qeydiyyat!AB1156)","v":""},{"$f":"IF(Qeydiyyat!AA1156=\"\",\"\",Qeydiyyat!AA1156)","v":""},{"$f":"IF(Qeydiyyat!X1156=\"\",\"\",Qeydiyyat!X1156)","v":""},{"$f":"IF(Qeydiyyat!Y1156=\"\",\"\",Qeydiyyat!Y1156)","v":""},null,{"$f":"IF(Qeydiyyat!AC1156=\"\",\"\",Qeydiyyat!AC1156)","v":""}]
[null,908,{"$f":"IF(Qeydiyyat!C1157=\"\",\"\",Qeydiyyat!C1157)","v":""},{"$f":"IF(Qeydiyyat!B1157=\"\",\"\",Qeydiyyat!B1157)","v":""},{"$f":"IF(Qeydiyyat!D1157=\"\",\"\",Qeydiyyat!D1157)","v":""},{"$f":"IF(Qeydiyyat!K1157=\"\",\"\",Qeydiyyat!K1157)","v":""},{"$f":"IF(Qeydiyyat!AB1157=\"\",\"\",Qeydiyyat!AB1157)","v":""},{"$f":"IF(Qeydiyyat!AA1157=\"\",\"\",Qeydiyyat!AA1157)","v":""},{"$f":"IF(Qeydiyyat!X1157=\"\",\"\",Qeydiyyat!X1157)","v":""},{"$f":"IF(Qeydiyyat!Y1157=\"\",\"\",Qeydiyyat!Y1157)","v":""},null,{"$f":"IF(Qeydiyyat!AC1157=\"\",\"\",Qeydiyyat!AC1157)","v":""}]
[null,909,{"$f":"IF(Qeydiyyat!C1158=\"\",\"\",Qeydiyyat!C1158)","v":""},{"$f":"IF(Qeydiyyat!B1158=\"\",\"\",Qeydiyyat!B1158)","v":""},{"$f":"IF(Qeydiyyat!D1158=\"\",\"\",Qeydiyyat!D1158)","v":""},{"$f":"IF(Qeydiyyat!K1158=\"\",\"\",Qeydiyyat!K1158)","v":""},{"$f":"IF(Qeydiyyat!AB1158=\"\",\"\",Qeydiyyat!AB1158)","v":""},{"$f":"IF(Qeydiyyat!AA1158=\"\",\"\",Qeydiyyat!AA1158)","v":""},{"$f":"IF(Qeydiyyat!X1158=\"\",\"\",Qeydiyyat!X1158)","v":""},{"$f":"IF(Qeydiyyat!Y1158=\"\",\"\",Qeydiyyat!Y1158)","v":""},null,{"$f":"IF(Qeydiyyat!AC1158=\"\",\"\",Qeydiyyat!AC1158)","v":""}]
[null,910,{"$f":"IF(Qeydiyyat!C1159=\"\",\"\",Qeydiyyat!C1159)","v":""},{"$f":"IF(Qeydiyyat!B1159=\"\",\"\",Qeydiyyat!B1159)","v":""},{"$f":"IF(Qeydiyyat!D1159=\"\",\"\",Qeydiyyat!D1159)","v":""},{"$f":"IF(Qeydiyyat!K1159=\"\",\"\",Qeydiyyat!K1159)","v":""},{"$f":"IF(Qeydiyyat!AB1159=\"\",\"\",Qeydiyyat!AB1159)","v":""},{"$f":"IF(Qeydiyyat!AA1159=\"\",\"\",Qeydiyyat!AA1159)","v":""},{"$f":"IF(Qeydiyyat!X1159=\"\",\"\",Qeydiyyat!X1159)","v":""},{"$f":"IF(Qeydiyyat!Y1159=\"\",\"\",Qeydiyyat!Y1159)","v":""},null,{"$f":"IF(Qeydiyyat!AC1159=\"\",\"\",Qeydiyyat!AC1159)","v":""}]
[null,911,{"$f":"IF(Qeydiyyat!C1160=\"\",\"\",Qeydiyyat!C1160)","v":""},{"$f":"IF(Qeydiyyat!B1160=\"\",\"\",Qeydiyyat!B1160)","v":""},{"$f":"IF(Qeydiyyat!D1160=\"\",\"\",Qeydiyyat!D1160)","v":""},{"$f":"IF(Qeydiyyat!K1160=\"\",\"\",Qeydiyyat!K1160)","v":""},{"$f":"IF(Qeydiyyat!AB1160=\"\",\"\",Qeydiyyat!AB1160)","v":""},{"$f":"IF(Qeydiyyat!AA1160=\"\",\"\",Qeydiyyat!AA1160)","v":""},{"$f":"IF(Qeydiyyat!X1160=\"\",\"\",Qeydiyyat!X1160)","v":""},{"$f":"IF(Qeydiyyat!Y1160=\"\",\"\",Qeydiyyat!Y1160)","v":""},null,{"$f":"IF(Qeydiyyat!AC1160=\"\",\"\",Qeydiyyat!AC1160)","v":""}]
[null,912,{"$f":"IF(Qeydiyyat!C1161=\"\",\"\",Qeydiyyat!C1161)","v":""},{"$f":"IF(Qeydiyyat!B1161=\"\",\"\",Qeydiyyat!B1161)","v":""},{"$f":"IF(Qeydiyyat!D1161=\"\",\"\",Qeydiyyat!D1161)","v":""},{"$f":"IF(Qeydiyyat!K1161=\"\",\"\",Qeydiyyat!K1161)","v":""},{"$f":"IF(Qeydiyyat!AB1161=\"\",\"\",Qeydiyyat!AB1161)","v":""},{"$f":"IF(Qeydiyyat!AA1161=\"\",\"\",Qeydiyyat!AA1161)","v":""},{"$f":"IF(Qeydiyyat!X1161=\"\",\"\",Qeydiyyat!X1161)","v":""},{"$f":"IF(Qeydiyyat!Y1161=\"\",\"\",Qeydiyyat!Y1161)","v":""},null,{"$f":"IF(Qeydiyyat!AC1161=\"\",\"\",Qeydiyyat!AC1161)","v":""}]
[null,913,{"$f":"IF(Qeydiyyat!C1162=\"\",\"\",Qeydiyyat!C1162)","v":""},{"$f":"IF(Qeydiyyat!B1162=\"\",\"\",Qeydiyyat!B1162)","v":""},{"$f":"IF(Qeydiyyat!D1162=\"\",\"\",Qeydiyyat!D1162)","v":""},{"$f":"IF(Qeydiyyat!K1162=\"\",\"\",Qeydiyyat!K1162)","v":""},{"$f":"IF(Qeydiyyat!AB1162=\"\",\"\",Qeydiyyat!AB1162)","v":""},{"$f":"IF(Qeydiyyat!AA1162=\"\",\"\",Qeydiyyat!AA1162)","v":""},{"$f":"IF(Qeydiyyat!X1162=\"\",\"\",Qeydiyyat!X1162)","v":""},{"$f":"IF(Qeydiyyat!Y1162=\"\",\"\",Qeydiyyat!Y1162)","v":""},null,{"$f":"IF(Qeydiyyat!AC1162=\"\",\"\",Qeydiyyat!AC1162)","v":""}]
[null,914,{"$f":"IF(Qeydiyyat!C1163=\"\",\"\",Qeydiyyat!C1163)","v":""},{"$f":"IF(Qeydiyyat!B1163=\"\",\"\",Qeydiyyat!B1163)","v":""},{"$f":"IF(Qeydiyyat!D1163=\"\",\"\",Qeydiyyat!D1163)","v":""},{"$f":"IF(Qeydiyyat!K1163=\"\",\"\",Qeydiyyat!K1163)","v":""},{"$f":"IF(Qeydiyyat!AB1163=\"\",\"\",Qeydiyyat!AB1163)","v":""},{"$f":"IF(Qeydiyyat!AA1163=\"\",\"\",Qeydiyyat!AA1163)","v":""},{"$f":"IF(Qeydiyyat!X1163=\"\",\"\",Qeydiyyat!X1163)","v":""},{"$f":"IF(Qeydiyyat!Y1163=\"\",\"\",Qeydiyyat!Y1163)","v":""},null,{"$f":"IF(Qeydiyyat!AC1163=\"\",\"\",Qeydiyyat!AC1163)","v":""}]
[null,915,{"$f":"IF(Qeydiyyat!C1164=\"\",\"\",Qeydiyyat!C1164)","v":""},{"$f":"IF(Qeydiyyat!B1164=\"\",\"\",Qeydiyyat!B1164)","v":""},{"$f":"IF(Qeydiyyat!D1164=\"\",\"\",Qeydiyyat!D1164)","v":""},{"$f":"IF(Qeydiyyat!K1164=\"\",\"\",Qeydiyyat!K1164)","v":""},{"$f":"IF(Qeydiyyat!AB1164=\"\",\"\",Qeydiyyat!AB1164)","v":""},{"$f":"IF(Qeydiyyat!AA1164=\"\",\"\",Qeydiyyat!AA1164)","v":""},{"$f":"IF(Qeydiyyat!X1164=\"\",\"\",Qeydiyyat!X1164)","v":""},{"$f":"IF(Qeydiyyat!Y1164=\"\",\"\",Qeydiyyat!Y1164)","v":""},null,{"$f":"IF(Qeydiyyat!AC1164=\"\",\"\",Qeydiyyat!AC1164)","v":""}]
[null,916,{"$f":"IF(Qeydiyyat!C1165=\"\",\"\",Qeydiyyat!C1165)","v":""},{"$f":"IF(Qeydiyyat!B1165=\"\",\"\",Qeydiyyat!B1165)","v":""},{"$f":"IF(Qeydiyyat!D1165=\"\",\"\",Qeydiyyat!D1165)","v":""},{"$f":"IF(Qeydiyyat!K1165=\"\",\"\",Qeydiyyat!K1165)","v":""},{"$f":"IF(Qeydiyyat!AB1165=\"\",\"\",Qeydiyyat!AB1165)","v":""},{"$f":"IF(Qeydiyyat!AA1165=\"\",\"\",Qeydiyyat!AA1165)","v":""},{"$f":"IF(Qeydiyyat!X1165=\"\",\"\",Qeydiyyat!X1165)","v":""},{"$f":"IF(Qeydiyyat!Y1165=\"\",\"\",Qeydiyyat!Y1165)","v":""},null,{"$f":"IF(Qeydiyyat!AC1165=\"\",\"\",Qeydiyyat!AC1165)","v":""}]
[null,917,{"$f":"IF(Qeydiyyat!C1166=\"\",\"\",Qeydiyyat!C1166)","v":""},{"$f":"IF(Qeydiyyat!B1166=\"\",\"\",Qeydiyyat!B1166)","v":""},{"$f":"IF(Qeydiyyat!D1166=\"\",\"\",Qeydiyyat!D1166)","v":""},{"$f":"IF(Qeydiyyat!K1166=\"\",\"\",Qeydiyyat!K1166)","v":""},{"$f":"IF(Qeydiyyat!AB1166=\"\",\"\",Qeydiyyat!AB1166)","v":""},{"$f":"IF(Qeydiyyat!AA1166=\"\",\"\",Qeydiyyat!AA1166)","v":""},{"$f":"IF(Qeydiyyat!X1166=\"\",\"\",Qeydiyyat!X1166)","v":""},{"$f":"IF(Qeydiyyat!Y1166=\"\",\"\",Qeydiyyat!Y1166)","v":""},null,{"$f":"IF(Qeydiyyat!AC1166=\"\",\"\",Qeydiyyat!AC1166)","v":""}]
[null,918,{"$f":"IF(Qeydiyyat!C1167=\"\",\"\",Qeydiyyat!C1167)","v":""},{"$f":"IF(Qeydiyyat!B1167=\"\",\"\",Qeydiyyat!B1167)","v":""},{"$f":"IF(Qeydiyyat!D1167=\"\",\"\",Qeydiyyat!D1167)","v":""},{"$f":"IF(Qeydiyyat!K1167=\"\",\"\",Qeydiyyat!K1167)","v":""},{"$f":"IF(Qeydiyyat!AB1167=\"\",\"\",Qeydiyyat!AB1167)","v":""},{"$f":"IF(Qeydiyyat!AA1167=\"\",\"\",Qeydiyyat!AA1167)","v":""},{"$f":"IF(Qeydiyyat!X1167=\"\",\"\",Qeydiyyat!X1167)","v":""},{"$f":"IF(Qeydiyyat!Y1167=\"\",\"\",Qeydiyyat!Y1167)","v":""},null,{"$f":"IF(Qeydiyyat!AC1167=\"\",\"\",Qeydiyyat!AC1167)","v":""}]
[null,919,{"$f":"IF(Qeydiyyat!C1168=\"\",\"\",Qeydiyyat!C1168)","v":""},{"$f":"IF(Qeydiyyat!B1168=\"\",\"\",Qeydiyyat!B1168)","v":""},{"$f":"IF(Qeydiyyat!D1168=\"\",\"\",Qeydiyyat!D1168)","v":""},{"$f":"IF(Qeydiyyat!K1168=\"\",\"\",Qeydiyyat!K1168)","v":""},{"$f":"IF(Qeydiyyat!AB1168=\"\",\"\",Qeydiyyat!AB1168)","v":""},{"$f":"IF(Qeydiyyat!AA1168=\"\",\"\",Qeydiyyat!AA1168)","v":""},{"$f":"IF(Qeydiyyat!X1168=\"\",\"\",Qeydiyyat!X1168)","v":""},{"$f":"IF(Qeydiyyat!Y1168=\"\",\"\",Qeydiyyat!Y1168)","v":""},null,{"$f":"IF(Qeydiyyat!AC1168=\"\",\"\",Qeydiyyat!AC1168)","v":""}]
[null,920,{"$f":"IF(Qeydiyyat!C1169=\"\",\"\",Qeydiyyat!C1169)","v":""},{"$f":"IF(Qeydiyyat!B1169=\"\",\"\",Qeydiyyat!B1169)","v":""},{"$f":"IF(Qeydiyyat!D1169=\"\",\"\",Qeydiyyat!D1169)","v":""},{"$f":"IF(Qeydiyyat!K1169=\"\",\"\",Qeydiyyat!K1169)","v":""},{"$f":"IF(Qeydiyyat!AB1169=\"\",\"\",Qeydiyyat!AB1169)","v":""},{"$f":"IF(Qeydiyyat!AA1169=\"\",\"\",Qeydiyyat!AA1169)","v":""},{"$f":"IF(Qeydiyyat!X1169=\"\",\"\",Qeydiyyat!X1169)","v":""},{"$f":"IF(Qeydiyyat!Y1169=\"\",\"\",Qeydiyyat!Y1169)","v":""},null,{"$f":"IF(Qeydiyyat!AC1169=\"\",\"\",Qeydiyyat!AC1169)","v":""}]
[null,921,{"$f":"IF(Qeydiyyat!C1170=\"\",\"\",Qeydiyyat!C1170)","v":""},{"$f":"IF(Qeydiyyat!B1170=\"\",\"\",Qeydiyyat!B1170)","v":""},{"$f":"IF(Qeydiyyat!D1170=\"\",\"\",Qeydiyyat!D1170)","v":""},{"$f":"IF(Qeydiyyat!K1170=\"\",\"\",Qeydiyyat!K1170)","v":""},{"$f":"IF(Qeydiyyat!AB1170=\"\",\"\",Qeydiyyat!AB1170)","v":""},{"$f":"IF(Qeydiyyat!AA1170=\"\",\"\",Qeydiyyat!AA1170)","v":""},{"$f":"IF(Qeydiyyat!X1170=\"\",\"\",Qeydiyyat!X1170)","v":""},{"$f":"IF(Qeydiyyat!Y1170=\"\",\"\",Qeydiyyat!Y1170)","v":""},null,{"$f":"IF(Qeydiyyat!AC1170=\"\",\"\",Qeydiyyat!AC1170)","v":""}]
[null,922,{"$f":"IF(Qeydiyyat!C1171=\"\",\"\",Qeydiyyat!C1171)","v":""},{"$f":"IF(Qeydiyyat!B1171=\"\",\"\",Qeydiyyat!B1171)","v":""},{"$f":"IF(Qeydiyyat!D1171=\"\",\"\",Qeydiyyat!D1171)","v":""},{"$f":"IF(Qeydiyyat!K1171=\"\",\"\",Qeydiyyat!K1171)","v":""},{"$f":"IF(Qeydiyyat!AB1171=\"\",\"\",Qeydiyyat!AB1171)","v":""},{"$f":"IF(Qeydiyyat!AA1171=\"\",\"\",Qeydiyyat!AA1171)","v":""},{"$f":"IF(Qeydiyyat!X1171=\"\",\"\",Qeydiyyat!X1171)","v":""},{"$f":"IF(Qeydiyyat!Y1171=\"\",\"\",Qeydiyyat!Y1171)","v":""},null,{"$f":"IF(Qeydiyyat!AC1171=\"\",\"\",Qeydiyyat!AC1171)","v":""}]
[null,923,{"$f":"IF(Qeydiyyat!C1172=\"\",\"\",Qeydiyyat!C1172)","v":""},{"$f":"IF(Qeydiyyat!B1172=\"\",\"\",Qeydiyyat!B1172)","v":""},{"$f":"IF(Qeydiyyat!D1172=\"\",\"\",Qeydiyyat!D1172)","v":""},{"$f":"IF(Qeydiyyat!K1172=\"\",\"\",Qeydiyyat!K1172)","v":""},{"$f":"IF(Qeydiyyat!AB1172=\"\",\"\",Qeydiyyat!AB1172)","v":""},{"$f":"IF(Qeydiyyat!AA1172=\"\",\"\",Qeydiyyat!AA1172)","v":""},{"$f":"IF(Qeydiyyat!X1172=\"\",\"\",Qeydiyyat!X1172)","v":""},{"$f":"IF(Qeydiyyat!Y1172=\"\",\"\",Qeydiyyat!Y1172)","v":""},null,{"$f":"IF(Qeydiyyat!AC1172=\"\",\"\",Qeydiyyat!AC1172)","v":""}]
[null,924,{"$f":"IF(Qeydiyyat!C1173=\"\",\"\",Qeydiyyat!C1173)","v":""},{"$f":"IF(Qeydiyyat!B1173=\"\",\"\",Qeydiyyat!B1173)","v":""},{"$f":"IF(Qeydiyyat!D1173=\"\",\"\",Qeydiyyat!D1173)","v":""},{"$f":"IF(Qeydiyyat!K1173=\"\",\"\",Qeydiyyat!K1173)","v":""},{"$f":"IF(Qeydiyyat!AB1173=\"\",\"\",Qeydiyyat!AB1173)","v":""},{"$f":"IF(Qeydiyyat!AA1173=\"\",\"\",Qeydiyyat!AA1173)","v":""},{"$f":"IF(Qeydiyyat!X1173=\"\",\"\",Qeydiyyat!X1173)","v":""},{"$f":"IF(Qeydiyyat!Y1173=\"\",\"\",Qeydiyyat!Y1173)","v":""},null,{"$f":"IF(Qeydiyyat!AC1173=\"\",\"\",Qeydiyyat!AC1173)","v":""}]
[null,925,{"$f":"IF(Qeydiyyat!C1174=\"\",\"\",Qeydiyyat!C1174)","v":""},{"$f":"IF(Qeydiyyat!B1174=\"\",\"\",Qeydiyyat!B1174)","v":""},{"$f":"IF(Qeydiyyat!D1174=\"\",\"\",Qeydiyyat!D1174)","v":""},{"$f":"IF(Qeydiyyat!K1174=\"\",\"\",Qeydiyyat!K1174)","v":""},{"$f":"IF(Qeydiyyat!AB1174=\"\",\"\",Qeydiyyat!AB1174)","v":""},{"$f":"IF(Qeydiyyat!AA1174=\"\",\"\",Qeydiyyat!AA1174)","v":""},{"$f":"IF(Qeydiyyat!X1174=\"\",\"\",Qeydiyyat!X1174)","v":""},{"$f":"IF(Qeydiyyat!Y1174=\"\",\"\",Qeydiyyat!Y1174)","v":""},null,{"$f":"IF(Qeydiyyat!AC1174=\"\",\"\",Qeydiyyat!AC1174)","v":""}]
[null,926,{"$f":"IF(Qeydiyyat!C1175=\"\",\"\",Qeydiyyat!C1175)","v":""},{"$f":"IF(Qeydiyyat!B1175=\"\",\"\",Qeydiyyat!B1175)","v":""},{"$f":"IF(Qeydiyyat!D1175=\"\",\"\",Qeydiyyat!D1175)","v":""},{"$f":"IF(Qeydiyyat!K1175=\"\",\"\",Qeydiyyat!K1175)","v":""},{"$f":"IF(Qeydiyyat!AB1175=\"\",\"\",Qeydiyyat!AB1175)","v":""},{"$f":"IF(Qeydiyyat!AA1175=\"\",\"\",Qeydiyyat!AA1175)","v":""},{"$f":"IF(Qeydiyyat!X1175=\"\",\"\",Qeydiyyat!X1175)","v":""},{"$f":"IF(Qeydiyyat!Y1175=\"\",\"\",Qeydiyyat!Y1175)","v":""},null,{"$f":"IF(Qeydiyyat!AC1175=\"\",\"\",Qeydiyyat!AC1175)","v":""}]
[null,927,{"$f":"IF(Qeydiyyat!C1176=\"\",\"\",Qeydiyyat!C1176)","v":""},{"$f":"IF(Qeydiyyat!B1176=\"\",\"\",Qeydiyyat!B1176)","v":""},{"$f":"IF(Qeydiyyat!D1176=\"\",\"\",Qeydiyyat!D1176)","v":""},{"$f":"IF(Qeydiyyat!K1176=\"\",\"\",Qeydiyyat!K1176)","v":""},{"$f":"IF(Qeydiyyat!AB1176=\"\",\"\",Qeydiyyat!AB1176)","v":""},{"$f":"IF(Qeydiyyat!AA1176=\"\",\"\",Qeydiyyat!AA1176)","v":""},{"$f":"IF(Qeydiyyat!X1176=\"\",\"\",Qeydiyyat!X1176)","v":""},{"$f":"IF(Qeydiyyat!Y1176=\"\",\"\",Qeydiyyat!Y1176)","v":""},null,{"$f":"IF(Qeydiyyat!AC1176=\"\",\"\",Qeydiyyat!AC1176)","v":""}]
[null,928,{"$f":"IF(Qeydiyyat!C1177=\"\",\"\",Qeydiyyat!C1177)","v":""},{"$f":"IF(Qeydiyyat!B1177=\"\",\"\",Qeydiyyat!B1177)","v":""},{"$f":"IF(Qeydiyyat!D1177=\"\",\"\",Qeydiyyat!D1177)","v":""},{"$f":"IF(Qeydiyyat!K1177=\"\",\"\",Qeydiyyat!K1177)","v":""},{"$f":"IF(Qeydiyyat!AB1177=\"\",\"\",Qeydiyyat!AB1177)","v":""},{"$f":"IF(Qeydiyyat!AA1177=\"\",\"\",Qeydiyyat!AA1177)","v":""},{"$f":"IF(Qeydiyyat!X1177=\"\",\"\",Qeydiyyat!X1177)","v":""},{"$f":"IF(Qeydiyyat!Y1177=\"\",\"\",Qeydiyyat!Y1177)","v":""},null,{"$f":"IF(Qeydiyyat!AC1177=\"\",\"\",Qeydiyyat!AC1177)","v":""}]
[null,929,{"$f":"IF(Qeydiyyat!C1178=\"\",\"\",Qeydiyyat!C1178)","v":""},{"$f":"IF(Qeydiyyat!B1178=\"\",\"\",Qeydiyyat!B1178)","v":""},{"$f":"IF(Qeydiyyat!D1178=\"\",\"\",Qeydiyyat!D1178)","v":""},{"$f":"IF(Qeydiyyat!K1178=\"\",\"\",Qeydiyyat!K1178)","v":""},{"$f":"IF(Qeydiyyat!AB1178=\"\",\"\",Qeydiyyat!AB1178)","v":""},{"$f":"IF(Qeydiyyat!AA1178=\"\",\"\",Qeydiyyat!AA1178)","v":""},{"$f":"IF(Qeydiyyat!X1178=\"\",\"\",Qeydiyyat!X1178)","v":""},{"$f":"IF(Qeydiyyat!Y1178=\"\",\"\",Qeydiyyat!Y1178)","v":""},null,{"$f":"IF(Qeydiyyat!AC1178=\"\",\"\",Qeydiyyat!AC1178)","v":""}]
[null,930,{"$f":"IF(Qeydiyyat!C1179=\"\",\"\",Qeydiyyat!C1179)","v":""},{"$f":"IF(Qeydiyyat!B1179=\"\",\"\",Qeydiyyat!B1179)","v":""},{"$f":"IF(Qeydiyyat!D1179=\"\",\"\",Qeydiyyat!D1179)","v":""},{"$f":"IF(Qeydiyyat!K1179=\"\",\"\",Qeydiyyat!K1179)","v":""},{"$f":"IF(Qeydiyyat!AB1179=\"\",\"\",Qeydiyyat!AB1179)","v":""},{"$f":"IF(Qeydiyyat!AA1179=\"\",\"\",Qeydiyyat!AA1179)","v":""},{"$f":"IF(Qeydiyyat!X1179=\"\",\"\",Qeydiyyat!X1179)","v":""},{"$f":"IF(Qeydiyyat!Y1179=\"\",\"\",Qeydiyyat!Y1179)","v":""},null,{"$f":"IF(Qeydiyyat!AC1179=\"\",\"\",Qeydiyyat!AC1179)","v":""}]
[null,931,{"$f":"IF(Qeydiyyat!C1180=\"\",\"\",Qeydiyyat!C1180)","v":""},{"$f":"IF(Qeydiyyat!B1180=\"\",\"\",Qeydiyyat!B1180)","v":""},{"$f":"IF(Qeydiyyat!D1180=\"\",\"\",Qeydiyyat!D1180)","v":""},{"$f":"IF(Qeydiyyat!K1180=\"\",\"\",Qeydiyyat!K1180)","v":""},{"$f":"IF(Qeydiyyat!AB1180=\"\",\"\",Qeydiyyat!AB1180)","v":""},{"$f":"IF(Qeydiyyat!AA1180=\"\",\"\",Qeydiyyat!AA1180)","v":""},{"$f":"IF(Qeydiyyat!X1180=\"\",\"\",Qeydiyyat!X1180)","v":""},{"$f":"IF(Qeydiyyat!Y1180=\"\",\"\",Qeydiyyat!Y1180)","v":""},null,{"$f":"IF(Qeydiyyat!AC1180=\"\",\"\",Qeydiyyat!AC1180)","v":""}]
[null,932,{"$f":"IF(Qeydiyyat!C1181=\"\",\"\",Qeydiyyat!C1181)","v":""},{"$f":"IF(Qeydiyyat!B1181=\"\",\"\",Qeydiyyat!B1181)","v":""},{"$f":"IF(Qeydiyyat!D1181=\"\",\"\",Qeydiyyat!D1181)","v":""},{"$f":"IF(Qeydiyyat!K1181=\"\",\"\",Qeydiyyat!K1181)","v":""},{"$f":"IF(Qeydiyyat!AB1181=\"\",\"\",Qeydiyyat!AB1181)","v":""},{"$f":"IF(Qeydiyyat!AA1181=\"\",\"\",Qeydiyyat!AA1181)","v":""},{"$f":"IF(Qeydiyyat!X1181=\"\",\"\",Qeydiyyat!X1181)","v":""},{"$f":"IF(Qeydiyyat!Y1181=\"\",\"\",Qeydiyyat!Y1181)","v":""},null,{"$f":"IF(Qeydiyyat!AC1181=\"\",\"\",Qeydiyyat!AC1181)","v":""}]
[null,933,{"$f":"IF(Qeydiyyat!C1182=\"\",\"\",Qeydiyyat!C1182)","v":""},{"$f":"IF(Qeydiyyat!B1182=\"\",\"\",Qeydiyyat!B1182)","v":""},{"$f":"IF(Qeydiyyat!D1182=\"\",\"\",Qeydiyyat!D1182)","v":""},{"$f":"IF(Qeydiyyat!K1182=\"\",\"\",Qeydiyyat!K1182)","v":""},{"$f":"IF(Qeydiyyat!AB1182=\"\",\"\",Qeydiyyat!AB1182)","v":""},{"$f":"IF(Qeydiyyat!AA1182=\"\",\"\",Qeydiyyat!AA1182)","v":""},{"$f":"IF(Qeydiyyat!X1182=\"\",\"\",Qeydiyyat!X1182)","v":""},{"$f":"IF(Qeydiyyat!Y1182=\"\",\"\",Qeydiyyat!Y1182)","v":""},null,{"$f":"IF(Qeydiyyat!AC1182=\"\",\"\",Qeydiyyat!AC1182)","v":""}]
[null,934,{"$f":"IF(Qeydiyyat!C1183=\"\",\"\",Qeydiyyat!C1183)","v":""},{"$f":"IF(Qeydiyyat!B1183=\"\",\"\",Qeydiyyat!B1183)","v":""},{"$f":"IF(Qeydiyyat!D1183=\"\",\"\",Qeydiyyat!D1183)","v":""},{"$f":"IF(Qeydiyyat!K1183=\"\",\"\",Qeydiyyat!K1183)","v":""},{"$f":"IF(Qeydiyyat!AB1183=\"\",\"\",Qeydiyyat!AB1183)","v":""},{"$f":"IF(Qeydiyyat!AA1183=\"\",\"\",Qeydiyyat!AA1183)","v":""},{"$f":"IF(Qeydiyyat!X1183=\"\",\"\",Qeydiyyat!X1183)","v":""},{"$f":"IF(Qeydiyyat!Y1183=\"\",\"\",Qeydiyyat!Y1183)","v":""},null,{"$f":"IF(Qeydiyyat!AC1183=\"\",\"\",Qeydiyyat!AC1183)","v":""}]
[null,935,{"$f":"IF(Qeydiyyat!C1184=\"\",\"\",Qeydiyyat!C1184)","v":""},{"$f":"IF(Qeydiyyat!B1184=\"\",\"\",Qeydiyyat!B1184)","v":""},{"$f":"IF(Qeydiyyat!D1184=\"\",\"\",Qeydiyyat!D1184)","v":""},{"$f":"IF(Qeydiyyat!K1184=\"\",\"\",Qeydiyyat!K1184)","v":""},{"$f":"IF(Qeydiyyat!AB1184=\"\",\"\",Qeydiyyat!AB1184)","v":""},{"$f":"IF(Qeydiyyat!AA1184=\"\",\"\",Qeydiyyat!AA1184)","v":""},{"$f":"IF(Qeydiyyat!X1184=\"\",\"\",Qeydiyyat!X1184)","v":""},{"$f":"IF(Qeydiyyat!Y1184=\"\",\"\",Qeydiyyat!Y1184)","v":""},null,{"$f":"IF(Qeydiyyat!AC1184=\"\",\"\",Qeydiyyat!AC1184)","v":""}]
[null,936,{"$f":"IF(Qeydiyyat!C1185=\"\",\"\",Qeydiyyat!C1185)","v":""},{"$f":"IF(Qeydiyyat!B1185=\"\",\"\",Qeydiyyat!B1185)","v":""},{"$f":"IF(Qeydiyyat!D1185=\"\",\"\",Qeydiyyat!D1185)","v":""},{"$f":"IF(Qeydiyyat!K1185=\"\",\"\",Qeydiyyat!K1185)","v":""},{"$f":"IF(Qeydiyyat!AB1185=\"\",\"\",Qeydiyyat!AB1185)","v":""},{"$f":"IF(Qeydiyyat!AA1185=\"\",\"\",Qeydiyyat!AA1185)","v":""},{"$f":"IF(Qeydiyyat!X1185=\"\",\"\",Qeydiyyat!X1185)","v":""},{"$f":"IF(Qeydiyyat!Y1185=\"\",\"\",Qeydiyyat!Y1185)","v":""},null,{"$f":"IF(Qeydiyyat!AC1185=\"\",\"\",Qeydiyyat!AC1185)","v":""}]
[null,937,{"$f":"IF(Qeydiyyat!C1186=\"\",\"\",Qeydiyyat!C1186)","v":""},{"$f":"IF(Qeydiyyat!B1186=\"\",\"\",Qeydiyyat!B1186)","v":""},{"$f":"IF(Qeydiyyat!D1186=\"\",\"\",Qeydiyyat!D1186)","v":""},{"$f":"IF(Qeydiyyat!K1186=\"\",\"\",Qeydiyyat!K1186)","v":""},{"$f":"IF(Qeydiyyat!AB1186=\"\",\"\",Qeydiyyat!AB1186)","v":""},{"$f":"IF(Qeydiyyat!AA1186=\"\",\"\",Qeydiyyat!AA1186)","v":""},{"$f":"IF(Qeydiyyat!X1186=\"\",\"\",Qeydiyyat!X1186)","v":""},{"$f":"IF(Qeydiyyat!Y1186=\"\",\"\",Qeydiyyat!Y1186)","v":""},null,{"$f":"IF(Qeydiyyat!AC1186=\"\",\"\",Qeydiyyat!AC1186)","v":""}]
[null,938,{"$f":"IF(Qeydiyyat!C1187=\"\",\"\",Qeydiyyat!C1187)","v":""},{"$f":"IF(Qeydiyyat!B1187=\"\",\"\",Qeydiyyat!B1187)","v":""},{"$f":"IF(Qeydiyyat!D1187=\"\",\"\",Qeydiyyat!D1187)","v":""},{"$f":"IF(Qeydiyyat!K1187=\"\",\"\",Qeydiyyat!K1187)","v":""},{"$f":"IF(Qeydiyyat!AB1187=\"\",\"\",Qeydiyyat!AB1187)","v":""},{"$f":"IF(Qeydiyyat!AA1187=\"\",\"\",Qeydiyyat!AA1187)","v":""},{"$f":"IF(Qeydiyyat!X1187=\"\",\"\",Qeydiyyat!X1187)","v":""},{"$f":"IF(Qeydiyyat!Y1187=\"\",\"\",Qeydiyyat!Y1187)","v":""},null,{"$f":"IF(Qeydiyyat!AC1187=\"\",\"\",Qeydiyyat!AC1187)","v":""}]
[null,939,{"$f":"IF(Qeydiyyat!C1188=\"\",\"\",Qeydiyyat!C1188)","v":""},{"$f":"IF(Qeydiyyat!B1188=\"\",\"\",Qeydiyyat!B1188)","v":""},{"$f":"IF(Qeydiyyat!D1188=\"\",\"\",Qeydiyyat!D1188)","v":""},{"$f":"IF(Qeydiyyat!K1188=\"\",\"\",Qeydiyyat!K1188)","v":""},{"$f":"IF(Qeydiyyat!AB1188=\"\",\"\",Qeydiyyat!AB1188)","v":""},{"$f":"IF(Qeydiyyat!AA1188=\"\",\"\",Qeydiyyat!AA1188)","v":""},{"$f":"IF(Qeydiyyat!X1188=\"\",\"\",Qeydiyyat!X1188)","v":""},{"$f":"IF(Qeydiyyat!Y1188=\"\",\"\",Qeydiyyat!Y1188)","v":""},null,{"$f":"IF(Qeydiyyat!AC1188=\"\",\"\",Qeydiyyat!AC1188)","v":""}]
[null,940,{"$f":"IF(Qeydiyyat!C1189=\"\",\"\",Qeydiyyat!C1189)","v":""},{"$f":"IF(Qeydiyyat!B1189=\"\",\"\",Qeydiyyat!B1189)","v":""},{"$f":"IF(Qeydiyyat!D1189=\"\",\"\",Qeydiyyat!D1189)","v":""},{"$f":"IF(Qeydiyyat!K1189=\"\",\"\",Qeydiyyat!K1189)","v":""},{"$f":"IF(Qeydiyyat!AB1189=\"\",\"\",Qeydiyyat!AB1189)","v":""},{"$f":"IF(Qeydiyyat!AA1189=\"\",\"\",Qeydiyyat!AA1189)","v":""},{"$f":"IF(Qeydiyyat!X1189=\"\",\"\",Qeydiyyat!X1189)","v":""},{"$f":"IF(Qeydiyyat!Y1189=\"\",\"\",Qeydiyyat!Y1189)","v":""},null,{"$f":"IF(Qeydiyyat!AC1189=\"\",\"\",Qeydiyyat!AC1189)","v":""}]
[null,941,{"$f":"IF(Qeydiyyat!C1190=\"\",\"\",Qeydiyyat!C1190)","v":""},{"$f":"IF(Qeydiyyat!B1190=\"\",\"\",Qeydiyyat!B1190)","v":""},{"$f":"IF(Qeydiyyat!D1190=\"\",\"\",Qeydiyyat!D1190)","v":""},{"$f":"IF(Qeydiyyat!K1190=\"\",\"\",Qeydiyyat!K1190)","v":""},{"$f":"IF(Qeydiyyat!AB1190=\"\",\"\",Qeydiyyat!AB1190)","v":""},{"$f":"IF(Qeydiyyat!AA1190=\"\",\"\",Qeydiyyat!AA1190)","v":""},{"$f":"IF(Qeydiyyat!X1190=\"\",\"\",Qeydiyyat!X1190)","v":""},{"$f":"IF(Qeydiyyat!Y1190=\"\",\"\",Qeydiyyat!Y1190)","v":""},null,{"$f":"IF(Qeydiyyat!AC1190=\"\",\"\",Qeydiyyat!AC1190)","v":""}]
[null,942,{"$f":"IF(Qeydiyyat!C1191=\"\",\"\",Qeydiyyat!C1191)","v":""},{"$f":"IF(Qeydiyyat!B1191=\"\",\"\",Qeydiyyat!B1191)","v":""},{"$f":"IF(Qeydiyyat!D1191=\"\",\"\",Qeydiyyat!D1191)","v":""},{"$f":"IF(Qeydiyyat!K1191=\"\",\"\",Qeydiyyat!K1191)","v":""},{"$f":"IF(Qeydiyyat!AB1191=\"\",\"\",Qeydiyyat!AB1191)","v":""},{"$f":"IF(Qeydiyyat!AA1191=\"\",\"\",Qeydiyyat!AA1191)","v":""},{"$f":"IF(Qeydiyyat!X1191=\"\",\"\",Qeydiyyat!X1191)","v":""},{"$f":"IF(Qeydiyyat!Y1191=\"\",\"\",Qeydiyyat!Y1191)","v":""},null,{"$f":"IF(Qeydiyyat!AC1191=\"\",\"\",Qeydiyyat!AC1191)","v":""}]
[null,943,{"$f":"IF(Qeydiyyat!C1192=\"\",\"\",Qeydiyyat!C1192)","v":""},{"$f":"IF(Qeydiyyat!B1192=\"\",\"\",Qeydiyyat!B1192)","v":""},{"$f":"IF(Qeydiyyat!D1192=\"\",\"\",Qeydiyyat!D1192)","v":""},{"$f":"IF(Qeydiyyat!K1192=\"\",\"\",Qeydiyyat!K1192)","v":""},{"$f":"IF(Qeydiyyat!AB1192=\"\",\"\",Qeydiyyat!AB1192)","v":""},{"$f":"IF(Qeydiyyat!AA1192=\"\",\"\",Qeydiyyat!AA1192)","v":""},{"$f":"IF(Qeydiyyat!X1192=\"\",\"\",Qeydiyyat!X1192)","v":""},{"$f":"IF(Qeydiyyat!Y1192=\"\",\"\",Qeydiyyat!Y1192)","v":""},null,{"$f":"IF(Qeydiyyat!AC1192=\"\",\"\",Qeydiyyat!AC1192)","v":""}]
[null,944,{"$f":"IF(Qeydiyyat!C1193=\"\",\"\",Qeydiyyat!C1193)","v":""},{"$f":"IF(Qeydiyyat!B1193=\"\",\"\",Qeydiyyat!B1193)","v":""},{"$f":"IF(Qeydiyyat!D1193=\"\",\"\",Qeydiyyat!D1193)","v":""},{"$f":"IF(Qeydiyyat!K1193=\"\",\"\",Qeydiyyat!K1193)","v":""},{"$f":"IF(Qeydiyyat!AB1193=\"\",\"\",Qeydiyyat!AB1193)","v":""},{"$f":"IF(Qeydiyyat!AA1193=\"\",\"\",Qeydiyyat!AA1193)","v":""},{"$f":"IF(Qeydiyyat!X1193=\"\",\"\",Qeydiyyat!X1193)","v":""},{"$f":"IF(Qeydiyyat!Y1193=\"\",\"\",Qeydiyyat!Y1193)","v":""},null,{"$f":"IF(Qeydiyyat!AC1193=\"\",\"\",Qeydiyyat!AC1193)","v":""}]
[null,945,{"$f":"IF(Qeydiyyat!C1194=\"\",\"\",Qeydiyyat!C1194)","v":""},{"$f":"IF(Qeydiyyat!B1194=\"\",\"\",Qeydiyyat!B1194)","v":""},{"$f":"IF(Qeydiyyat!D1194=\"\",\"\",Qeydiyyat!D1194)","v":""},{"$f":"IF(Qeydiyyat!K1194=\"\",\"\",Qeydiyyat!K1194)","v":""},{"$f":"IF(Qeydiyyat!AB1194=\"\",\"\",Qeydiyyat!AB1194)","v":""},{"$f":"IF(Qeydiyyat!AA1194=\"\",\"\",Qeydiyyat!AA1194)","v":""},{"$f":"IF(Qeydiyyat!X1194=\"\",\"\",Qeydiyyat!X1194)","v":""},{"$f":"IF(Qeydiyyat!Y1194=\"\",\"\",Qeydiyyat!Y1194)","v":""},null,{"$f":"IF(Qeydiyyat!AC1194=\"\",\"\",Qeydiyyat!AC1194)","v":""}]
[null,946,{"$f":"IF(Qeydiyyat!C1195=\"\",\"\",Qeydiyyat!C1195)","v":""},{"$f":"IF(Qeydiyyat!B1195=\"\",\"\",Qeydiyyat!B1195)","v":""},{"$f":"IF(Qeydiyyat!D1195=\"\",\"\",Qeydiyyat!D1195)","v":""},{"$f":"IF(Qeydiyyat!K1195=\"\",\"\",Qeydiyyat!K1195)","v":""},{"$f":"IF(Qeydiyyat!AB1195=\"\",\"\",Qeydiyyat!AB1195)","v":""},{"$f":"IF(Qeydiyyat!AA1195=\"\",\"\",Qeydiyyat!AA1195)","v":""},{"$f":"IF(Qeydiyyat!X1195=\"\",\"\",Qeydiyyat!X1195)","v":""},{"$f":"IF(Qeydiyyat!Y1195=\"\",\"\",Qeydiyyat!Y1195)","v":""},null,{"$f":"IF(Qeydiyyat!AC1195=\"\",\"\",Qeydiyyat!AC1195)","v":""}]
[null,947,{"$f":"IF(Qeydiyyat!C1196=\"\",\"\",Qeydiyyat!C1196)","v":""},{"$f":"IF(Qeydiyyat!B1196=\"\",\"\",Qeydiyyat!B1196)","v":""},{"$f":"IF(Qeydiyyat!D1196=\"\",\"\",Qeydiyyat!D1196)","v":""},{"$f":"IF(Qeydiyyat!K1196=\"\",\"\",Qeydiyyat!K1196)","v":""},{"$f":"IF(Qeydiyyat!AB1196=\"\",\"\",Qeydiyyat!AB1196)","v":""},{"$f":"IF(Qeydiyyat!AA1196=\"\",\"\",Qeydiyyat!AA1196)","v":""},{"$f":"IF(Qeydiyyat!X1196=\"\",\"\",Qeydiyyat!X1196)","v":""},{"$f":"IF(Qeydiyyat!Y1196=\"\",\"\",Qeydiyyat!Y1196)","v":""},null,{"$f":"IF(Qeydiyyat!AC1196=\"\",\"\",Qeydiyyat!AC1196)","v":""}]
[null,948,{"$f":"IF(Qeydiyyat!C1197=\"\",\"\",Qeydiyyat!C1197)","v":""},{"$f":"IF(Qeydiyyat!B1197=\"\",\"\",Qeydiyyat!B1197)","v":""},{"$f":"IF(Qeydiyyat!D1197=\"\",\"\",Qeydiyyat!D1197)","v":""},{"$f":"IF(Qeydiyyat!K1197=\"\",\"\",Qeydiyyat!K1197)","v":""},{"$f":"IF(Qeydiyyat!AB1197=\"\",\"\",Qeydiyyat!AB1197)","v":""},{"$f":"IF(Qeydiyyat!AA1197=\"\",\"\",Qeydiyyat!AA1197)","v":""},{"$f":"IF(Qeydiyyat!X1197=\"\",\"\",Qeydiyyat!X1197)","v":""},{"$f":"IF(Qeydiyyat!Y1197=\"\",\"\",Qeydiyyat!Y1197)","v":""},null,{"$f":"IF(Qeydiyyat!AC1197=\"\",\"\",Qeydiyyat!AC1197)","v":""}]
[null,949,{"$f":"IF(Qeydiyyat!C1198=\"\",\"\",Qeydiyyat!C1198)","v":""},{"$f":"IF(Qeydiyyat!B1198=\"\",\"\",Qeydiyyat!B1198)","v":""},{"$f":"IF(Qeydiyyat!D1198=\"\",\"\",Qeydiyyat!D1198)","v":""},{"$f":"IF(Qeydiyyat!K1198=\"\",\"\",Qeydiyyat!K1198)","v":""},{"$f":"IF(Qeydiyyat!AB1198=\"\",\"\",Qeydiyyat!AB1198)","v":""},{"$f":"IF(Qeydiyyat!AA1198=\"\",\"\",Qeydiyyat!AA1198)","v":""},{"$f":"IF(Qeydiyyat!X1198=\"\",\"\",Qeydiyyat!X1198)","v":""},{"$f":"IF(Qeydiyyat!Y1198=\"\",\"\",Qeydiyyat!Y1198)","v":""},null,{"$f":"IF(Qeydiyyat!AC1198=\"\",\"\",Qeydiyyat!AC1198)","v":""}]
[null,950,{"$f":"IF(Qeydiyyat!C1199=\"\",\"\",Qeydiyyat!C1199)","v":""},{"$f":"IF(Qeydiyyat!B1199=\"\",\"\",Qeydiyyat!B1199)","v":""},{"$f":"IF(Qeydiyyat!D1199=\"\",\"\",Qeydiyyat!D1199)","v":""},{"$f":"IF(Qeydiyyat!K1199=\"\",\"\",Qeydiyyat!K1199)","v":""},{"$f":"IF(Qeydiyyat!AB1199=\"\",\"\",Qeydiyyat!AB1199)","v":""},{"$f":"IF(Qeydiyyat!AA1199=\"\",\"\",Qeydiyyat!AA1199)","v":""},{"$f":"IF(Qeydiyyat!X1199=\"\",\"\",Qeydiyyat!X1199)","v":""},{"$f":"IF(Qeydiyyat!Y1199=\"\",\"\",Qeydiyyat!Y1199)","v":""},null,{"$f":"IF(Qeydiyyat!AC1199=\"\",\"\",Qeydiyyat!AC1199)","v":""}]
[null,951,{"$f":"IF(Qeydiyyat!C1200=\"\",\"\",Qeydiyyat!C1200)","v":""},{"$f":"IF(Qeydiyyat!B1200=\"\",\"\",Qeydiyyat!B1200)","v":""},{"$f":"IF(Qeydiyyat!D1200=\"\",\"\",Qeydiyyat!D1200)","v":""},{"$f":"IF(Qeydiyyat!K1200=\"\",\"\",Qeydiyyat!K1200)","v":""},{"$f":"IF(Qeydiyyat!AB1200=\"\",\"\",Qeydiyyat!AB1200)","v":""},{"$f":"IF(Qeydiyyat!AA1200=\"\",\"\",Qeydiyyat!AA1200)","v":""},{"$f":"IF(Qeydiyyat!X1200=\"\",\"\",Qeydiyyat!X1200)","v":""},{"$f":"IF(Qeydiyyat!Y1200=\"\",\"\",Qeydiyyat!Y1200)","v":""},null,{"$f":"IF(Qeydiyyat!AC1200=\"\",\"\",Qeydiyyat!AC1200)","v":""}]
[null,952,{"$f":"IF(Qeydiyyat!C1201=\"\",\"\",Qeydiyyat!C1201)","v":""},{"$f":"IF(Qeydiyyat!B1201=\"\",\"\",Qeydiyyat!B1201)","v":""},{"$f":"IF(Qeydiyyat!D1201=\"\",\"\",Qeydiyyat!D1201)","v":""},{"$f":"IF(Qeydiyyat!K1201=\"\",\"\",Qeydiyyat!K1201)","v":""},{"$f":"IF(Qeydiyyat!AB1201=\"\",\"\",Qeydiyyat!AB1201)","v":""},{"$f":"IF(Qeydiyyat!AA1201=\"\",\"\",Qeydiyyat!AA1201)","v":""},{"$f":"IF(Qeydiyyat!X1201=\"\",\"\",Qeydiyyat!X1201)","v":""},{"$f":"IF(Qeydiyyat!Y1201=\"\",\"\",Qeydiyyat!Y1201)","v":""},null,{"$f":"IF(Qeydiyyat!AC1201=\"\",\"\",Qeydiyyat!AC1201)","v":""}]
[null,953,{"$f":"IF(Qeydiyyat!C1202=\"\",\"\",Qeydiyyat!C1202)","v":""},{"$f":"IF(Qeydiyyat!B1202=\"\",\"\",Qeydiyyat!B1202)","v":""},{"$f":"IF(Qeydiyyat!D1202=\"\",\"\",Qeydiyyat!D1202)","v":""},{"$f":"IF(Qeydiyyat!K1202=\"\",\"\",Qeydiyyat!K1202)","v":""},{"$f":"IF(Qeydiyyat!AB1202=\"\",\"\",Qeydiyyat!AB1202)","v":""},{"$f":"IF(Qeydiyyat!AA1202=\"\",\"\",Qeydiyyat!AA1202)","v":""},{"$f":"IF(Qeydiyyat!X1202=\"\",\"\",Qeydiyyat!X1202)","v":""},{"$f":"IF(Qeydiyyat!Y1202=\"\",\"\",Qeydiyyat!Y1202)","v":""},null,{"$f":"IF(Qeydiyyat!AC1202=\"\",\"\",Qeydiyyat!AC1202)","v":""}]
[null,954,{"$f":"IF(Qeydiyyat!C1203=\"\",\"\",Qeydiyyat!C1203)","v":""},{"$f":"IF(Qeydiyyat!B1203=\"\",\"\",Qeydiyyat!B1203)","v":""},{"$f":"IF(Qeydiyyat!D1203=\"\",\"\",Qeydiyyat!D1203)","v":""},{"$f":"IF(Qeydiyyat!K1203=\"\",\"\",Qeydiyyat!K1203)","v":""},{"$f":"IF(Qeydiyyat!AB1203=\"\",\"\",Qeydiyyat!AB1203)","v":""},{"$f":"IF(Qeydiyyat!AA1203=\"\",\"\",Qeydiyyat!AA1203)","v":""},{"$f":"IF(Qeydiyyat!X1203=\"\",\"\",Qeydiyyat!X1203)","v":""},{"$f":"IF(Qeydiyyat!Y1203=\"\",\"\",Qeydiyyat!Y1203)","v":""},null,{"$f":"IF(Qeydiyyat!AC1203=\"\",\"\",Qeydiyyat!AC1203)","v":""}]
[null,955,{"$f":"IF(Qeydiyyat!C1204=\"\",\"\",Qeydiyyat!C1204)","v":""},{"$f":"IF(Qeydiyyat!B1204=\"\",\"\",Qeydiyyat!B1204)","v":""},{"$f":"IF(Qeydiyyat!D1204=\"\",\"\",Qeydiyyat!D1204)","v":""},{"$f":"IF(Qeydiyyat!K1204=\"\",\"\",Qeydiyyat!K1204)","v":""},{"$f":"IF(Qeydiyyat!AB1204=\"\",\"\",Qeydiyyat!AB1204)","v":""},{"$f":"IF(Qeydiyyat!AA1204=\"\",\"\",Qeydiyyat!AA1204)","v":""},{"$f":"IF(Qeydiyyat!X1204=\"\",\"\",Qeydiyyat!X1204)","v":""},{"$f":"IF(Qeydiyyat!Y1204=\"\",\"\",Qeydiyyat!Y1204)","v":""},null,{"$f":"IF(Qeydiyyat!AC1204=\"\",\"\",Qeydiyyat!AC1204)","v":""}]
[null,956,{"$f":"IF(Qeydiyyat!C1205=\"\",\"\",Qeydiyyat!C1205)","v":""},{"$f":"IF(Qeydiyyat!B1205=\"\",\"\",Qeydiyyat!B1205)","v":""},{"$f":"IF(Qeydiyyat!D1205=\"\",\"\",Qeydiyyat!D1205)","v":""},{"$f":"IF(Qeydiyyat!K1205=\"\",\"\",Qeydiyyat!K1205)","v":""},{"$f":"IF(Qeydiyyat!AB1205=\"\",\"\",Qeydiyyat!AB1205)","v":""},{"$f":"IF(Qeydiyyat!AA1205=\"\",\"\",Qeydiyyat!AA1205)","v":""},{"$f":"IF(Qeydiyyat!X1205=\"\",\"\",Qeydiyyat!X1205)","v":""},{"$f":"IF(Qeydiyyat!Y1205=\"\",\"\",Qeydiyyat!Y1205)","v":""},null,{"$f":"IF(Qeydiyyat!AC1205=\"\",\"\",Qeydiyyat!AC1205)","v":""}]
[null,957,{"$f":"IF(Qeydiyyat!C1206=\"\",\"\",Qeydiyyat!C1206)","v":""},{"$f":"IF(Qeydiyyat!B1206=\"\",\"\",Qeydiyyat!B1206)","v":""},{"$f":"IF(Qeydiyyat!D1206=\"\",\"\",Qeydiyyat!D1206)","v":""},{"$f":"IF(Qeydiyyat!K1206=\"\",\"\",Qeydiyyat!K1206)","v":""},{"$f":"IF(Qeydiyyat!AB1206=\"\",\"\",Qeydiyyat!AB1206)","v":""},{"$f":"IF(Qeydiyyat!AA1206=\"\",\"\",Qeydiyyat!AA1206)","v":""},{"$f":"IF(Qeydiyyat!X1206=\"\",\"\",Qeydiyyat!X1206)","v":""},{"$f":"IF(Qeydiyyat!Y1206=\"\",\"\",Qeydiyyat!Y1206)","v":""},null,{"$f":"IF(Qeydiyyat!AC1206=\"\",\"\",Qeydiyyat!AC1206)","v":""}]
[null,958,{"$f":"IF(Qeydiyyat!C1207=\"\",\"\",Qeydiyyat!C1207)","v":""},{"$f":"IF(Qeydiyyat!B1207=\"\",\"\",Qeydiyyat!B1207)","v":""},{"$f":"IF(Qeydiyyat!D1207=\"\",\"\",Qeydiyyat!D1207)","v":""},{"$f":"IF(Qeydiyyat!K1207=\"\",\"\",Qeydiyyat!K1207)","v":""},{"$f":"IF(Qeydiyyat!AB1207=\"\",\"\",Qeydiyyat!AB1207)","v":""},{"$f":"IF(Qeydiyyat!AA1207=\"\",\"\",Qeydiyyat!AA1207)","v":""},{"$f":"IF(Qeydiyyat!X1207=\"\",\"\",Qeydiyyat!X1207)","v":""},{"$f":"IF(Qeydiyyat!Y1207=\"\",\"\",Qeydiyyat!Y1207)","v":""},null,{"$f":"IF(Qeydiyyat!AC1207=\"\",\"\",Qeydiyyat!AC1207)","v":""}]
[null,959,{"$f":"IF(Qeydiyyat!C1208=\"\",\"\",Qeydiyyat!C1208)","v":""},{"$f":"IF(Qeydiyyat!B1208=\"\",\"\",Qeydiyyat!B1208)","v":""},{"$f":"IF(Qeydiyyat!D1208=\"\",\"\",Qeydiyyat!D1208)","v":""},{"$f":"IF(Qeydiyyat!K1208=\"\",\"\",Qeydiyyat!K1208)","v":""},{"$f":"IF(Qeydiyyat!AB1208=\"\",\"\",Qeydiyyat!AB1208)","v":""},{"$f":"IF(Qeydiyyat!AA1208=\"\",\"\",Qeydiyyat!AA1208)","v":""},{"$f":"IF(Qeydiyyat!X1208=\"\",\"\",Qeydiyyat!X1208)","v":""},{"$f":"IF(Qeydiyyat!Y1208=\"\",\"\",Qeydiyyat!Y1208)","v":""},null,{"$f":"IF(Qeydiyyat!AC1208=\"\",\"\",Qeydiyyat!AC1208)","v":""}]
[null,960,{"$f":"IF(Qeydiyyat!C1209=\"\",\"\",Qeydiyyat!C1209)","v":""},{"$f":"IF(Qeydiyyat!B1209=\"\",\"\",Qeydiyyat!B1209)","v":""},{"$f":"IF(Qeydiyyat!D1209=\"\",\"\",Qeydiyyat!D1209)","v":""},{"$f":"IF(Qeydiyyat!K1209=\"\",\"\",Qeydiyyat!K1209)","v":""},{"$f":"IF(Qeydiyyat!AB1209=\"\",\"\",Qeydiyyat!AB1209)","v":""},{"$f":"IF(Qeydiyyat!AA1209=\"\",\"\",Qeydiyyat!AA1209)","v":""},{"$f":"IF(Qeydiyyat!X1209=\"\",\"\",Qeydiyyat!X1209)","v":""},{"$f":"IF(Qeydiyyat!Y1209=\"\",\"\",Qeydiyyat!Y1209)","v":""},null,{"$f":"IF(Qeydiyyat!AC1209=\"\",\"\",Qeydiyyat!AC1209)","v":""}]
[null,961,{"$f":"IF(Qeydiyyat!C1210=\"\",\"\",Qeydiyyat!C1210)","v":""},{"$f":"IF(Qeydiyyat!B1210=\"\",\"\",Qeydiyyat!B1210)","v":""},{"$f":"IF(Qeydiyyat!D1210=\"\",\"\",Qeydiyyat!D1210)","v":""},{"$f":"IF(Qeydiyyat!K1210=\"\",\"\",Qeydiyyat!K1210)","v":""},{"$f":"IF(Qeydiyyat!AB1210=\"\",\"\",Qeydiyyat!AB1210)","v":""},{"$f":"IF(Qeydiyyat!AA1210=\"\",\"\",Qeydiyyat!AA1210)","v":""},{"$f":"IF(Qeydiyyat!X1210=\"\",\"\",Qeydiyyat!X1210)","v":""},{"$f":"IF(Qeydiyyat!Y1210=\"\",\"\",Qeydiyyat!Y1210)","v":""},null,{"$f":"IF(Qeydiyyat!AC1210=\"\",\"\",Qeydiyyat!AC1210)","v":""}]
[null,962,{"$f":"IF(Qeydiyyat!C1211=\"\",\"\",Qeydiyyat!C1211)","v":""},{"$f":"IF(Qeydiyyat!B1211=\"\",\"\",Qeydiyyat!B1211)","v":""},{"$f":"IF(Qeydiyyat!D1211=\"\",\"\",Qeydiyyat!D1211)","v":""},{"$f":"IF(Qeydiyyat!K1211=\"\",\"\",Qeydiyyat!K1211)","v":""},{"$f":"IF(Qeydiyyat!AB1211=\"\",\"\",Qeydiyyat!AB1211)","v":""},{"$f":"IF(Qeydiyyat!AA1211=\"\",\"\",Qeydiyyat!AA1211)","v":""},{"$f":"IF(Qeydiyyat!X1211=\"\",\"\",Qeydiyyat!X1211)","v":""},{"$f":"IF(Qeydiyyat!Y1211=\"\",\"\",Qeydiyyat!Y1211)","v":""},null,{"$f":"IF(Qeydiyyat!AC1211=\"\",\"\",Qeydiyyat!AC1211)","v":""}]
[null,963,{"$f":"IF(Qeydiyyat!C1212=\"\",\"\",Qeydiyyat!C1212)","v":""},{"$f":"IF(Qeydiyyat!B1212=\"\",\"\",Qeydiyyat!B1212)","v":""},{"$f":"IF(Qeydiyyat!D1212=\"\",\"\",Qeydiyyat!D1212)","v":""},{"$f":"IF(Qeydiyyat!K1212=\"\",\"\",Qeydiyyat!K1212)","v":""},{"$f":"IF(Qeydiyyat!AB1212=\"\",\"\",Qeydiyyat!AB1212)","v":""},{"$f":"IF(Qeydiyyat!AA1212=\"\",\"\",Qeydiyyat!AA1212)","v":""},{"$f":"IF(Qeydiyyat!X1212=\"\",\"\",Qeydiyyat!X1212)","v":""},{"$f":"IF(Qeydiyyat!Y1212=\"\",\"\",Qeydiyyat!Y1212)","v":""},null,{"$f":"IF(Qeydiyyat!AC1212=\"\",\"\",Qeydiyyat!AC1212)","v":""}]
[null,964,{"$f":"IF(Qeydiyyat!C1213=\"\",\"\",Qeydiyyat!C1213)","v":""},{"$f":"IF(Qeydiyyat!B1213=\"\",\"\",Qeydiyyat!B1213)","v":""},{"$f":"IF(Qeydiyyat!D1213=\"\",\"\",Qeydiyyat!D1213)","v":""},{"$f":"IF(Qeydiyyat!K1213=\"\",\"\",Qeydiyyat!K1213)","v":""},{"$f":"IF(Qeydiyyat!AB1213=\"\",\"\",Qeydiyyat!AB1213)","v":""},{"$f":"IF(Qeydiyyat!AA1213=\"\",\"\",Qeydiyyat!AA1213)","v":""},{"$f":"IF(Qeydiyyat!X1213=\"\",\"\",Qeydiyyat!X1213)","v":""},{"$f":"IF(Qeydiyyat!Y1213=\"\",\"\",Qeydiyyat!Y1213)","v":""},null,{"$f":"IF(Qeydiyyat!AC1213=\"\",\"\",Qeydiyyat!AC1213)","v":""}]
[null,{"$f":"B982+1","v":965},{"$f":"IF(Qeydiyyat!C1214=\"\",\"\",Qeydiyyat!C1214)","v":""},{"$f":"IF(Qeydiyyat!B1214=\"\",\"\",Qeydiyyat!B1214)","v":""},{"$f":"IF(Qeydiyyat!D1214=\"\",\"\",Qeydiyyat!D1214)","v":""},{"$f":"IF(Qeydiyyat!K1214=\"\",\"\",Qeydiyyat!K1214)","v":""},{"$f":"IF(Qeydiyyat!AB1214=\"\",\"\",Qeydiyyat!AB1214)","v":""},{"$f":"IF(Qeydiyyat!AA1214=\"\",\"\",Qeydiyyat!AA1214)","v":""},{"$f":"IF(Qeydiyyat!X1214=\"\",\"\",Qeydiyyat!X1214)","v":""},{"$f":"IF(Qeydiyyat!Y1214=\"\",\"\",Qeydiyyat!Y1214)","v":""},null,{"$f":"IF(Qeydiyyat!AC1214=\"\",\"\",Qeydiyyat!AC1214)","v":""}]
[null,966,{"$f":"IF(Qeydiyyat!C1215=\"\",\"\",Qeydiyyat!C1215)","v":""},{"$f":"IF(Qeydiyyat!B1215=\"\",\"\",Qeydiyyat!B1215)","v":""},{"$f":"IF(Qeydiyyat!D1215=\"\",\"\",Qeydiyyat!D1215)","v":""},{"$f":"IF(Qeydiyyat!K1215=\"\",\"\",Qeydiyyat!K1215)","v":""},{"$f":"IF(Qeydiyyat!AB1215=\"\",\"\",Qeydiyyat!AB1215)","v":""},{"$f":"IF(Qeydiyyat!AA1215=\"\",\"\",Qeydiyyat!AA1215)","v":""},{"$f":"IF(Qeydiyyat!X1215=\"\",\"\",Qeydiyyat!X1215)","v":""},{"$f":"IF(Qeydiyyat!Y1215=\"\",\"\",Qeydiyyat!Y1215)","v":""},null,{"$f":"IF(Qeydiyyat!AC1215=\"\",\"\",Qeydiyyat!AC1215)","v":""}]
[null,967,{"$f":"IF(Qeydiyyat!C1216=\"\",\"\",Qeydiyyat!C1216)","v":""},{"$f":"IF(Qeydiyyat!B1216=\"\",\"\",Qeydiyyat!B1216)","v":""},{"$f":"IF(Qeydiyyat!D1216=\"\",\"\",Qeydiyyat!D1216)","v":""},{"$f":"IF(Qeydiyyat!K1216=\"\",\"\",Qeydiyyat!K1216)","v":""},{"$f":"IF(Qeydiyyat!AB1216=\"\",\"\",Qeydiyyat!AB1216)","v":""},{"$f":"IF(Qeydiyyat!AA1216=\"\",\"\",Qeydiyyat!AA1216)","v":""},{"$f":"IF(Qeydiyyat!X1216=\"\",\"\",Qeydiyyat!X1216)","v":""},{"$f":"IF(Qeydiyyat!Y1216=\"\",\"\",Qeydiyyat!Y1216)","v":""},null,{"$f":"IF(Qeydiyyat!AC1216=\"\",\"\",Qeydiyyat!AC1216)","v":""}]
[null,968,{"$f":"IF(Qeydiyyat!C1217=\"\",\"\",Qeydiyyat!C1217)","v":""},{"$f":"IF(Qeydiyyat!B1217=\"\",\"\",Qeydiyyat!B1217)","v":""},{"$f":"IF(Qeydiyyat!D1217=\"\",\"\",Qeydiyyat!D1217)","v":""},{"$f":"IF(Qeydiyyat!K1217=\"\",\"\",Qeydiyyat!K1217)","v":""},{"$f":"IF(Qeydiyyat!AB1217=\"\",\"\",Qeydiyyat!AB1217)","v":""},{"$f":"IF(Qeydiyyat!AA1217=\"\",\"\",Qeydiyyat!AA1217)","v":""},{"$f":"IF(Qeydiyyat!X1217=\"\",\"\",Qeydiyyat!X1217)","v":""},{"$f":"IF(Qeydiyyat!Y1217=\"\",\"\",Qeydiyyat!Y1217)","v":""},null,{"$f":"IF(Qeydiyyat!AC1217=\"\",\"\",Qeydiyyat!AC1217)","v":""}]
[null,969,{"$f":"IF(Qeydiyyat!C1218=\"\",\"\",Qeydiyyat!C1218)","v":""},{"$f":"IF(Qeydiyyat!B1218=\"\",\"\",Qeydiyyat!B1218)","v":""},{"$f":"IF(Qeydiyyat!D1218=\"\",\"\",Qeydiyyat!D1218)","v":""},{"$f":"IF(Qeydiyyat!K1218=\"\",\"\",Qeydiyyat!K1218)","v":""},{"$f":"IF(Qeydiyyat!AB1218=\"\",\"\",Qeydiyyat!AB1218)","v":""},{"$f":"IF(Qeydiyyat!AA1218=\"\",\"\",Qeydiyyat!AA1218)","v":""},{"$f":"IF(Qeydiyyat!X1218=\"\",\"\",Qeydiyyat!X1218)","v":""},{"$f":"IF(Qeydiyyat!Y1218=\"\",\"\",Qeydiyyat!Y1218)","v":""},null,{"$f":"IF(Qeydiyyat!AC1218=\"\",\"\",Qeydiyyat!AC1218)","v":""}]
[null,970,{"$f":"IF(Qeydiyyat!C1219=\"\",\"\",Qeydiyyat!C1219)","v":""},{"$f":"IF(Qeydiyyat!B1219=\"\",\"\",Qeydiyyat!B1219)","v":""},{"$f":"IF(Qeydiyyat!D1219=\"\",\"\",Qeydiyyat!D1219)","v":""},{"$f":"IF(Qeydiyyat!K1219=\"\",\"\",Qeydiyyat!K1219)","v":""},{"$f":"IF(Qeydiyyat!AB1219=\"\",\"\",Qeydiyyat!AB1219)","v":""},{"$f":"IF(Qeydiyyat!AA1219=\"\",\"\",Qeydiyyat!AA1219)","v":""},{"$f":"IF(Qeydiyyat!X1219=\"\",\"\",Qeydiyyat!X1219)","v":""},{"$f":"IF(Qeydiyyat!Y1219=\"\",\"\",Qeydiyyat!Y1219)","v":""},null,{"$f":"IF(Qeydiyyat!AC1219=\"\",\"\",Qeydiyyat!AC1219)","v":""}]
[null,971,{"$f":"IF(Qeydiyyat!C1220=\"\",\"\",Qeydiyyat!C1220)","v":""},{"$f":"IF(Qeydiyyat!B1220=\"\",\"\",Qeydiyyat!B1220)","v":""},{"$f":"IF(Qeydiyyat!D1220=\"\",\"\",Qeydiyyat!D1220)","v":""},{"$f":"IF(Qeydiyyat!K1220=\"\",\"\",Qeydiyyat!K1220)","v":""},{"$f":"IF(Qeydiyyat!AB1220=\"\",\"\",Qeydiyyat!AB1220)","v":""},{"$f":"IF(Qeydiyyat!AA1220=\"\",\"\",Qeydiyyat!AA1220)","v":""},{"$f":"IF(Qeydiyyat!X1220=\"\",\"\",Qeydiyyat!X1220)","v":""},{"$f":"IF(Qeydiyyat!Y1220=\"\",\"\",Qeydiyyat!Y1220)","v":""},null,{"$f":"IF(Qeydiyyat!AC1220=\"\",\"\",Qeydiyyat!AC1220)","v":""}]
[null,972,{"$f":"IF(Qeydiyyat!C1221=\"\",\"\",Qeydiyyat!C1221)","v":""},{"$f":"IF(Qeydiyyat!B1221=\"\",\"\",Qeydiyyat!B1221)","v":""},{"$f":"IF(Qeydiyyat!D1221=\"\",\"\",Qeydiyyat!D1221)","v":""},{"$f":"IF(Qeydiyyat!K1221=\"\",\"\",Qeydiyyat!K1221)","v":""},{"$f":"IF(Qeydiyyat!AB1221=\"\",\"\",Qeydiyyat!AB1221)","v":""},{"$f":"IF(Qeydiyyat!AA1221=\"\",\"\",Qeydiyyat!AA1221)","v":""},{"$f":"IF(Qeydiyyat!X1221=\"\",\"\",Qeydiyyat!X1221)","v":""},{"$f":"IF(Qeydiyyat!Y1221=\"\",\"\",Qeydiyyat!Y1221)","v":""},null,{"$f":"IF(Qeydiyyat!AC1221=\"\",\"\",Qeydiyyat!AC1221)","v":""}]
[null,973,{"$f":"IF(Qeydiyyat!C1222=\"\",\"\",Qeydiyyat!C1222)","v":""},{"$f":"IF(Qeydiyyat!B1222=\"\",\"\",Qeydiyyat!B1222)","v":""},{"$f":"IF(Qeydiyyat!D1222=\"\",\"\",Qeydiyyat!D1222)","v":""},{"$f":"IF(Qeydiyyat!K1222=\"\",\"\",Qeydiyyat!K1222)","v":""},{"$f":"IF(Qeydiyyat!AB1222=\"\",\"\",Qeydiyyat!AB1222)","v":""},{"$f":"IF(Qeydiyyat!AA1222=\"\",\"\",Qeydiyyat!AA1222)","v":""},{"$f":"IF(Qeydiyyat!X1222=\"\",\"\",Qeydiyyat!X1222)","v":""},{"$f":"IF(Qeydiyyat!Y1222=\"\",\"\",Qeydiyyat!Y1222)","v":""},null,{"$f":"IF(Qeydiyyat!AC1222=\"\",\"\",Qeydiyyat!AC1222)","v":""}]
[null,974,{"$f":"IF(Qeydiyyat!C1223=\"\",\"\",Qeydiyyat!C1223)","v":""},{"$f":"IF(Qeydiyyat!B1223=\"\",\"\",Qeydiyyat!B1223)","v":""},{"$f":"IF(Qeydiyyat!D1223=\"\",\"\",Qeydiyyat!D1223)","v":""},{"$f":"IF(Qeydiyyat!K1223=\"\",\"\",Qeydiyyat!K1223)","v":""},{"$f":"IF(Qeydiyyat!AB1223=\"\",\"\",Qeydiyyat!AB1223)","v":""},{"$f":"IF(Qeydiyyat!AA1223=\"\",\"\",Qeydiyyat!AA1223)","v":""},{"$f":"IF(Qeydiyyat!X1223=\"\",\"\",Qeydiyyat!X1223)","v":""},{"$f":"IF(Qeydiyyat!Y1223=\"\",\"\",Qeydiyyat!Y1223)","v":""},null,{"$f":"IF(Qeydiyyat!AC1223=\"\",\"\",Qeydiyyat!AC1223)","v":""}]
[null,975,{"$f":"IF(Qeydiyyat!C1224=\"\",\"\",Qeydiyyat!C1224)","v":""},{"$f":"IF(Qeydiyyat!B1224=\"\",\"\",Qeydiyyat!B1224)","v":""},{"$f":"IF(Qeydiyyat!D1224=\"\",\"\",Qeydiyyat!D1224)","v":""},{"$f":"IF(Qeydiyyat!K1224=\"\",\"\",Qeydiyyat!K1224)","v":""},{"$f":"IF(Qeydiyyat!AB1224=\"\",\"\",Qeydiyyat!AB1224)","v":""},{"$f":"IF(Qeydiyyat!AA1224=\"\",\"\",Qeydiyyat!AA1224)","v":""},{"$f":"IF(Qeydiyyat!X1224=\"\",\"\",Qeydiyyat!X1224)","v":""},{"$f":"IF(Qeydiyyat!Y1224=\"\",\"\",Qeydiyyat!Y1224)","v":""},null,{"$f":"IF(Qeydiyyat!AC1224=\"\",\"\",Qeydiyyat!AC1224)","v":""}]
[null,976,{"$f":"IF(Qeydiyyat!C1225=\"\",\"\",Qeydiyyat!C1225)","v":""},{"$f":"IF(Qeydiyyat!B1225=\"\",\"\",Qeydiyyat!B1225)","v":""},{"$f":"IF(Qeydiyyat!D1225=\"\",\"\",Qeydiyyat!D1225)","v":""},{"$f":"IF(Qeydiyyat!K1225=\"\",\"\",Qeydiyyat!K1225)","v":""},{"$f":"IF(Qeydiyyat!AB1225=\"\",\"\",Qeydiyyat!AB1225)","v":""},{"$f":"IF(Qeydiyyat!AA1225=\"\",\"\",Qeydiyyat!AA1225)","v":""},{"$f":"IF(Qeydiyyat!X1225=\"\",\"\",Qeydiyyat!X1225)","v":""},{"$f":"IF(Qeydiyyat!Y1225=\"\",\"\",Qeydiyyat!Y1225)","v":""},null,{"$f":"IF(Qeydiyyat!AC1225=\"\",\"\",Qeydiyyat!AC1225)","v":""}]
[null,977,{"$f":"IF(Qeydiyyat!C1226=\"\",\"\",Qeydiyyat!C1226)","v":""},{"$f":"IF(Qeydiyyat!B1226=\"\",\"\",Qeydiyyat!B1226)","v":""},{"$f":"IF(Qeydiyyat!D1226=\"\",\"\",Qeydiyyat!D1226)","v":""},{"$f":"IF(Qeydiyyat!K1226=\"\",\"\",Qeydiyyat!K1226)","v":""},{"$f":"IF(Qeydiyyat!AB1226=\"\",\"\",Qeydiyyat!AB1226)","v":""},{"$f":"IF(Qeydiyyat!AA1226=\"\",\"\",Qeydiyyat!AA1226)","v":""},{"$f":"IF(Qeydiyyat!X1226=\"\",\"\",Qeydiyyat!X1226)","v":""},{"$f":"IF(Qeydiyyat!Y1226=\"\",\"\",Qeydiyyat!Y1226)","v":""},null,{"$f":"IF(Qeydiyyat!AC1226=\"\",\"\",Qeydiyyat!AC1226)","v":""}]
[null,978,{"$f":"IF(Qeydiyyat!C1227=\"\",\"\",Qeydiyyat!C1227)","v":""},{"$f":"IF(Qeydiyyat!B1227=\"\",\"\",Qeydiyyat!B1227)","v":""},{"$f":"IF(Qeydiyyat!D1227=\"\",\"\",Qeydiyyat!D1227)","v":""},{"$f":"IF(Qeydiyyat!K1227=\"\",\"\",Qeydiyyat!K1227)","v":""},{"$f":"IF(Qeydiyyat!AB1227=\"\",\"\",Qeydiyyat!AB1227)","v":""},{"$f":"IF(Qeydiyyat!AA1227=\"\",\"\",Qeydiyyat!AA1227)","v":""},{"$f":"IF(Qeydiyyat!X1227=\"\",\"\",Qeydiyyat!X1227)","v":""},{"$f":"IF(Qeydiyyat!Y1227=\"\",\"\",Qeydiyyat!Y1227)","v":""},null,{"$f":"IF(Qeydiyyat!AC1227=\"\",\"\",Qeydiyyat!AC1227)","v":""}]
[null,979,{"$f":"IF(Qeydiyyat!C1228=\"\",\"\",Qeydiyyat!C1228)","v":""},{"$f":"IF(Qeydiyyat!B1228=\"\",\"\",Qeydiyyat!B1228)","v":""},{"$f":"IF(Qeydiyyat!D1228=\"\",\"\",Qeydiyyat!D1228)","v":""},{"$f":"IF(Qeydiyyat!K1228=\"\",\"\",Qeydiyyat!K1228)","v":""},{"$f":"IF(Qeydiyyat!AB1228=\"\",\"\",Qeydiyyat!AB1228)","v":""},{"$f":"IF(Qeydiyyat!AA1228=\"\",\"\",Qeydiyyat!AA1228)","v":""},{"$f":"IF(Qeydiyyat!X1228=\"\",\"\",Qeydiyyat!X1228)","v":""},{"$f":"IF(Qeydiyyat!Y1228=\"\",\"\",Qeydiyyat!Y1228)","v":""},null,{"$f":"IF(Qeydiyyat!AC1228=\"\",\"\",Qeydiyyat!AC1228)","v":""}]
[null,980,{"$f":"IF(Qeydiyyat!C1229=\"\",\"\",Qeydiyyat!C1229)","v":""},{"$f":"IF(Qeydiyyat!B1229=\"\",\"\",Qeydiyyat!B1229)","v":""},{"$f":"IF(Qeydiyyat!D1229=\"\",\"\",Qeydiyyat!D1229)","v":""},{"$f":"IF(Qeydiyyat!K1229=\"\",\"\",Qeydiyyat!K1229)","v":""},{"$f":"IF(Qeydiyyat!AB1229=\"\",\"\",Qeydiyyat!AB1229)","v":""},{"$f":"IF(Qeydiyyat!AA1229=\"\",\"\",Qeydiyyat!AA1229)","v":""},{"$f":"IF(Qeydiyyat!X1229=\"\",\"\",Qeydiyyat!X1229)","v":""},{"$f":"IF(Qeydiyyat!Y1229=\"\",\"\",Qeydiyyat!Y1229)","v":""},null,{"$f":"IF(Qeydiyyat!AC1229=\"\",\"\",Qeydiyyat!AC1229)","v":""}]
[null,981,{"$f":"IF(Qeydiyyat!C1230=\"\",\"\",Qeydiyyat!C1230)","v":""},{"$f":"IF(Qeydiyyat!B1230=\"\",\"\",Qeydiyyat!B1230)","v":""},{"$f":"IF(Qeydiyyat!D1230=\"\",\"\",Qeydiyyat!D1230)","v":""},{"$f":"IF(Qeydiyyat!K1230=\"\",\"\",Qeydiyyat!K1230)","v":""},{"$f":"IF(Qeydiyyat!AB1230=\"\",\"\",Qeydiyyat!AB1230)","v":""},{"$f":"IF(Qeydiyyat!AA1230=\"\",\"\",Qeydiyyat!AA1230)","v":""},{"$f":"IF(Qeydiyyat!X1230=\"\",\"\",Qeydiyyat!X1230)","v":""},{"$f":"IF(Qeydiyyat!Y1230=\"\",\"\",Qeydiyyat!Y1230)","v":""},null,{"$f":"IF(Qeydiyyat!AC1230=\"\",\"\",Qeydiyyat!AC1230)","v":""}]
[null,982,{"$f":"IF(Qeydiyyat!C1231=\"\",\"\",Qeydiyyat!C1231)","v":""},{"$f":"IF(Qeydiyyat!B1231=\"\",\"\",Qeydiyyat!B1231)","v":""},{"$f":"IF(Qeydiyyat!D1231=\"\",\"\",Qeydiyyat!D1231)","v":""},{"$f":"IF(Qeydiyyat!K1231=\"\",\"\",Qeydiyyat!K1231)","v":""},{"$f":"IF(Qeydiyyat!AB1231=\"\",\"\",Qeydiyyat!AB1231)","v":""},{"$f":"IF(Qeydiyyat!AA1231=\"\",\"\",Qeydiyyat!AA1231)","v":""},{"$f":"IF(Qeydiyyat!X1231=\"\",\"\",Qeydiyyat!X1231)","v":""},{"$f":"IF(Qeydiyyat!Y1231=\"\",\"\",Qeydiyyat!Y1231)","v":""},null,{"$f":"IF(Qeydiyyat!AC1231=\"\",\"\",Qeydiyyat!AC1231)","v":""}]
[null,983,{"$f":"IF(Qeydiyyat!C1232=\"\",\"\",Qeydiyyat!C1232)","v":""},{"$f":"IF(Qeydiyyat!B1232=\"\",\"\",Qeydiyyat!B1232)","v":""},{"$f":"IF(Qeydiyyat!D1232=\"\",\"\",Qeydiyyat!D1232)","v":""},{"$f":"IF(Qeydiyyat!K1232=\"\",\"\",Qeydiyyat!K1232)","v":""},{"$f":"IF(Qeydiyyat!AB1232=\"\",\"\",Qeydiyyat!AB1232)","v":""},{"$f":"IF(Qeydiyyat!AA1232=\"\",\"\",Qeydiyyat!AA1232)","v":""},{"$f":"IF(Qeydiyyat!X1232=\"\",\"\",Qeydiyyat!X1232)","v":""},{"$f":"IF(Qeydiyyat!Y1232=\"\",\"\",Qeydiyyat!Y1232)","v":""},null,{"$f":"IF(Qeydiyyat!AC1232=\"\",\"\",Qeydiyyat!AC1232)","v":""}]
[null,984,{"$f":"IF(Qeydiyyat!C1233=\"\",\"\",Qeydiyyat!C1233)","v":""},{"$f":"IF(Qeydiyyat!B1233=\"\",\"\",Qeydiyyat!B1233)","v":""},{"$f":"IF(Qeydiyyat!D1233=\"\",\"\",Qeydiyyat!D1233)","v":""},{"$f":"IF(Qeydiyyat!K1233=\"\",\"\",Qeydiyyat!K1233)","v":""},{"$f":"IF(Qeydiyyat!AB1233=\"\",\"\",Qeydiyyat!AB1233)","v":""},{"$f":"IF(Qeydiyyat!AA1233=\"\",\"\",Qeydiyyat!AA1233)","v":""},{"$f":"IF(Qeydiyyat!X1233=\"\",\"\",Qeydiyyat!X1233)","v":""},{"$f":"IF(Qeydiyyat!Y1233=\"\",\"\",Qeydiyyat!Y1233)","v":""},null,{"$f":"IF(Qeydiyyat!AC1233=\"\",\"\",Qeydiyyat!AC1233)","v":""}]
[null,985,{"$f":"IF(Qeydiyyat!C1234=\"\",\"\",Qeydiyyat!C1234)","v":""},{"$f":"IF(Qeydiyyat!B1234=\"\",\"\",Qeydiyyat!B1234)","v":""},{"$f":"IF(Qeydiyyat!D1234=\"\",\"\",Qeydiyyat!D1234)","v":""},{"$f":"IF(Qeydiyyat!K1234=\"\",\"\",Qeydiyyat!K1234)","v":""},{"$f":"IF(Qeydiyyat!AB1234=\"\",\"\",Qeydiyyat!AB1234)","v":""},{"$f":"IF(Qeydiyyat!AA1234=\"\",\"\",Qeydiyyat!AA1234)","v":""},{"$f":"IF(Qeydiyyat!X1234=\"\",\"\",Qeydiyyat!X1234)","v":""},{"$f":"IF(Qeydiyyat!Y1234=\"\",\"\",Qeydiyyat!Y1234)","v":""},null,{"$f":"IF(Qeydiyyat!AC1234=\"\",\"\",Qeydiyyat!AC1234)","v":""}]
[null,986,{"$f":"IF(Qeydiyyat!C1235=\"\",\"\",Qeydiyyat!C1235)","v":""},{"$f":"IF(Qeydiyyat!B1235=\"\",\"\",Qeydiyyat!B1235)","v":""},{"$f":"IF(Qeydiyyat!D1235=\"\",\"\",Qeydiyyat!D1235)","v":""},{"$f":"IF(Qeydiyyat!K1235=\"\",\"\",Qeydiyyat!K1235)","v":""},{"$f":"IF(Qeydiyyat!AB1235=\"\",\"\",Qeydiyyat!AB1235)","v":""},{"$f":"IF(Qeydiyyat!AA1235=\"\",\"\",Qeydiyyat!AA1235)","v":""},{"$f":"IF(Qeydiyyat!X1235=\"\",\"\",Qeydiyyat!X1235)","v":""},{"$f":"IF(Qeydiyyat!Y1235=\"\",\"\",Qeydiyyat!Y1235)","v":""},null,{"$f":"IF(Qeydiyyat!AC1235=\"\",\"\",Qeydiyyat!AC1235)","v":""}]
[null,987,{"$f":"IF(Qeydiyyat!C1236=\"\",\"\",Qeydiyyat!C1236)","v":""},{"$f":"IF(Qeydiyyat!B1236=\"\",\"\",Qeydiyyat!B1236)","v":""},{"$f":"IF(Qeydiyyat!D1236=\"\",\"\",Qeydiyyat!D1236)","v":""},{"$f":"IF(Qeydiyyat!K1236=\"\",\"\",Qeydiyyat!K1236)","v":""},{"$f":"IF(Qeydiyyat!AB1236=\"\",\"\",Qeydiyyat!AB1236)","v":""},{"$f":"IF(Qeydiyyat!AA1236=\"\",\"\",Qeydiyyat!AA1236)","v":""},{"$f":"IF(Qeydiyyat!X1236=\"\",\"\",Qeydiyyat!X1236)","v":""},{"$f":"IF(Qeydiyyat!Y1236=\"\",\"\",Qeydiyyat!Y1236)","v":""},null,{"$f":"IF(Qeydiyyat!AC1236=\"\",\"\",Qeydiyyat!AC1236)","v":""}]
[null,988,{"$f":"IF(Qeydiyyat!C1237=\"\",\"\",Qeydiyyat!C1237)","v":""},{"$f":"IF(Qeydiyyat!B1237=\"\",\"\",Qeydiyyat!B1237)","v":""},{"$f":"IF(Qeydiyyat!D1237=\"\",\"\",Qeydiyyat!D1237)","v":""},{"$f":"IF(Qeydiyyat!K1237=\"\",\"\",Qeydiyyat!K1237)","v":""},{"$f":"IF(Qeydiyyat!AB1237=\"\",\"\",Qeydiyyat!AB1237)","v":""},{"$f":"IF(Qeydiyyat!AA1237=\"\",\"\",Qeydiyyat!AA1237)","v":""},{"$f":"IF(Qeydiyyat!X1237=\"\",\"\",Qeydiyyat!X1237)","v":""},{"$f":"IF(Qeydiyyat!Y1237=\"\",\"\",Qeydiyyat!Y1237)","v":""},null,{"$f":"IF(Qeydiyyat!AC1237=\"\",\"\",Qeydiyyat!AC1237)","v":""}]
[null,989,{"$f":"IF(Qeydiyyat!C1238=\"\",\"\",Qeydiyyat!C1238)","v":""},{"$f":"IF(Qeydiyyat!B1238=\"\",\"\",Qeydiyyat!B1238)","v":""},{"$f":"IF(Qeydiyyat!D1238=\"\",\"\",Qeydiyyat!D1238)","v":""},{"$f":"IF(Qeydiyyat!K1238=\"\",\"\",Qeydiyyat!K1238)","v":""},{"$f":"IF(Qeydiyyat!AB1238=\"\",\"\",Qeydiyyat!AB1238)","v":""},{"$f":"IF(Qeydiyyat!AA1238=\"\",\"\",Qeydiyyat!AA1238)","v":""},{"$f":"IF(Qeydiyyat!X1238=\"\",\"\",Qeydiyyat!X1238)","v":""},{"$f":"IF(Qeydiyyat!Y1238=\"\",\"\",Qeydiyyat!Y1238)","v":""},null,{"$f":"IF(Qeydiyyat!AC1238=\"\",\"\",Qeydiyyat!AC1238)","v":""}]
[null,990,{"$f":"IF(Qeydiyyat!C1239=\"\",\"\",Qeydiyyat!C1239)","v":""},{"$f":"IF(Qeydiyyat!B1239=\"\",\"\",Qeydiyyat!B1239)","v":""},{"$f":"IF(Qeydiyyat!D1239=\"\",\"\",Qeydiyyat!D1239)","v":""},{"$f":"IF(Qeydiyyat!K1239=\"\",\"\",Qeydiyyat!K1239)","v":""},{"$f":"IF(Qeydiyyat!AB1239=\"\",\"\",Qeydiyyat!AB1239)","v":""},{"$f":"IF(Qeydiyyat!AA1239=\"\",\"\",Qeydiyyat!AA1239)","v":""},{"$f":"IF(Qeydiyyat!X1239=\"\",\"\",Qeydiyyat!X1239)","v":""},{"$f":"IF(Qeydiyyat!Y1239=\"\",\"\",Qeydiyyat!Y1239)","v":""},null,{"$f":"IF(Qeydiyyat!AC1239=\"\",\"\",Qeydiyyat!AC1239)","v":""}]
[null,991,{"$f":"IF(Qeydiyyat!C1240=\"\",\"\",Qeydiyyat!C1240)","v":""},{"$f":"IF(Qeydiyyat!B1240=\"\",\"\",Qeydiyyat!B1240)","v":""},{"$f":"IF(Qeydiyyat!D1240=\"\",\"\",Qeydiyyat!D1240)","v":""},{"$f":"IF(Qeydiyyat!K1240=\"\",\"\",Qeydiyyat!K1240)","v":""},{"$f":"IF(Qeydiyyat!AB1240=\"\",\"\",Qeydiyyat!AB1240)","v":""},{"$f":"IF(Qeydiyyat!AA1240=\"\",\"\",Qeydiyyat!AA1240)","v":""},{"$f":"IF(Qeydiyyat!X1240=\"\",\"\",Qeydiyyat!X1240)","v":""},{"$f":"IF(Qeydiyyat!Y1240=\"\",\"\",Qeydiyyat!Y1240)","v":""},null,{"$f":"IF(Qeydiyyat!AC1240=\"\",\"\",Qeydiyyat!AC1240)","v":""}]
[null,992,{"$f":"IF(Qeydiyyat!C1241=\"\",\"\",Qeydiyyat!C1241)","v":""},{"$f":"IF(Qeydiyyat!B1241=\"\",\"\",Qeydiyyat!B1241)","v":""},{"$f":"IF(Qeydiyyat!D1241=\"\",\"\",Qeydiyyat!D1241)","v":""},{"$f":"IF(Qeydiyyat!K1241=\"\",\"\",Qeydiyyat!K1241)","v":""},{"$f":"IF(Qeydiyyat!AB1241=\"\",\"\",Qeydiyyat!AB1241)","v":""},{"$f":"IF(Qeydiyyat!AA1241=\"\",\"\",Qeydiyyat!AA1241)","v":""},{"$f":"IF(Qeydiyyat!X1241=\"\",\"\",Qeydiyyat!X1241)","v":""},{"$f":"IF(Qeydiyyat!Y1241=\"\",\"\",Qeydiyyat!Y1241)","v":""},null,{"$f":"IF(Qeydiyyat!AC1241=\"\",\"\",Qeydiyyat!AC1241)","v":""}]
[null,993,{"$f":"IF(Qeydiyyat!C1242=\"\",\"\",Qeydiyyat!C1242)","v":""},{"$f":"IF(Qeydiyyat!B1242=\"\",\"\",Qeydiyyat!B1242)","v":""},{"$f":"IF(Qeydiyyat!D1242=\"\",\"\",Qeydiyyat!D1242)","v":""},{"$f":"IF(Qeydiyyat!K1242=\"\",\"\",Qeydiyyat!K1242)","v":""},{"$f":"IF(Qeydiyyat!AB1242=\"\",\"\",Qeydiyyat!AB1242)","v":""},{"$f":"IF(Qeydiyyat!AA1242=\"\",\"\",Qeydiyyat!AA1242)","v":""},{"$f":"IF(Qeydiyyat!X1242=\"\",\"\",Qeydiyyat!X1242)","v":""},{"$f":"IF(Qeydiyyat!Y1242=\"\",\"\",Qeydiyyat!Y1242)","v":""},null,{"$f":"IF(Qeydiyyat!AC1242=\"\",\"\",Qeydiyyat!AC1242)","v":""}]
[null,994,{"$f":"IF(Qeydiyyat!C1243=\"\",\"\",Qeydiyyat!C1243)","v":""},{"$f":"IF(Qeydiyyat!B1243=\"\",\"\",Qeydiyyat!B1243)","v":""},{"$f":"IF(Qeydiyyat!D1243=\"\",\"\",Qeydiyyat!D1243)","v":""},{"$f":"IF(Qeydiyyat!K1243=\"\",\"\",Qeydiyyat!K1243)","v":""},{"$f":"IF(Qeydiyyat!AB1243=\"\",\"\",Qeydiyyat!AB1243)","v":""},{"$f":"IF(Qeydiyyat!AA1243=\"\",\"\",Qeydiyyat!AA1243)","v":""},{"$f":"IF(Qeydiyyat!X1243=\"\",\"\",Qeydiyyat!X1243)","v":""},{"$f":"IF(Qeydiyyat!Y1243=\"\",\"\",Qeydiyyat!Y1243)","v":""},null,{"$f":"IF(Qeydiyyat!AC1243=\"\",\"\",Qeydiyyat!AC1243)","v":""}]
[null,995,{"$f":"IF(Qeydiyyat!C1244=\"\",\"\",Qeydiyyat!C1244)","v":""},{"$f":"IF(Qeydiyyat!B1244=\"\",\"\",Qeydiyyat!B1244)","v":""},{"$f":"IF(Qeydiyyat!D1244=\"\",\"\",Qeydiyyat!D1244)","v":""},{"$f":"IF(Qeydiyyat!K1244=\"\",\"\",Qeydiyyat!K1244)","v":""},{"$f":"IF(Qeydiyyat!AB1244=\"\",\"\",Qeydiyyat!AB1244)","v":""},{"$f":"IF(Qeydiyyat!AA1244=\"\",\"\",Qeydiyyat!AA1244)","v":""},{"$f":"IF(Qeydiyyat!X1244=\"\",\"\",Qeydiyyat!X1244)","v":""},{"$f":"IF(Qeydiyyat!Y1244=\"\",\"\",Qeydiyyat!Y1244)","v":""},null,{"$f":"IF(Qeydiyyat!AC1244=\"\",\"\",Qeydiyyat!AC1244)","v":""}]
[null,996,{"$f":"IF(Qeydiyyat!C1245=\"\",\"\",Qeydiyyat!C1245)","v":""},{"$f":"IF(Qeydiyyat!B1245=\"\",\"\",Qeydiyyat!B1245)","v":""},{"$f":"IF(Qeydiyyat!D1245=\"\",\"\",Qeydiyyat!D1245)","v":""},{"$f":"IF(Qeydiyyat!K1245=\"\",\"\",Qeydiyyat!K1245)","v":""},{"$f":"IF(Qeydiyyat!AB1245=\"\",\"\",Qeydiyyat!AB1245)","v":""},{"$f":"IF(Qeydiyyat!AA1245=\"\",\"\",Qeydiyyat!AA1245)","v":""},{"$f":"IF(Qeydiyyat!X1245=\"\",\"\",Qeydiyyat!X1245)","v":""},{"$f":"IF(Qeydiyyat!Y1245=\"\",\"\",Qeydiyyat!Y1245)","v":""},null,{"$f":"IF(Qeydiyyat!AC1245=\"\",\"\",Qeydiyyat!AC1245)","v":""}]
[null,997,{"$f":"IF(Qeydiyyat!C1246=\"\",\"\",Qeydiyyat!C1246)","v":""},{"$f":"IF(Qeydiyyat!B1246=\"\",\"\",Qeydiyyat!B1246)","v":""},{"$f":"IF(Qeydiyyat!D1246=\"\",\"\",Qeydiyyat!D1246)","v":""},{"$f":"IF(Qeydiyyat!K1246=\"\",\"\",Qeydiyyat!K1246)","v":""},{"$f":"IF(Qeydiyyat!AB1246=\"\",\"\",Qeydiyyat!AB1246)","v":""},{"$f":"IF(Qeydiyyat!AA1246=\"\",\"\",Qeydiyyat!AA1246)","v":""},{"$f":"IF(Qeydiyyat!X1246=\"\",\"\",Qeydiyyat!X1246)","v":""},{"$f":"IF(Qeydiyyat!Y1246=\"\",\"\",Qeydiyyat!Y1246)","v":""},null,{"$f":"IF(Qeydiyyat!AC1246=\"\",\"\",Qeydiyyat!AC1246)","v":""}]
[null,998,{"$f":"IF(Qeydiyyat!C1247=\"\",\"\",Qeydiyyat!C1247)","v":""},{"$f":"IF(Qeydiyyat!B1247=\"\",\"\",Qeydiyyat!B1247)","v":""},{"$f":"IF(Qeydiyyat!D1247=\"\",\"\",Qeydiyyat!D1247)","v":""},{"$f":"IF(Qeydiyyat!K1247=\"\",\"\",Qeydiyyat!K1247)","v":""},{"$f":"IF(Qeydiyyat!AB1247=\"\",\"\",Qeydiyyat!AB1247)","v":""},{"$f":"IF(Qeydiyyat!AA1247=\"\",\"\",Qeydiyyat!AA1247)","v":""},{"$f":"IF(Qeydiyyat!X1247=\"\",\"\",Qeydiyyat!X1247)","v":""},{"$f":"IF(Qeydiyyat!Y1247=\"\",\"\",Qeydiyyat!Y1247)","v":""},null,{"$f":"IF(Qeydiyyat!AC1247=\"\",\"\",Qeydiyyat!AC1247)","v":""}]
[null,999,{"$f":"IF(Qeydiyyat!C1248=\"\",\"\",Qeydiyyat!C1248)","v":""},{"$f":"IF(Qeydiyyat!B1248=\"\",\"\",Qeydiyyat!B1248)","v":""},{"$f":"IF(Qeydiyyat!D1248=\"\",\"\",Qeydiyyat!D1248)","v":""},{"$f":"IF(Qeydiyyat!K1248=\"\",\"\",Qeydiyyat!K1248)","v":""},{"$f":"IF(Qeydiyyat!AB1248=\"\",\"\",Qeydiyyat!AB1248)","v":""},{"$f":"IF(Qeydiyyat!AA1248=\"\",\"\",Qeydiyyat!AA1248)","v":""},{"$f":"IF(Qeydiyyat!X1248=\"\",\"\",Qeydiyyat!X1248)","v":""},{"$f":"IF(Qeydiyyat!Y1248=\"\",\"\",Qeydiyyat!Y1248)","v":""},null,{"$f":"IF(Qeydiyyat!AC1248=\"\",\"\",Qeydiyyat!AC1248)","v":""}]
[null,1000,{"$f":"IF(Qeydiyyat!C1249=\"\",\"\",Qeydiyyat!C1249)","v":""},{"$f":"IF(Qeydiyyat!B1249=\"\",\"\",Qeydiyyat!B1249)","v":""},{"$f":"IF(Qeydiyyat!D1249=\"\",\"\",Qeydiyyat!D1249)","v":""},{"$f":"IF(Qeydiyyat!K1249=\"\",\"\",Qeydiyyat!K1249)","v":""},{"$f":"IF(Qeydiyyat!AB1249=\"\",\"\",Qeydiyyat!AB1249)","v":""},{"$f":"IF(Qeydiyyat!AA1249=\"\",\"\",Qeydiyyat!AA1249)","v":""},{"$f":"IF(Qeydiyyat!X1249=\"\",\"\",Qeydiyyat!X1249)","v":""},{"$f":"IF(Qeydiyyat!Y1249=\"\",\"\",Qeydiyyat!Y1249)","v":""},null,{"$f":"IF(Qeydiyyat!AC1249=\"\",\"\",Qeydiyyat!AC1249)","v":""}]
[]
[null,"Kartın növü ",null,"☐ MasterCard Debet ",null,"☐   Visa Debet ",null,"☐ MasterCard Gold","☐  Visa Gold "]
[]
[null,"Tarifin növü                    ☐ Tarif 1                                                    ☐ Tarif 2                                  ☐ Tarif 3"]
[null,"Kartın müddəti",null,"               ☐ 1 il                                                          ☐ 2 il                                       ☐ 3 il"]
[null,"Xidmət haqqını Bankın qüvvədə olan tariflərə uyğun      _______________________________________________________________ nömrəli hesabımdan ödəməyə razıyıq."]
[null,"Bankın qüvvədə olan tarifləri ilə tanış oldum. Hazırkı ərizəni imzalayaraq siyahıda qeyd olunan işçilər üçün əmək haqqı kartlarını Banka sifariş etdiyimi təsdiqləyirəm. "]
[null,"Ərizəyə işçilərin (kart sahiblərinin) şəxsiyyətini təsdiq edən sənədlərin surətləri (____ səhifə) əlavə olunub. Əlavə xidmətlər üzrə tariflərlə, ÜŞT-da əks olunan kartların  \n"]
[null,"təhlükəsiz istifadə qaydaları ilə bağlı işçiləri məlumatlandırmağı, həmçinin kart(lar)-ı kart sahib(lər)-inə çatdırılmağı öz üzərimə götürürəm."]
[]
[null,"* Ərizə formasında əmək haqqı kart sahibi barədə məlumat mütləq qayadada tam doldurulmalıdır.\n** Siyahı üzrə bütün fiziki şəxslərin vergi rezidentliyinin müəyyən edilməsi üçün özünüqiymətləndirmə anketi, 5000 manat və ya daha yüksək əmək haqqı alan ABŞ şəxsi olmayan fiziki şəxslərin W-8BEN və bütün ABŞ şəxslərinin isə W-9 forması kart sahiblərinin imzaları ilə təsdiq edilməklə müraciətə əlavə edilməlidir. \n***Qeyd olunmuş sənədlərin hər hansı biri şəxs tərəfindən imzalanmaqla təqdim edilməzsə və ya əlavə edilmiş forma oxumaq üçün yararlı olmazsa, həmçinin şəxsiyyəti təsdiq edən sənədin etibarlılıq müddəti bitmiş olarsa və ya surətlər oxunmağa yararlı olmazsa həmin şəxs üçün əmək haqqı kartı açılmayacaq."]
[null,"Ərizəni təqdim etmə tarixi:  ___________________________"]
[null,null,null,"                                         (gün/ay/il)"]
[null,"Müştərinin imzası",null,null,null,null,"         Bankın imzası"]
[]
[null,null,"M.Y",null,null,null,"    M.Y"]
[]
[null,null,"Qeyd: Sənəd başlıqda göstərilən tarixdən qüvvəyə minir."]
[]
[null,null,"BANKIN QEYDLƏRİ"]
[]
[]
[null,null,"Müştərinin eyniləşdirmə kodu ______________________________"]
[]
[]
[]
[]
[]
[null,null,"İcraçının adı və imzası",null,null,null,"            Təsdiq edən şəxsin adı və imzası"]
[]
[]
[]
[]
[null,null,"İcra tarixi, möhür",null,null,null,"            İcra tarixi, möhür"]

{"sheet":"Qeydiyyat","index":1,"n_rows":3250,"n_cols":40,"rows_kept":2250,"cut":true,"hidden":false,"merged":[[247,38,248,38],[247,39,248,39],[247,33,248,33],[247,34,248,34],[247,35,248,35],[247,36,248,36],[247,37,248,37],[247,0,248,0],[247,17,248,17],[247,26,248,26],[247,23,248,23],[247,25,248,25],[247,11,248,11],[247,5,247,10],[247,1,248,1],[247,15,248,15],[247,3,248,3],[247,2,248,2],[247,21,248,21],[247,12,247,14],[247,18,248,18],[247,24,248,24],[247,32,248,32],[247,30,248,30],[247,31,248,31],[247,4,248,4],[247,16,248,16],[247,20,248,20],[247,19,248,19],[247,29,248,29],[247,27,248,27],[247,22,248,22],[247,28,248,28]],"bounds":{"rows_first":1000,"rows_last":250,"rows_between":1000,"halvings":1}}
[null,null,null,null,null,"Baku capital",null,null,null,null,null,null,"Head Office",null,"BAKI","Azerbaijan",null,"Yes",null,null,null,null,null,"male",null,"National ID","single",null,null,null,null,null,"Low"]
[null,null,null,null,null,"Absheron",null,null,null,null,null,null,"Bridge Plaza",null,"SUMQAYIT","Afghanistan",null,"No",null,null,null,null,null,"female",null,"temp permit","married",null,null,null,null,null,"Medium"]
[null,null,null,null,null,"Sumqayit",null,null,null,null,null,null,"Port Baku",null,"XIRDALAN","Albania",null,null,null,null,null,null,null,null,null,"foreign passport","widow",null,null,null,null,null,"High"]
[null,null,null,null,null,"Agdam",null,null,null,null,null,null,"Shuvalan Park",null,"ABŞERON","Algeria",null,null,null,null,null,null,null,null,null,"perm permit","divorced"]
[null,null,null,null,null,"Agdash",null,null,null,null,null,null,"Ganja Branch",null,"AĞCABƏDİ","American Samoa",null,null,null,null,null,null,null,null,null,null,"undefined"]
[null,null,null,null,null,"Agjabadi",null,null,null,null,null,null,"Quba Branch",null,"AĞDAM","Andorra"]
[null,null,null,null,null,"Agstafa",null,null,null,null,null,null,"Zaqatala Branch",null,"AĞDAŞ","Angola"]
[null,null,null,null,null,"Agsu",null,null,null,null,null,null,"Georgian Branch",null,"AĞSTAFA","Antarctica"]
[null,null,null,null,null,"Astara",null,null,null,null,null,null,"Individual Banking",null,"AĞSU","Antigua and Barbuda"]
[null,null,null,null,null,"Babek",null,null,null,null,null,null,null,null,"ASTARA","Argentina"]
[null,null,null,null,null,"Balakan",null,null,null,null,null,null,null,null,"BABƏK","Armenia"]
[null,null,null,null,null,"Barda",null,null,null,null,null,null,null,null,"BALAKƏN","Aruba"]
[null,null,null,null,null,"Beylagan",null,null,null,null,null,null,null,null,"BƏRDƏ","Australia"]
[null,null,null,null,null,"Bilasuvar",null,null,null,null,null,null,null,null,"BEYLƏQAN","Austria"]
[null,null,null,null,null,"Dashkasan",null,null,null,null,null,null,null,null,"BİLƏSUVAR","AI - Anguilla"]
[null,null,null,null,null,"Fizuli",null,null,null,null,null,null,null,null,"CƏBRAYIL","Bahamas"]
[null,null,null,null,null,"Gadabay",null,null,null,null,null,null,null,null,"CƏLİLABAD","Bahrain"]
[null,null,null,null,null,"Ganja",null,null,null,null,null,null,null,null,"CULFA","Bangladesh"]
[null,null,null,null,null,"Goranboy",null,null,null,null,null,null,null,null,"DAŞKƏSƏN","Barbados"]
[null,null,null,null,null,"Goychay",null,null,null,null,null,null,null,null,"FÜZULİ","Belarus"]
[null,null,null,null,null,"Goygol",null,null,null,null,null,null,null,null,"GƏDƏBƏY","Belgium"]
[null,null,null,null,null,"Hajigabul",null,null,null,null,null,null,null,null,"GƏNCƏ","Belize"]
[null,null,null,null,null,"Imishli",null,null,null,null,null,null,null,null,"GORANBOY","Benin"]
[null,null,null,null,null,"Ismailli",null,null,null,null,null,null,null,null,"GÖYÇAY","Bermuda"]
[null,null,null,null,null,"Jabrayil",null,null,null,null,null,null,null,null,"GÖYGÖL","Bhutan"]
[null,null,null,null,null,"Jalilabad",null,null,null,null,null,null,null,null,"HACIQABUL","Bolivia"]
[null,null,null,null,null,"Julfa",null,null,null,null,null,null,null,null,"İMİŞLİ","Bosnia-Herzegovina"]
[null,null,null,null,null,"Kalbajar",null,null,null,null,null,null,null,null,"İSMAYILLI","Botswana"]
[null,null,null,null,null,"Kangarli",null,null,null,null,null,null,null,null,"KƏLBƏCƏR","Bouvet Island"]
[null,null,null,null,null,"Khachmaz",null,null,null,null,null,null,null,null,"KƏNGƏRLİ","Brazil"]
[null,null,null,null,null,"Khanlar",null,null,null,null,null,null,null,null,"KÜRDƏMİR","British Indian Ocean Territory"]
[null,null,null,null,null,"Khojali",null,null,null,null,null,null,null,null,"LAÇIN","Brunei Darussalam"]
[null,null,null,null,null,"Khojavend",null,null,null,null,null,null,null,null,"LƏNKƏRAN","Bulgaria"]
[null,null,null,null,null,"Khyrdalan",null,null,null,null,null,null,null,null,"LERİK","Burkina Faso"]
[null,null,null,null,null,"Kurdamir",null,null,null,null,null,null,null,null,"MASALLI","Burundi"]
[null,null,null,null,null,"Lachin",null,null,null,null,null,null,null,null,"MİNGƏÇEVİR","Cambodia, Kingdom of"]
[null,null,null,null,null,"Lankaran",null,null,null,null,null,null,null,null,"NAXÇIVAN","Cameroon"]
[null,null,null,null,null,"Lerik",null,null,null,null,null,null,null,null,"NEFTÇALA","Canada"]
[null,null,null,null,null,"Masally",null,null,null,null,null,null,null,null,"OĞUZ","Cape Verde"]
[null,null,null,null,null,"Mingacevir",null,null,null,null,null,null,null,null,"ORDUBAD","Cayman Islands"]
[null,null,null,null,null,"Naftalan",null,null,null,null,null,null,null,null,"QAX","Central African Republic"]
[null,null,null,null,null,"Nakhichevan",null,null,null,null,null,null,null,null,"QAZAX","Chad"]
[null,null,null,null,null,"Neftchala",null,null,null,null,null,null,null,null,"QƏBƏLƏ","Chile"]
[null,null,null,null,null,"Oguz",null,null,null,null,null,null,null,null,"QOBUSTAN","China"]
[null,null,null,null,null,"Ordubad",null,null,null,null,null,null,null,null,"QUBA","Christmas Island"]
[null,null,null,null,null,"Qabala",null,null,null,null,null,null,null,null,"QUBADLI","Cocos (Keeling) Islands"]
[null,null,null,null,null,"Qakh",null,null,null,null,null,null,null,null,"QUSAR","Colombia"]
[null,null,null,null,null,"Qazakh",null,null,null,null,null,null,null,null,"SAATLI","Comoros"]
[null,null,null,null,null,"Qobustan",null,null,null,null,null,null,null,null,"SABİRABAD","Congo"]
[null,null,null,null,null,"Quba",null,null,null,null,null,null,null,null,"ŞABRAN","Cook Islands"]
[null,null,null,null,null,"Qubadli",null,null,null,null,null,null,null,null,"ŞAHBUZ","Costa Rica"]
[null,null,null,null,null,"Qusar",null,null,null,null,null,null,null,null,"SALYAN","Croatia"]
[null,null,null,null,null,"Saatly",null,null,null,null,null,null,null,null,"ŞAMAXI","Cuba"]
[null,null,null,null,null,"Sabirabad",null,null,null,null,null,null,null,null,"SAMUX","Cyprus"]
[null,null,null,null,null,"Salyan",null,null,null,null,null,null,null,null,"SƏDƏRƏK","Czech Republic"]
[null,null,null,null,null,"Samux",null,null,null,null,null,null,null,null,"ŞƏKİ","Denmark"]
[null,null,null,null,null,"Shakhbuz",null,null,null,null,null,null,null,null,"ŞƏMKİR","Djibouti"]
[null,null,null,null,null,"Shaki",null,null,null,null,null,null,null,null,"ŞƏRUR","Dominica"]
[null,null,null,null,null,"Shamakha",null,null,null,null,null,null,null,null,"ŞİRVAN","Dominican Republic"]
[null,null,null,null,null,"Shamkir",null,null,null,null,null,null,null,null,"SİYƏZƏN","East Timor"]
[null,null,null,null,null,"Sharur",null,null,null,null,null,null,null,null,"SUMQAYIT","Ecuador"]
[null,null,null,null,null,"Shirvan",null,null,null,null,null,null,null,null,"ŞUŞA","Egypt"]
[null,null,null,null,null,"Shusha",null,null,null,null,null,null,null,null,"TƏRTƏR","El Salvador"]
[null,null,null,null,null,"Siazan",null,null,null,null,null,null,null,null,"TOVUZ","Equatorial Guinea"]
[null,null,null,null,null,"Shabran",null,null,null,null,null,null,null,null,"UCAR","Eritrea"]
[null,null,null,null,null,"Terter",null,null,null,null,null,null,null,null,"XAÇMAZ","Estonia"]
[null,null,null,null,null,"Tovuz",null,null,null,null,null,null,null,null,"XANKƏNDİ","Ethiopia"]
[null,null,null,null,null,"Ujar",null,null,null,null,null,null,null,null,"XIZI","European Union"]
[null,null,null,null,null,"Xızı",null,null,null,null,null,null,null,null,"XOCALI","Falkland Islands"]
[null,null,null,null,null,"Yardymli",null,null,null,null,null,null,null,null,"XOCAVƏND","Faroe Islands"]
[null,null,null,null,null,"Yevlakh",null,null,null,null,null,null,null,null,"YARDIMLI","Fiji"]
[null,null,null,null,null,"Zangilan",null,null,null,null,null,null,null,null,"YEVLAX","Finland"]
[null,null,null,null,null,"Zaqatala",null,null,null,null,null,null,null,null,"ZAQATALA","Former Czechoslovakia"]
[null,null,null,null,null,"Zardab",null,null,null,null,null,null,null,null,"ZƏNGİLAN","Former USSR"]
[null,null,null,null,null,"non-resident",null,null,null,null,null,null,null,null,"ZƏRDAB","France"]
[null,null,null,null,null,null,null,null,null,null,null,null,null,null,null,"France (European Territory)"]
[null,null,null,null,null,null,null,null,null,null,null,null,null,null,null,"French Guyana"]
[null,null,null,null,null,null,null,null,null,null,null,null,null,null,null,"French Southern Territories"]
[null,null,null,null,null,null,null,null,null,null,null,null,null,null,null,"Gabon"]
[null,null,null,null,null,null,null,null,null,null,null,null,null,null,null,"Gambia"]
[null,null,null,null,null,null,null,null,null,null,null,null,null,null,null,"Georgia"]
[null,null,null,null,null,null,null,null,null,null,null,null,null,null,null,"Germany"]
[null,null,null,null,null,null,null,null,null,null,null,null,null,null,null,"Ghana"]
[null,null,null,null,null,null,null,null,null,null,null,null,null,null,null,"Gibraltar"]
[null,null,null,null,null,null,null,null,null,null,null,null,null,null,null,"Great Britain"]
[null,null,null,null,null,null,null,null,null,null,null,null,null,null,null,"Greece"]
[null,null,null,null,null,null,null,null,null,null,null,null,null,null,null,"Greenland"]
[null,null,null,null,null,null,null,null,null,null,null,null,null,null,null,"Grenada"]
[null,null,null,null,null,null,null,null,null,null,null,null,null,null,null,"Guadeloupe (French)"]
[null,null,null,null,null,null,null,null,null,null,null,null,null,null,null,"Guam (USA)"]
[null,null,null,null,null,null,null,null,null,null,null,null,null,null,null,"Guatemala"]
[null,null,null,null,null,null,null,null,null,null,null,null,null,null,null,"Guernsey"]
[null,null,null,null,null,null,null,null,null,null,null,null,null,null,null,"Guinea"]
[null,null,null,null,null,null,null,null,null,null,null,null,null,null,null,"Guinea Bissau"]
[null,null,null,null,null,null,null,null,null,null,null,null,null,null,null,"Guyana"]
[null,null,null,null,null,null,null,null,null,null,null,null,null,null,null,"Haiti"]
[null,null,null,null,null,null,null,null,null,null,null,null,null,null,null,"Heard and McDonald Islands"]
[null,null,null,null,null,null,null,null,null,null,null,null,null,null,null,"Holy See (Vatican City State)"]
[null,null,null,null,null,null,null,null,null,null,null,null,null,null,null,"Honduras"]
[null,null,null,null,null,null,null,null,null,null,null,null,null,null,null,"Hong Kong"]
[null,null,null,null,null,null,null,null,null,null,null,null,null,null,null,"Hungary"]
[null,null,null,null,null,null,null,null,null,null,null,null,null,null,null,"Iceland"]
[null,null,null,null,null,null,null,null,null,null,null,null,null,null,null,"India"]
[null,null,null,null,null,null,null,null,null,null,null,null,null,null,null,"Indonesia"]
[null,null,null,null,null,null,null,null,null,null,null,null,null,null,null,"Iran"]
[null,null,null,null,null,null,null,null,null,null,null,null,null,null,null,"Iraq"]
[null,null,null,null,null,null,null,null,null,null,null,null,null,null,null,"Ireland"]
[null,null,null,null,null,null,null,null,null,null,null,null,null,null,null,"Israel"]
[null,null,null,null,null,null,null,null,null,null,null,null,null,null,null,"Italy"]
[null,null,null,null,null,null,null,null,null,null,null,null,null,null,null,"Ivory Coast"]
[null,null,null,null,null,null,null,null,null,null,null,null,null,null,null,"Jamaica"]
[null,null,null,null,null,null,null,null,null,null,null,null,null,null,null,"Japan"]
[null,null,null,null,null,null,null,null,null,null,null,null,null,null,null,"Jersey"]
[null,null,null,null,null,null,null,null,null,null,null,null,null,null,null,"Jordan"]
[null,null,null,null,null,null,null,null,null,null,null,null,null,null,null,"Kazakhstan"]
[null,null,null,null,null,null,null,null,null,null,null,null,null,null,null,"Kenya"]
[null,null,null,null,null,null,null,null,null,null,null,null,null,null,null,"Kiribati"]
[null,null,null,null,null,null,null,null,null,null,null,null,null,null,null,"Kuwait"]
[null,null,null,null,null,null,null,null,null,null,null,null,null,null,null,"Kyrgyz Republic (Kyrgyzstan)"]
[null,null,null,null,null,null,null,null,null,null,null,null,null,null,null,"Laos"]
[null,null,null,null,null,null,null,null,null,null,null,null,null,null,null,"Latvia"]
[null,null,null,null,null,null,null,null,null,null,null,null,null,null,null,"Lebanon"]
[null,null,null,null,null,null,null,null,null,null,null,null,null,null,null,"Lesotho"]
[null,null,null,null,null,null,null,null,null,null,null,null,null,null,null,"Liberia"]
[null,null,null,null,null,null,null,null,null,null,null,null,null,null,null,"Libya"]
[null,null,null,null,null,null,null,null,null,null,null,null,null,null,null,"Liechtenstein"]
[null,null,null,null,null,null,null,null,null,null,null,null,null,null,null,"Lithuania"]
[null,null,null,null,null,null,null,null,null,null,null,null,null,null,null,"Luxembourg"]
[null,null,null,null,null,null,null,null,null,null,null,null,null,null,null,"Macau"]
[null,null,null,null,null,null,null,null,null,null,null,null,null,null,null,"Macedonia"]
[null,null,null,null,null,null,null,null,null,null,null,null,null,null,null,"Madagascar"]
[null,null,null,null,null,null,null,null,null,null,null,null,null,null,null,"Malawi"]
[null,null,null,null,null,null,null,null,null,null,null,null,null,null,null,"Malaysia"]
[null,null,null,null,null,null,null,null,null,null,null,null,null,null,null,"Maldives"]
[null,null,null,null,null,null,null,null,null,null,null,null,null,null,null,"Mali"]
[null,null,null,null,null,null,null,null,null,null,null,null,null,null,null,"Malta"]
[null,null,null,null,null,null,null,null,null,null,null,null,null,null,null,"Mani Island"]
[null,null,null,null,null,null,null,null,null,null,null,null,null,null,null,"Marshall Islands"]
[null,null,null,null,null,null,null,null,null,null,null,null,null,null,null,"Martinique (French)"]
[null,null,null,null,null,null,null,null,null,null,null,null,null,null,null,"Mauritania"]
[null,null,null,null,null,null,null,null,null,null,null,null,null,null,null,"Mauritius"]
[null,null,null,null,null,null,null,null,null,null,null,null,null,null,null,"Mayotte"]
[null,null,null,null,null,null,null,null,null,null,null,null,null,null,null,"Mexico"]
[null,null,null,null,null,null,null,null,null,null,null,null,null,null,null,"Micronesia"]
[null,null,null,null,null,null,null,null,null,null,null,null,null,null,null,"Moldavia"]
[null,null,null,null,null,null,null,null,null,null,null,null,null,null,null,"Monaco"]
[null,null,null,null,null,null,null,null,null,null,null,null,null,null,null,"Mongolia"]
[null,null,null,null,null,null,null,null,null,null,null,null,null,null,null,"Montserrat"]
[null,null,null,null,null,null,null,null,null,null,null,null,null,null,null,"Morocco"]
[null,null,null,null,null,null,null,null,null,null,null,null,null,null,null,"Mozambique"]
[null,null,null,null,null,null,null,null,null,null,null,null,null,null,null,"Myanmar"]
[null,null,null,null,null,null,null,null,null,null,null,null,null,null,null,"Namibia"]
[null,null,null,null,null,null,null,null,null,null,null,null,null,null,null,"Nauru"]
[null,null,null,null,null,null,null,null,null,null,null,null,null,null,null,"Nepal"]
[null,null,null,null,null,null,null,null,null,null,null,null,null,null,null,"Netherlands"]
[null,null,null,null,null,null,null,null,null,null,null,null,null,null,null,"Netherlands Antilles"]
[null,null,null,null,null,null,null,null,null,null,null,null,null,null,null,"Neutral Zone"]
[null,null,null,null,null,null,null,null,null,null,null,null,null,null,null,"New Caledonia (French)"]
[null,null,null,null,null,null,null,null,null,null,null,null,null,null,null,"New Zealand"]
[null,null,null,null,null,null,null,null,null,null,null,null,null,null,null,"Nicaragua"]
[null,null,null,null,null,null,null,null,null,null,null,null,null,null,null,"Niger"]
[null,null,null,null,null,null,null,null,null,null,null,null,null,null,null,"Nigeria"]
[null,null,null,null,null,null,null,null,null,null,null,null,null,null,null,"Niue"]
[null,null,null,null,null,null,null,null,null,null,null,null,null,null,null,"Norfolk Island"]
[null,null,null,null,null,null,null,null,null,null,null,null,null,null,null,"North Korea"]
[null,null,null,null,null,null,null,null,null,null,null,null,null,null,null,"Northern Mariana Islands"]
[null,null,null,null,null,null,null,null,null,null,null,null,null,null,null,"Norway"]
[null,null,null,null,null,null,null,null,null,null,null,null,null,null,null,"Oman"]
[null,null,null,null,null,null,null,null,null,null,null,null,null,null,null,"Pakistan"]
[null,null,null,null,null,null,null,null,null,null,null,null,null,null,null,"Palau"]
[null,null,null,null,null,null,null,null,null,null,null,null,null,null,null,"Panama"]
[null,null,null,null,null,null,null,null,null,null,null,null,null,null,null,"Papua New Guinea"]
[null,null,null,null,null,null,null,null,null,null,null,null,null,null,null,"Paraguay"]
[null,null,null,null,null,null,null,null,null,null,null,null,null,null,null,"Peru"]
[null,null,null,null,null,null,null,null,null,null,null,null,null,null,null,"Philippines"]
[null,null,null,null,null,null,null,null,null,null,null,null,null,null,null,"Pitcairn Island"]
[null,null,null,null,null,null,null,null,null,null,null,null,null,null,null,"Poland"]
[null,null,null,null,null,null,null,null,null,null,null,null,null,null,null,"Polynesia (French)"]
[null,null,null,null,null,null,null,null,null,null,null,null,null,null,null,"Portugal"]
[null,null,null,null,null,null,null,null,null,null,null,null,null,null,null,"Puerto Rico"]
[null,null,null,null,null,null,null,null,null,null,null,null,null,null,null,"Qatar"]
[null,null,null,null,null,null,null,null,null,null,null,null,null,null,null,"Reunion (French)"]
[null,null,null,null,null,null,null,null,null,null,null,null,null,null,null,"Romania"]
[null,null,null,null,null,null,null,null,null,null,null,null,null,null,null,"Russian Federation"]
[null,null,null,null,null,null,null,null,null,null,null,null,null,null,null,"Rwanda"]
[null,null,null,null,null,null,null,null,null,null,null,null,null,null,null,"S. Georgia S. Sandwich Isls."]
[null,null,null,null,null,null,null,null,null,null,null,null,null,null,null,"Saint Helena"]
[null,null,null,null,null,null,null,null,null,null,null,null,null,null,null,"Saint Kitts Nevis Anguilla"]
[null,null,null,null,null,null,null,null,null,null,null,null,null,null,null,"Saint Lucia"]
[null,null,null,null,null,null,null,null,null,null,null,null,null,null,null,"Saint Pierre and Miquelon"]
[null,null,null,null,null,null,null,null,null,null,null,null,null,null,null,"Saint Tome (Sao Tome) and Principe"]
[null,null,null,null,null,null,null,null,null,null,null,null,null,null,null,"Saint Vincent Grenadines"]
[null,null,null,null,null,null,null,null,null,null,null,null,null,null,null,"Samoa"]
[null,null,null,null,null,null,null,null,null,null,null,null,null,null,null,"San Marino"]
[null,null,null,null,null,null,null,null,null,null,null,null,null,null,null,"Saudi Arabia"]
[null,null,null,null,null,null,null,null,null,null,null,null,null,null,null,"Senegal"]
[null,null,null,null,null,null,null,null,null,null,null,null,null,null,null,"Seychelles"]
[null,null,null,null,null,null,null,null,null,null,null,null,null,null,null,"Sierra Leone"]
[null,null,null,null,null,null,null,null,null,null,null,null,null,null,null,"Singapore"]
[null,null,null,null,null,null,null,null,null,null,null,null,null,null,null,"Slovak Republic"]
[null,null,null,null,null,null,null,null,null,null,null,null,null,null,null,"Slovenia"]
[null,null,null,null,null,null,null,null,null,null,null,null,null,null,null,"Solomon Islands"]
[null,null,null,null,null,null,null,null,null,null,null,null,null,null,null,"Somalia"]
[null,null,null,null,null,null,null,null,null,null,null,null,null,null,null,"South Africa"]
[null,null,null,null,null,null,null,null,null,null,null,null,null,null,null,"South Korea"]
[null,null,null,null,null,null,null,null,null,null,null,null,null,null,null,"Spain"]
[null,null,null,null,null,null,null,null,null,null,null,null,null,null,null,"Sri Lanka"]
[null,null,null,null,null,null,null,null,null,null,null,null,null,null,null,"Sudan"]
[null,null,null,null,null,null,null,null,null,null,null,null,null,null,null,"Suriname"]
[null,null,null,null,null,null,null,null,null,null,null,null,null,null,null,"Svalbard and Jan Mayen Islands"]
[null,null,null,null,null,null,null,null,null,null,null,null,null,null,null,"Swaziland"]
[null,null,null,null,null,null,null,null,null,null,null,null,null,null,null,"Sweden"]
[null,null,null,null,null,null,null,null,null,null,null,null,null,null,null,"Switzerland"]
[null,null,null,null,null,null,null,null,null,null,null,null,null,null,null,"Syria"]
[null,null,null,null,null,null,null,null,null,null,null,null,null,null,null,"Tadjikistan"]
[null,null,null,null,null,null,null,null,null,null,null,null,null,null,null,"Taiwan"]
[null,null,null,null,null,null,null,null,null,null,null,null,null,null,null,"Tanzania"]
[null,null,null,null,null,null,null,null,null,null,null,null,null,null,null,"Thailand"]
[null,null,null,null,null,null,null,null,null,null,null,null,null,null,null,"Togo"]
[null,null,null,null,null,null,null,null,null,null,null,null,null,null,null,"Tokelau"]
[null,null,null,null,null,null,null,null,null,null,null,null,null,null,null,"Tonga"]
[null,null,null,null,null,null,null,null,null,null,null,null,null,null,null,"Trinidad and Tobago"]
[null,null,null,null,null,null,null,null,null,null,null,null,null,null,null,"Tunisia"]
[null,null,null,null,null,null,null,null,null,null,null,null,null,null,null,"Turkey"]
[null,null,null,null,null,null,null,null,null,null,null,null,null,null,null,"Turkmenistan"]
[null,null,null,null,null,null,null,null,null,null,null,null,null,null,null,"Turks and Caicos Islands"]
[null,null,null,null,null,null,null,null,null,null,null,null,null,null,null,"Tuvalu"]
[null,null,null,null,null,null,null,null,null,null,null,null,null,null,null,"USA Minor Outlying Islands"]
[null,null,null,null,null,null,null,null,null,null,null,null,null,null,null,"Uganda"]
[null,null,null,null,null,null,null,null,null,null,null,null,null,null,null,"Ukraine"]
[null,null,null,null,null,null,null,null,null,null,null,null,null,null,null,"United Arab Emirates"]
[null,null,null,null,null,null,null,null,null,null,null,null,null,null,null,"United States"]
[null,null,null,null,null,null,null,null,null,null,null,null,null,null,null,"Uruguay"]
[null,null,null,null,null,null,null,null,null,null,null,null,null,null,null,"Uzbekistan"]
[null,null,null,null,null,null,null,null,null,null,null,null,null,null,null,"Vanuatu"]
[null,null,null,null,null,null,null,null,null,null,null,null,null,null,null,"Venezuela",null,null,null,null,null,null,null,null,null,null,null,null,null,null,null,null,null,null,null,null,null,101]
[null,null,null,null,null,null,null,null,null,null,null,null,null,null,null,"Vietnam",null,null,null,null,null,null,null,null,null,null,null,null,null,null,null,null,null,null,null,null,null,102]
[null,null,null,null,null,null,null,null,null,null,null,null,null,null,null,"Virgin Islands (British)",null,null,null,null,null,null,null,null,null,null,null,null,null,null,null,null,null,null,null,null,null,103]
[null,null,null,null,null,null,null,null,null,null,null,null,null,null,null,"Virgin Islands (USA)",null,null,null,null,null,null,null,null,null,null,null,null,null,null,null,null,null,null,null,null,null,104]
[null,null,null,null,null,null,null,null,null,null,null,null,null,null,null,"Wallis and Futuna Islands",null,null,null,null,null,null,null,null,null,null,null,null,null,null,null,null,null,null,null,null,null,105]
[null,null,null,null,null,null,null,null,null,null,null,null,null,null,null,"Western Sahara",null,null,null,null,null,null,null,null,null,null,null,null,null,null,null,null,null,null,null,null,null,106,null,"AZN"]
[null,null,null,null,null,null,null,null,null,null,null,null,null,null,null,"Yemen",null,null,null,null,null,null,null,null,null,null,null,null,null,null,null,null,null,null,null,null,null,107,null,"USD"]
[null,null,null,null,null,null,null,null,null,null,null,null,null,null,null,"Yugoslavia",null,null,null,null,null,null,null,null,null,null,null,null,null,null,null,null,null,null,null,null,null,108,null,"EUR"]
[null,null,null,null,null,null,null,null,null,null,null,null,null,null,null,"Zaire",null,null,null,null,null,null,null,null,null,null,null,null,null,null,null,null,null,null,null,null,null,null,null,"GBP"]
[null,null,null,null,null,null,null,null,null,null,null,null,null,null,null,"Zambia"]
[null,null,null,null,null,null,null,null,null,null,null,null,null,null,null,"Zimbabwe","NA"]
[]
["NN","LAST NAME","FIRSTNAME","FATHER_NAME","FULL_NAME (IN_ENGLISH)","DOCUMENT_DETAILS",null,null,null,null,null,"IS_RESIDENT","REGISTRATION_ADDRESS",null,null,"CITIZENSHIP","REGISTRATION_ADDRESS (IN_ENGLISH)","BIRTH_DATE","BIRTHPLACE","FAMILY_STATUS","SEX","WORKPLACE","MASTER GROUP NAME","MOBILE_PHONE","SMS Banking","WORK_PHONE","E_MAIL","PHONE_BANKING_PIN","Aylıq Ə/H 5000 manat və ya daha yüksəkdir?","ACTIVITY","PROFESSION","SOURCE OF INCOME","RISK LEVEL","BRANCH","CARD_PRODUCT_CODE","CARDHOLDER_NAME","RM_ID","CMS_BRANCH_CODE","EMPLOYER_CODE","CCY_CODE"]
[null,null,null,null,null,"DOC_TYPE","SERIES_AND_NUMBER","DATE_ISSUED","PLACE_ISSUED","EXPIRY_DATE","PIN_CODE",null,"STREET","REGION","CITY"]
[1,"MƏMMƏDOVA","NIGAR","FAIQ",{"$f":"CONCATENATE((SUBSTITUTE(SUBSTITUTE(SUBSTITUTE(SUBSTITUTE(SUBSTITUTE(SUBSTITUTE(SUBSTITUTE(SUBSTITUTE(SUBSTITUTE(SUBSTITUTE(SUBSTITUTE(C250,\"Ə\",\"A\"),\"J\",\"ZH\"),\"C\",\"J\"),\"Ç\",\"CH\"),\"İ\",\"I\"),\"Ğ\",\"GH\"),\"Ö\",\"O\"),\"Ü\",\"U\"),\"Ş\",\"SH\"),\"Q\",\"G\"),\"X\",\"KH\")),\" \",(SUBSTITUTE(SUBSTITUTE(SUBSTITUTE(SUBSTITUTE(SUBSTITUTE(SUBSTITUTE(SUBSTITUTE(SUBSTITUTE(SUBSTITUTE(SUBSTITUTE(SUBSTITUTE(B250,\"Ə\",\"A\"),\"J\",\"ZH\"),\"C\",\"J\"),\"Ç\",\"CH\"),\"İ\",\"I\"),\"Ğ\",\"GH\"),\"Ö\",\"O\"),\"Ü\",\"U\"),\"Ş\",\"SH\"),\"Q\",\"G\"),\"X\",\"KH\")),\" \",(SUBSTITUTE(SUBSTITUTE(SUBSTITUTE(SUBSTITUTE(SUBSTITUTE(SUBSTITUTE(SUBSTITUTE(SUBSTITUTE(SUBSTITUTE(SUBSTITUTE(SUBSTITUTE(SUBSTITUTE(SUBSTITUTE(D250,\" OĞLU\",\"\"),\" QIZI\",\"\"),\"Ə\",\"A\"),\"J\",\"ZH\"),\"C\",\"J\"),\"Ç\",\"CH\"),\"İ\",\"I\"),\"Ğ\",\"GH\"),\"Ö\",\"O\"),\"Ü\",\"U\"),\"Ş\",\"SH\"),\"Q\",\"G\"),\"X\",\"KH\")))","v":"NIGAR MAMMADOVA FAIG"},"National ID","AZE123456","2012-12-21","ASAN1","2019-12-21","1XJH123","Yes","ZƏRDABİ KÜÇ 56, M20","Baku capital","BAKI","Azerbaijan",{"$f":"CONCATENATE((SUBSTITUTE(SUBSTITUTE(SUBSTITUTE(SUBSTITUTE(SUBSTITUTE(SUBSTITUTE(SUBSTITUTE(SUBSTITUTE(SUBSTITUTE(SUBSTITUTE(SUBSTITUTE(O250,\"Ə\",\"A\"),\"J\",\"ZH\"),\"C\",\"J\"),\"Ç\",\"CH\"),\"İ\",\"I\"),\"Ğ\",\"GH\"),\"Ö\",\"O\"),\"Ü\",\"U\"),\"Ş\",\"SH\"),\"Q\",\"G\"),\"X\",\"KH\")),\", \",(SUBSTITUTE(SUBSTITUTE(SUBSTITUTE(SUBSTITUTE(SUBSTITUTE(SUBSTITUTE(SUBSTITUTE(SUBSTITUTE(SUBSTITUTE(SUBSTITUTE(SUBSTITUTE(M250,\"Ə\",\"A\"),\"J\",\"ZH\"),\"C\",\"J\"),\"Ç\",\"CH\"),\"İ\",\"I\"),\"Ğ\",\"GH\"),\"Ö\",\"O\"),\"Ü\",\"U\"),\"Ş\",\"SH\"),\"Q\",\"G\"),\"X\",\"KH\")))","v":"BAKI, ZARDABI KUCH 56, M20"},"1968-12-21","AZƏRBAYCAN, BAKİ","single","female",null,{"$f":"(C250:C250&\" \"&D250:D250&\" \"&B250:B250)","v":"NIGAR FAIQ MƏMMƏDOVA"},"+994501234567","Bəli","+994124567892","nigar@mail.ru",1234567,"Bəli","N/A","N/A","ƏMƏK HAQQI",null,"008",null,{"$f":"CONCATENATE((SUBSTITUTE(SUBSTITUTE(SUBSTITUTE(SUBSTITUTE(SUBSTITUTE(SUBSTITUTE(SUBSTITUTE(SUBSTITUTE(SUBSTITUTE(SUBSTITUTE(SUBSTITUTE(C250,\"Ə\",\"A\"),\"J\",\"ZH\"),\"C\",\"J\"),\"Ç\",\"CH\"),\"İ\",\"I\"),\"Ğ\",\"GH\"),\"Ö\",\"O\"),\"Ü\",\"U\"),\"Ş\",\"SH\"),\"Q\",\"G\"),\"X\",\"KH\")),\" \",(SUBSTITUTE(SUBSTITUTE(SUBSTITUTE(SUBSTITUTE(SUBSTITUTE(SUBSTITUTE(SUBSTITUTE(SUBSTITUTE(SUBSTITUTE(SUBSTITUTE(SUBSTITUTE(B250,\"Ə\",\"A\"),\"J\",\"ZH\"),\"C\",\"J\"),\"Ç\",\"CH\"),\"İ\",\"I\"),\"Ğ\",\"GH\"),\"Ö\",\"O\"),\"Ü\",\"U\"),\"Ş\",\"SH\"),\"Q\",\"G\"),\"X\",\"KH\")))","v":"NIGAR MAMMADOVA"},"AGHJA_H"]
[]
[]
[]
[{"$f":"IF(B254=\"\",\"\",A253+1)","v":""},null,null,null,{"$f":"CONCATENATE((SUBSTITUTE(SUBSTITUTE(SUBSTITUTE(SUBSTITUTE(SUBSTITUTE(SUBSTITUTE(SUBSTITUTE(SUBSTITUTE(SUBSTITUTE(SUBSTITUTE(SUBSTITUTE(C254,\"Ə\",\"A\"),\"J\",\"ZH\"),\"C\",\"J\"),\"Ç\",\"CH\"),\"İ\",\"I\"),\"Ğ\",\"GH\"),\"Ö\",\"O\"),\"Ü\",\"U\"),\"Ş\",\"SH\"),\"Q\",\"G\"),\"X\",\"KH\")),\" \",(SUBSTITUTE(SUBSTITUTE(SUBSTITUTE(SUBSTITUTE(SUBSTITUTE(SUBSTITUTE(SUBSTITUTE(SUBSTITUTE(SUBSTITUTE(SUBSTITUTE(SUBSTITUTE(B254,\"Ə\",\"A\"),\"J\",\"ZH\"),\"C\",\"J\"),\"Ç\",\"CH\"),\"İ\",\"I\"),\"Ğ\",\"GH\"),\"Ö\",\"O\"),\"Ü\",\"U\"),\"Ş\",\"SH\"),\"Q\",\"G\"),\"X\",\"KH\")),\" \",(SUBSTITUTE(SUBSTITUTE(SUBSTITUTE(SUBSTITUTE(SUBSTITUTE(SUBSTITUTE(SUBSTITUTE(SUBSTITUTE(SUBSTITUTE(SUBSTITUTE(SUBSTITUTE(SUBSTITUTE(SUBSTITUTE(D254,\" OĞLU\",\"\"),\" QIZI\",\"\"),\"Ə\",\"A\"),\"J\",\"ZH\"),\"C\",\"J\"),\"Ç\",\"CH\"),\"İ\",\"I\"),\"Ğ\",\"GH\"),\"Ö\",\"O\"),\"Ü\",\"U\"),\"Ş\",\"SH\"),\"Q\",\"G\"),\"X\",\"KH\")))","v":"  "},null,null,null,null,null,null,null,null,null,null,null,", ",null,null,null,null,null,{"$f":"(C254:C254&\" \"&D254:D254&\" \"&B254:B254)","v":"  "},null,null,null,null,null,null,"N/A","N/A","ƏMƏK HAQQI",null,"008",null,{"$f":"CONCATENATE((SUBSTITUTE(SUBSTITUTE(SUBSTITUTE(SUBSTITUTE(SUBSTITUTE(SUBSTITUTE(SUBSTITUTE(SUBSTITUTE(SUBSTITUTE(SUBSTITUTE(SUBSTITUTE(C254,\"Ə\",\"A\"),\"J\",\"ZH\"),\"C\",\"J\"),\"Ç\",\"CH\"),\"İ\",\"I\"),\"Ğ\",\"GH\"),\"Ö\",\"O\"),\"Ü\",\"U\"),\"Ş\",\"SH\"),\"Q\",\"G\"),\"X\",\"KH\")),\" \",(SUBSTITUTE(SUBSTITUTE(SUBSTITUTE(SUBSTITUTE(SUBSTITUTE(SUBSTITUTE(SUBSTITUTE(SUBSTITUTE(SUBSTITUTE(SUBSTITUTE(SUBSTITUTE(B254,\"Ə\",\"A\"),\"J\",\"ZH\"),\"C\",\"J\"),\"Ç\",\"CH\"),\"İ\",\"I\"),\"Ğ\",\"GH\"),\"Ö\",\"O\"),\"Ü\",\"U\"),\"Ş\",\"SH\"),\"Q\",\"G\"),\"X\",\"KH\")))","v":" "},"AGHJA_H"]
["",null,null,null,"  ",null,null,null,null,null,null,null,null,null,null,null,", ",null,null,null,null,null,"  ",null,null,null,null,null,null,"N/A","N/A","ƏMƏK HAQQI",null,"008",null," ","AGHJA_H"]
["",null,null,null,"  ",null,null,null,null,null,null,null,null,null,null,null,", ",null,null,null,null,null,"  ",null,null,null,null,null,null,"N/A","N/A","ƏMƏK HAQQI",null,"008",null," ","AGHJA_H"]
["",null,null,null,"  ",null,null,null,null,null,null,null,null,null,null,null,", ",null,null,null,null,null,"  ",null,null,null,null,null,null,"N/A","N/A","ƏMƏK HAQQI",null,"008",null," ","AGHJA_H"]
["",null,null,null,"  ",null,null,null,null,null,null,null,null,null,null,null,", ",null,null,null,null,null,"  ",null,null,null,null,null,null,"N/A","N/A","ƏMƏK HAQQI",null,"008",null," ","AGHJA_H"]
["",null,null,null,"  ",null,null,null,null,null,null,null,null,null,null,null,", ",null,null,null,null,null,"  ",null,null,null,null,null,null,"N/A","N/A","ƏMƏK HAQQI",null,"008",null," ","AGHJA_H"]
["",null,null,null,"  ",null,null,null,null,null,null,null,null,null,null,null,", ",null,null,null,null,null,"  ",null,null,null,null,null,null,"N/A","N/A","ƏMƏK HAQQI",null,"008",null," ","AGHJA_H"]
["",null,null,null,"  ",null,null,null,null,null,null,null,null,null,null,null,", ",null,null,null,null,null,"  ",null,null,null,null,null,null,"N/A","N/A","ƏMƏK HAQQI",null,"008",null," ","AGHJA_H"]
["",null,null,null,"  ",null,null,null,null,null,null,null,null,null,null,null,", ",null,null,null,null,null,"  ",null,null,null,null,null,null,"N/A","N/A","ƏMƏK HAQQI",null,"008",null," ","AGHJA_H"]
["",null,null,null,"  ",null,null,null,null,null,null,null,null,null,null,null,", ",null,null,null,null,null,"  ",null,null,null,null,null,null,"N/A","N/A","ƏMƏK HAQQI",null,"008",null," ","AGHJA_H"]
["",null,null,null,"  ",null,null,null,null,null,null,null,null,null,null,null,", ",null,null,null,null,null,"  ",null,null,null,null,null,null,"N/A","N/A","ƏMƏK HAQQI",null,"008",null," ","AGHJA_H"]
["",null,null,null,"  ",null,null,null,null,null,null,null,null,null,null,null,", ",null,null,null,null,null,"  ",null,null,null,null,null,null,"N/A","N/A","ƏMƏK HAQQI",null,"008",null," ","AGHJA_H"]
["",null,null,null,"  ",null,null,null,null,null,null,null,null,null,null,null,", ",null,null,null,null,null,"  ",null,null,null,null,null,null,"N/A","N/A","ƏMƏK HAQQI",null,"008",null," ","AGHJA_H"]
["",null,null,null,"  ",null,null,null,null,null,null,null,null,null,null,null,", ",null,null,null,null,null,"  ",null,null,null,null,null,null,"N/A","N/A","ƏMƏK HAQQI",null,"008",null," ","AGHJA_H"]
["",null,null,null,"  ",null,null,null,null,null,null,null,null,null,null,null,", ",null,null,null,null,null,"  ",null,null,null,null,null,null,"N/A","N/A","ƏMƏK HAQQI",null,"008",null," ","AGHJA_H"]
["",null,null,null,"  ",null,null,null,null,null,null,null,null,null,null,null,", ",null,null,null,null,null,"  ",null,null,null,null,null,null,"N/A","N/A","ƏMƏK HAQQI",null,"008",null," ","AGHJA_H"]
["",null,null,null,"  ",null,null,null,null,null,null,null,null,null,null,null,", ",null,null,null,null,null,"  ",null,null,null,null,null,null,"N/A","N/A","ƏMƏK HAQQI",null,"008",null," ","AGHJA_H"]
["",null,null,null,"  ",null,null,null,null,null,null,null,null,null,null,null,", ",null,null,null,null,null,"  ",null,null,null,null,null,null,"N/A","N/A","ƏMƏK HAQQI",null,"008",null," ","AGHJA_H"]
["",null,null,null,"  ",null,null,null,null,null,null,null,null,null,null,null,", ",null,null,null,null,null,"  ",null,null,null,null,null,null,"N/A","N/A","ƏMƏK HAQQI",null,"008",null," ","AGHJA_H"]
["",null,null,null,"  ",null,null,null,null,null,null,null,null,null,null,null,", ",null,null,null,null,null,"  ",null,null,null,null,null,null,"N/A","N/A","ƏMƏK HAQQI",null,"008",null," ","AGHJA_H"]
["",null,null,null,"  ",null,null,null,null,null,null,null,null,null,null,null,", ",null,null,null,null,null,"  ",null,null,null,null,null,null,"N/A","N/A","ƏMƏK HAQQI",null,"008",null," ","AGHJA_H"]
["",null,null,null,"  ",null,null,null,null,null,null,null,null,null,null,null,", ",null,null,null,null,null,"  ",null,null,null,null,null,null,"N/A","N/A","ƏMƏK HAQQI",null,"008",null," ","AGHJA_H"]
["",null,null,null,"  ",null,null,null,null,null,null,null,null,null,null,null,", ",null,null,null,null,null,"  ",null,null,null,null,null,null,"N/A","N/A","ƏMƏK HAQQI",null,"008",null," ","AGHJA_H"]
["",null,null,null,"  ",null,null,null,null,null,null,null,null,null,null,null,", ",null,null,null,null,null,"  ",null,null,null,null,null,null,"N/A","N/A","ƏMƏK HAQQI",null,"008",null," ","AGHJA_H"]
["",null,null,null,"  ",null,null,null,null,null,null,null,null,null,null,null,", ",null,null,null,null,null,"  ",null,null,null,null,null,null,"N/A","N/A","ƏMƏK HAQQI",null,"008",null," ","AGHJA_H"]
["",null,null,null,"  ",null,null,null,null,null,null,null,null,null,null,null,", ",null,null,null,null,null,"  ",null,null,null,null,null,null,"N/A","N/A","ƏMƏK HAQQI",null,"008",null," ","AGHJA_H"]
["",null,null,null,"  ",null,null,null,null,null,null,null,null,null,null,null,", ",null,null,null,null,null,"  ",null,null,null,null,null,null,"N/A","N/A","ƏMƏK HAQQI",null,"008",null," ","AGHJA_H"]
["",null,null,null,"  ",null,null,null,null,null,null,null,null,null,null,null,", ",null,null,null,null,null,"  ",null,null,null,null,null,null,"N/A","N/A","ƏMƏK HAQQI",null,"008",null," ","AGHJA_H"]
["",null,null,null,"  ",null,null,null,null,null,null,null,null,null,null,null,", ",null,null,null,null,null,"  ",null,null,null,null,null,null,"N/A","N/A","ƏMƏK HAQQI",null,"008",null," ","AGHJA_H"]
["",null,null,null,"  ",null,null,null,null,null,null,null,null,null,null,null,", ",null,null,null,null,null,"  ",null,null,null,null,null,null,"N/A","N/A","ƏMƏK HAQQI",null,"008",null," ","AGHJA_H"]
["",null,null,null,"  ",null,null,null,null,null,null,null,null,null,null,null,", ",null,null,null,null,null,"  ",null,null,null,null,null,null,"N/A","N/A","ƏMƏK HAQQI",null,"008",null," ","AGHJA_H"]
["",null,null,null,"  ",null,null,null,null,null,null,null,null,null,null,null,", ",null,null,null,null,null,"  ",null,null,null,null,null,null,"N/A","N/A","ƏMƏK HAQQI",null,"008",null," ","AGHJA_H"]
["",null,null,null,"  ",null,null,null,null,null,null,null,null,null,null,null,", ",null,null,null,null,null,"  ",null,null,null,null,null,null,"N/A","N/A","ƏMƏK HAQQI",null,"008",null," ","AGHJA_H"]
["",null,null,null,"  ",null,null,null,null,null,null,null,null,null,null,null,", ",null,null,null,null,null,"  ",null,null,null,null,null,null,"N/A","N/A","ƏMƏK HAQQI",null,"008",null," ","AGHJA_H"]
["",null,null,null,"  ",null,null,null,null,null,null,null,null,null,null,null,", ",null,null,null,null,null,"  ",null,null,null,null,null,null,"N/A","N/A","ƏMƏK HAQQI",null,"008",null," ","AGHJA_H"]
["",null,null,null,"  ",null,null,null,null,null,null,null,null,null,null,null,", ",null,null,null,null,null,"  ",null,null,null,null,null,null,"N/A","N/A","ƏMƏK HAQQI",null,"008",null," ","AGHJA_H"]
["",null,null,null,"  ",null,null,null,null,null,null,null,null,null,null,null,", ",null,null,null,null,null,"  ",null,null,null,null,null,null,"N/A","N/A","ƏMƏK HAQQI",null,"008",null," ","AGHJA_H"]
["",null,null,null,"  ",null,null,null,null,null,null,null,null,null,null,null,", ",null,null,null,null,null,"  ",null,null,null,null,null,null,"N/A","N/A","ƏMƏK HAQQI",null,"008",null," ","AGHJA_H"]
["",null,null,null,"  ",null,null,null,null,null,null,null,null,null,null,null,", ",null,null,null,null,null,"  ",null,null,null,null,null,null,"N/A","N/A","ƏMƏK HAQQI",null,"008",null," ","AGHJA_H"]
["",null,null,null,"  ",null,null,null,null,null,null,null,null,null,null,null,", ",null,null,null,null,null,"  ",null,null,null,null,null,null,"N/A","N/A","ƏMƏK HAQQI",null,"008",null," ","AGHJA_H"]
["",null,null,null,"  ",null,null,null,null,null,null,null,null,null,null,null,", ",null,null,null,null,null,"  ",null,null,null,null,null,null,"N/A","N/A","ƏMƏK HAQQI",null,"008",null," ","AGHJA_H"]
["",null,null,null,"  ",null,null,null,null,null,null,null,null,null,null,null,", ",null,null,null,null,null,"  ",null,null,null,null,null,null,"N/A","N/A","ƏMƏK HAQQI",null,"008",null," ","AGHJA_H"]
["",null,null,null,"  ",null,null,null,null,null,null,null,null,null,null,null,", ",null,null,null,null,null,"  ",null,null,null,null,null,null,"N/A","N/A","ƏMƏK HAQQI",null,"008",null," ","AGHJA_H"]
["",null,null,null,"  ",null,null,null,null,null,null,null,null,null,null,null,", ",null,null,null,null,null,"  ",null,null,null,null,null,null,"N/A","N/A","ƏMƏK HAQQI",null,"008",null," ","AGHJA_H"]
["",null,null,null,"  ",null,null,null,null,null,null,null,null,null,null,null,", ",null,null,null,null,null,"  ",null,null,null,null,null,null,"N/A","N/A","ƏMƏK HAQQI",null,"008",null," ","AGHJA_H"]
["",null,null,null,"  ",null,null,null,null,null,null,null,null,null,null,null,", ",null,null,null,null,null,"  ",null,null,null,null,null,null,"N/A","N/A","ƏMƏK HAQQI",null,"008",null," ","AGHJA_H"]
["",null,null,null,"  ",null,null,null,null,null,null,null,null,null,null,null,", ",null,null,null,null,null,"  ",null,null,null,null,null,null,"N/A","N/A","ƏMƏK HAQQI",null,"008",null," ","AGHJA_H"]
["",null,null,null,"  ",null,null,null,null,null,null,null,null,null,null,null,", ",null,null,null,null,null,"  ",null,null,null,null,null,null,"N/A","N/A","ƏMƏK HAQQI",null,"008",null," ","AGHJA_H"]
["",null,null,null,"  ",null,null,null,null,null,null,null,null,null,null,null,", ",null,null,null,null,null,"  ",null,null,null,null,null,null,"N/A","N/A","ƏMƏK HAQQI",null,"008",null," ","AGHJA_H"]
["",null,null,null,"  ",null,null,null,null,null,null,null,null,null,null,null,", ",null,null,null,null,null,"  ",null,null,null,null,null,null,"N/A","N/A","ƏMƏK HAQQI",null,"008",null," ","AGHJA_H"]
["",null,null,null,"  ",null,null,null,null,null,null,null,null,null,null,null,", ",null,null,null,null,null,"  ",null,null,null,null,null,null,"N/A","N/A","ƏMƏK HAQQI",null,"008",null," ","AGHJA_H"]
["",null,null,null,"  ",null,null,null,null,null,null,null,null,null,null,null,", ",null,null,null,null,null,"  ",null,null,null,null,null,null,"N/A","N/A","ƏMƏK HAQQI",null,"008",null," ","AGHJA_H"]
["",null,null,null,"  ",null,null,null,null,null,null,null,null,null,null,null,", ",null,null,null,null,null,"  ",null,null,null,null,null,null,"N/A","N/A","ƏMƏK HAQQI",null,"008",null," ","AGHJA_H"]
["",null,null,null,"  ",null,null,null,null,null,null,null,null,null,null,null,", ",null,null,null,null,null,"  ",null,null,null,null,null,null,"N/A","N/A","ƏMƏK HAQQI",null,"008",null," ","AGHJA_H"]
["",null,null,null,"  ",null,null,null,null,null,null,null,null,null,null,null,", ",null,null,null,null,null,"  ",null,null,null,null,null,null,"N/A","N/A","ƏMƏK HAQQI",null,"008",null," ","AGHJA_H"]
["",null,null,null,"  ",null,null,null,null,null,null,null,null,null,null,null,", ",null,null,null,null,null,"  ",null,null,null,null,null,null,"N/A","N/A","ƏMƏK HAQQI",null,"008",null," ","AGHJA_H"]
["",null,null,null,"  ",null,null,null,null,null,null,null,null,null,null,null,", ",null,null,null,null,null,"  ",null,null,null,null,null,null,"N/A","N/A","ƏMƏK HAQQI",null,"008",null," ","AGHJA_H"]
["",null,null,null,"  ",null,null,null,null,null,null,null,null,null,null,null,", ",null,null,null,null,null,"  ",null,null,null,null,null,null,"N/A","N/A","ƏMƏK HAQQI",null,"008",null," ","AGHJA_H"]
["",null,null,null,"  ",null,null,null,null,null,null,null,null,null,null,null,", ",null,null,null,null,null,"  ",null,null,null,null,null,null,"N/A","N/A","ƏMƏK HAQQI",null,"008",null," ","AGHJA_H"]
["",null,null,null,"  ",null,null,null,null,null,null,null,null,null,null,null,", ",null,null,null,null,null,"  ",null,null,null,null,null,null,"N/A","N/A","ƏMƏK HAQQI",null,"008",null," ","AGHJA_H"]
["",null,null,null,"  ",null,null,null,null,null,null,null,null,null,null,null,", ",null,null,null,null,null,"  ",null,null,null,null,null,null,"N/A","N/A","ƏMƏK HAQQI",null,"008",null,{"$f":"CONCATENATE((SUBSTITUTE(SUBSTITUTE(SUBSTITUTE(SUBSTITUTE(SUBSTITUTE(SUBSTITUTE(SUBSTITUTE(SUBSTITUTE(SUBSTITUTE(SUBSTITUTE(SUBSTITUTE(C314,\"Ə\",\"A\"),\"J\",\"ZH\"),\"C\",\"J\"),\"Ç\",\"CH\"),\"İ\",\"I\"),\"Ğ\",\"GH\"),\"Ö\",\"O\"),\"Ü\",\"U\"),\"Ş\",\"SH\"),\"Q\",\"G\"),\"X\",\"KH\")),\" \",(SUBSTITUTE(SUBSTITUTE(SUBSTITUTE(SUBSTITUTE(SUBSTITUTE(SUBSTITUTE(SUBSTITUTE(SUBSTITUTE(SUBSTITUTE(SUBSTITUTE(SUBSTITUTE(B314,\"Ə\",\"A\"),\"J\",\"ZH\"),\"C\",\"J\"),\"Ç\",\"CH\"),\"İ\",\"I\"),\"Ğ\",\"GH\"),\"Ö\",\"O\"),\"Ü\",\"U\"),\"Ş\",\"SH\"),\"Q\",\"G\"),\"X\",\"KH\")))","v":" "},"AGHJA_H"]
["",null,null,null,{"$f":"CONCATENATE((SUBSTITUTE(SUBSTITUTE(SUBSTITUTE(SUBSTITUTE(SUBSTITUTE(SUBSTITUTE(SUBSTITUTE(SUBSTITUTE(SUBSTITUTE(SUBSTITUTE(SUBSTITUTE(C315,\"Ə\",\"A\"),\"J\",\"ZH\"),\"C\",\"J\"),\"Ç\",\"CH\"),\"İ\",\"I\"),\"Ğ\",\"GH\"),\"Ö\",\"O\"),\"Ü\",\"U\"),\"Ş\",\"SH\"),\"Q\",\"G\"),\"X\",\"KH\")),\" \",(SUBSTITUTE(SUBSTITUTE(SUBSTITUTE(SUBSTITUTE(SUBSTITUTE(SUBSTITUTE(SUBSTITUTE(SUBSTITUTE(SUBSTITUTE(SUBSTITUTE(SUBSTITUTE(B315,\"Ə\",\"A\"),\"J\",\"ZH\"),\"C\",\"J\"),\"Ç\",\"CH\"),\"İ\",\"I\"),\"Ğ\",\"GH\"),\"Ö\",\"O\"),\"Ü\",\"U\"),\"Ş\",\"SH\"),\"Q\",\"G\"),\"X\",\"KH\")),\" \",(SUBSTITUTE(SUBSTITUTE(SUBSTITUTE(SUBSTITUTE(SUBSTITUTE(SUBSTITUTE(SUBSTITUTE(SUBSTITUTE(SUBSTITUTE(SUBSTITUTE(SUBSTITUTE(SUBSTITUTE(SUBSTITUTE(D315,\" OĞLU\",\"\"),\" QIZI\",\"\"),\"Ə\",\"A\"),\"J\",\"ZH\"),\"C\",\"J\"),\"Ç\",\"CH\"),\"İ\",\"I\"),\"Ğ\",\"GH\"),\"Ö\",\"O\"),\"Ü\",\"U\"),\"Ş\",\"SH\"),\"Q\",\"G\"),\"X\",\"KH\")))","v":"  "},null,null,null,null,null,null,null,null,null,null,null,{"$f":"CONCATENATE((SUBSTITUTE(SUBSTITUTE(SUBSTITUTE(SUBSTITUTE(SUBSTITUTE(SUBSTITUTE(SUBSTITUTE(SUBSTITUTE(SUBSTITUTE(SUBSTITUTE(SUBSTITUTE(O315,\"Ə\",\"A\"),\"J\",\"ZH\"),\"C\",\"J\"),\"Ç\",\"CH\"),\"İ\",\"I\"),\"Ğ\",\"GH\"),\"Ö\",\"O\"),\"Ü\",\"U\"),\"Ş\",\"SH\"),\"Q\",\"G\"),\"X\",\"KH\")),\", \",(SUBSTITUTE(SUBSTITUTE(SUBSTITUTE(SUBSTITUTE(SUBSTITUTE(SUBSTITUTE(SUBSTITUTE(SUBSTITUTE(SUBSTITUTE(SUBSTITUTE(SUBSTITUTE(M315,\"Ə\",\"A\"),\"J\",\"ZH\"),\"C\",\"J\"),\"Ç\",\"CH\"),\"İ\",\"I\"),\"Ğ\",\"GH\"),\"Ö\",\"O\"),\"Ü\",\"U\"),\"Ş\",\"SH\"),\"Q\",\"G\"),\"X\",\"KH\")))","v":", "},null,null,null,null,null,"  ",null,null,null,null,null,null,"N/A","N/A","ƏMƏK HAQQI",null,"008",null," ","AGHJA_H"]
[{"$f":"IF(B316=\"\",\"\",A315+1)","v":""},null,null,null,"  ",null,null,null,null,null,null,null,null,null,null,null,", ",null,null,null,null,null,{"$f":"(C316:C316&\" \"&D316:D316&\" \"&B316:B316)","v":"  "},null,null,null,null,null,null,"N/A","N/A","ƏMƏK HAQQI",null,"008",null," ","AGHJA_H"]
["",null,null,null,"  ",null,null,null,null,null,null,null,null,null,null,null,", ",null,null,null,null,null,"  ",null,null,null,null,null,null,"N/A","N/A","ƏMƏK HAQQI",null,"008",null," ","AGHJA_H"]
["",null,null,null,"  ",null,null,null,null,null,null,null,null,null,null,null,", ",null,null,null,null,null,"  ",null,null,null,null,null,null,"N/A","N/A","ƏMƏK HAQQI",null,"008",null," ","AGHJA_H"]
["",null,null,null,"  ",null,null,null,null,null,null,null,null,null,null,null,", ",null,null,null,null,null,"  ",null,null,null,null,null,null,"N/A","N/A","ƏMƏK HAQQI",null,"008",null," ","AGHJA_H"]
["",null,null,null,"  ",null,null,null,null,null,null,null,null,null,null,null,", ",null,null,null,null,null,"  ",null,null,null,null,null,null,"N/A","N/A","ƏMƏK HAQQI",null,"008",null," ","AGHJA_H"]
["",null,null,null,"  ",null,null,null,null,null,null,null,null,null,null,null,", ",null,null,null,null,null,"  ",null,null,null,null,null,null,"N/A","N/A","ƏMƏK HAQQI",null,"008",null," ","AGHJA_H"]
["",null,null,null,"  ",null,null,null,null,null,null,null,null,null,null,null,", ",null,null,null,null,null,"  ",null,null,null,null,null,null,"N/A","N/A","ƏMƏK HAQQI",null,"008",null," ","AGHJA_H"]
["",null,null,null,"  ",null,null,null,null,null,null,null,null,null,null,null,", ",null,null,null,null,null,"  ",null,null,null,null,null,null,"N/A","N/A","ƏMƏK HAQQI",null,"008",null," ","AGHJA_H"]
["",null,null,null,"  ",null,null,null,null,null,null,null,null,null,null,null,", ",null,null,null,null,null,"  ",null,null,null,null,null,null,"N/A","N/A","ƏMƏK HAQQI",null,"008",null," ","AGHJA_H"]
["",null,null,null,"  ",null,null,null,null,null,null,null,null,null,null,null,", ",null,null,null,null,null,"  ",null,null,null,null,null,null,"N/A","N/A","ƏMƏK HAQQI",null,"008",null," ","AGHJA_H"]
["",null,null,null,"  ",null,null,null,null,null,null,null,null,null,null,null,", ",null,null,null,null,null,"  ",null,null,null,null,null,null,"N/A","N/A","ƏMƏK HAQQI",null,"008",null," ","AGHJA_H"]
["",null,null,null,"  ",null,null,null,null,null,null,null,null,null,null,null,", ",null,null,null,null,null,"  ",null,null,null,null,null,null,"N/A","N/A","ƏMƏK HAQQI",null,"008",null," ","AGHJA_H"]
["",null,null,null,"  ",null,null,null,null,null,null,null,null,null,null,null,", ",null,null,null,null,null,"  ",null,null,null,null,null,null,"N/A","N/A","ƏMƏK HAQQI",null,"008",null," ","AGHJA_H"]
["",null,null,null,"  ",null,null,null,null,null,null,null,null,null,null,null,", ",null,null,null,null,null,"  ",null,null,null,null,null,null,"N/A","N/A","ƏMƏK HAQQI",null,"008",null," ","AGHJA_H"]
["",null,null,null,"  ",null,null,null,null,null,null,null,null,null,null,null,", ",null,null,null,null,null,"  ",null,null,null,null,null,null,"N/A","N/A","ƏMƏK HAQQI",null,"008",null," ","AGHJA_H"]
["",null,null,null,"  ",null,null,null,null,null,null,null,null,null,null,null,", ",null,null,null,null,null,"  ",null,null,null,null,null,null,"N/A","N/A","ƏMƏK HAQQI",null,"008",null," ","AGHJA_H"]
["",null,null,null,"  ",null,null,null,null,null,null,null,null,null,null,null,", ",null,null,null,null,null,"  ",null,null,null,null,null,null,"N/A","N/A","ƏMƏK HAQQI",null,"008",null," ","AGHJA_H"]
["",null,null,null,"  ",null,null,null,null,null,null,null,null,null,null,null,", ",null,null,null,null,null,"  ",null,null,null,null,null,null,"N/A","N/A","ƏMƏK HAQQI",null,"008",null," ","AGHJA_H"]
["",null,null,null,"  ",null,null,null,null,null,null,null,null,null,null,null,", ",null,null,null,null,null,"  ",null,null,null,null,null,null,"N/A","N/A","ƏMƏK HAQQI",null,"008",null," ","AGHJA_H"]
["",null,null,null,"  ",null,null,null,null,null,null,null,null,null,null,null,", ",null,null,null,null,null,"  ",null,null,null,null,null,null,"N/A","N/A","ƏMƏK HAQQI",null,"008",null," ","AGHJA_H"]
["",null,null,null,"  ",null,null,null,null,null,null,null,null,null,null,null,", ",null,null,null,null,null,"  ",null,null,null,null,null,null,"N/A","N/A","ƏMƏK HAQQI",null,"008",null," ","AGHJA_H"]
["",null,null,null,"  ",null,null,null,null,null,null,null,null,null,null,null,", ",null,null,null,null,null,"  ",null,null,null,null,null,null,"N/A","N/A","ƏMƏK HAQQI",null,"008",null," ","AGHJA_H"]
["",null,null,null,"  ",null,null,null,null,null,null,null,null,null,null,null,", ",null,null,null,null,null,"  ",null,null,null,null,null,null,"N/A","N/A","ƏMƏK HAQQI",null,"008",null," ","AGHJA_H"]
["",null,null,null,"  ",null,null,null,null,null,null,null,null,null,null,null,", ",null,null,null,null,null,"  ",null,null,null,null,null,null,"N/A","N/A","ƏMƏK HAQQI",null,"008",null," ","AGHJA_H"]
["",null,null,null,"  ",null,null,null,null,null,null,null,null,null,null,null,", ",null,null,null,null,null,"  ",null,null,null,null,null,null,"N/A","N/A","ƏMƏK HAQQI",null,"008",null," ","AGHJA_H"]
["",null,null,null,"  ",null,null,null,null,null,null,null,null,null,null,null,", ",null,null,null,null,null,"  ",null,null,null,null,null,null,"N/A","N/A","ƏMƏK HAQQI",null,"008",null," ","AGHJA_H"]
["",null,null,null,"  ",null,null,null,null,null,null,null,null,null,null,null,", ",null,null,null,null,null,"  ",null,null,null,null,null,null,"N/A","N/A","ƏMƏK HAQQI",null,"008",null," ","AGHJA_H"]
["",null,null,null,"  ",null,null,null,null,null,null,null,null,null,null,null,", ",null,null,null,null,null,"  ",null,null,null,null,null,null,"N/A","N/A","ƏMƏK HAQQI",null,"008",null," ","AGHJA_H"]
["",null,null,null,"  ",null,null,null,null,null,null,null,null,null,null,null,", ",null,null,null,null,null,"  ",null,null,null,null,null,null,"N/A","N/A","ƏMƏK HAQQI",null,"008",null," ","AGHJA_H"]
["",null,null,null,"  ",null,null,null,null,null,null,null,null,null,null,null,", ",null,null,null,null,null,"  ",null,null,null,null,null,null,"N/A","N/A","ƏMƏK HAQQI",null,"008",null," ","AGHJA_H"]
["",null,null,null,"  ",null,null,null,null,null,null,null,null,null,null,null,", ",null,null,null,null,null,"  ",null,null,null,null,null,null,"N/A","N/A","ƏMƏK HAQQI",null,"008",null," ","AGHJA_H"]
["",null,null,null,"  ",null,null,null,null,null,null,null,null,null,null,null,", ",null,null,null,null,null,"  ",null,null,null,null,null,null,"N/A","N/A","ƏMƏK HAQQI",null,"008",null," ","AGHJA_H"]
["",null,null,null,"  ",null,null,null,null,null,null,null,null,null,null,null,", ",null,null,null,null,null,"  ",null,null,null,null,null,null,"N/A","N/A","ƏMƏK HAQQI",null,"008",null," ","AGHJA_H"]
["",null,null,null,"  ",null,null,null,null,null,null,null,null,null,null,null,", ",null,null,null,null,null,"  ",null,null,null,null,null,null,"N/A","N/A","ƏMƏK HAQQI",null,"008",null," ","AGHJA_H"]
["",null,null,null,"  ",null,null,null,null,null,null,null,null,null,null,null,", ",null,null,null,null,null,"  ",null,null,null,null,null,null,"N/A","N/A","ƏMƏK HAQQI",null,"008",null," ","AGHJA_H"]
["",null,null,null,"  ",null,null,null,null,null,null,null,null,null,null,null,", ",null,null,null,null,null,"  ",null,null,null,null,null,null,"N/A","N/A","ƏMƏK HAQQI",null,"008",null," ","AGHJA_H"]
["",null,null,null,"  ",null,null,null,null,null,null,null,null,null,null,null,", ",null,null,null,null,null,"  ",null,null,null,null,null,null,"N/A","N/A","ƏMƏK HAQQI",null,"008",null," ","AGHJA_H"]
["",null,null,null,"  ",null,null,null,null,null,null,null,null,null,null,null,", ",null,null,null,null,null,"  ",null,null,null,null,null,null,"N/A","N/A","ƏMƏK HAQQI",null,"008",null," ","AGHJA_H"]
["",null,null,null,"  ",null,null,null,null,null,null,null,null,null,null,null,", ",null,null,null,null,null,"  ",null,null,null,null,null,null,"N/A","N/A","ƏMƏK HAQQI",null,"008",null," ","AGHJA_H"]
["",null,null,null,"  ",null,null,null,null,null,null,null,null,null,null,null,", ",null,null,null,null,null,"  ",null,null,null,null,null,null,"N/A","N/A","ƏMƏK HAQQI",null,"008",null," ","AGHJA_H"]
["",null,null,null,"  ",null,null,null,null,null,null,null,null,null,null,null,", ",null,null,null,null,null,"  ",null,null,null,null,null,null,"N/A","N/A","ƏMƏK HAQQI",null,"008",null," ","AGHJA_H"]
["",null,null,null,"  ",null,null,null,null,null,null,null,null,null,null,null,", ",null,null,null,null,null,"  ",null,null,null,null,null,null,"N/A","N/A","ƏMƏK HAQQI",null,"008",null," ","AGHJA_H"]
["",null,null,null,"  ",null,null,null,null,null,null,null,null,null,null,null,", ",null,null,null,null,null,"  ",null,null,null,null,null,null,"N/A","N/A","ƏMƏK HAQQI",null,"008",null," ","AGHJA_H"]
["",null,null,null,"  ",null,null,null,null,null,null,null,null,null,null,null,", ",null,null,null,null,null,"  ",null,null,null,null,null,null,"N/A","N/A","ƏMƏK HAQQI",null,"008",null," ","AGHJA_H"]
["",null,null,null,"  ",null,null,null,null,null,null,null,null,null,null,null,", ",null,null,null,null,null,"  ",null,null,null,null,null,null,"N/A","N/A","ƏMƏK HAQQI",null,"008",null," ","AGHJA_H"]
["",null,null,null,"  ",null,null,null,null,null,null,null,null,null,null,null,", ",null,null,null,null,null,"  ",null,null,null,null,null,null,"N/A","N/A","ƏMƏK HAQQI",null,"008",null," ","AGHJA_H"]
["",null,null,null,"  ",null,null,null,null,null,null,null,null,null,null,null,", ",null,null,null,null,null,"  ",null,null,null,null,null,null,"N/A","N/A","ƏMƏK HAQQI",null,"008",null," ","AGHJA_H"]
["",null,null,null,"  ",null,null,null,null,null,null,null,null,null,null,null,", ",null,null,null,null,null,"  ",null,null,null,null,null,null,"N/A","N/A","ƏMƏK HAQQI",null,"008",null," ","AGHJA_H"]
["",null,null,null,"  ",null,null,null,null,null,null,null,null,null,null,null,", ",null,null,null,null,null,"  ",null,null,null,null,null,null,"N/A","N/A","ƏMƏK HAQQI",null,"008",null," ","AGHJA_H"]
["",null,null,null,"  ",null,null,null,null,null,null,null,null,null,null,null,", ",null,null,null,null,null,"  ",null,null,null,null,null,null,"N/A","N/A","ƏMƏK HAQQI",null,"008",null," ","AGHJA_H"]
["",null,null,null,"  ",null,null,null,null,null,null,null,null,null,null,null,", ",null,null,null,null,null,"  ",null,null,null,null,null,null,"N/A","N/A","ƏMƏK HAQQI",null,"008",null," ","AGHJA_H"]
["",null,null,null,"  ",null,null,null,null,null,null,null,null,null,null,null,", ",null,null,null,null,null,"  ",null,null,null,null,null,null,"N/A","N/A","ƏMƏK HAQQI",null,"008",null," ","AGHJA_H"]
["",null,null,null,"  ",null,null,null,null,null,null,null,null,null,null,null,", ",null,null,null,null,null,"  ",null,null,null,null,null,null,"N/A","N/A","ƏMƏK HAQQI",null,"008",null," ","AGHJA_H"]
["",null,null,null,"  ",null,null,null,null,null,null,null,null,null,null,null,", ",null,null,null,null,null,"  ",null,null,null,null,null,null,"N/A","N/A","ƏMƏK HAQQI",null,"008",null," ","AGHJA_H"]
["",null,null,null,"  ",null,null,null,null,null,null,null,null,null,null,null,", ",null,null,null,null,null,"  ",null,null,null,null,null,null,"N/A","N/A","ƏMƏK HAQQI",null,"008",null," ","AGHJA_H"]
["",null,null,null,"  ",null,null,null,null,null,null,null,null,null,null,null,", ",null,null,null,null,null,"  ",null,null,null,null,null,null,"N/A","N/A","ƏMƏK HAQQI",null,"008",null," ","AGHJA_H"]
["",null,null,null,"  ",null,null,null,null,null,null,null,null,null,null,null,", ",null,null,null,null,null,"  ",null,null,null,null,null,null,"N/A","N/A","ƏMƏK HAQQI",null,"008",null," ","AGHJA_H"]
["",null,null,null,"  ",null,null,null,null,null,null,null,null,null,null,null,", ",null,null,null,null,null,"  ",null,null,null,null,null,null,"N/A","N/A","ƏMƏK HAQQI",null,"008",null," ","AGHJA_H"]
["",null,null,null,"  ",null,null,null,null,null,null,null,null,null,null,null,", ",null,null,null,null,null,"  ",null,null,null,null,null,null,"N/A","N/A","ƏMƏK HAQQI",null,"008",null," ","AGHJA_H"]
["",null,null,null,"  ",null,null,null,null,null,null,null,null,null,null,null,", ",null,null,null,null,null,"  ",null,null,null,null,null,null,"N/A","N/A","ƏMƏK HAQQI",null,"008",null," ","AGHJA_H"]
["",null,null,null,"  ",null,null,null,null,null,null,null,null,null,null,null,", ",null,null,null,null,null,"  ",null,null,null,null,null,null,"N/A","N/A","ƏMƏK HAQQI",null,"008",null," ","AGHJA_H"]
["",null,null,null,"  ",null,null,null,null,null,null,null,null,null,null,null,", ",null,null,null,null,null,"  ",null,null,null,null,null,null,"N/A","N/A","ƏMƏK HAQQI",null,"008",null," ","AGHJA_H"]
["",null,null,null,"  ",null,null,null,null,null,null,null,null,null,null,null,", ",null,null,null,null,null,"  ",null,null,null,null,null,null,"N/A","N/A","ƏMƏK HAQQI",null,"008",null,{"$f":"CONCATENATE((SUBSTITUTE(SUBSTITUTE(SUBSTITUTE(SUBSTITUTE(SUBSTITUTE(SUBSTITUTE(SUBSTITUTE(SUBSTITUTE(SUBSTITUTE(SUBSTITUTE(SUBSTITUTE(C378,\"Ə\",\"A\"),\"J\",\"ZH\"),\"C\",\"J\"),\"Ç\",\"CH\"),\"İ\",\"I\"),\"Ğ\",\"GH\"),\"Ö\",\"O\"),\"Ü\",\"U\"),\"Ş\",\"SH\"),\"Q\",\"G\"),\"X\",\"KH\")),\" \",(SUBSTITUTE(SUBSTITUTE(SUBSTITUTE(SUBSTITUTE(SUBSTITUTE(SUBSTITUTE(SUBSTITUTE(SUBSTITUTE(SUBSTITUTE(SUBSTITUTE(SUBSTITUTE(B378,\"Ə\",\"A\"),\"J\",\"ZH\"),\"C\",\"J\"),\"Ç\",\"CH\"),\"İ\",\"I\"),\"Ğ\",\"GH\"),\"Ö\",\"O\"),\"Ü\",\"U\"),\"Ş\",\"SH\"),\"Q\",\"G\"),\"X\",\"KH\")))","v":" "},"AGHJA_H"]
["",null,null,null,{"$f":"CONCATENATE((SUBSTITUTE(SUBSTITUTE(SUBSTITUTE(SUBSTITUTE(SUBSTITUTE(SUBSTITUTE(SUBSTITUTE(SUBSTITUTE(SUBSTITUTE(SUBSTITUTE(SUBSTITUTE(C379,\"Ə\",\"A\"),\"J\",\"ZH\"),\"C\",\"J\"),\"Ç\",\"CH\"),\"İ\",\"I\"),\"Ğ\",\"GH\"),\"Ö\",\"O\"),\"Ü\",\"U\"),\"Ş\",\"SH\"),\"Q\",\"G\"),\"X\",\"KH\")),\" \",(SUBSTITUTE(SUBSTITUTE(SUBSTITUTE(SUBSTITUTE(SUBSTITUTE(SUBSTITUTE(SUBSTITUTE(SUBSTITUTE(SUBSTITUTE(SUBSTITUTE(SUBSTITUTE(B379,\"Ə\",\"A\"),\"J\",\"ZH\"),\"C\",\"J\"),\"Ç\",\"CH\"),\"İ\",\"I\"),\"Ğ\",\"GH\"),\"Ö\",\"O\"),\"Ü\",\"U\"),\"Ş\",\"SH\"),\"Q\",\"G\"),\"X\",\"KH\")),\" \",(SUBSTITUTE(SUBSTITUTE(SUBSTITUTE(SUBSTITUTE(SUBSTITUTE(SUBSTITUTE(SUBSTITUTE(SUBSTITUTE(SUBSTITUTE(SUBSTITUTE(SUBSTITUTE(SUBSTITUTE(SUBSTITUTE(D379,\" OĞLU\",\"\"),\" QIZI\",\"\"),\"Ə\",\"A\"),\"J\",\"ZH\"),\"C\",\"J\"),\"Ç\",\"CH\"),\"İ\",\"I\"),\"Ğ\",\"GH\"),\"Ö\",\"O\"),\"Ü\",\"U\"),\"Ş\",\"SH\"),\"Q\",\"G\"),\"X\",\"KH\")))","v":"  "},null,null,null,null,null,null,null,null,null,null,null,{"$f":"CONCATENATE((SUBSTITUTE(SUBSTITUTE(SUBSTITUTE(SUBSTITUTE(SUBSTITUTE(SUBSTITUTE(SUBSTITUTE(SUBSTITUTE(SUBSTITUTE(SUBSTITUTE(SUBSTITUTE(O379,\"Ə\",\"A\"),\"J\",\"ZH\"),\"C\",\"J\"),\"Ç\",\"CH\"),\"İ\",\"I\"),\"Ğ\",\"GH\"),\"Ö\",\"O\"),\"Ü\",\"U\"),\"Ş\",\"SH\"),\"Q\",\"G\"),\"X\",\"KH\")),\", \",(SUBSTITUTE(SUBSTITUTE(SUBSTITUTE(SUBSTITUTE(SUBSTITUTE(SUBSTITUTE(SUBSTITUTE(SUBSTITUTE(SUBSTITUTE(SUBSTITUTE(SUBSTITUTE(M379,\"Ə\",\"A\"),\"J\",\"ZH\"),\"C\",\"J\"),\"Ç\",\"CH\"),\"İ\",\"I\"),\"Ğ\",\"GH\"),\"Ö\",\"O\"),\"Ü\",\"U\"),\"Ş\",\"SH\"),\"Q\",\"G\"),\"X\",\"KH\")))","v":", "},null,null,null,null,null,"  ",null,null,null,null,null,null,"N/A","N/A","ƏMƏK HAQQI",null,"008",null," ","AGHJA_H"]
[{"$f":"IF(B380=\"\",\"\",A379+1)","v":""},null,null,null,"  ",null,null,null,null,null,null,null,null,null,null,null,", ",null,null,null,null,null,{"$f":"(C380:C380&\" \"&D380:D380&\" \"&B380:B380)","v":"  "},null,null,null,null,null,null,"N/A","N/A","ƏMƏK HAQQI",null,"008",null," ","AGHJA_H"]
["",null,null,null,"  ",null,null,null,null,null,null,null,null,null,null,null,", ",null,null,null,null,null,"  ",null,null,null,null,null,null,"N/A","N/A","ƏMƏK HAQQI",null,"008",null," ","AGHJA_H"]
["",null,null,null,"  ",null,null,null,null,null,null,null,null,null,null,null,", ",null,null,null,null,null,"  ",null,null,null,null,null,null,"N/A","N/A","ƏMƏK HAQQI",null,"008",null," ","AGHJA_H"]
["",null,null,null,"  ",null,null,null,null,null,null,null,null,null,null,null,", ",null,null,null,null,null,"  ",null,null,null,null,null,null,"N/A","N/A","ƏMƏK HAQQI",null,"008",null," ","AGHJA_H"]
["",null,null,null,"  ",null,null,null,null,null,null,null,null,null,null,null,", ",null,null,null,null,null,"  ",null,null,null,null,null,null,"N/A","N/A","ƏMƏK HAQQI",null,"008",null," ","AGHJA_H"]
["",null,null,null,"  ",null,null,null,null,null,null,null,null,null,null,null,", ",null,null,null,null,null,"  ",null,null,null,null,null,null,"N/A","N/A","ƏMƏK HAQQI",null,"008",null," ","AGHJA_H"]
["",null,null,null,"  ",null,null,null,null,null,null,null,null,null,null,null,", ",null,null,null,null,null,"  ",null,null,null,null,null,null,"N/A","N/A","ƏMƏK HAQQI",null,"008",null," ","AGHJA_H"]
["",null,null,null,"  ",null,null,null,null,null,null,null,null,null,null,null,", ",null,null,null,null,null,"  ",null,null,null,null,null,null,"N/A","N/A","ƏMƏK HAQQI",null,"008",null," ","AGHJA_H"]
["",null,null,null,"  ",null,null,null,null,null,null,null,null,null,null,null,", ",null,null,null,null,null,"  ",null,null,null,null,null,null,"N/A","N/A","ƏMƏK HAQQI",null,"008",null," ","AGHJA_H"]
["",null,null,null,"  ",null,null,null,null,null,null,null,null,null,null,null,", ",null,null,null,null,null,"  ",null,null,null,null,null,null,"N/A","N/A","ƏMƏK HAQQI",null,"008",null," ","AGHJA_H"]
["",null,null,null,"  ",null,null,null,null,null,null,null,null,null,null,null,", ",null,null,null,null,null,"  ",null,null,null,null,null,null,"N/A","N/A","ƏMƏK HAQQI",null,"008",null," ","AGHJA_H"]
["",null,null,null,"  ",null,null,null,null,null,null,null,null,null,null,null,", ",null,null,null,null,null,"  ",null,null,null,null,null,null,"N/A","N/A","ƏMƏK HAQQI",null,"008",null," ","AGHJA_H"]
["",null,null,null,"  ",null,null,null,null,null,null,null,null,null,null,null,", ",null,null,null,null,null,"  ",null,null,null,null,null,null,"N/A","N/A","ƏMƏK HAQQI",null,"008",null," ","AGHJA_H"]
["",null,null,null,"  ",null,null,null,null,null,null,null,null,null,null,null,", ",null,null,null,null,null,"  ",null,null,null,null,null,null,"N/A","N/A","ƏMƏK HAQQI",null,"008",null," ","AGHJA_H"]
["",null,null,null,"  ",null,null,null,null,null,null,null,null,null,null,null,", ",null,null,null,null,null,"  ",null,null,null,null,null,null,"N/A","N/A","ƏMƏK HAQQI",null,"008",null," ","AGHJA_H"]
["",null,null,null,"  ",null,null,null,null,null,null,null,null,null,null,null,", ",null,null,null,null,null,"  ",null,null,null,null,null,null,"N/A","N/A","ƏMƏK HAQQI",null,"008",null," ","AGHJA_H"]
["",null,null,null,"  ",null,null,null,null,null,null,null,null,null,null,null,", ",null,null,null,null,null,"  ",null,null,null,null,null,null,"N/A","N/A","ƏMƏK HAQQI",null,"008",null," ","AGHJA_H"]
["",null,null,null,"  ",null,null,null,null,null,null,null,null,null,null,null,", ",null,null,null,null,null,"  ",null,null,null,null,null,null,"N/A","N/A","ƏMƏK HAQQI",null,"008",null," ","AGHJA_H"]
["",null,null,null,"  ",null,null,null,null,null,null,null,null,null,null,null,", ",null,null,null,null,null,"  ",null,null,null,null,null,null,"N/A","N/A","ƏMƏK HAQQI",null,"008",null," ","AGHJA_H"]
["",null,null,null,"  ",null,null,null,null,null,null,null,null,null,null,null,", ",null,null,null,null,null,"  ",null,null,null,null,null,null,"N/A","N/A","ƏMƏK HAQQI",null,"008",null," ","AGHJA_H"]
["",null,null,null,"  ",null,null,null,null,null,null,null,null,null,null,null,", ",null,null,null,null,null,"  ",null,null,null,null,null,null,"N/A","N/A","ƏMƏK HAQQI",null,"008",null," ","AGHJA_H"]
["",null,null,null,"  ",null,null,null,null,null,null,null,null,null,null,null,", ",null,null,null,null,null,"  ",null,null,null,null,null,null,"N/A","N/A","ƏMƏK HAQQI",null,"008",null," ","AGHJA_H"]
["",null,null,null,"  ",null,null,null,null,null,null,null,null,null,null,null,", ",null,null,null,null,null,"  ",null,null,null,null,null,null,"N/A","N/A","ƏMƏK HAQQI",null,"008",null," ","AGHJA_H"]
["",null,null,null,"  ",null,null,null,null,null,null,null,null,null,null,null,", ",null,null,null,null,null,"  ",null,null,null,null,null,null,"N/A","N/A","ƏMƏK HAQQI",null,"008",null," ","AGHJA_H"]
["",null,null,null,"  ",null,null,null,null,null,null,null,null,null,null,null,", ",null,null,null,null,null,"  ",null,null,null,null,null,null,"N/A","N/A","ƏMƏK HAQQI",null,"008",null," ","AGHJA_H"]
["",null,null,null,"  ",null,null,null,null,null,null,null,null,null,null,null,", ",null,null,null,null,null,"  ",null,null,null,null,null,null,"N/A","N/A","ƏMƏK HAQQI",null,"008",null," ","AGHJA_H"]
["",null,null,null,"  ",null,null,null,null,null,null,null,null,null,null,null,", ",null,null,null,null,null,"  ",null,null,null,null,null,null,"N/A","N/A","ƏMƏK HAQQI",null,"008",null," ","AGHJA_H"]
["",null,null,null,"  ",null,null,null,null,null,null,null,null,null,null,null,", ",null,null,null,null,null,"  ",null,null,null,null,null,null,"N/A","N/A","ƏMƏK HAQQI",null,"008",null," ","AGHJA_H"]
["",null,null,null,"  ",null,null,null,null,null,null,null,null,null,null,null,", ",null,null,null,null,null,"  ",null,null,null,null,null,null,"N/A","N/A","ƏMƏK HAQQI",null,"008",null," ","AGHJA_H"]
["",null,null,null,"  ",null,null,null,null,null,null,null,null,null,null,null,", ",null,null,null,null,null,"  ",null,null,null,null,null,null,"N/A","N/A","ƏMƏK HAQQI",null,"008",null," ","AGHJA_H"]
["",null,null,null,"  ",null,null,null,null,null,null,null,null,null,null,null,", ",null,null,null,null,null,"  ",null,null,null,null,null,null,"N/A","N/A","ƏMƏK HAQQI",null,"008",null," ","AGHJA_H"]
["",null,null,null,"  ",null,null,null,null,null,null,null,null,null,null,null,", ",null,null,null,null,null,"  ",null,null,null,null,null,null,"N/A","N/A","ƏMƏK HAQQI",null,"008",null," ","AGHJA_H"]
["",null,null,null,"  ",null,null,null,null,null,null,null,null,null,null,null,", ",null,null,null,null,null,"  ",null,null,null,null,null,null,"N/A","N/A","ƏMƏK HAQQI",null,"008",null," ","AGHJA_H"]
["",null,null,null,"  ",null,null,null,null,null,null,null,null,null,null,null,", ",null,null,null,null,null,"  ",null,null,null,null,null,null,"N/A","N/A","ƏMƏK HAQQI",null,"008",null," ","AGHJA_H"]
["",null,null,null,"  ",null,null,null,null,null,null,null,null,null,null,null,", ",null,null,null,null,null,"  ",null,null,null,null,null,null,"N/A","N/A","ƏMƏK HAQQI",null,"008",null," ","AGHJA_H"]
["",null,null,null,"  ",null,null,null,null,null,null,null,null,null,null,null,", ",null,null,null,null,null,"  ",null,null,null,null,null,null,"N/A","N/A","ƏMƏK HAQQI",null,"008",null," ","AGHJA_H"]
["",null,null,null,"  ",null,null,null,null,null,null,null,null,null,null,null,", ",null,null,null,null,null,"  ",null,null,null,null,null,null,"N/A","N/A","ƏMƏK HAQQI",null,"008",null," ","AGHJA_H"]
["",null,null,null,"  ",null,null,null,null,null,null,null,null,null,null,null,", ",null,null,null,null,null,"  ",null,null,null,null,null,null,"N/A","N/A","ƏMƏK HAQQI",null,"008",null," ","AGHJA_H"]
["",null,null,null,"  ",null,null,null,null,null,null,null,null,null,null,null,", ",null,null,null,null,null,"  ",null,null,null,null,null,null,"N/A","N/A","ƏMƏK HAQQI",null,"008",null," ","AGHJA_H"]
["",null,null,null,"  ",null,null,null,null,null,null,null,null,null,null,null,", ",null,null,null,null,null,"  ",null,null,null,null,null,null,"N/A","N/A","ƏMƏK HAQQI",null,"008",null," ","AGHJA_H"]
["",null,null,null,"  ",null,null,null,null,null,null,null,null,null,null,null,", ",null,null,null,null,null,"  ",null,null,null,null,null,null,"N/A","N/A","ƏMƏK HAQQI",null,"008",null," ","AGHJA_H"]
["",null,null,null,"  ",null,null,null,null,null,null,null,null,null,null,null,", ",null,null,null,null,null,"  ",null,null,null,null,null,null,"N/A","N/A","ƏMƏK HAQQI",null,"008",null," ","AGHJA_H"]
["",null,null,null,"  ",null,null,null,null,null,null,null,null,null,null,null,", ",null,null,null,null,null,"  ",null,null,null,null,null,null,"N/A","N/A","ƏMƏK HAQQI",null,"008",null," ","AGHJA_H"]
["",null,null,null,"  ",null,null,null,null,null,null,null,null,null,null,null,", ",null,null,null,null,null,"  ",null,null,null,null,null,null,"N/A","N/A","ƏMƏK HAQQI",null,"008",null," ","AGHJA_H"]
["",null,null,null,"  ",null,null,null,null,null,null,null,null,null,null,null,", ",null,null,null,null,null,"  ",null,null,null,null,null,null,"N/A","N/A","ƏMƏK HAQQI",null,"008",null," ","AGHJA_H"]
["",null,null,null,"  ",null,null,null,null,null,null,null,null,null,null,null,", ",null,null,null,null,null,"  ",null,null,null,null,null,null,"N/A","N/A","ƏMƏK HAQQI",null,"008",null," ","AGHJA_H"]
["",null,null,null,"  ",null,null,null,null,null,null,null,null,null,null,null,", ",null,null,null,null,null,"  ",null,null,null,null,null,null,"N/A","N/A","ƏMƏK HAQQI",null,"008",null," ","AGHJA_H"]
["",null,null,null,"  ",null,null,null,null,null,null,null,null,null,null,null,", ",null,null,null,null,null,"  ",null,null,null,null,null,null,"N/A","N/A","ƏMƏK HAQQI",null,"008",null," ","AGHJA_H"]
["",null,null,null,"  ",null,null,null,null,null,null,null,null,null,null,null,", ",null,null,null,null,null,"  ",null,null,null,null,null,null,"N/A","N/A","ƏMƏK HAQQI",null,"008",null," ","AGHJA_H"]
["",null,null,null,"  ",null,null,null,null,null,null,null,null,null,null,null,", ",null,null,null,null,null,"  ",null,null,null,null,null,null,"N/A","N/A","ƏMƏK HAQQI",null,"008",null," ","AGHJA_H"]
["",null,null,null,"  ",null,null,null,null,null,null,null,null,null,null,null,", ",null,null,null,null,null,"  ",null,null,null,null,null,null,"N/A","N/A","ƏMƏK HAQQI",null,"008",null," ","AGHJA_H"]
["",null,null,null,"  ",null,null,null,null,null,null,null,null,null,null,null,", ",null,null,null,null,null,"  ",null,null,null,null,null,null,"N/A","N/A","ƏMƏK HAQQI",null,"008",null," ","AGHJA_H"]
["",null,null,null,"  ",null,null,null,null,null,null,null,null,null,null,null,", ",null,null,null,null,null,"  ",null,null,null,null,null,null,"N/A","N/A","ƏMƏK HAQQI",null,"008",null," ","AGHJA_H"]
["",null,null,null,"  ",null,null,null,null,null,null,null,null,null,null,null,", ",null,null,null,null,null,"  ",null,null,null,null,null,null,"N/A","N/A","ƏMƏK HAQQI",null,"008",null," ","AGHJA_H"]
["",null,null,null,"  ",null,null,null,null,null,null,null,null,null,null,null,", ",null,null,null,null,null,"  ",null,null,null,null,null,null,"N/A","N/A","ƏMƏK HAQQI",null,"008",null," ","AGHJA_H"]
["",null,null,null,"  ",null,null,null,null,null,null,null,null,null,null,null,", ",null,null,null,null,null,"  ",null,null,null,null,null,null,"N/A","N/A","ƏMƏK HAQQI",null,"008",null," ","AGHJA_H"]
["",null,null,null,"  ",null,null,null,null,null,null,null,null,null,null,null,", ",null,null,null,null,null,"  ",null,null,null,null,null,null,"N/A","N/A","ƏMƏK HAQQI",null,"008",null," ","AGHJA_H"]
["",null,null,null,"  ",null,null,null,null,null,null,null,null,null,null,null,", ",null,null,null,null,null,"  ",null,null,null,null,null,null,"N/A","N/A","ƏMƏK HAQQI",null,"008",null," ","AGHJA_H"]
["",null,null,null,"  ",null,null,null,null,null,null,null,null,null,null,null,", ",null,null,null,null,null,"  ",null,null,null,null,null,null,"N/A","N/A","ƏMƏK HAQQI",null,"008",null," ","AGHJA_H"]
["",null,null,null,"  ",null,null,null,null,null,null,null,null,null,null,null,", ",null,null,null,null,null,"  ",null,null,null,null,null,null,"N/A","N/A","ƏMƏK HAQQI",null,"008",null," ","AGHJA_H"]
["",null,null,null,"  ",null,null,null,null,null,null,null,null,null,null,null,", ",null,null,null,null,null,"  ",null,null,null,null,null,null,"N/A","N/A","ƏMƏK HAQQI",null,"008",null," ","AGHJA_H"]
["",null,null,null,"  ",null,null,null,null,null,null,null,null,null,null,null,", ",null,null,null,null,null,"  ",null,null,null,null,null,null,"N/A","N/A","ƏMƏK HAQQI",null,"008",null," ","AGHJA_H"]
["",null,null,null,"  ",null,null,null,null,null,null,null,null,null,null,null,", ",null,null,null,null,null,"  ",null,null,null,null,null,null,"N/A","N/A","ƏMƏK HAQQI",null,"008",null,{"$f":"CONCATENATE((SUBSTITUTE(SUBSTITUTE(SUBSTITUTE(SUBSTITUTE(SUBSTITUTE(SUBSTITUTE(SUBSTITUTE(SUBSTITUTE(SUBSTITUTE(SUBSTITUTE(SUBSTITUTE(C442,\"Ə\",\"A\"),\"J\",\"ZH\"),\"C\",\"J\"),\"Ç\",\"CH\"),\"İ\",\"I\"),\"Ğ\",\"GH\"),\"Ö\",\"O\"),\"Ü\",\"U\"),\"Ş\",\"SH\"),\"Q\",\"G\"),\"X\",\"KH\")),\" \",(SUBSTITUTE(SUBSTITUTE(SUBSTITUTE(SUBSTITUTE(SUBSTITUTE(SUBSTITUTE(SUBSTITUTE(SUBSTITUTE(SUBSTITUTE(SUBSTITUTE(SUBSTITUTE(B442,\"Ə\",\"A\"),\"J\",\"ZH\"),\"C\",\"J\"),\"Ç\",\"CH\"),\"İ\",\"I\"),\"Ğ\",\"GH\"),\"Ö\",\"O\"),\"Ü\",\"U\"),\"Ş\",\"SH\"),\"Q\",\"G\"),\"X\",\"KH\")))","v":" "},"AGHJA_H"]
["",null,null,null,{"$f":"CONCATENATE((SUBSTITUTE(SUBSTITUTE(SUBSTITUTE(SUBSTITUTE(SUBSTITUTE(SUBSTITUTE(SUBSTITUTE(SUBSTITUTE(SUBSTITUTE(SUBSTITUTE(SUBSTITUTE(C443,\"Ə\",\"A\"),\"J\",\"ZH\"),\"C\",\"J\"),\"Ç\",\"CH\"),\"İ\",\"I\"),\"Ğ\",\"GH\"),\"Ö\",\"O\"),\"Ü\",\"U\"),\"Ş\",\"SH\"),\"Q\",\"G\"),\"X\",\"KH\")),\" \",(SUBSTITUTE(SUBSTITUTE(SUBSTITUTE(SUBSTITUTE(SUBSTITUTE(SUBSTITUTE(SUBSTITUTE(SUBSTITUTE(SUBSTITUTE(SUBSTITUTE(SUBSTITUTE(B443,\"Ə\",\"A\"),\"J\",\"ZH\"),\"C\",\"J\"),\"Ç\",\"CH\"),\"İ\",\"I\"),\"Ğ\",\"GH\"),\"Ö\",\"O\"),\"Ü\",\"U\"),\"Ş\",\"SH\"),\"Q\",\"G\"),\"X\",\"KH\")),\" \",(SUBSTITUTE(SUBSTITUTE(SUBSTITUTE(SUBSTITUTE(SUBSTITUTE(SUBSTITUTE(SUBSTITUTE(SUBSTITUTE(SUBSTITUTE(SUBSTITUTE(SUBSTITUTE(SUBSTITUTE(SUBSTITUTE(D443,\" OĞLU\",\"\"),\" QIZI\",\"\"),\"Ə\",\"A\"),\"J\",\"ZH\"),\"C\",\"J\"),\"Ç\",\"CH\"),\"İ\",\"I\"),\"Ğ\",\"GH\"),\"Ö\",\"O\"),\"Ü\",\"U\"),\"Ş\",\"SH\"),\"Q\",\"G\"),\"X\",\"KH\")))","v":"  "},null,null,null,null,null,null,null,null,null,null,null,{"$f":"CONCATENATE((SUBSTITUTE(SUBSTITUTE(SUBSTITUTE(SUBSTITUTE(SUBSTITUTE(SUBSTITUTE(SUBSTITUTE(SUBSTITUTE(SUBSTITUTE(SUBSTITUTE(SUBSTITUTE(O443,\"Ə\",\"A\"),\"J\",\"ZH\"),\"C\",\"J\"),\"Ç\",\"CH\"),\"İ\",\"I\"),\"Ğ\",\"GH\"),\"Ö\",\"O\"),\"Ü\",\"U\"),\"Ş\",\"SH\"),\"Q\",\"G\"),\"X\",\"KH\")),\", \",(SUBSTITUTE(SUBSTITUTE(SUBSTITUTE(SUBSTITUTE(SUBSTITUTE(SUBSTITUTE(SUBSTITUTE(SUBSTITUTE(SUBSTITUTE(SUBSTITUTE(SUBSTITUTE(M443,\"Ə\",\"A\"),\"J\",\"ZH\"),\"C\",\"J\"),\"Ç\",\"CH\"),\"İ\",\"I\"),\"Ğ\",\"GH\"),\"Ö\",\"O\"),\"Ü\",\"U\"),\"Ş\",\"SH\"),\"Q\",\"G\"),\"X\",\"KH\")))","v":", "},null,null,null,null,null,"  ",null,null,null,null,null,null,"N/A","N/A","ƏMƏK HAQQI",null,"008",null," ","AGHJA_H"]
[{"$f":"IF(B444=\"\",\"\",A443+1)","v":""},null,null,null,"  ",null,null,null,null,null,null,null,null,null,null,null,", ",null,null,null,null,null,{"$f":"(C444:C444&\" \"&D444:D444&\" \"&B444:B444)","v":"  "},null,null,null,null,null,null,"N/A","N/A","ƏMƏK HAQQI",null,"008",null," ","AGHJA_H"]
["",null,null,null,"  ",null,null,null,null,null,null,null,null,null,null,null,", ",null,null,null,null,null,"  ",null,null,null,null,null,null,"N/A","N/A","ƏMƏK HAQQI",null,"008",null," ","AGHJA_H"]
["",null,null,null,"  ",null,null,null,null,null,null,null,null,null,null,null,", ",null,null,null,null,null,"  ",null,null,null,null,null,null,"N/A","N/A","ƏMƏK HAQQI",null,"008",null," ","AGHJA_H"]
["",null,null,null,"  ",null,null,null,null,null,null,null,null,null,null,null,", ",null,null,null,null,null,"  ",null,null,null,null,null,null,"N/A","N/A","ƏMƏK HAQQI",null,"008",null," ","AGHJA_H"]
["",null,null,null,"  ",null,null,null,null,null,null,null,null,null,null,null,", ",null,null,null,null,null,"  ",null,null,null,null,null,null,"N/A","N/A","ƏMƏK HAQQI",null,"008",null," ","AGHJA_H"]
["",null,null,null,"  ",null,null,null,null,null,null,null,null,null,null,null,", ",null,null,null,null,null,"  ",null,null,null,null,null,null,"N/A","N/A","ƏMƏK HAQQI",null,"008",null," ","AGHJA_H"]
["",null,null,null,"  ",null,null,null,null,null,null,null,null,null,null,null,", ",null,null,null,null,null,"  ",null,null,null,null,null,null,"N/A","N/A","ƏMƏK HAQQI",null,"008",null," ","AGHJA_H"]
["",null,null,null,"  ",null,null,null,null,null,null,null,null,null,null,null,", ",null,null,null,null,null,"  ",null,null,null,null,null,null,"N/A","N/A","ƏMƏK HAQQI",null,"008",null," ","AGHJA_H"]
["",null,null,null,"  ",null,null,null,null,null,null,null,null,null,null,null,", ",null,null,null,null,null,"  ",null,null,null,null,null,null,"N/A","N/A","ƏMƏK HAQQI",null,"008",null," ","AGHJA_H"]
["",null,null,null,"  ",null,null,null,null,null,null,null,null,null,null,null,", ",null,null,null,null,null,"  ",null,null,null,null,null,null,"N/A","N/A","ƏMƏK HAQQI",null,"008",null," ","AGHJA_H"]
["",null,null,null,"  ",null,null,null,null,null,null,null,null,null,null,null,", ",null,null,null,null,null,"  ",null,null,null,null,null,null,"N/A","N/A","ƏMƏK HAQQI",null,"008",null," ","AGHJA_H"]
["",null,null,null,"  ",null,null,null,null,null,null,null,null,null,null,null,", ",null,null,null,null,null,"  ",null,null,null,null,null,null,"N/A","N/A","ƏMƏK HAQQI",null,"008",null," ","AGHJA_H"]
["",null,null,null,"  ",null,null,null,null,null,null,null,null,null,null,null,", ",null,null,null,null,null,"  ",null,null,null,null,null,null,"N/A","N/A","ƏMƏK HAQQI",null,"008",null," ","AGHJA_H"]
["",null,null,null,"  ",null,null,null,null,null,null,null,null,null,null,null,", ",null,null,null,null,null,"  ",null,null,null,null,null,null,"N/A","N/A","ƏMƏK HAQQI",null,"008",null," ","AGHJA_H"]
["",null,null,null,"  ",null,null,null,null,null,null,null,null,null,null,null,", ",null,null,null,null,null,"  ",null,null,null,null,null,null,"N/A","N/A","ƏMƏK HAQQI",null,"008",null," ","AGHJA_H"]
["",null,null,null,"  ",null,null,null,null,null,null,null,null,null,null,null,", ",null,null,null,null,null,"  ",null,null,null,null,null,null,"N/A","N/A","ƏMƏK HAQQI",null,"008",null," ","AGHJA_H"]
["",null,null,null,"  ",null,null,null,null,null,null,null,null,null,null,null,", ",null,null,null,null,null,"  ",null,null,null,null,null,null,"N/A","N/A","ƏMƏK HAQQI",null,"008",null," ","AGHJA_H"]
["",null,null,null,"  ",null,null,null,null,null,null,null,null,null,null,null,", ",null,null,null,null,null,"  ",null,null,null,null,null,null,"N/A","N/A","ƏMƏK HAQQI",null,"008",null," ","AGHJA_H"]
["",null,null,null,"  ",null,null,null,null,null,null,null,null,null,null,null,", ",null,null,null,null,null,"  ",null,null,null,null,null,null,"N/A","N/A","ƏMƏK HAQQI",null,"008",null," ","AGHJA_H"]
["",null,null,null,"  ",null,null,null,null,null,null,null,null,null,null,null,", ",null,null,null,null,null,"  ",null,null,null,null,null,null,"N/A","N/A","ƏMƏK HAQQI",null,"008",null," ","AGHJA_H"]
["",null,null,null,"  ",null,null,null,null,null,null,null,null,null,null,null,", ",null,null,null,null,null,"  ",null,null,null,null,null,null,"N/A","N/A","ƏMƏK HAQQI",null,"008",null," ","AGHJA_H"]
["",null,null,null,"  ",null,null,null,null,null,null,null,null,null,null,null,", ",null,null,null,null,null,"  ",null,null,null,null,null,null,"N/A","N/A","ƏMƏK HAQQI",null,"008",null," ","AGHJA_H"]
["",null,null,null,"  ",null,null,null,null,null,null,null,null,null,null,null,", ",null,null,null,null,null,"  ",null,null,null,null,null,null,"N/A","N/A","ƏMƏK HAQQI",null,"008",null," ","AGHJA_H"]
["",null,null,null,"  ",null,null,null,null,null,null,null,null,null,null,null,", ",null,null,null,null,null,"  ",null,null,null,null,null,null,"N/A","N/A","ƏMƏK HAQQI",null,"008",null," ","AGHJA_H"]
["",null,null,null,"  ",null,null,null,null,null,null,null,null,null,null,null,", ",null,null,null,null,null,"  ",null,null,null,null,null,null,"N/A","N/A","ƏMƏK HAQQI",null,"008",null," ","AGHJA_H"]
["",null,null,null,"  ",null,null,null,null,null,null,null,null,null,null,null,", ",null,null,null,null,null,"  ",null,null,null,null,null,null,"N/A","N/A","ƏMƏK HAQQI",null,"008",null," ","AGHJA_H"]
["",null,null,null,"  ",null,null,null,null,null,null,null,null,null,null,null,", ",null,null,null,null,null,"  ",null,null,null,null,null,null,"N/A","N/A","ƏMƏK HAQQI",null,"008",null," ","AGHJA_H"]
["",null,null,null,"  ",null,null,null,null,null,null,null,null,null,null,null,", ",null,null,null,null,null,"  ",null,null,null,null,null,null,"N/A","N/A","ƏMƏK HAQQI",null,"008",null," ","AGHJA_H"]
["",null,null,null,"  ",null,null,null,null,null,null,null,null,null,null,null,", ",null,null,null,null,null,"  ",null,null,null,null,null,null,"N/A","N/A","ƏMƏK HAQQI",null,"008",null," ","AGHJA_H"]
["",null,null,null,"  ",null,null,null,null,null,null,null,null,null,null,null,", ",null,null,null,null,null,"  ",null,null,null,null,null,null,"N/A","N/A","ƏMƏK HAQQI",null,"008",null," ","AGHJA_H"]
["",null,null,null,"  ",null,null,null,null,null,null,null,null,null,null,null,", ",null,null,null,null,null,"  ",null,null,null,null,null,null,"N/A","N/A","ƏMƏK HAQQI",null,"008",null," ","AGHJA_H"]
["",null,null,null,"  ",null,null,null,null,null,null,null,null,null,null,null,", ",null,null,null,null,null,"  ",null,null,null,null,null,null,"N/A","N/A","ƏMƏK HAQQI",null,"008",null," ","AGHJA_H"]
["",null,null,null,"  ",null,null,null,null,null,null,null,null,null,null,null,", ",null,null,null,null,null,"  ",null,null,null,null,null,null,"N/A","N/A","ƏMƏK HAQQI",null,"008",null," ","AGHJA_H"]
["",null,null,null,"  ",null,null,null,null,null,null,null,null,null,null,null,", ",null,null,null,null,null,"  ",null,null,null,null,null,null,"N/A","N/A","ƏMƏK HAQQI",null,"008",null," ","AGHJA_H"]
["",null,null,null,"  ",null,null,null,null,null,null,null,null,null,null,null,", ",null,null,null,null,null,"  ",null,null,null,null,null,null,"N/A","N/A","ƏMƏK HAQQI",null,"008",null," ","AGHJA_H"]
["",null,null,null,"  ",null,null,null,null,null,null,null,null,null,null,null,", ",null,null,null,null,null,"  ",null,null,null,null,null,null,"N/A","N/A","ƏMƏK HAQQI",null,"008",null," ","AGHJA_H"]
["",null,null,null,"  ",null,null,null,null,null,null,null,null,null,null,null,", ",null,null,null,null,null,"  ",null,null,null,null,null,null,"N/A","N/A","ƏMƏK HAQQI",null,"008",null," ","AGHJA_H"]
["",null,null,null,"  ",null,null,null,null,null,null,null,null,null,null,null,", ",null,null,null,null,null,"  ",null,null,null,null,null,null,"N/A","N/A","ƏMƏK HAQQI",null,"008",null," ","AGHJA_H"]
["",null,null,null,"  ",null,null,null,null,null,null,null,null,null,null,null,", ",null,null,null,null,null,"  ",null,null,null,null,null,null,"N/A","N/A","ƏMƏK HAQQI",null,"008",null," ","AGHJA_H"]
["",null,null,null,"  ",null,null,null,null,null,null,null,null,null,null,null,", ",null,null,null,null,null,"  ",null,null,null,null,null,null,"N/A","N/A","ƏMƏK HAQQI",null,"008",null," ","AGHJA_H"]
["",null,null,null,"  ",null,null,null,null,null,null,null,null,null,null,null,", ",null,null,null,null,null,"  ",null,null,null,null,null,null,"N/A","N/A","ƏMƏK HAQQI",null,"008",null," ","AGHJA_H"]
["",null,null,null,"  ",null,null,null,null,null,null,null,null,null,null,null,", ",null,null,null,null,null,"  ",null,null,null,null,null,null,"N/A","N/A","ƏMƏK HAQQI",null,"008",null," ","AGHJA_H"]
["",null,null,null,"  ",null,null,null,null,null,null,null,null,null,null,null,", ",null,null,null,null,null,"  ",null,null,null,null,null,null,"N/A","N/A","ƏMƏK HAQQI",null,"008",null," ","AGHJA_H"]
["",null,null,null,"  ",null,null,null,null,null,null,null,null,null,null,null,", ",null,null,null,null,null,"  ",null,null,null,null,null,null,"N/A","N/A","ƏMƏK HAQQI",null,"008",null," ","AGHJA_H"]
["",null,null,null,"  ",null,null,null,null,null,null,null,null,null,null,null,", ",null,null,null,null,null,"  ",null,null,null,null,null,null,"N/A","N/A","ƏMƏK HAQQI",null,"008",null," ","AGHJA_H"]
["",null,null,null,"  ",null,null,null,null,null,null,null,null,null,null,null,", ",null,null,null,null,null,"  ",null,null,null,null,null,null,"N/A","N/A","ƏMƏK HAQQI",null,"008",null," ","AGHJA_H"]
["",null,null,null,"  ",null,null,null,null,null,null,null,null,null,null,null,", ",null,null,null,null,null,"  ",null,null,null,null,null,null,"N/A","N/A","ƏMƏK HAQQI",null,"008",null," ","AGHJA_H"]
["",null,null,null,"  ",null,null,null,null,null,null,null,null,null,null,null,", ",null,null,null,null,null,"  ",null,null,null,null,null,null,"N/A","N/A","ƏMƏK HAQQI",null,"008",null," ","AGHJA_H"]
["",null,null,null,"  ",null,null,null,null,null,null,null,null,null,null,null,", ",null,null,null,null,null,"  ",null,null,null,null,null,null,"N/A","N/A","ƏMƏK HAQQI",null,"008",null," ","AGHJA_H"]
["",null,null,null,"  ",null,null,null,null,null,null,null,null,null,null,null,", ",null,null,null,null,null,"  ",null,null,null,null,null,null,"N/A","N/A","ƏMƏK HAQQI",null,"008",null," ","AGHJA_H"]
["",null,null,null,"  ",null,null,null,null,null,null,null,null,null,null,null,", ",null,null,null,null,null,"  ",null,null,null,null,null,null,"N/A","N/A","ƏMƏK HAQQI",null,"008",null," ","AGHJA_H"]
["",null,null,null,"  ",null,null,null,null,null,null,null,null,null,null,null,", ",null,null,null,null,null,"  ",null,null,null,null,null,null,"N/A","N/A","ƏMƏK HAQQI",null,"008",null," ","AGHJA_H"]
["",null,null,null,"  ",null,null,null,null,null,null,null,null,null,null,null,", ",null,null,null,null,null,"  ",null,null,null,null,null,null,"N/A","N/A","ƏMƏK HAQQI",null,"008",null," ","AGHJA_H"]
["",null,null,null,"  ",null,null,null,null,null,null,null,null,null,null,null,", ",null,null,null,null,null,"  ",null,null,null,null,null,null,"N/A","N/A","ƏMƏK HAQQI",null,"008",null," ","AGHJA_H"]
["",null,null,null,"  ",null,null,null,null,null,null,null,null,null,null,null,", ",null,null,null,null,null,"  ",null,null,null,null,null,null,"N/A","N/A","ƏMƏK HAQQI",null,"008",null," ","AGHJA_H"]
["",null,null,null,"  ",null,null,null,null,null,null,null,null,null,null,null,", ",null,null,null,null,null,"  ",null,null,null,null,null,null,"N/A","N/A","ƏMƏK HAQQI",null,"008",null," ","AGHJA_H"]
["",null,null,null,"  ",null,null,null,null,null,null,null,null,null,null,null,", ",null,null,null,null,null,"  ",null,null,null,null,null,null,"N/A","N/A","ƏMƏK HAQQI",null,"008",null," ","AGHJA_H"]
["",null,null,null,"  ",null,null,null,null,null,null,null,null,null,null,null,", ",null,null,null,null,null,"  ",null,null,null,null,null,null,"N/A","N/A","ƏMƏK HAQQI",null,"008",null," ","AGHJA_H"]
["",null,null,null,"  ",null,null,null,null,null,null,null,null,null,null,null,", ",null,null,null,null,null,"  ",null,null,null,null,null,null,"N/A","N/A","ƏMƏK HAQQI",null,"008",null," ","AGHJA_H"]
["",null,null,null,"  ",null,null,null,null,null,null,null,null,null,null,null,", ",null,null,null,null,null,"  ",null,null,null,null,null,null,"N/A","N/A","ƏMƏK HAQQI",null,"008",null," ","AGHJA_H"]
["",null,null,null,"  ",null,null,null,null,null,null,null,null,null,null,null,", ",null,null,null,null,null,"  ",null,null,null,null,null,null,"N/A","N/A","ƏMƏK HAQQI",null,"008",null," ","AGHJA_H"]
["",null,null,null,"  ",null,null,null,null,null,null,null,null,null,null,null,", ",null,null,null,null,null,"  ",null,null,null,null,null,null,"N/A","N/A","ƏMƏK HAQQI",null,"008",null," ","AGHJA_H"]
["",null,null,null,"  ",null,null,null,null,null,null,null,null,null,null,null,", ",null,null,null,null,null,"  ",null,null,null,null,null,null,"N/A","N/A","ƏMƏK HAQQI",null,"008",null,{"$f":"CONCATENATE((SUBSTITUTE(SUBSTITUTE(SUBSTITUTE(SUBSTITUTE(SUBSTITUTE(SUBSTITUTE(SUBSTITUTE(SUBSTITUTE(SUBSTITUTE(SUBSTITUTE(SUBSTITUTE(C506,\"Ə\",\"A\"),\"J\",\"ZH\"),\"C\",\"J\"),\"Ç\",\"CH\"),\"İ\",\"I\"),\"Ğ\",\"GH\"),\"Ö\",\"O\"),\"Ü\",\"U\"),\"Ş\",\"SH\"),\"Q\",\"G\"),\"X\",\"KH\")),\" \",(SUBSTITUTE(SUBSTITUTE(SUBSTITUTE(SUBSTITUTE(SUBSTITUTE(SUBSTITUTE(SUBSTITUTE(SUBSTITUTE(SUBSTITUTE(SUBSTITUTE(SUBSTITUTE(B506,\"Ə\",\"A\"),\"J\",\"ZH\"),\"C\",\"J\"),\"Ç\",\"CH\"),\"İ\",\"I\"),\"Ğ\",\"GH\"),\"Ö\",\"O\"),\"Ü\",\"U\"),\"Ş\",\"SH\"),\"Q\",\"G\"),\"X\",\"KH\")))","v":" "},"AGHJA_H"]
["",null,null,null,{"$f":"CONCATENATE((SUBSTITUTE(SUBSTITUTE(SUBSTITUTE(SUBSTITUTE(SUBSTITUTE(SUBSTITUTE(SUBSTITUTE(SUBSTITUTE(SUBSTITUTE(SUBSTITUTE(SUBSTITUTE(C507,\"Ə\",\"A\"),\"J\",\"ZH\"),\"C\",\"J\"),\"Ç\",\"CH\"),\"İ\",\"I\"),\"Ğ\",\"GH\"),\"Ö\",\"O\"),\"Ü\",\"U\"),\"Ş\",\"SH\"),\"Q\",\"G\"),\"X\",\"KH\")),\" \",(SUBSTITUTE(SUBSTITUTE(SUBSTITUTE(SUBSTITUTE(SUBSTITUTE(SUBSTITUTE(SUBSTITUTE(SUBSTITUTE(SUBSTITUTE(SUBSTITUTE(SUBSTITUTE(B507,\"Ə\",\"A\"),\"J\",\"ZH\"),\"C\",\"J\"),\"Ç\",\"CH\"),\"İ\",\"I\"),\"Ğ\",\"GH\"),\"Ö\",\"O\"),\"Ü\",\"U\"),\"Ş\",\"SH\"),\"Q\",\"G\"),\"X\",\"KH\")),\" \",(SUBSTITUTE(SUBSTITUTE(SUBSTITUTE(SUBSTITUTE(SUBSTITUTE(SUBSTITUTE(SUBSTITUTE(SUBSTITUTE(SUBSTITUTE(SUBSTITUTE(SUBSTITUTE(SUBSTITUTE(SUBSTITUTE(D507,\" OĞLU\",\"\"),\" QIZI\",\"\"),\"Ə\",\"A\"),\"J\",\"ZH\"),\"C\",\"J\"),\"Ç\",\"CH\"),\"İ\",\"I\"),\"Ğ\",\"GH\"),\"Ö\",\"O\"),\"Ü\",\"U\"),\"Ş\",\"SH\"),\"Q\",\"G\"),\"X\",\"KH\")))","v":"  "},null,null,null,null,null,null,null,null,null,null,null,{"$f":"CONCATENATE((SUBSTITUTE(SUBSTITUTE(SUBSTITUTE(SUBSTITUTE(SUBSTITUTE(SUBSTITUTE(SUBSTITUTE(SUBSTITUTE(SUBSTITUTE(SUBSTITUTE(SUBSTITUTE(O507,\"Ə\",\"A\"),\"J\",\"ZH\"),\"C\",\"J\"),\"Ç\",\"CH\"),\"İ\",\"I\"),\"Ğ\",\"GH\"),\"Ö\",\"O\"),\"Ü\",\"U\"),\"Ş\",\"SH\"),\"Q\",\"G\"),\"X\",\"KH\")),\", \",(SUBSTITUTE(SUBSTITUTE(SUBSTITUTE(SUBSTITUTE(SUBSTITUTE(SUBSTITUTE(SUBSTITUTE(SUBSTITUTE(SUBSTITUTE(SUBSTITUTE(SUBSTITUTE(M507,\"Ə\",\"A\"),\"J\",\"ZH\"),\"C\",\"J\"),\"Ç\",\"CH\"),\"İ\",\"I\"),\"Ğ\",\"GH\"),\"Ö\",\"O\"),\"Ü\",\"U\"),\"Ş\",\"SH\"),\"Q\",\"G\"),\"X\",\"KH\")))","v":", "},null,null,null,null,null,"  ",null,null,null,null,null,null,"N/A","N/A","ƏMƏK HAQQI",null,"008",null," ","AGHJA_H"]
[{"$f":"IF(B508=\"\",\"\",A507+1)","v":""},null,null,null,"  ",null,null,null,null,null,null,null,null,null,null,null,", ",null,null,null,null,null,{"$f":"(C508:C508&\" \"&D508:D508&\" \"&B508:B508)","v":"  "},null,null,null,null,null,null,"N/A","N/A","ƏMƏK HAQQI",null,"008",null," ","AGHJA_H"]
["",null,null,null,"  ",null,null,null,null,null,null,null,null,null,null,null,", ",null,null,null,null,null,"  ",null,null,null,null,null,null,"N/A","N/A","ƏMƏK HAQQI",null,"008",null," ","AGHJA_H"]
["",null,null,null,"  ",null,null,null,null,null,null,null,null,null,null,null,", ",null,null,null,null,null,"  ",null,null,null,null,null,null,"N/A","N/A","ƏMƏK HAQQI",null,"008",null," ","AGHJA_H"]
["",null,null,null,"  ",null,null,null,null,null,null,null,null,null,null,null,", ",null,null,null,null,null,"  ",null,null,null,null,null,null,"N/A","N/A","ƏMƏK HAQQI",null,"008",null," ","AGHJA_H"]
["",null,null,null,"  ",null,null,null,null,null,null,null,null,null,null,null,", ",null,null,null,null,null,"  ",null,null,null,null,null,null,"N/A","N/A","ƏMƏK HAQQI",null,"008",null," ","AGHJA_H"]
["",null,null,null,"  ",null,null,null,null,null,null,null,null,null,null,null,", ",null,null,null,null,null,"  ",null,null,null,null,null,null,"N/A","N/A","ƏMƏK HAQQI",null,"008",null," ","AGHJA_H"]
["",null,null,null,"  ",null,null,null,null,null,null,null,null,null,null,null,", ",null,null,null,null,null,"  ",null,null,null,null,null,null,"N/A","N/A","ƏMƏK HAQQI",null,"008",null," ","AGHJA_H"]
["",null,null,null,"  ",null,null,null,null,null,null,null,null,null,null,null,", ",null,null,null,null,null,"  ",null,null,null,null,null,null,"N/A","N/A","ƏMƏK HAQQI",null,"008",null," ","AGHJA_H"]
["",null,null,null,"  ",null,null,null,null,null,null,null,null,null,null,null,", ",null,null,null,null,null,"  ",null,null,null,null,null,null,"N/A","N/A","ƏMƏK HAQQI",null,"008",null," ","AGHJA_H"]
["",null,null,null,"  ",null,null,null,null,null,null,null,null,null,null,null,", ",null,null,null,null,null,"  ",null,null,null,null,null,null,"N/A","N/A","ƏMƏK HAQQI",null,"008",null," ","AGHJA_H"]
["",null,null,null,"  ",null,null,null,null,null,null,null,null,null,null,null,", ",null,null,null,null,null,"  ",null,null,null,null,null,null,"N/A","N/A","ƏMƏK HAQQI",null,"008",null," ","AGHJA_H"]
["",null,null,null,"  ",null,null,null,null,null,null,null,null,null,null,null,", ",null,null,null,null,null,"  ",null,null,null,null,null,null,"N/A","N/A","ƏMƏK HAQQI",null,"008",null," ","AGHJA_H"]
["",null,null,null,"  ",null,null,null,null,null,null,null,null,null,null,null,", ",null,null,null,null,null,"  ",null,null,null,null,null,null,"N/A","N/A","ƏMƏK HAQQI",null,"008",null," ","AGHJA_H"]
["",null,null,null,"  ",null,null,null,null,null,null,null,null,null,null,null,", ",null,null,null,null,null,"  ",null,null,null,null,null,null,"N/A","N/A","ƏMƏK HAQQI",null,"008",null," ","AGHJA_H"]
["",null,null,null,"  ",null,null,null,null,null,null,null,null,null,null,null,", ",null,null,null,null,null,"  ",null,null,null,null,null,null,"N/A","N/A","ƏMƏK HAQQI",null,"008",null," ","AGHJA_H"]
["",null,null,null,"  ",null,null,null,null,null,null,null,null,null,null,null,", ",null,null,null,null,null,"  ",null,null,null,null,null,null,"N/A","N/A","ƏMƏK HAQQI",null,"008",null," ","AGHJA_H"]
["",null,null,null,"  ",null,null,null,null,null,null,null,null,null,null,null,", ",null,null,null,null,null,"  ",null,null,null,null,null,null,"N/A","N/A","ƏMƏK HAQQI",null,"008",null," ","AGHJA_H"]
["",null,null,null,"  ",null,null,null,null,null,null,null,null,null,null,null,", ",null,null,null,null,null,"  ",null,null,null,null,null,null,"N/A","N/A","ƏMƏK HAQQI",null,"008",null," ","AGHJA_H"]
["",null,null,null,"  ",null,null,null,null,null,null,null,null,null,null,null,", ",null,null,null,null,null,"  ",null,null,null,null,null,null,"N/A","N/A","ƏMƏK HAQQI",null,"008",null," ","AGHJA_H"]
["",null,null,null,"  ",null,null,null,null,null,null,null,null,null,null,null,", ",null,null,null,null,null,"  ",null,null,null,null,null,null,"N/A","N/A","ƏMƏK HAQQI",null,"008",null," ","AGHJA_H"]
["",null,null,null,"  ",null,null,null,null,null,null,null,null,null,null,null,", ",null,null,null,null,null,"  ",null,null,null,null,null,null,"N/A","N/A","ƏMƏK HAQQI",null,"008",null," ","AGHJA_H"]
["",null,null,null,"  ",null,null,null,null,null,null,null,null,null,null,null,", ",null,null,null,null,null,"  ",null,null,null,null,null,null,"N/A","N/A","ƏMƏK HAQQI",null,"008",null," ","AGHJA_H"]
["",null,null,null,"  ",null,null,null,null,null,null,null,null,null,null,null,", ",null,null,null,null,null,"  ",null,null,null,null,null,null,"N/A","N/A","ƏMƏK HAQQI",null,"008",null," ","AGHJA_H"]
["",null,null,null,"  ",null,null,null,null,null,null,null,null,null,null,null,", ",null,null,null,null,null,"  ",null,null,null,null,null,null,"N/A","N/A","ƏMƏK HAQQI",null,"008",null," ","AGHJA_H"]
["",null,null,null,"  ",null,null,null,null,null,null,null,null,null,null,null,", ",null,null,null,null,null,"  ",null,null,null,null,null,null,"N/A","N/A","ƏMƏK HAQQI",null,"008",null," ","AGHJA_H"]
["",null,null,null,"  ",null,null,null,null,null,null,null,null,null,null,null,", ",null,null,null,null,null,"  ",null,null,null,null,null,null,"N/A","N/A","ƏMƏK HAQQI",null,"008",null," ","AGHJA_H"]
["",null,null,null,"  ",null,null,null,null,null,null,null,null,null,null,null,", ",null,null,null,null,null,"  ",null,null,null,null,null,null,"N/A","N/A","ƏMƏK HAQQI",null,"008",null," ","AGHJA_H"]
["",null,null,null,"  ",null,null,null,null,null,null,null,null,null,null,null,", ",null,null,null,null,null,"  ",null,null,null,null,null,null,"N/A","N/A","ƏMƏK HAQQI",null,"008",null," ","AGHJA_H"]
["",null,null,null,"  ",null,null,null,null,null,null,null,null,null,null,null,", ",null,null,null,null,null,"  ",null,null,null,null,null,null,"N/A","N/A","ƏMƏK HAQQI",null,"008",null," ","AGHJA_H"]
["",null,null,null,"  ",null,null,null,null,null,null,null,null,null,null,null,", ",null,null,null,null,null,"  ",null,null,null,null,null,null,"N/A","N/A","ƏMƏK HAQQI",null,"008",null," ","AGHJA_H"]
["",null,null,null,"  ",null,null,null,null,null,null,null,null,null,null,null,", ",null,null,null,null,null,"  ",null,null,null,null,null,null,"N/A","N/A","ƏMƏK HAQQI",null,"008",null," ","AGHJA_H"]
["",null,null,null,"  ",null,null,null,null,null,null,null,null,null,null,null,", ",null,null,null,null,null,"  ",null,null,null,null,null,null,"N/A","N/A","ƏMƏK HAQQI",null,"008",null," ","AGHJA_H"]
["",null,null,null,"  ",null,null,null,null,null,null,null,null,null,null,null,", ",null,null,null,null,null,"  ",null,null,null,null,null,null,"N/A","N/A","ƏMƏK HAQQI",null,"008",null," ","AGHJA_H"]
["",null,null,null,"  ",null,null,null,null,null,null,null,null,null,null,null,", ",null,null,null,null,null,"  ",null,null,null,null,null,null,"N/A","N/A","ƏMƏK HAQQI",null,"008",null," ","AGHJA_H"]
["",null,null,null,"  ",null,null,null,null,null,null,null,null,null,null,null,", ",null,null,null,null,null,"  ",null,null,null,null,null,null,"N/A","N/A","ƏMƏK HAQQI",null,"008",null," ","AGHJA_H"]
["",null,null,null,"  ",null,null,null,null,null,null,null,null,null,null,null,", ",null,null,null,null,null,"  ",null,null,null,null,null,null,"N/A","N/A","ƏMƏK HAQQI",null,"008",null," ","AGHJA_H"]
["",null,null,null,"  ",null,null,null,null,null,null,null,null,null,null,null,", ",null,null,null,null,null,"  ",null,null,null,null,null,null,"N/A","N/A","ƏMƏK HAQQI",null,"008",null," ","AGHJA_H"]
["",null,null,null,"  ",null,null,null,null,null,null,null,null,null,null,null,", ",null,null,null,null,null,"  ",null,null,null,null,null,null,"N/A","N/A","ƏMƏK HAQQI",null,"008",null," ","AGHJA_H"]
["",null,null,null,"  ",null,null,null,null,null,null,null,null,null,null,null,", ",null,null,null,null,null,"  ",null,null,null,null,null,null,"N/A","N/A","ƏMƏK HAQQI",null,"008",null," ","AGHJA_H"]
["",null,null,null,"  ",null,null,null,null,null,null,null,null,null,null,null,", ",null,null,null,null,null,"  ",null,null,null,null,null,null,"N/A","N/A","ƏMƏK HAQQI",null,"008",null," ","AGHJA_H"]
["",null,null,null,"  ",null,null,null,null,null,null,null,null,null,null,null,", ",null,null,null,null,null,"  ",null,null,null,null,null,null,"N/A","N/A","ƏMƏK HAQQI",null,"008",null," ","AGHJA_H"]
["",null,null,null,"  ",null,null,null,null,null,null,null,null,null,null,null,", ",null,null,null,null,null,"  ",null,null,null,null,null,null,"N/A","N/A","ƏMƏK HAQQI",null,"008",null," ","AGHJA_H"]
["",null,null,null,"  ",null,null,null,null,null,null,null,null,null,null,null,", ",null,null,null,null,null,"  ",null,null,null,null,null,null,"N/A","N/A","ƏMƏK HAQQI",null,"008",null," ","AGHJA_H"]
["",null,null,null,"  ",null,null,null,null,null,null,null,null,null,null,null,", ",null,null,null,null,null,"  ",null,null,null,null,null,null,"N/A","N/A","ƏMƏK HAQQI",null,"008",null," ","AGHJA_H"]
["",null,null,null,"  ",null,null,null,null,null,null,null,null,null,null,null,", ",null,null,null,null,null,"  ",null,null,null,null,null,null,"N/A","N/A","ƏMƏK HAQQI",null,"008",null," ","AGHJA_H"]
["",null,null,null,"  ",null,null,null,null,null,null,null,null,null,null,null,", ",null,null,null,null,null,"  ",null,null,null,null,null,null,"N/A","N/A","ƏMƏK HAQQI",null,"008",null," ","AGHJA_H"]
["",null,null,null,"  ",null,null,null,null,null,null,null,null,null,null,null,", ",null,null,null,null,null,"  ",null,null,null,null,null,null,"N/A","N/A","ƏMƏK HAQQI",null,"008",null," ","AGHJA_H"]
["",null,null,null,"  ",null,null,null,null,null,null,null,null,null,null,null,", ",null,null,null,null,null,"  ",null,null,null,null,null,null,"N/A","N/A","ƏMƏK HAQQI",null,"008",null," ","AGHJA_H"]
["",null,null,null,"  ",null,null,null,null,null,null,null,null,null,null,null,", ",null,null,null,null,null,"  ",null,null,null,null,null,null,"N/A","N/A","ƏMƏK HAQQI",null,"008",null," ","AGHJA_H"]
["",null,null,null,"  ",null,null,null,null,null,null,null,null,null,null,null,", ",null,null,null,null,null,"  ",null,null,null,null,null,null,"N/A","N/A","ƏMƏK HAQQI",null,"008",null," ","AGHJA_H"]
["",null,null,null,"  ",null,null,null,null,null,null,null,null,null,null,null,", ",null,null,null,null,null,"  ",null,null,null,null,null,null,"N/A","N/A","ƏMƏK HAQQI",null,"008",null," ","AGHJA_H"]
["",null,null,null,"  ",null,null,null,null,null,null,null,null,null,null,null,", ",null,null,null,null,null,"  ",null,null,null,null,null,null,"N/A","N/A","ƏMƏK HAQQI",null,"008",null," ","AGHJA_H"]
["",null,null,null,"  ",null,null,null,null,null,null,null,null,null,null,null,", ",null,null,null,null,null,"  ",null,null,null,null,null,null,"N/A","N/A","ƏMƏK HAQQI",null,"008",null," ","AGHJA_H"]
["",null,null,null,"  ",null,null,null,null,null,null,null,null,null,null,null,", ",null,null,null,null,null,"  ",null,null,null,null,null,null,"N/A","N/A","ƏMƏK HAQQI",null,"008",null," ","AGHJA_H"]
["",null,null,null,"  ",null,null,null,null,null,null,null,null,null,null,null,", ",null,null,null,null,null,"  ",null,null,null,null,null,null,"N/A","N/A","ƏMƏK HAQQI",null,"008",null," ","AGHJA_H"]
["",null,null,null,"  ",null,null,null,null,null,null,null,null,null,null,null,", ",null,null,null,null,null,"  ",null,null,null,null,null,null,"N/A","N/A","ƏMƏK HAQQI",null,"008",null," ","AGHJA_H"]
["",null,null,null,"  ",null,null,null,null,null,null,null,null,null,null,null,", ",null,null,null,null,null,"  ",null,null,null,null,null,null,"N/A","N/A","ƏMƏK HAQQI",null,"008",null," ","AGHJA_H"]
["",null,null,null,"  ",null,null,null,null,null,null,null,null,null,null,null,", ",null,null,null,null,null,"  ",null,null,null,null,null,null,"N/A","N/A","ƏMƏK HAQQI",null,"008",null," ","AGHJA_H"]
["",null,null,null,"  ",null,null,null,null,null,null,null,null,null,null,null,", ",null,null,null,null,null,"  ",null,null,null,null,null,null,"N/A","N/A","ƏMƏK HAQQI",null,"008",null," ","AGHJA_H"]
["",null,null,null,"  ",null,null,null,null,null,null,null,null,null,null,null,", ",null,null,null,null,null,"  ",null,null,null,null,null,null,"N/A","N/A","ƏMƏK HAQQI",null,"008",null," ","AGHJA_H"]
["",null,null,null,"  ",null,null,null,null,null,null,null,null,null,null,null,", ",null,null,null,null,null,"  ",null,null,null,null,null,null,"N/A","N/A","ƏMƏK HAQQI",null,"008",null," ","AGHJA_H"]
["",null,null,null,"  ",null,null,null,null,null,null,null,null,null,null,null,", ",null,null,null,null,null,"  ",null,null,null,null,null,null,"N/A","N/A","ƏMƏK HAQQI",null,"008",null," ","AGHJA_H"]
["",null,null,null,"  ",null,null,null,null,null,null,null,null,null,null,null,", ",null,null,null,null,null,"  ",null,null,null,null,null,null,"N/A","N/A","ƏMƏK HAQQI",null,"008",null,{"$f":"CONCATENATE((SUBSTITUTE(SUBSTITUTE(SUBSTITUTE(SUBSTITUTE(SUBSTITUTE(SUBSTITUTE(SUBSTITUTE(SUBSTITUTE(SUBSTITUTE(SUBSTITUTE(SUBSTITUTE(C570,\"Ə\",\"A\"),\"J\",\"ZH\"),\"C\",\"J\"),\"Ç\",\"CH\"),\"İ\",\"I\"),\"Ğ\",\"GH\"),\"Ö\",\"O\"),\"Ü\",\"U\"),\"Ş\",\"SH\"),\"Q\",\"G\"),\"X\",\"KH\")),\" \",(SUBSTITUTE(SUBSTITUTE(SUBSTITUTE(SUBSTITUTE(SUBSTITUTE(SUBSTITUTE(SUBSTITUTE(SUBSTITUTE(SUBSTITUTE(SUBSTITUTE(SUBSTITUTE(B570,\"Ə\",\"A\"),\"J\",\"ZH\"),\"C\",\"J\"),\"Ç\",\"CH\"),\"İ\",\"I\"),\"Ğ\",\"GH\"),\"Ö\",\"O\"),\"Ü\",\"U\"),\"Ş\",\"SH\"),\"Q\",\"G\"),\"X\",\"KH\")))","v":" "},"AGHJA_H"]
["",null,null,null,{"$f":"CONCATENATE((SUBSTITUTE(SUBSTITUTE(SUBSTITUTE(SUBSTITUTE(SUBSTITUTE(SUBSTITUTE(SUBSTITUTE(SUBSTITUTE(SUBSTITUTE(SUBSTITUTE(SUBSTITUTE(C571,\"Ə\",\"A\"),\"J\",\"ZH\"),\"C\",\"J\"),\"Ç\",\"CH\"),\"İ\",\"I\"),\"Ğ\",\"GH\"),\"Ö\",\"O\"),\"Ü\",\"U\"),\"Ş\",\"SH\"),\"Q\",\"G\"),\"X\",\"KH\")),\" \",(SUBSTITUTE(SUBSTITUTE(SUBSTITUTE(SUBSTITUTE(SUBSTITUTE(SUBSTITUTE(SUBSTITUTE(SUBSTITUTE(SUBSTITUTE(SUBSTITUTE(SUBSTITUTE(B571,\"Ə\",\"A\"),\"J\",\"ZH\"),\"C\",\"J\"),\"Ç\",\"CH\"),\"İ\",\"I\"),\"Ğ\",\"GH\"),\"Ö\",\"O\"),\"Ü\",\"U\"),\"Ş\",\"SH\"),\"Q\",\"G\"),\"X\",\"KH\")),\" \",(SUBSTITUTE(SUBSTITUTE(SUBSTITUTE(SUBSTITUTE(SUBSTITUTE(SUBSTITUTE(SUBSTITUTE(SUBSTITUTE(SUBSTITUTE(SUBSTITUTE(SUBSTITUTE(SUBSTITUTE(SUBSTITUTE(D571,\" OĞLU\",\"\"),\" QIZI\",\"\"),\"Ə\",\"A\"),\"J\",\"ZH\"),\"C\",\"J\"),\"Ç\",\"CH\"),\"İ\",\"I\"),\"Ğ\",\"GH\"),\"Ö\",\"O\"),\"Ü\",\"U\"),\"Ş\",\"SH\"),\"Q\",\"G\"),\"X\",\"KH\")))","v":"  "},null,null,null,null,null,null,null,null,null,null,null,{"$f":"CONCATENATE((SUBSTITUTE(SUBSTITUTE(SUBSTITUTE(SUBSTITUTE(SUBSTITUTE(SUBSTITUTE(SUBSTITUTE(SUBSTITUTE(SUBSTITUTE(SUBSTITUTE(SUBSTITUTE(O571,\"Ə\",\"A\"),\"J\",\"ZH\"),\"C\",\"J\"),\"Ç\",\"CH\"),\"İ\",\"I\"),\"Ğ\",\"GH\"),\"Ö\",\"O\"),\"Ü\",\"U\"),\"Ş\",\"SH\"),\"Q\",\"G\"),\"X\",\"KH\")),\", \",(SUBSTITUTE(SUBSTITUTE(SUBSTITUTE(SUBSTITUTE(SUBSTITUTE(SUBSTITUTE(SUBSTITUTE(SUBSTITUTE(SUBSTITUTE(SUBSTITUTE(SUBSTITUTE(M571,\"Ə\",\"A\"),\"J\",\"ZH\"),\"C\",\"J\"),\"Ç\",\"CH\"),\"İ\",\"I\"),\"Ğ\",\"GH\"),\"Ö\",\"O\"),\"Ü\",\"U\"),\"Ş\",\"SH\"),\"Q\",\"G\"),\"X\",\"KH\")))","v":", "},null,null,null,null,null,"  ",null,null,null,null,null,null,"N/A","N/A","ƏMƏK HAQQI",null,"008",null," ","AGHJA_H"]
[{"$f":"IF(B572=\"\",\"\",A571+1)","v":""},null,null,null,"  ",null,null,null,null,null,null,null,null,null,null,null,", ",null,null,null,null,null,{"$f":"(C572:C572&\" \"&D572:D572&\" \"&B572:B572)","v":"  "},null,null,null,null,null,null,"N/A","N/A","ƏMƏK HAQQI",null,"008",null," ","AGHJA_H"]
["",null,null,null,"  ",null,null,null,null,null,null,null,null,null,null,null,", ",null,null,null,null,null,"  ",null,null,null,null,null,null,"N/A","N/A","ƏMƏK HAQQI",null,"008",null," ","AGHJA_H"]
["",null,null,null,"  ",null,null,null,null,null,null,null,null,null,null,null,", ",null,null,null,null,null,"  ",null,null,null,null,null,null,"N/A","N/A","ƏMƏK HAQQI",null,"008",null," ","AGHJA_H"]
["",null,null,null,"  ",null,null,null,null,null,null,null,null,null,null,null,", ",null,null,null,null,null,"  ",null,null,null,null,null,null,"N/A","N/A","ƏMƏK HAQQI",null,"008",null," ","AGHJA_H"]
["",null,null,null,"  ",null,null,null,null,null,null,null,null,null,null,null,", ",null,null,null,null,null,"  ",null,null,null,null,null,null,"N/A","N/A","ƏMƏK HAQQI",null,"008",null," ","AGHJA_H"]
["",null,null,null,"  ",null,null,null,null,null,null,null,null,null,null,null,", ",null,null,null,null,null,"  ",null,null,null,null,null,null,"N/A","N/A","ƏMƏK HAQQI",null,"008",null," ","AGHJA_H"]
["",null,null,null,"  ",null,null,null,null,null,null,null,null,null,null,null,", ",null,null,null,null,null,"  ",null,null,null,null,null,null,"N/A","N/A","ƏMƏK HAQQI",null,"008",null," ","AGHJA_H"]
["",null,null,null,"  ",null,null,null,null,null,null,null,null,null,null,null,", ",null,null,null,null,null,"  ",null,null,null,null,null,null,"N/A","N/A","ƏMƏK HAQQI",null,"008",null," ","AGHJA_H"]
["",null,null,null,"  ",null,null,null,null,null,null,null,null,null,null,null,", ",null,null,null,null,null,"  ",null,null,null,null,null,null,"N/A","N/A","ƏMƏK HAQQI",null,"008",null," ","AGHJA_H"]
["",null,null,null,"  ",null,null,null,null,null,null,null,null,null,null,null,", ",null,null,null,null,null,"  ",null,null,null,null,null,null,"N/A","N/A","ƏMƏK HAQQI",null,"008",null," ","AGHJA_H"]
["",null,null,null,"  ",null,null,null,null,null,null,null,null,null,null,null,", ",null,null,null,null,null,"  ",null,null,null,null,null,null,"N/A","N/A","ƏMƏK HAQQI",null,"008",null," ","AGHJA_H"]
["",null,null,null,"  ",null,null,null,null,null,null,null,null,null,null,null,", ",null,null,null,null,null,"  ",null,null,null,null,null,null,"N/A","N/A","ƏMƏK HAQQI",null,"008",null," ","AGHJA_H"]
["",null,null,null,"  ",null,null,null,null,null,null,null,null,null,null,null,", ",null,null,null,null,null,"  ",null,null,null,null,null,null,"N/A","N/A","ƏMƏK HAQQI",null,"008",null," ","AGHJA_H"]
["",null,null,null,"  ",null,null,null,null,null,null,null,null,null,null,null,", ",null,null,null,null,null,"  ",null,null,null,null,null,null,"N/A","N/A","ƏMƏK HAQQI",null,"008",null," ","AGHJA_H"]
["",null,null,null,"  ",null,null,null,null,null,null,null,null,null,null,null,", ",null,null,null,null,null,"  ",null,null,null,null,null,null,"N/A","N/A","ƏMƏK HAQQI",null,"008",null," ","AGHJA_H"]
["",null,null,null,"  ",null,null,null,null,null,null,null,null,null,null,null,", ",null,null,null,null,null,"  ",null,null,null,null,null,null,"N/A","N/A","ƏMƏK HAQQI",null,"008",null," ","AGHJA_H"]
["",null,null,null,"  ",null,null,null,null,null,null,null,null,null,null,null,", ",null,null,null,null,null,"  ",null,null,null,null,null,null,"N/A","N/A","ƏMƏK HAQQI",null,"008",null," ","AGHJA_H"]
["",null,null,null,"  ",null,null,null,null,null,null,null,null,null,null,null,", ",null,null,null,null,null,"  ",null,null,null,null,null,null,"N/A","N/A","ƏMƏK HAQQI",null,"008",null," ","AGHJA_H"]
["",null,null,null,"  ",null,null,null,null,null,null,null,null,null,null,null,", ",null,null,null,null,null,"  ",null,null,null,null,null,null,"N/A","N/A","ƏMƏK HAQQI",null,"008",null," ","AGHJA_H"]
["",null,null,null,"  ",null,null,null,null,null,null,null,null,null,null,null,", ",null,null,null,null,null,"  ",null,null,null,null,null,null,"N/A","N/A","ƏMƏK HAQQI",null,"008",null," ","AGHJA_H"]
["",null,null,null,"  ",null,null,null,null,null,null,null,null,null,null,null,", ",null,null,null,null,null,"  ",null,null,null,null,null,null,"N/A","N/A","ƏMƏK HAQQI",null,"008",null," ","AGHJA_H"]
["",null,null,null,"  ",null,null,null,null,null,null,null,null,null,null,null,", ",null,null,null,null,null,"  ",null,null,null,null,null,null,"N/A","N/A","ƏMƏK HAQQI",null,"008",null," ","AGHJA_H"]
["",null,null,null,"  ",null,null,null,null,null,null,null,null,null,null,null,", ",null,null,null,null,null,"  ",null,null,null,null,null,null,"N/A","N/A","ƏMƏK HAQQI",null,"008",null," ","AGHJA_H"]
["",null,null,null,"  ",null,null,null,null,null,null,null,null,null,null,null,", ",null,null,null,null,null,"  ",null,null,null,null,null,null,"N/A","N/A","ƏMƏK HAQQI",null,"008",null," ","AGHJA_H"]
["",null,null,null,"  ",null,null,null,null,null,null,null,null,null,null,null,", ",null,null,null,null,null,"  ",null,null,null,null,null,null,"N/A","N/A","ƏMƏK HAQQI",null,"008",null," ","AGHJA_H"]
["",null,null,null,"  ",null,null,null,null,null,null,null,null,null,null,null,", ",null,null,null,null,null,"  ",null,null,null,null,null,null,"N/A","N/A","ƏMƏK HAQQI",null,"008",null," ","AGHJA_H"]
["",null,null,null,"  ",null,null,null,null,null,null,null,null,null,null,null,", ",null,null,null,null,null,"  ",null,null,null,null,null,null,"N/A","N/A","ƏMƏK HAQQI",null,"008",null," ","AGHJA_H"]
["",null,null,null,"  ",null,null,null,null,null,null,null,null,null,null,null,", ",null,null,null,null,null,"  ",null,null,null,null,null,null,"N/A","N/A","ƏMƏK HAQQI",null,"008",null," ","AGHJA_H"]
["",null,null,null,"  ",null,null,null,null,null,null,null,null,null,null,null,", ",null,null,null,null,null,"  ",null,null,null,null,null,null,"N/A","N/A","ƏMƏK HAQQI",null,"008",null," ","AGHJA_H"]
["",null,null,null,"  ",null,null,null,null,null,null,null,null,null,null,null,", ",null,null,null,null,null,"  ",null,null,null,null,null,null,"N/A","N/A","ƏMƏK HAQQI",null,"008",null," ","AGHJA_H"]
["",null,null,null,"  ",null,null,null,null,null,null,null,null,null,null,null,", ",null,null,null,null,null,"  ",null,null,null,null,null,null,"N/A","N/A","ƏMƏK HAQQI",null,"008",null," ","AGHJA_H"]
["",null,null,null,"  ",null,null,null,null,null,null,null,null,null,null,null,", ",null,null,null,null,null,"  ",null,null,null,null,null,null,"N/A","N/A","ƏMƏK HAQQI",null,"008",null," ","AGHJA_H"]
["",null,null,null,"  ",null,null,null,null,null,null,null,null,null,null,null,", ",null,null,null,null,null,"  ",null,null,null,null,null,null,"N/A","N/A","ƏMƏK HAQQI",null,"008",null," ","AGHJA_H"]
["",null,null,null,"  ",null,null,null,null,null,null,null,null,null,null,null,", ",null,null,null,null,null,"  ",null,null,null,null,null,null,"N/A","N/A","ƏMƏK HAQQI",null,"008",null," ","AGHJA_H"]
["",null,null,null,"  ",null,null,null,null,null,null,null,null,null,null,null,", ",null,null,null,null,null,"  ",null,null,null,null,null,null,"N/A","N/A","ƏMƏK HAQQI",null,"008",null," ","AGHJA_H"]
["",null,null,null,"  ",null,null,null,null,null,null,null,null,null,null,null,", ",null,null,null,null,null,"  ",null,null,null,null,null,null,"N/A","N/A","ƏMƏK HAQQI",null,"008",null," ","AGHJA_H"]
["",null,null,null,"  ",null,null,null,null,null,null,null,null,null,null,null,", ",null,null,null,null,null,"  ",null,null,null,null,null,null,"N/A","N/A","ƏMƏK HAQQI",null,"008",null," ","AGHJA_H"]
["",null,null,null,"  ",null,null,null,null,null,null,null,null,null,null,null,", ",null,null,null,null,null,"  ",null,null,null,null,null,null,"N/A","N/A","ƏMƏK HAQQI",null,"008",null," ","AGHJA_H"]
["",null,null,null,"  ",null,null,null,null,null,null,null,null,null,null,null,", ",null,null,null,null,null,"  ",null,null,null,null,null,null,"N/A","N/A","ƏMƏK HAQQI",null,"008",null," ","AGHJA_H"]
["",null,null,null,"  ",null,null,null,null,null,null,null,null,null,null,null,", ",null,null,null,null,null,"  ",null,null,null,null,null,null,"N/A","N/A","ƏMƏK HAQQI",null,"008",null," ","AGHJA_H"]
["",null,null,null,"  ",null,null,null,null,null,null,null,null,null,null,null,", ",null,null,null,null,null,"  ",null,null,null,null,null,null,"N/A","N/A","ƏMƏK HAQQI",null,"008",null," ","AGHJA_H"]
["",null,null,null,"  ",null,null,null,null,null,null,null,null,null,null,null,", ",null,null,null,null,null,"  ",null,null,null,null,null,null,"N/A","N/A","ƏMƏK HAQQI",null,"008",null," ","AGHJA_H"]
["",null,null,null,"  ",null,null,null,null,null,null,null,null,null,null,null,", ",null,null,null,null,null,"  ",null,null,null,null,null,null,"N/A","N/A","ƏMƏK HAQQI",null,"008",null," ","AGHJA_H"]
["",null,null,null,"  ",null,null,null,null,null,null,null,null,null,null,null,", ",null,null,null,null,null,"  ",null,null,null,null,null,null,"N/A","N/A","ƏMƏK HAQQI",null,"008",null," ","AGHJA_H"]
["",null,null,null,"  ",null,null,null,null,null,null,null,null,null,null,null,", ",null,null,null,null,null,"  ",null,null,null,null,null,null,"N/A","N/A","ƏMƏK HAQQI",null,"008",null," ","AGHJA_H"]
["",null,null,null,"  ",null,null,null,null,null,null,null,null,null,null,null,", ",null,null,null,null,null,"  ",null,null,null,null,null,null,"N/A","N/A","ƏMƏK HAQQI",null,"008",null," ","AGHJA_H"]
["",null,null,null,"  ",null,null,null,null,null,null,null,null,null,null,null,", ",null,null,null,null,null,"  ",null,null,null,null,null,null,"N/A","N/A","ƏMƏK HAQQI",null,"008",null," ","AGHJA_H"]
["",null,null,null,"  ",null,null,null,null,null,null,null,null,null,null,null,", ",null,null,null,null,null,"  ",null,null,null,null,null,null,"N/A","N/A","ƏMƏK HAQQI",null,"008",null," ","AGHJA_H"]
["",null,null,null,"  ",null,null,null,null,null,null,null,null,null,null,null,", ",null,null,null,null,null,"  ",null,null,null,null,null,null,"N/A","N/A","ƏMƏK HAQQI",null,"008",null," ","AGHJA_H"]
["",null,null,null,"  ",null,null,null,null,null,null,null,null,null,null,null,", ",null,null,null,null,null,"  ",null,null,null,null,null,null,"N/A","N/A","ƏMƏK HAQQI",null,"008",null," ","AGHJA_H"]
["",null,null,null,"  ",null,null,null,null,null,null,null,null,null,null,null,", ",null,null,null,null,null,"  ",null,null,null,null,null,null,"N/A","N/A","ƏMƏK HAQQI",null,"008",null," ","AGHJA_H"]
["",null,null,null,"  ",null,null,null,null,null,null,null,null,null,null,null,", ",null,null,null,null,null,"  ",null,null,null,null,null,null,"N/A","N/A","ƏMƏK HAQQI",null,"008",null," ","AGHJA_H"]
["",null,null,null,"  ",null,null,null,null,null,null,null,null,null,null,null,", ",null,null,null,null,null,"  ",null,null,null,null,null,null,"N/A","N/A","ƏMƏK HAQQI",null,"008",null," ","AGHJA_H"]
["",null,null,null,"  ",null,null,null,null,null,null,null,null,null,null,null,", ",null,null,null,null,null,"  ",null,null,null,null,null,null,"N/A","N/A","ƏMƏK HAQQI",null,"008",null," ","AGHJA_H"]
["",null,null,null,"  ",null,null,null,null,null,null,null,null,null,null,null,", ",null,null,null,null,null,"  ",null,null,null,null,null,null,"N/A","N/A","ƏMƏK HAQQI",null,"008",null," ","AGHJA_H"]
["",null,null,null,"  ",null,null,null,null,null,null,null,null,null,null,null,", ",null,null,null,null,null,"  ",null,null,null,null,null,null,"N/A","N/A","ƏMƏK HAQQI",null,"008",null," ","AGHJA_H"]
["",null,null,null,"  ",null,null,null,null,null,null,null,null,null,null,null,", ",null,null,null,null,null,"  ",null,null,null,null,null,null,"N/A","N/A","ƏMƏK HAQQI",null,"008",null," ","AGHJA_H"]
["",null,null,null,"  ",null,null,null,null,null,null,null,null,null,null,null,", ",null,null,null,null,null,"  ",null,null,null,null,null,null,"N/A","N/A","ƏMƏK HAQQI",null,"008",null," ","AGHJA_H"]
["",null,null,null,"  ",null,null,null,null,null,null,null,null,null,null,null,", ",null,null,null,null,null,"  ",null,null,null,null,null,null,"N/A","N/A","ƏMƏK HAQQI",null,"008",null," ","AGHJA_H"]
["",null,null,null,"  ",null,null,null,null,null,null,null,null,null,null,null,", ",null,null,null,null,null,"  ",null,null,null,null,null,null,"N/A","N/A","ƏMƏK HAQQI",null,"008",null," ","AGHJA_H"]
["",null,null,null,"  ",null,null,null,null,null,null,null,null,null,null,null,", ",null,null,null,null,null,"  ",null,null,null,null,null,null,"N/A","N/A","ƏMƏK HAQQI",null,"008",null," ","AGHJA_H"]
["",null,null,null,"  ",null,null,null,null,null,null,null,null,null,null,null,", ",null,null,null,null,null,"  ",null,null,null,null,null,null,"N/A","N/A","ƏMƏK HAQQI",null,"008",null," ","AGHJA_H"]
["",null,null,null,"  ",null,null,null,null,null,null,null,null,null,null,null,", ",null,null,null,null,null,"  ",null,null,null,null,null,null,"N/A","N/A","ƏMƏK HAQQI",null,"008",null,{"$f":"CONCATENATE((SUBSTITUTE(SUBSTITUTE(SUBSTITUTE(SUBSTITUTE(SUBSTITUTE(SUBSTITUTE(SUBSTITUTE(SUBSTITUTE(SUBSTITUTE(SUBSTITUTE(SUBSTITUTE(C634,\"Ə\",\"A\"),\"J\",\"ZH\"),\"C\",\"J\"),\"Ç\",\"CH\"),\"İ\",\"I\"),\"Ğ\",\"GH\"),\"Ö\",\"O\"),\"Ü\",\"U\"),\"Ş\",\"SH\"),\"Q\",\"G\"),\"X\",\"KH\")),\" \",(SUBSTITUTE(SUBSTITUTE(SUBSTITUTE(SUBSTITUTE(SUBSTITUTE(SUBSTITUTE(SUBSTITUTE(SUBSTITUTE(SUBSTITUTE(SUBSTITUTE(SUBSTITUTE(B634,\"Ə\",\"A\"),\"J\",\"ZH\"),\"C\",\"J\"),\"Ç\",\"CH\"),\"İ\",\"I\"),\"Ğ\",\"GH\"),\"Ö\",\"O\"),\"Ü\",\"U\"),\"Ş\",\"SH\"),\"Q\",\"G\"),\"X\",\"KH\")))","v":" "},"AGHJA_H"]
["",null,null,null,{"$f":"CONCATENATE((SUBSTITUTE(SUBSTITUTE(SUBSTITUTE(SUBSTITUTE(SUBSTITUTE(SUBSTITUTE(SUBSTITUTE(SUBSTITUTE(SUBSTITUTE(SUBSTITUTE(SUBSTITUTE(C635,\"Ə\",\"A\"),\"J\",\"ZH\"),\"C\",\"J\"),\"Ç\",\"CH\"),\"İ\",\"I\"),\"Ğ\",\"GH\"),\"Ö\",\"O\"),\"Ü\",\"U\"),\"Ş\",\"SH\"),\"Q\",\"G\"),\"X\",\"KH\")),\" \",(SUBSTITUTE(SUBSTITUTE(SUBSTITUTE(SUBSTITUTE(SUBSTITUTE(SUBSTITUTE(SUBSTITUTE(SUBSTITUTE(SUBSTITUTE(SUBSTITUTE(SUBSTITUTE(B635,\"Ə\",\"A\"),\"J\",\"ZH\"),\"C\",\"J\"),\"Ç\",\"CH\"),\"İ\",\"I\"),\"Ğ\",\"GH\"),\"Ö\",\"O\"),\"Ü\",\"U\"),\"Ş\",\"SH\"),\"Q\",\"G\"),\"X\",\"KH\")),\" \",(SUBSTITUTE(SUBSTITUTE(SUBSTITUTE(SUBSTITUTE(SUBSTITUTE(SUBSTITUTE(SUBSTITUTE(SUBSTITUTE(SUBSTITUTE(SUBSTITUTE(SUBSTITUTE(SUBSTITUTE(SUBSTITUTE(D635,\" OĞLU\",\"\"),\" QIZI\",\"\"),\"Ə\",\"A\"),\"J\",\"ZH\"),\"C\",\"J\"),\"Ç\",\"CH\"),\"İ\",\"I\"),\"Ğ\",\"GH\"),\"Ö\",\"O\"),\"Ü\",\"U\"),\"Ş\",\"SH\"),\"Q\",\"G\"),\"X\",\"KH\")))","v":"  "},null,null,null,null,null,null,null,null,null,null,null,{"$f":"CONCATENATE((SUBSTITUTE(SUBSTITUTE(SUBSTITUTE(SUBSTITUTE(SUBSTITUTE(SUBSTITUTE(SUBSTITUTE(SUBSTITUTE(SUBSTITUTE(SUBSTITUTE(SUBSTITUTE(O635,\"Ə\",\"A\"),\"J\",\"ZH\"),\"C\",\"J\"),\"Ç\",\"CH\"),\"İ\",\"I\"),\"Ğ\",\"GH\"),\"Ö\",\"O\"),\"Ü\",\"U\"),\"Ş\",\"SH\"),\"Q\",\"G\"),\"X\",\"KH\")),\", \",(SUBSTITUTE(SUBSTITUTE(SUBSTITUTE(SUBSTITUTE(SUBSTITUTE(SUBSTITUTE(SUBSTITUTE(SUBSTITUTE(SUBSTITUTE(SUBSTITUTE(SUBSTITUTE(M635,\"Ə\",\"A\"),\"J\",\"ZH\"),\"C\",\"J\"),\"Ç\",\"CH\"),\"İ\",\"I\"),\"Ğ\",\"GH\"),\"Ö\",\"O\"),\"Ü\",\"U\"),\"Ş\",\"SH\"),\"Q\",\"G\"),\"X\",\"KH\")))","v":", "},null,null,null,null,null,"  ",null,null,null,null,null,null,"N/A","N/A","ƏMƏK HAQQI",null,"008",null," ","AGHJA_H"]
[{"$f":"IF(B636=\"\",\"\",A635+1)","v":""},null,null,null,"  ",null,null,null,null,null,null,null,null,null,null,null,", ",null,null,null,null,null,{"$f":"(C636:C636&\" \"&D636:D636&\" \"&B636:B636)","v":"  "},null,null,null,null,null,null,"N/A","N/A","ƏMƏK HAQQI",null,"008",null," ","AGHJA_H"]
["",null,null,null,"  ",null,null,null,null,null,null,null,null,null,null,null,", ",null,null,null,null,null,"  ",null,null,null,null,null,null,"N/A","N/A","ƏMƏK HAQQI",null,"008",null," ","AGHJA_H"]
["",null,null,null,"  ",null,null,null,null,null,null,null,null,null,null,null,", ",null,null,null,null,null,"  ",null,null,null,null,null,null,"N/A","N/A","ƏMƏK HAQQI",null,"008",null," ","AGHJA_H"]
["",null,null,null,"  ",null,null,null,null,null,null,null,null,null,null,null,", ",null,null,null,null,null,"  ",null,null,null,null,null,null,"N/A","N/A","ƏMƏK HAQQI",null,"008",null," ","AGHJA_H"]
["",null,null,null,"  ",null,null,null,null,null,null,null,null,null,null,null,", ",null,null,null,null,null,"  ",null,null,null,null,null,null,"N/A","N/A","ƏMƏK HAQQI",null,"008",null," ","AGHJA_H"]
["",null,null,null,"  ",null,null,null,null,null,null,null,null,null,null,null,", ",null,null,null,null,null,"  ",null,null,null,null,null,null,"N/A","N/A","ƏMƏK HAQQI",null,"008",null," ","AGHJA_H"]
["",null,null,null,"  ",null,null,null,null,null,null,null,null,null,null,null,", ",null,null,null,null,null,"  ",null,null,null,null,null,null,"N/A","N/A","ƏMƏK HAQQI",null,"008",null," ","AGHJA_H"]
["",null,null,null,"  ",null,null,null,null,null,null,null,null,null,null,null,", ",null,null,null,null,null,"  ",null,null,null,null,null,null,"N/A","N/A","ƏMƏK HAQQI",null,"008",null," ","AGHJA_H"]
["",null,null,null,"  ",null,null,null,null,null,null,null,null,null,null,null,", ",null,null,null,null,null,"  ",null,null,null,null,null,null,"N/A","N/A","ƏMƏK HAQQI",null,"008",null," ","AGHJA_H"]
["",null,null,null,"  ",null,null,null,null,null,null,null,null,null,null,null,", ",null,null,null,null,null,"  ",null,null,null,null,null,null,"N/A","N/A","ƏMƏK HAQQI",null,"008",null," ","AGHJA_H"]
["",null,null,null,"  ",null,null,null,null,null,null,null,null,null,null,null,", ",null,null,null,null,null,"  ",null,null,null,null,null,null,"N/A","N/A","ƏMƏK HAQQI",null,"008",null," ","AGHJA_H"]
["",null,null,null,"  ",null,null,null,null,null,null,null,null,null,null,null,", ",null,null,null,null,null,"  ",null,null,null,null,null,null,"N/A","N/A","ƏMƏK HAQQI",null,"008",null," ","AGHJA_H"]
["",null,null,null,"  ",null,null,null,null,null,null,null,null,null,null,null,", ",null,null,null,null,null,"  ",null,null,null,null,null,null,"N/A","N/A","ƏMƏK HAQQI",null,"008",null," ","AGHJA_H"]
["",null,null,null,"  ",null,null,null,null,null,null,null,null,null,null,null,", ",null,null,null,null,null,"  ",null,null,null,null,null,null,"N/A","N/A","ƏMƏK HAQQI",null,"008",null," ","AGHJA_H"]
["",null,null,null,"  ",null,null,null,null,null,null,null,null,null,null,null,", ",null,null,null,null,null,"  ",null,null,null,null,null,null,"N/A","N/A","ƏMƏK HAQQI",null,"008",null," ","AGHJA_H"]
["",null,null,null,"  ",null,null,null,null,null,null,null,null,null,null,null,", ",null,null,null,null,null,"  ",null,null,null,null,null,null,"N/A","N/A","ƏMƏK HAQQI",null,"008",null," ","AGHJA_H"]
["",null,null,null,"  ",null,null,null,null,null,null,null,null,null,null,null,", ",null,null,null,null,null,"  ",null,null,null,null,null,null,"N/A","N/A","ƏMƏK HAQQI",null,"008",null," ","AGHJA_H"]
["",null,null,null,"  ",null,null,null,null,null,null,null,null,null,null,null,", ",null,null,null,null,null,"  ",null,null,null,null,null,null,"N/A","N/A","ƏMƏK HAQQI",null,"008",null," ","AGHJA_H"]
["",null,null,null,"  ",null,null,null,null,null,null,null,null,null,null,null,", ",null,null,null,null,null,"  ",null,null,null,null,null,null,"N/A","N/A","ƏMƏK HAQQI",null,"008",null," ","AGHJA_H"]
["",null,null,null,"  ",null,null,null,null,null,null,null,null,null,null,null,", ",null,null,null,null,null,"  ",null,null,null,null,null,null,"N/A","N/A","ƏMƏK HAQQI",null,"008",null," ","AGHJA_H"]
["",null,null,null,"  ",null,null,null,null,null,null,null,null,null,null,null,", ",null,null,null,null,null,"  ",null,null,null,null,null,null,"N/A","N/A","ƏMƏK HAQQI",null,"008",null," ","AGHJA_H"]
["",null,null,null,"  ",null,null,null,null,null,null,null,null,null,null,null,", ",null,null,null,null,null,"  ",null,null,null,null,null,null,"N/A","N/A","ƏMƏK HAQQI",null,"008",null," ","AGHJA_H"]
["",null,null,null,"  ",null,null,null,null,null,null,null,null,null,null,null,", ",null,null,null,null,null,"  ",null,null,null,null,null,null,"N/A","N/A","ƏMƏK HAQQI",null,"008",null," ","AGHJA_H"]
["",null,null,null,"  ",null,null,null,null,null,null,null,null,null,null,null,", ",null,null,null,null,null,"  ",null,null,null,null,null,null,"N/A","N/A","ƏMƏK HAQQI",null,"008",null," ","AGHJA_H"]
["",null,null,null,"  ",null,null,null,null,null,null,null,null,null,null,null,", ",null,null,null,null,null,"  ",null,null,null,null,null,null,"N/A","N/A","ƏMƏK HAQQI",null,"008",null," ","AGHJA_H"]
["",null,null,null,"  ",null,null,null,null,null,null,null,null,null,null,null,", ",null,null,null,null,null,"  ",null,null,null,null,null,null,"N/A","N/A","ƏMƏK HAQQI",null,"008",null," ","AGHJA_H"]
["",null,null,null,"  ",null,null,null,null,null,null,null,null,null,null,null,", ",null,null,null,null,null,"  ",null,null,null,null,null,null,"N/A","N/A","ƏMƏK HAQQI",null,"008",null," ","AGHJA_H"]
["",null,null,null,"  ",null,null,null,null,null,null,null,null,null,null,null,", ",null,null,null,null,null,"  ",null,null,null,null,null,null,"N/A","N/A","ƏMƏK HAQQI",null,"008",null," ","AGHJA_H"]
["",null,null,null,"  ",null,null,null,null,null,null,null,null,null,null,null,", ",null,null,null,null,null,"  ",null,null,null,null,null,null,"N/A","N/A","ƏMƏK HAQQI",null,"008",null," ","AGHJA_H"]
["",null,null,null,"  ",null,null,null,null,null,null,null,null,null,null,null,", ",null,null,null,null,null,"  ",null,null,null,null,null,null,"N/A","N/A","ƏMƏK HAQQI",null,"008",null," ","AGHJA_H"]
["",null,null,null,"  ",null,null,null,null,null,null,null,null,null,null,null,", ",null,null,null,null,null,"  ",null,null,null,null,null,null,"N/A","N/A","ƏMƏK HAQQI",null,"008",null," ","AGHJA_H"]
["",null,null,null,"  ",null,null,null,null,null,null,null,null,null,null,null,", ",null,null,null,null,null,"  ",null,null,null,null,null,null,"N/A","N/A","ƏMƏK HAQQI",null,"008",null," ","AGHJA_H"]
["",null,null,null,"  ",null,null,null,null,null,null,null,null,null,null,null,", ",null,null,null,null,null,"  ",null,null,null,null,null,null,"N/A","N/A","ƏMƏK HAQQI",null,"008",null," ","AGHJA_H"]
["",null,null,null,"  ",null,null,null,null,null,null,null,null,null,null,null,", ",null,null,null,null,null,"  ",null,null,null,null,null,null,"N/A","N/A","ƏMƏK HAQQI",null,"008",null," ","AGHJA_H"]
["",null,null,null,"  ",null,null,null,null,null,null,null,null,null,null,null,", ",null,null,null,null,null,"  ",null,null,null,null,null,null,"N/A","N/A","ƏMƏK HAQQI",null,"008",null," ","AGHJA_H"]
["",null,null,null,"  ",null,null,null,null,null,null,null,null,null,null,null,", ",null,null,null,null,null,"  ",null,null,null,null,null,null,"N/A","N/A","ƏMƏK HAQQI",null,"008",null," ","AGHJA_H"]
["",null,null,null,"  ",null,null,null,null,null,null,null,null,null,null,null,", ",null,null,null,null,null,"  ",null,null,null,null,null,null,"N/A","N/A","ƏMƏK HAQQI",null,"008",null," ","AGHJA_H"]
["",null,null,null,"  ",null,null,null,null,null,null,null,null,null,null,null,", ",null,null,null,null,null,"  ",null,null,null,null,null,null,"N/A","N/A","ƏMƏK HAQQI",null,"008",null," ","AGHJA_H"]
["",null,null,null,"  ",null,null,null,null,null,null,null,null,null,null,null,", ",null,null,null,null,null,"  ",null,null,null,null,null,null,"N/A","N/A","ƏMƏK HAQQI",null,"008",null," ","AGHJA_H"]
["",null,null,null,"  ",null,null,null,null,null,null,null,null,null,null,null,", ",null,null,null,null,null,"  ",null,null,null,null,null,null,"N/A","N/A","ƏMƏK HAQQI",null,"008",null," ","AGHJA_H"]
["",null,null,null,"  ",null,null,null,null,null,null,null,null,null,null,null,", ",null,null,null,null,null,"  ",null,null,null,null,null,null,"N/A","N/A","ƏMƏK HAQQI",null,"008",null," ","AGHJA_H"]
["",null,null,null,"  ",null,null,null,null,null,null,null,null,null,null,null,", ",null,null,null,null,null,"  ",null,null,null,null,null,null,"N/A","N/A","ƏMƏK HAQQI",null,"008",null," ","AGHJA_H"]
["",null,null,null,"  ",null,null,null,null,null,null,null,null,null,null,null,", ",null,null,null,null,null,"  ",null,null,null,null,null,null,"N/A","N/A","ƏMƏK HAQQI",null,"008",null," ","AGHJA_H"]
["",null,null,null,"  ",null,null,null,null,null,null,null,null,null,null,null,", ",null,null,null,null,null,"  ",null,null,null,null,null,null,"N/A","N/A","ƏMƏK HAQQI",null,"008",null," ","AGHJA_H"]
["",null,null,null,"  ",null,null,null,null,null,null,null,null,null,null,null,", ",null,null,null,null,null,"  ",null,null,null,null,null,null,"N/A","N/A","ƏMƏK HAQQI",null,"008",null," ","AGHJA_H"]
["",null,null,null,"  ",null,null,null,null,null,null,null,null,null,null,null,", ",null,null,null,null,null,"  ",null,null,null,null,null,null,"N/A","N/A","ƏMƏK HAQQI",null,"008",null," ","AGHJA_H"]
["",null,null,null,"  ",null,null,null,null,null,null,null,null,null,null,null,", ",null,null,null,null,null,"  ",null,null,null,null,null,null,"N/A","N/A","ƏMƏK HAQQI",null,"008",null," ","AGHJA_H"]
["",null,null,null,"  ",null,null,null,null,null,null,null,null,null,null,null,", ",null,null,null,null,null,"  ",null,null,null,null,null,null,"N/A","N/A","ƏMƏK HAQQI",null,"008",null," ","AGHJA_H"]
["",null,null,null,"  ",null,null,null,null,null,null,null,null,null,null,null,", ",null,null,null,null,null,"  ",null,null,null,null,null,null,"N/A","N/A","ƏMƏK HAQQI",null,"008",null," ","AGHJA_H"]
["",null,null,null,"  ",null,null,null,null,null,null,null,null,null,null,null,", ",null,null,null,null,null,"  ",null,null,null,null,null,null,"N/A","N/A","ƏMƏK HAQQI",null,"008",null," ","AGHJA_H"]
["",null,null,null,"  ",null,null,null,null,null,null,null,null,null,null,null,", ",null,null,null,null,null,"  ",null,null,null,null,null,null,"N/A","N/A","ƏMƏK HAQQI",null,"008",null," ","AGHJA_H"]
["",null,null,null,"  ",null,null,null,null,null,null,null,null,null,null,null,", ",null,null,null,null,null,"  ",null,null,null,null,null,null,"N/A","N/A","ƏMƏK HAQQI",null,"008",null," ","AGHJA_H"]
["",null,null,null,"  ",null,null,null,null,null,null,null,null,null,null,null,", ",null,null,null,null,null,"  ",null,null,null,null,null,null,"N/A","N/A","ƏMƏK HAQQI",null,"008",null," ","AGHJA_H"]
["",null,null,null,"  ",null,null,null,null,null,null,null,null,null,null,null,", ",null,null,null,null,null,"  ",null,null,null,null,null,null,"N/A","N/A","ƏMƏK HAQQI",null,"008",null," ","AGHJA_H"]
["",null,null,null,"  ",null,null,null,null,null,null,null,null,null,null,null,", ",null,null,null,null,null,"  ",null,null,null,null,null,null,"N/A","N/A","ƏMƏK HAQQI",null,"008",null," ","AGHJA_H"]
["",null,null,null,"  ",null,null,null,null,null,null,null,null,null,null,null,", ",null,null,null,null,null,"  ",null,null,null,null,null,null,"N/A","N/A","ƏMƏK HAQQI",null,"008",null," ","AGHJA_H"]
["",null,null,null,"  ",null,null,null,null,null,null,null,null,null,null,null,", ",null,null,null,null,null,"  ",null,null,null,null,null,null,"N/A","N/A","ƏMƏK HAQQI",null,"008",null," ","AGHJA_H"]
["",null,null,null,"  ",null,null,null,null,null,null,null,null,null,null,null,", ",null,null,null,null,null,"  ",null,null,null,null,null,null,"N/A","N/A","ƏMƏK HAQQI",null,"008",null," ","AGHJA_H"]
["",null,null,null,"  ",null,null,null,null,null,null,null,null,null,null,null,", ",null,null,null,null,null,"  ",null,null,null,null,null,null,"N/A","N/A","ƏMƏK HAQQI",null,"008",null," ","AGHJA_H"]
["",null,null,null,"  ",null,null,null,null,null,null,null,null,null,null,null,", ",null,null,null,null,null,"  ",null,null,null,null,null,null,"N/A","N/A","ƏMƏK HAQQI",null,"008",null," ","AGHJA_H"]
["",null,null,null,"  ",null,null,null,null,null,null,null,null,null,null,null,", ",null,null,null,null,null,"  ",null,null,null,null,null,null,"N/A","N/A","ƏMƏK HAQQI",null,"008",null," ","AGHJA_H"]
["",null,null,null,"  ",null,null,null,null,null,null,null,null,null,null,null,", ",null,null,null,null,null,"  ",null,null,null,null,null,null,"N/A","N/A","ƏMƏK HAQQI",null,"008",null," ","AGHJA_H"]
["",null,null,null,"  ",null,null,null,null,null,null,null,null,null,null,null,", ",null,null,null,null,null,"  ",null,null,null,null,null,null,"N/A","N/A","ƏMƏK HAQQI",null,"008",null,{"$f":"CONCATENATE((SUBSTITUTE(SUBSTITUTE(SUBSTITUTE(SUBSTITUTE(SUBSTITUTE(SUBSTITUTE(SUBSTITUTE(SUBSTITUTE(SUBSTITUTE(SUBSTITUTE(SUBSTITUTE(C698,\"Ə\",\"A\"),\"J\",\"ZH\"),\"C\",\"J\"),\"Ç\",\"CH\"),\"İ\",\"I\"),\"Ğ\",\"GH\"),\"Ö\",\"O\"),\"Ü\",\"U\"),\"Ş\",\"SH\"),\"Q\",\"G\"),\"X\",\"KH\")),\" \",(SUBSTITUTE(SUBSTITUTE(SUBSTITUTE(SUBSTITUTE(SUBSTITUTE(SUBSTITUTE(SUBSTITUTE(SUBSTITUTE(SUBSTITUTE(SUBSTITUTE(SUBSTITUTE(B698,\"Ə\",\"A\"),\"J\",\"ZH\"),\"C\",\"J\"),\"Ç\",\"CH\"),\"İ\",\"I\"),\"Ğ\",\"GH\"),\"Ö\",\"O\"),\"Ü\",\"U\"),\"Ş\",\"SH\"),\"Q\",\"G\"),\"X\",\"KH\")))","v":" "},"AGHJA_H"]
["",null,null,null,{"$f":"CONCATENATE((SUBSTITUTE(SUBSTITUTE(SUBSTITUTE(SUBSTITUTE(SUBSTITUTE(SUBSTITUTE(SUBSTITUTE(SUBSTITUTE(SUBSTITUTE(SUBSTITUTE(SUBSTITUTE(C699,\"Ə\",\"A\"),\"J\",\"ZH\"),\"C\",\"J\"),\"Ç\",\"CH\"),\"İ\",\"I\"),\"Ğ\",\"GH\"),\"Ö\",\"O\"),\"Ü\",\"U\"),\"Ş\",\"SH\"),\"Q\",\"G\"),\"X\",\"KH\")),\" \",(SUBSTITUTE(SUBSTITUTE(SUBSTITUTE(SUBSTITUTE(SUBSTITUTE(SUBSTITUTE(SUBSTITUTE(SUBSTITUTE(SUBSTITUTE(SUBSTITUTE(SUBSTITUTE(B699,\"Ə\",\"A\"),\"J\",\"ZH\"),\"C\",\"J\"),\"Ç\",\"CH\"),\"İ\",\"I\"),\"Ğ\",\"GH\"),\"Ö\",\"O\"),\"Ü\",\"U\"),\"Ş\",\"SH\"),\"Q\",\"G\"),\"X\",\"KH\")),\" \",(SUBSTITUTE(SUBSTITUTE(SUBSTITUTE(SUBSTITUTE(SUBSTITUTE(SUBSTITUTE(SUBSTITUTE(SUBSTITUTE(SUBSTITUTE(SUBSTITUTE(SUBSTITUTE(SUBSTITUTE(SUBSTITUTE(D699,\" OĞLU\",\"\"),\" QIZI\",\"\"),\"Ə\",\"A\"),\"J\",\"ZH\"),\"C\",\"J\"),\"Ç\",\"CH\"),\"İ\",\"I\"),\"Ğ\",\"GH\"),\"Ö\",\"O\"),\"Ü\",\"U\"),\"Ş\",\"SH\"),\"Q\",\"G\"),\"X\",\"KH\")))","v":"  "},null,null,null,null,null,null,null,null,null,null,null,{"$f":"CONCATENATE((SUBSTITUTE(SUBSTITUTE(SUBSTITUTE(SUBSTITUTE(SUBSTITUTE(SUBSTITUTE(SUBSTITUTE(SUBSTITUTE(SUBSTITUTE(SUBSTITUTE(SUBSTITUTE(O699,\"Ə\",\"A\"),\"J\",\"ZH\"),\"C\",\"J\"),\"Ç\",\"CH\"),\"İ\",\"I\"),\"Ğ\",\"GH\"),\"Ö\",\"O\"),\"Ü\",\"U\"),\"Ş\",\"SH\"),\"Q\",\"G\"),\"X\",\"KH\")),\", \",(SUBSTITUTE(SUBSTITUTE(SUBSTITUTE(SUBSTITUTE(SUBSTITUTE(SUBSTITUTE(SUBSTITUTE(SUBSTITUTE(SUBSTITUTE(SUBSTITUTE(SUBSTITUTE(M699,\"Ə\",\"A\"),\"J\",\"ZH\"),\"C\",\"J\"),\"Ç\",\"CH\"),\"İ\",\"I\"),\"Ğ\",\"GH\"),\"Ö\",\"O\"),\"Ü\",\"U\"),\"Ş\",\"SH\"),\"Q\",\"G\"),\"X\",\"KH\")))","v":", "},null,null,null,null,null,"  ",null,null,null,null,null,null,"N/A","N/A","ƏMƏK HAQQI",null,"008",null," ","AGHJA_H"]
[{"$f":"IF(B700=\"\",\"\",A699+1)","v":""},null,null,null,"  ",null,null,null,null,null,null,null,null,null,null,null,", ",null,null,null,null,null,{"$f":"(C700:C700&\" \"&D700:D700&\" \"&B700:B700)","v":"  "},null,null,null,null,null,null,"N/A","N/A","ƏMƏK HAQQI",null,"008",null," ","AGHJA_H"]
["",null,null,null,"  ",null,null,null,null,null,null,null,null,null,null,null,", ",null,null,null,null,null,"  ",null,null,null,null,null,null,"N/A","N/A","ƏMƏK HAQQI",null,"008",null," ","AGHJA_H"]
["",null,null,null,"  ",null,null,null,null,null,null,null,null,null,null,null,", ",null,null,null,null,null,"  ",null,null,null,null,null,null,"N/A","N/A","ƏMƏK HAQQI",null,"008",null," ","AGHJA_H"]
["",null,null,null,"  ",null,null,null,null,null,null,null,null,null,null,null,", ",null,null,null,null,null,"  ",null,null,null,null,null,null,"N/A","N/A","ƏMƏK HAQQI",null,"008",null," ","AGHJA_H"]
["",null,null,null,"  ",null,null,null,null,null,null,null,null,null,null,null,", ",null,null,null,null,null,"  ",null,null,null,null,null,null,"N/A","N/A","ƏMƏK HAQQI",null,"008",null," ","AGHJA_H"]
["",null,null,null,"  ",null,null,null,null,null,null,null,null,null,null,null,", ",null,null,null,null,null,"  ",null,null,null,null,null,null,"N/A","N/A","ƏMƏK HAQQI",null,"008",null," ","AGHJA_H"]
["",null,null,null,"  ",null,null,null,null,null,null,null,null,null,null,null,", ",null,null,null,null,null,"  ",null,null,null,null,null,null,"N/A","N/A","ƏMƏK HAQQI",null,"008",null," ","AGHJA_H"]
["",null,null,null,"  ",null,null,null,null,null,null,null,null,null,null,null,", ",null,null,null,null,null,"  ",null,null,null,null,null,null,"N/A","N/A","ƏMƏK HAQQI",null,"008",null," ","AGHJA_H"]
["",null,null,null,"  ",null,null,null,null,null,null,null,null,null,null,null,", ",null,null,null,null,null,"  ",null,null,null,null,null,null,"N/A","N/A","ƏMƏK HAQQI",null,"008",null," ","AGHJA_H"]
["",null,null,null,"  ",null,null,null,null,null,null,null,null,null,null,null,", ",null,null,null,null,null,"  ",null,null,null,null,null,null,"N/A","N/A","ƏMƏK HAQQI",null,"008",null," ","AGHJA_H"]
["",null,null,null,"  ",null,null,null,null,null,null,null,null,null,null,null,", ",null,null,null,null,null,"  ",null,null,null,null,null,null,"N/A","N/A","ƏMƏK HAQQI",null,"008",null," ","AGHJA_H"]
["",null,null,null,"  ",null,null,null,null,null,null,null,null,null,null,null,", ",null,null,null,null,null,"  ",null,null,null,null,null,null,"N/A","N/A","ƏMƏK HAQQI",null,"008",null," ","AGHJA_H"]
["",null,null,null,"  ",null,null,null,null,null,null,null,null,null,null,null,", ",null,null,null,null,null,"  ",null,null,null,null,null,null,"N/A","N/A","ƏMƏK HAQQI",null,"008",null," ","AGHJA_H"]
["",null,null,null,"  ",null,null,null,null,null,null,null,null,null,null,null,", ",null,null,null,null,null,"  ",null,null,null,null,null,null,"N/A","N/A","ƏMƏK HAQQI",null,"008",null," ","AGHJA_H"]
["",null,null,null,"  ",null,null,null,null,null,null,null,null,null,null,null,", ",null,null,null,null,null,"  ",null,null,null,null,null,null,"N/A","N/A","ƏMƏK HAQQI",null,"008",null," ","AGHJA_H"]
["",null,null,null,"  ",null,null,null,null,null,null,null,null,null,null,null,", ",null,null,null,null,null,"  ",null,null,null,null,null,null,"N/A","N/A","ƏMƏK HAQQI",null,"008",null," ","AGHJA_H"]
["",null,null,null,"  ",null,null,null,null,null,null,null,null,null,null,null,", ",null,null,null,null,null,"  ",null,null,null,null,null,null,"N/A","N/A","ƏMƏK HAQQI",null,"008",null," ","AGHJA_H"]
["",null,null,null,"  ",null,null,null,null,null,null,null,null,null,null,null,", ",null,null,null,null,null,"  ",null,null,null,null,null,null,"N/A","N/A","ƏMƏK HAQQI",null,"008",null," ","AGHJA_H"]
["",null,null,null,"  ",null,null,null,null,null,null,null,null,null,null,null,", ",null,null,null,null,null,"  ",null,null,null,null,null,null,"N/A","N/A","ƏMƏK HAQQI",null,"008",null," ","AGHJA_H"]
["",null,null,null,"  ",null,null,null,null,null,null,null,null,null,null,null,", ",null,null,null,null,null,"  ",null,null,null,null,null,null,"N/A","N/A","ƏMƏK HAQQI",null,"008",null," ","AGHJA_H"]
["",null,null,null,"  ",null,null,null,null,null,null,null,null,null,null,null,", ",null,null,null,null,null,"  ",null,null,null,null,null,null,"N/A","N/A","ƏMƏK HAQQI",null,"008",null," ","AGHJA_H"]
["",null,null,null,"  ",null,null,null,null,null,null,null,null,null,null,null,", ",null,null,null,null,null,"  ",null,null,null,null,null,null,"N/A","N/A","ƏMƏK HAQQI",null,"008",null," ","AGHJA_H"]
["",null,null,null,"  ",null,null,null,null,null,null,null,null,null,null,null,", ",null,null,null,null,null,"  ",null,null,null,null,null,null,"N/A","N/A","ƏMƏK HAQQI",null,"008",null," ","AGHJA_H"]
["",null,null,null,"  ",null,null,null,null,null,null,null,null,null,null,null,", ",null,null,null,null,null,"  ",null,null,null,null,null,null,"N/A","N/A","ƏMƏK HAQQI",null,"008",null," ","AGHJA_H"]
["",null,null,null,"  ",null,null,null,null,null,null,null,null,null,null,null,", ",null,null,null,null,null,"  ",null,null,null,null,null,null,"N/A","N/A","ƏMƏK HAQQI",null,"008",null," ","AGHJA_H"]
["",null,null,null,"  ",null,null,null,null,null,null,null,null,null,null,null,", ",null,null,null,null,null,"  ",null,null,null,null,null,null,"N/A","N/A","ƏMƏK HAQQI",null,"008",null," ","AGHJA_H"]
["",null,null,null,"  ",null,null,null,null,null,null,null,null,null,null,null,", ",null,null,null,null,null,"  ",null,null,null,null,null,null,"N/A","N/A","ƏMƏK HAQQI",null,"008",null," ","AGHJA_H"]
["",null,null,null,"  ",null,null,null,null,null,null,null,null,null,null,null,", ",null,null,null,null,null,"  ",null,null,null,null,null,null,"N/A","N/A","ƏMƏK HAQQI",null,"008",null," ","AGHJA_H"]
["",null,null,null,"  ",null,null,null,null,null,null,null,null,null,null,null,", ",null,null,null,null,null,"  ",null,null,null,null,null,null,"N/A","N/A","ƏMƏK HAQQI",null,"008",null," ","AGHJA_H"]
["",null,null,null,"  ",null,null,null,null,null,null,null,null,null,null,null,", ",null,null,null,null,null,"  ",null,null,null,null,null,null,"N/A","N/A","ƏMƏK HAQQI",null,"008",null," ","AGHJA_H"]
["",null,null,null,"  ",null,null,null,null,null,null,null,null,null,null,null,", ",null,null,null,null,null,"  ",null,null,null,null,null,null,"N/A","N/A","ƏMƏK HAQQI",null,"008",null," ","AGHJA_H"]
["",null,null,null,"  ",null,null,null,null,null,null,null,null,null,null,null,", ",null,null,null,null,null,"  ",null,null,null,null,null,null,"N/A","N/A","ƏMƏK HAQQI",null,"008",null," ","AGHJA_H"]
["",null,null,null,"  ",null,null,null,null,null,null,null,null,null,null,null,", ",null,null,null,null,null,"  ",null,null,null,null,null,null,"N/A","N/A","ƏMƏK HAQQI",null,"008",null," ","AGHJA_H"]
["",null,null,null,"  ",null,null,null,null,null,null,null,null,null,null,null,", ",null,null,null,null,null,"  ",null,null,null,null,null,null,"N/A","N/A","ƏMƏK HAQQI",null,"008",null," ","AGHJA_H"]
["",null,null,null,"  ",null,null,null,null,null,null,null,null,null,null,null,", ",null,null,null,null,null,"  ",null,null,null,null,null,null,"N/A","N/A","ƏMƏK HAQQI",null,"008",null," ","AGHJA_H"]
["",null,null,null,"  ",null,null,null,null,null,null,null,null,null,null,null,", ",null,null,null,null,null,"  ",null,null,null,null,null,null,"N/A","N/A","ƏMƏK HAQQI",null,"008",null," ","AGHJA_H"]
["",null,null,null,"  ",null,null,null,null,null,null,null,null,null,null,null,", ",null,null,null,null,null,"  ",null,null,null,null,null,null,"N/A","N/A","ƏMƏK HAQQI",null,"008",null," ","AGHJA_H"]
["",null,null,null,"  ",null,null,null,null,null,null,null,null,null,null,null,", ",null,null,null,null,null,"  ",null,null,null,null,null,null,"N/A","N/A","ƏMƏK HAQQI",null,"008",null," ","AGHJA_H"]
["",null,null,null,"  ",null,null,null,null,null,null,null,null,null,null,null,", ",null,null,null,null,null,"  ",null,null,null,null,null,null,"N/A","N/A","ƏMƏK HAQQI",null,"008",null," ","AGHJA_H"]
["",null,null,null,"  ",null,null,null,null,null,null,null,null,null,null,null,", ",null,null,null,null,null,"  ",null,null,null,null,null,null,"N/A","N/A","ƏMƏK HAQQI",null,"008",null," ","AGHJA_H"]
["",null,null,null,"  ",null,null,null,null,null,null,null,null,null,null,null,", ",null,null,null,null,null,"  ",null,null,null,null,null,null,"N/A","N/A","ƏMƏK HAQQI",null,"008",null," ","AGHJA_H"]
["",null,null,null,"  ",null,null,null,null,null,null,null,null,null,null,null,", ",null,null,null,null,null,"  ",null,null,null,null,null,null,"N/A","N/A","ƏMƏK HAQQI",null,"008",null," ","AGHJA_H"]
["",null,null,null,"  ",null,null,null,null,null,null,null,null,null,null,null,", ",null,null,null,null,null,"  ",null,null,null,null,null,null,"N/A","N/A","ƏMƏK HAQQI",null,"008",null," ","AGHJA_H"]
["",null,null,null,"  ",null,null,null,null,null,null,null,null,null,null,null,", ",null,null,null,null,null,"  ",null,null,null,null,null,null,"N/A","N/A","ƏMƏK HAQQI",null,"008",null," ","AGHJA_H"]
["",null,null,null,"  ",null,null,null,null,null,null,null,null,null,null,null,", ",null,null,null,null,null,"  ",null,null,null,null,null,null,"N/A","N/A","ƏMƏK HAQQI",null,"008",null," ","AGHJA_H"]
["",null,null,null,"  ",null,null,null,null,null,null,null,null,null,null,null,", ",null,null,null,null,null,"  ",null,null,null,null,null,null,"N/A","N/A","ƏMƏK HAQQI",null,"008",null," ","AGHJA_H"]
["",null,null,null,"  ",null,null,null,null,null,null,null,null,null,null,null,", ",null,null,null,null,null,"  ",null,null,null,null,null,null,"N/A","N/A","ƏMƏK HAQQI",null,"008",null," ","AGHJA_H"]
["",null,null,null,"  ",null,null,null,null,null,null,null,null,null,null,null,", ",null,null,null,null,null,"  ",null,null,null,null,null,null,"N/A","N/A","ƏMƏK HAQQI",null,"008",null," ","AGHJA_H"]
["",null,null,null,"  ",null,null,null,null,null,null,null,null,null,null,null,", ",null,null,null,null,null,"  ",null,null,null,null,null,null,"N/A","N/A","ƏMƏK HAQQI",null,"008",null," ","AGHJA_H"]
["",null,null,null,"  ",null,null,null,null,null,null,null,null,null,null,null,", ",null,null,null,null,null,"  ",null,null,null,null,null,null,"N/A","N/A","ƏMƏK HAQQI",null,"008",null," ","AGHJA_H"]
["",null,null,null,"  ",null,null,null,null,null,null,null,null,null,null,null,", ",null,null,null,null,null,"  ",null,null,null,null,null,null,"N/A","N/A","ƏMƏK HAQQI",null,"008",null," ","AGHJA_H"]
["",null,null,null,"  ",null,null,null,null,null,null,null,null,null,null,null,", ",null,null,null,null,null,"  ",null,null,null,null,null,null,"N/A","N/A","ƏMƏK HAQQI",null,"008",null," ","AGHJA_H"]
["",null,null,null,"  ",null,null,null,null,null,null,null,null,null,null,null,", ",null,null,null,null,null,"  ",null,null,null,null,null,null,"N/A","N/A","ƏMƏK HAQQI",null,"008",null," ","AGHJA_H"]
["",null,null,null,"  ",null,null,null,null,null,null,null,null,null,null,null,", ",null,null,null,null,null,"  ",null,null,null,null,null,null,"N/A","N/A","ƏMƏK HAQQI",null,"008",null," ","AGHJA_H"]
["",null,null,null,"  ",null,null,null,null,null,null,null,null,null,null,null,", ",null,null,null,null,null,"  ",null,null,null,null,null,null,"N/A","N/A","ƏMƏK HAQQI",null,"008",null," ","AGHJA_H"]
["",null,null,null,"  ",null,null,null,null,null,null,null,null,null,null,null,", ",null,null,null,null,null,"  ",null,null,null,null,null,null,"N/A","N/A","ƏMƏK HAQQI",null,"008",null," ","AGHJA_H"]
["",null,null,null,"  ",null,null,null,null,null,null,null,null,null,null,null,", ",null,null,null,null,null,"  ",null,null,null,null,null,null,"N/A","N/A","ƏMƏK HAQQI",null,"008",null," ","AGHJA_H"]
["",null,null,null,"  ",null,null,null,null,null,null,null,null,null,null,null,", ",null,null,null,null,null,"  ",null,null,null,null,null,null,"N/A","N/A","ƏMƏK HAQQI",null,"008",null," ","AGHJA_H"]
["",null,null,null,"  ",null,null,null,null,null,null,null,null,null,null,null,", ",null,null,null,null,null,"  ",null,null,null,null,null,null,"N/A","N/A","ƏMƏK HAQQI",null,"008",null," ","AGHJA_H"]
["",null,null,null,"  ",null,null,null,null,null,null,null,null,null,null,null,", ",null,null,null,null,null,"  ",null,null,null,null,null,null,"N/A","N/A","ƏMƏK HAQQI",null,"008",null," ","AGHJA_H"]
["",null,null,null,"  ",null,null,null,null,null,null,null,null,null,null,null,", ",null,null,null,null,null,"  ",null,null,null,null,null,null,"N/A","N/A","ƏMƏK HAQQI",null,"008",null," ","AGHJA_H"]
["",null,null,null,"  ",null,null,null,null,null,null,null,null,null,null,null,", ",null,null,null,null,null,"  ",null,null,null,null,null,null,"N/A","N/A","ƏMƏK HAQQI",null,"008",null," ","AGHJA_H"]
["",null,null,null,"  ",null,null,null,null,null,null,null,null,null,null,null,", ",null,null,null,null,null,"  ",null,null,null,null,null,null,"N/A","N/A","ƏMƏK HAQQI",null,"008",null,{"$f":"CONCATENATE((SUBSTITUTE(SUBSTITUTE(SUBSTITUTE(SUBSTITUTE(SUBSTITUTE(SUBSTITUTE(SUBSTITUTE(SUBSTITUTE(SUBSTITUTE(SUBSTITUTE(SUBSTITUTE(C762,\"Ə\",\"A\"),\"J\",\"ZH\"),\"C\",\"J\"),\"Ç\",\"CH\"),\"İ\",\"I\"),\"Ğ\",\"GH\"),\"Ö\",\"O\"),\"Ü\",\"U\"),\"Ş\",\"SH\"),\"Q\",\"G\"),\"X\",\"KH\")),\" \",(SUBSTITUTE(SUBSTITUTE(SUBSTITUTE(SUBSTITUTE(SUBSTITUTE(SUBSTITUTE(SUBSTITUTE(SUBSTITUTE(SUBSTITUTE(SUBSTITUTE(SUBSTITUTE(B762,\"Ə\",\"A\"),\"J\",\"ZH\"),\"C\",\"J\"),\"Ç\",\"CH\"),\"İ\",\"I\"),\"Ğ\",\"GH\"),\"Ö\",\"O\"),\"Ü\",\"U\"),\"Ş\",\"SH\"),\"Q\",\"G\"),\"X\",\"KH\")))","v":" "},"AGHJA_H"]
["",null,null,null,{"$f":"CONCATENATE((SUBSTITUTE(SUBSTITUTE(SUBSTITUTE(SUBSTITUTE(SUBSTITUTE(SUBSTITUTE(SUBSTITUTE(SUBSTITUTE(SUBSTITUTE(SUBSTITUTE(SUBSTITUTE(C763,\"Ə\",\"A\"),\"J\",\"ZH\"),\"C\",\"J\"),\"Ç\",\"CH\"),\"İ\",\"I\"),\"Ğ\",\"GH\"),\"Ö\",\"O\"),\"Ü\",\"U\"),\"Ş\",\"SH\"),\"Q\",\"G\"),\"X\",\"KH\")),\" \",(SUBSTITUTE(SUBSTITUTE(SUBSTITUTE(SUBSTITUTE(SUBSTITUTE(SUBSTITUTE(SUBSTITUTE(SUBSTITUTE(SUBSTITUTE(SUBSTITUTE(SUBSTITUTE(B763,\"Ə\",\"A\"),\"J\",\"ZH\"),\"C\",\"J\"),\"Ç\",\"CH\"),\"İ\",\"I\"),\"Ğ\",\"GH\"),\"Ö\",\"O\"),\"Ü\",\"U\"),\"Ş\",\"SH\"),\"Q\",\"G\"),\"X\",\"KH\")),\" \",(SUBSTITUTE(SUBSTITUTE(SUBSTITUTE(SUBSTITUTE(SUBSTITUTE(SUBSTITUTE(SUBSTITUTE(SUBSTITUTE(SUBSTITUTE(SUBSTITUTE(SUBSTITUTE(SUBSTITUTE(SUBSTITUTE(D763,\" OĞLU\",\"\"),\" QIZI\",\"\"),\"Ə\",\"A\"),\"J\",\"ZH\"),\"C\",\"J\"),\"Ç\",\"CH\"),\"İ\",\"I\"),\"Ğ\",\"GH\"),\"Ö\",\"O\"),\"Ü\",\"U\"),\"Ş\",\"SH\"),\"Q\",\"G\"),\"X\",\"KH\")))","v":"  "},null,null,null,null,null,null,null,null,null,null,null,{"$f":"CONCATENATE((SUBSTITUTE(SUBSTITUTE(SUBSTITUTE(SUBSTITUTE(SUBSTITUTE(SUBSTITUTE(SUBSTITUTE(SUBSTITUTE(SUBSTITUTE(SUBSTITUTE(SUBSTITUTE(O763,\"Ə\",\"A\"),\"J\",\"ZH\"),\"C\",\"J\"),\"Ç\",\"CH\"),\"İ\",\"I\"),\"Ğ\",\"GH\"),\"Ö\",\"O\"),\"Ü\",\"U\"),\"Ş\",\"SH\"),\"Q\",\"G\"),\"X\",\"KH\")),\", \",(SUBSTITUTE(SUBSTITUTE(SUBSTITUTE(SUBSTITUTE(SUBSTITUTE(SUBSTITUTE(SUBSTITUTE(SUBSTITUTE(SUBSTITUTE(SUBSTITUTE(SUBSTITUTE(M763,\"Ə\",\"A\"),\"J\",\"ZH\"),\"C\",\"J\"),\"Ç\",\"CH\"),\"İ\",\"I\"),\"Ğ\",\"GH\"),\"Ö\",\"O\"),\"Ü\",\"U\"),\"Ş\",\"SH\"),\"Q\",\"G\"),\"X\",\"KH\")))","v":", "},null,null,null,null,null,"  ",null,null,null,null,null,null,"N/A","N/A","ƏMƏK HAQQI",null,"008",null," ","AGHJA_H"]
[{"$f":"IF(B764=\"\",\"\",A763+1)","v":""},null,null,null,"  ",null,null,null,null,null,null,null,null,null,null,null,", ",null,null,null,null,null,{"$f":"(C764:C764&\" \"&D764:D764&\" \"&B764:B764)","v":"  "},null,null,null,null,null,null,"N/A","N/A","ƏMƏK HAQQI",null,"008",null," ","AGHJA_H"]
["",null,null,null,"  ",null,null,null,null,null,null,null,null,null,null,null,", ",null,null,null,null,null,"  ",null,null,null,null,null,null,"N/A","N/A","ƏMƏK HAQQI",null,"008",null," ","AGHJA_H"]
["",null,null,null,"  ",null,null,null,null,null,null,null,null,null,null,null,", ",null,null,null,null,null,"  ",null,null,null,null,null,null,"N/A","N/A","ƏMƏK HAQQI",null,"008",null," ","AGHJA_H"]
["",null,null,null,"  ",null,null,null,null,null,null,null,null,null,null,null,", ",null,null,null,null,null,"  ",null,null,null,null,null,null,"N/A","N/A","ƏMƏK HAQQI",null,"008",null," ","AGHJA_H"]
["",null,null,null,"  ",null,null,null,null,null,null,null,null,null,null,null,", ",null,null,null,null,null,"  ",null,null,null,null,null,null,"N/A","N/A","ƏMƏK HAQQI",null,"008",null," ","AGHJA_H"]
["",null,null,null,"  ",null,null,null,null,null,null,null,null,null,null,null,", ",null,null,null,null,null,"  ",null,null,null,null,null,null,"N/A","N/A","ƏMƏK HAQQI",null,"008",null," ","AGHJA_H"]
["",null,null,null,"  ",null,null,null,null,null,null,null,null,null,null,null,", ",null,null,null,null,null,"  ",null,null,null,null,null,null,"N/A","N/A","ƏMƏK HAQQI",null,"008",null," ","AGHJA_H"]
["",null,null,null,"  ",null,null,null,null,null,null,null,null,null,null,null,", ",null,null,null,null,null,"  ",null,null,null,null,null,null,"N/A","N/A","ƏMƏK HAQQI",null,"008",null," ","AGHJA_H"]
["",null,null,null,"  ",null,null,null,null,null,null,null,null,null,null,null,", ",null,null,null,null,null,"  ",null,null,null,null,null,null,"N/A","N/A","ƏMƏK HAQQI",null,"008",null," ","AGHJA_H"]
["",null,null,null,"  ",null,null,null,null,null,null,null,null,null,null,null,", ",null,null,null,null,null,"  ",null,null,null,null,null,null,"N/A","N/A","ƏMƏK HAQQI",null,"008",null," ","AGHJA_H"]
["",null,null,null,"  ",null,null,null,null,null,null,null,null,null,null,null,", ",null,null,null,null,null,"  ",null,null,null,null,null,null,"N/A","N/A","ƏMƏK HAQQI",null,"008",null," ","AGHJA_H"]
["",null,null,null,"  ",null,null,null,null,null,null,null,null,null,null,null,", ",null,null,null,null,null,"  ",null,null,null,null,null,null,"N/A","N/A","ƏMƏK HAQQI",null,"008",null," ","AGHJA_H"]
["",null,null,null,"  ",null,null,null,null,null,null,null,null,null,null,null,", ",null,null,null,null,null,"  ",null,null,null,null,null,null,"N/A","N/A","ƏMƏK HAQQI",null,"008",null," ","AGHJA_H"]
["",null,null,null,"  ",null,null,null,null,null,null,null,null,null,null,null,", ",null,null,null,null,null,"  ",null,null,null,null,null,null,"N/A","N/A","ƏMƏK HAQQI",null,"008",null," ","AGHJA_H"]
["",null,null,null,"  ",null,null,null,null,null,null,null,null,null,null,null,", ",null,null,null,null,null,"  ",null,null,null,null,null,null,"N/A","N/A","ƏMƏK HAQQI",null,"008",null," ","AGHJA_H"]
["",null,null,null,"  ",null,null,null,null,null,null,null,null,null,null,null,", ",null,null,null,null,null,"  ",null,null,null,null,null,null,"N/A","N/A","ƏMƏK HAQQI",null,"008",null," ","AGHJA_H"]
["",null,null,null,"  ",null,null,null,null,null,null,null,null,null,null,null,", ",null,null,null,null,null,"  ",null,null,null,null,null,null,"N/A","N/A","ƏMƏK HAQQI",null,"008",null," ","AGHJA_H"]
["",null,null,null,"  ",null,null,null,null,null,null,null,null,null,null,null,", ",null,null,null,null,null,"  ",null,null,null,null,null,null,"N/A","N/A","ƏMƏK HAQQI",null,"008",null," ","AGHJA_H"]
["",null,null,null,"  ",null,null,null,null,null,null,null,null,null,null,null,", ",null,null,null,null,null,"  ",null,null,null,null,null,null,"N/A","N/A","ƏMƏK HAQQI",null,"008",null," ","AGHJA_H"]
["",null,null,null,"  ",null,null,null,null,null,null,null,null,null,null,null,", ",null,null,null,null,null,"  ",null,null,null,null,null,null,"N/A","N/A","ƏMƏK HAQQI",null,"008",null," ","AGHJA_H"]
["",null,null,null,"  ",null,null,null,null,null,null,null,null,null,null,null,", ",null,null,null,null,null,"  ",null,null,null,null,null,null,"N/A","N/A","ƏMƏK HAQQI",null,"008",null," ","AGHJA_H"]
["",null,null,null,"  ",null,null,null,null,null,null,null,null,null,null,null,", ",null,null,null,null,null,"  ",null,null,null,null,null,null,"N/A","N/A","ƏMƏK HAQQI",null,"008",null," ","AGHJA_H"]
["",null,null,null,"  ",null,null,null,null,null,null,null,null,null,null,null,", ",null,null,null,null,null,"  ",null,null,null,null,null,null,"N/A","N/A","ƏMƏK HAQQI",null,"008",null," ","AGHJA_H"]
["",null,null,null,"  ",null,null,null,null,null,null,null,null,null,null,null,", ",null,null,null,null,null,"  ",null,null,null,null,null,null,"N/A","N/A","ƏMƏK HAQQI",null,"008",null," ","AGHJA_H"]
["",null,null,null,"  ",null,null,null,null,null,null,null,null,null,null,null,", ",null,null,null,null,null,"  ",null,null,null,null,null,null,"N/A","N/A","ƏMƏK HAQQI",null,"008",null," ","AGHJA_H"]
["",null,null,null,"  ",null,null,null,null,null,null,null,null,null,null,null,", ",null,null,null,null,null,"  ",null,null,null,null,null,null,"N/A","N/A","ƏMƏK HAQQI",null,"008",null," ","AGHJA_H"]
["",null,null,null,"  ",null,null,null,null,null,null,null,null,null,null,null,", ",null,null,null,null,null,"  ",null,null,null,null,null,null,"N/A","N/A","ƏMƏK HAQQI",null,"008",null," ","AGHJA_H"]
["",null,null,null,"  ",null,null,null,null,null,null,null,null,null,null,null,", ",null,null,null,null,null,"  ",null,null,null,null,null,null,"N/A","N/A","ƏMƏK HAQQI",null,"008",null," ","AGHJA_H"]
["",null,null,null,"  ",null,null,null,null,null,null,null,null,null,null,null,", ",null,null,null,null,null,"  ",null,null,null,null,null,null,"N/A","N/A","ƏMƏK HAQQI",null,"008",null," ","AGHJA_H"]
["",null,null,null,"  ",null,null,null,null,null,null,null,null,null,null,null,", ",null,null,null,null,null,"  ",null,null,null,null,null,null,"N/A","N/A","ƏMƏK HAQQI",null,"008",null," ","AGHJA_H"]
["",null,null,null,"  ",null,null,null,null,null,null,null,null,null,null,null,", ",null,null,null,null,null,"  ",null,null,null,null,null,null,"N/A","N/A","ƏMƏK HAQQI",null,"008",null," ","AGHJA_H"]
["",null,null,null,"  ",null,null,null,null,null,null,null,null,null,null,null,", ",null,null,null,null,null,"  ",null,null,null,null,null,null,"N/A","N/A","ƏMƏK HAQQI",null,"008",null," ","AGHJA_H"]
["",null,null,null,"  ",null,null,null,null,null,null,null,null,null,null,null,", ",null,null,null,null,null,"  ",null,null,null,null,null,null,"N/A","N/A","ƏMƏK HAQQI",null,"008",null," ","AGHJA_H"]
["",null,null,null,"  ",null,null,null,null,null,null,null,null,null,null,null,", ",null,null,null,null,null,"  ",null,null,null,null,null,null,"N/A","N/A","ƏMƏK HAQQI",null,"008",null," ","AGHJA_H"]
["",null,null,null,"  ",null,null,null,null,null,null,null,null,null,null,null,", ",null,null,null,null,null,"  ",null,null,null,null,null,null,"N/A","N/A","ƏMƏK HAQQI",null,"008",null," ","AGHJA_H"]
["",null,null,null,"  ",null,null,null,null,null,null,null,null,null,null,null,", ",null,null,null,null,null,"  ",null,null,null,null,null,null,"N/A","N/A","ƏMƏK HAQQI",null,"008",null," ","AGHJA_H"]
["",null,null,null,"  ",null,null,null,null,null,null,null,null,null,null,null,", ",null,null,null,null,null,"  ",null,null,null,null,null,null,"N/A","N/A","ƏMƏK HAQQI",null,"008",null," ","AGHJA_H"]
["",null,null,null,"  ",null,null,null,null,null,null,null,null,null,null,null,", ",null,null,null,null,null,"  ",null,null,null,null,null,null,"N/A","N/A","ƏMƏK HAQQI",null,"008",null," ","AGHJA_H"]
["",null,null,null,"  ",null,null,null,null,null,null,null,null,null,null,null,", ",null,null,null,null,null,"  ",null,null,null,null,null,null,"N/A","N/A","ƏMƏK HAQQI",null,"008",null," ","AGHJA_H"]
["",null,null,null,"  ",null,null,null,null,null,null,null,null,null,null,null,", ",null,null,null,null,null,"  ",null,null,null,null,null,null,"N/A","N/A","ƏMƏK HAQQI",null,"008",null," ","AGHJA_H"]
["",null,null,null,"  ",null,null,null,null,null,null,null,null,null,null,null,", ",null,null,null,null,null,"  ",null,null,null,null,null,null,"N/A","N/A","ƏMƏK HAQQI",null,"008",null," ","AGHJA_H"]
["",null,null,null,"  ",null,null,null,null,null,null,null,null,null,null,null,", ",null,null,null,null,null,"  ",null,null,null,null,null,null,"N/A","N/A","ƏMƏK HAQQI",null,"008",null," ","AGHJA_H"]
["",null,null,null,"  ",null,null,null,null,null,null,null,null,null,null,null,", ",null,null,null,null,null,"  ",null,null,null,null,null,null,"N/A","N/A","ƏMƏK HAQQI",null,"008",null," ","AGHJA_H"]
["",null,null,null,"  ",null,null,null,null,null,null,null,null,null,null,null,", ",null,null,null,null,null,"  ",null,null,null,null,null,null,"N/A","N/A","ƏMƏK HAQQI",null,"008",null," ","AGHJA_H"]
["",null,null,null,"  ",null,null,null,null,null,null,null,null,null,null,null,", ",null,null,null,null,null,"  ",null,null,null,null,null,null,"N/A","N/A","ƏMƏK HAQQI",null,"008",null," ","AGHJA_H"]
["",null,null,null,"  ",null,null,null,null,null,null,null,null,null,null,null,", ",null,null,null,null,null,"  ",null,null,null,null,null,null,"N/A","N/A","ƏMƏK HAQQI",null,"008",null," ","AGHJA_H"]
["",null,null,null,"  ",null,null,null,null,null,null,null,null,null,null,null,", ",null,null,null,null,null,"  ",null,null,null,null,null,null,"N/A","N/A","ƏMƏK HAQQI",null,"008",null," ","AGHJA_H"]
["",null,null,null,"  ",null,null,null,null,null,null,null,null,null,null,null,", ",null,null,null,null,null,"  ",null,null,null,null,null,null,"N/A","N/A","ƏMƏK HAQQI",null,"008",null," ","AGHJA_H"]
["",null,null,null,"  ",null,null,null,null,null,null,null,null,null,null,null,", ",null,null,null,null,null,"  ",null,null,null,null,null,null,"N/A","N/A","ƏMƏK HAQQI",null,"008",null," ","AGHJA_H"]
["",null,null,null,"  ",null,null,null,null,null,null,null,null,null,null,null,", ",null,null,null,null,null,"  ",null,null,null,null,null,null,"N/A","N/A","ƏMƏK HAQQI",null,"008",null," ","AGHJA_H"]
["",null,null,null,"  ",null,null,null,null,null,null,null,null,null,null,null,", ",null,null,null,null,null,"  ",null,null,null,null,null,null,"N/A","N/A","ƏMƏK HAQQI",null,"008",null," ","AGHJA_H"]
["",null,null,null,"  ",null,null,null,null,null,null,null,null,null,null,null,", ",null,null,null,null,null,"  ",null,null,null,null,null,null,"N/A","N/A","ƏMƏK HAQQI",null,"008",null," ","AGHJA_H"]
["",null,null,null,"  ",null,null,null,null,null,null,null,null,null,null,null,", ",null,null,null,null,null,"  ",null,null,null,null,null,null,"N/A","N/A","ƏMƏK HAQQI",null,"008",null," ","AGHJA_H"]
["",null,null,null,"  ",null,null,null,null,null,null,null,null,null,null,null,", ",null,null,null,null,null,"  ",null,null,null,null,null,null,"N/A","N/A","ƏMƏK HAQQI",null,"008",null," ","AGHJA_H"]
["",null,null,null,"  ",null,null,null,null,null,null,null,null,null,null,null,", ",null,null,null,null,null,"  ",null,null,null,null,null,null,"N/A","N/A","ƏMƏK HAQQI",null,"008",null," ","AGHJA_H"]
["",null,null,null,"  ",null,null,null,null,null,null,null,null,null,null,null,", ",null,null,null,null,null,"  ",null,null,null,null,null,null,"N/A","N/A","ƏMƏK HAQQI",null,"008",null," ","AGHJA_H"]
["",null,null,null,"  ",null,null,null,null,null,null,null,null,null,null,null,", ",null,null,null,null,null,"  ",null,null,null,null,null,null,"N/A","N/A","ƏMƏK HAQQI",null,"008",null," ","AGHJA_H"]
["",null,null,null,"  ",null,null,null,null,null,null,null,null,null,null,null,", ",null,null,null,null,null,"  ",null,null,null,null,null,null,"N/A","N/A","ƏMƏK HAQQI",null,"008",null," ","AGHJA_H"]
["",null,null,null,"  ",null,null,null,null,null,null,null,null,null,null,null,", ",null,null,null,null,null,"  ",null,null,null,null,null,null,"N/A","N/A","ƏMƏK HAQQI",null,"008",null," ","AGHJA_H"]
["",null,null,null,"  ",null,null,null,null,null,null,null,null,null,null,null,", ",null,null,null,null,null,"  ",null,null,null,null,null,null,"N/A","N/A","ƏMƏK HAQQI",null,"008",null," ","AGHJA_H"]
["",null,null,null,"  ",null,null,null,null,null,null,null,null,null,null,null,", ",null,null,null,null,null,"  ",null,null,null,null,null,null,"N/A","N/A","ƏMƏK HAQQI",null,"008",null," ","AGHJA_H"]
["",null,null,null,"  ",null,null,null,null,null,null,null,null,null,null,null,", ",null,null,null,null,null,"  ",null,null,null,null,null,null,"N/A","N/A","ƏMƏK HAQQI",null,"008",null," ","AGHJA_H"]
["",null,null,null,"  ",null,null,null,null,null,null,null,null,null,null,null,", ",null,null,null,null,null,"  ",null,null,null,null,null,null,"N/A","N/A","ƏMƏK HAQQI",null,"008",null,{"$f":"CONCATENATE((SUBSTITUTE(SUBSTITUTE(SUBSTITUTE(SUBSTITUTE(SUBSTITUTE(SUBSTITUTE(SUBSTITUTE(SUBSTITUTE(SUBSTITUTE(SUBSTITUTE(SUBSTITUTE(C826,\"Ə\",\"A\"),\"J\",\"ZH\"),\"C\",\"J\"),\"Ç\",\"CH\"),\"İ\",\"I\"),\"Ğ\",\"GH\"),\"Ö\",\"O\"),\"Ü\",\"U\"),\"Ş\",\"SH\"),\"Q\",\"G\"),\"X\",\"KH\")),\" \",(SUBSTITUTE(SUBSTITUTE(SUBSTITUTE(SUBSTITUTE(SUBSTITUTE(SUBSTITUTE(SUBSTITUTE(SUBSTITUTE(SUBSTITUTE(SUBSTITUTE(SUBSTITUTE(B826,\"Ə\",\"A\"),\"J\",\"ZH\"),\"C\",\"J\"),\"Ç\",\"CH\"),\"İ\",\"I\"),\"Ğ\",\"GH\"),\"Ö\",\"O\"),\"Ü\",\"U\"),\"Ş\",\"SH\"),\"Q\",\"G\"),\"X\",\"KH\")))","v":" "},"AGHJA_H"]
["",null,null,null,{"$f":"CONCATENATE((SUBSTITUTE(SUBSTITUTE(SUBSTITUTE(SUBSTITUTE(SUBSTITUTE(SUBSTITUTE(SUBSTITUTE(SUBSTITUTE(SUBSTITUTE(SUBSTITUTE(SUBSTITUTE(C827,\"Ə\",\"A\"),\"J\",\"ZH\"),\"C\",\"J\"),\"Ç\",\"CH\"),\"İ\",\"I\"),\"Ğ\",\"GH\"),\"Ö\",\"O\"),\"Ü\",\"U\"),\"Ş\",\"SH\"),\"Q\",\"G\"),\"X\",\"KH\")),\" \",(SUBSTITUTE(SUBSTITUTE(SUBSTITUTE(SUBSTITUTE(SUBSTITUTE(SUBSTITUTE(SUBSTITUTE(SUBSTITUTE(SUBSTITUTE(SUBSTITUTE(SUBSTITUTE(B827,\"Ə\",\"A\"),\"J\",\"ZH\"),\"C\",\"J\"),\"Ç\",\"CH\"),\"İ\",\"I\"),\"Ğ\",\"GH\"),\"Ö\",\"O\"),\"Ü\",\"U\"),\"Ş\",\"SH\"),\"Q\",\"G\"),\"X\",\"KH\")),\" \",(SUBSTITUTE(SUBSTITUTE(SUBSTITUTE(SUBSTITUTE(SUBSTITUTE(SUBSTITUTE(SUBSTITUTE(SUBSTITUTE(SUBSTITUTE(SUBSTITUTE(SUBSTITUTE(SUBSTITUTE(SUBSTITUTE(D827,\" OĞLU\",\"\"),\" QIZI\",\"\"),\"Ə\",\"A\"),\"J\",\"ZH\"),\"C\",\"J\"),\"Ç\",\"CH\"),\"İ\",\"I\"),\"Ğ\",\"GH\"),\"Ö\",\"O\"),\"Ü\",\"U\"),\"Ş\",\"SH\"),\"Q\",\"G\"),\"X\",\"KH\")))","v":"  "},null,null,null,null,null,null,null,null,null,null,null,{"$f":"CONCATENATE((SUBSTITUTE(SUBSTITUTE(SUBSTITUTE(SUBSTITUTE(SUBSTITUTE(SUBSTITUTE(SUBSTITUTE(SUBSTITUTE(SUBSTITUTE(SUBSTITUTE(SUBSTITUTE(O827,\"Ə\",\"A\"),\"J\",\"ZH\"),\"C\",\"J\"),\"Ç\",\"CH\"),\"İ\",\"I\"),\"Ğ\",\"GH\"),\"Ö\",\"O\"),\"Ü\",\"U\"),\"Ş\",\"SH\"),\"Q\",\"G\"),\"X\",\"KH\")),\", \",(SUBSTITUTE(SUBSTITUTE(SUBSTITUTE(SUBSTITUTE(SUBSTITUTE(SUBSTITUTE(SUBSTITUTE(SUBSTITUTE(SUBSTITUTE(SUBSTITUTE(SUBSTITUTE(M827,\"Ə\",\"A\"),\"J\",\"ZH\"),\"C\",\"J\"),\"Ç\",\"CH\"),\"İ\",\"I\"),\"Ğ\",\"GH\"),\"Ö\",\"O\"),\"Ü\",\"U\"),\"Ş\",\"SH\"),\"Q\",\"G\"),\"X\",\"KH\")))","v":", "},null,null,null,null,null,"  ",null,null,null,null,null,null,"N/A","N/A","ƏMƏK HAQQI",null,"008",null," ","AGHJA_H"]
[{"$f":"IF(B828=\"\",\"\",A827+1)","v":""},null,null,null,"  ",null,null,null,null,null,null,null,null,null,null,null,", ",null,null,null,null,null,{"$f":"(C828:C828&\" \"&D828:D828&\" \"&B828:B828)","v":"  "},null,null,null,null,null,null,"N/A","N/A","ƏMƏK HAQQI",null,"008",null," ","AGHJA_H"]
["",null,null,null,"  ",null,null,null,null,null,null,null,null,null,null,null,", ",null,null,null,null,null,"  ",null,null,null,null,null,null,"N/A","N/A","ƏMƏK HAQQI",null,"008",null," ","AGHJA_H"]
["",null,null,null,"  ",null,null,null,null,null,null,null,null,null,null,null,", ",null,null,null,null,null,"  ",null,null,null,null,null,null,"N/A","N/A","ƏMƏK HAQQI",null,"008",null," ","AGHJA_H"]
["",null,null,null,"  ",null,null,null,null,null,null,null,null,null,null,null,", ",null,null,null,null,null,"  ",null,null,null,null,null,null,"N/A","N/A","ƏMƏK HAQQI",null,"008",null," ","AGHJA_H"]
["",null,null,null,"  ",null,null,null,null,null,null,null,null,null,null,null,", ",null,null,null,null,null,"  ",null,null,null,null,null,null,"N/A","N/A","ƏMƏK HAQQI",null,"008",null," ","AGHJA_H"]
["",null,null,null,"  ",null,null,null,null,null,null,null,null,null,null,null,", ",null,null,null,null,null,"  ",null,null,null,null,null,null,"N/A","N/A","ƏMƏK HAQQI",null,"008",null," ","AGHJA_H"]
["",null,null,null,"  ",null,null,null,null,null,null,null,null,null,null,null,", ",null,null,null,null,null,"  ",null,null,null,null,null,null,"N/A","N/A","ƏMƏK HAQQI",null,"008",null," ","AGHJA_H"]
["",null,null,null,"  ",null,null,null,null,null,null,null,null,null,null,null,", ",null,null,null,null,null,"  ",null,null,null,null,null,null,"N/A","N/A","ƏMƏK HAQQI",null,"008",null," ","AGHJA_H"]
["",null,null,null,"  ",null,null,null,null,null,null,null,null,null,null,null,", ",null,null,null,null,null,"  ",null,null,null,null,null,null,"N/A","N/A","ƏMƏK HAQQI",null,"008",null," ","AGHJA_H"]
["",null,null,null,"  ",null,null,null,null,null,null,null,null,null,null,null,", ",null,null,null,null,null,"  ",null,null,null,null,null,null,"N/A","N/A","ƏMƏK HAQQI",null,"008",null," ","AGHJA_H"]
["",null,null,null,"  ",null,null,null,null,null,null,null,null,null,null,null,", ",null,null,null,null,null,"  ",null,null,null,null,null,null,"N/A","N/A","ƏMƏK HAQQI",null,"008",null," ","AGHJA_H"]
["",null,null,null,"  ",null,null,null,null,null,null,null,null,null,null,null,", ",null,null,null,null,null,"  ",null,null,null,null,null,null,"N/A","N/A","ƏMƏK HAQQI",null,"008",null," ","AGHJA_H"]
["",null,null,null,"  ",null,null,null,null,null,null,null,null,null,null,null,", ",null,null,null,null,null,"  ",null,null,null,null,null,null,"N/A","N/A","ƏMƏK HAQQI",null,"008",null," ","AGHJA_H"]
["",null,null,null,"  ",null,null,null,null,null,null,null,null,null,null,null,", ",null,null,null,null,null,"  ",null,null,null,null,null,null,"N/A","N/A","ƏMƏK HAQQI",null,"008",null," ","AGHJA_H"]
["",null,null,null,"  ",null,null,null,null,null,null,null,null,null,null,null,", ",null,null,null,null,null,"  ",null,null,null,null,null,null,"N/A","N/A","ƏMƏK HAQQI",null,"008",null," ","AGHJA_H"]
["",null,null,null,"  ",null,null,null,null,null,null,null,null,null,null,null,", ",null,null,null,null,null,"  ",null,null,null,null,null,null,"N/A","N/A","ƏMƏK HAQQI",null,"008",null," ","AGHJA_H"]
["",null,null,null,"  ",null,null,null,null,null,null,null,null,null,null,null,", ",null,null,null,null,null,"  ",null,null,null,null,null,null,"N/A","N/A","ƏMƏK HAQQI",null,"008",null," ","AGHJA_H"]
["",null,null,null,"  ",null,null,null,null,null,null,null,null,null,null,null,", ",null,null,null,null,null,"  ",null,null,null,null,null,null,"N/A","N/A","ƏMƏK HAQQI",null,"008",null," ","AGHJA_H"]
["",null,null,null,"  ",null,null,null,null,null,null,null,null,null,null,null,", ",null,null,null,null,null,"  ",null,null,null,null,null,null,"N/A","N/A","ƏMƏK HAQQI",null,"008",null," ","AGHJA_H"]
["",null,null,null,"  ",null,null,null,null,null,null,null,null,null,null,null,", ",null,null,null,null,null,"  ",null,null,null,null,null,null,"N/A","N/A","ƏMƏK HAQQI",null,"008",null," ","AGHJA_H"]
["",null,null,null,"  ",null,null,null,null,null,null,null,null,null,null,null,", ",null,null,null,null,null,"  ",null,null,null,null,null,null,"N/A","N/A","ƏMƏK HAQQI",null,"008",null," ","AGHJA_H"]
["",null,null,null,"  ",null,null,null,null,null,null,null,null,null,null,null,", ",null,null,null,null,null,"  ",null,null,null,null,null,null,"N/A","N/A","ƏMƏK HAQQI",null,"008",null," ","AGHJA_H"]
["",null,null,null,"  ",null,null,null,null,null,null,null,null,null,null,null,", ",null,null,null,null,null,"  ",null,null,null,null,null,null,"N/A","N/A","ƏMƏK HAQQI",null,"008",null," ","AGHJA_H"]
["",null,null,null,"  ",null,null,null,null,null,null,null,null,null,null,null,", ",null,null,null,null,null,"  ",null,null,null,null,null,null,"N/A","N/A","ƏMƏK HAQQI",null,"008",null," ","AGHJA_H"]
["",null,null,null,"  ",null,null,null,null,null,null,null,null,null,null,null,", ",null,null,null,null,null,"  ",null,null,null,null,null,null,"N/A","N/A","ƏMƏK HAQQI",null,"008",null," ","AGHJA_H"]
["",null,null,null,"  ",null,null,null,null,null,null,null,null,null,null,null,", ",null,null,null,null,null,"  ",null,null,null,null,null,null,"N/A","N/A","ƏMƏK HAQQI",null,"008",null," ","AGHJA_H"]
["",null,null,null,"  ",null,null,null,null,null,null,null,null,null,null,null,", ",null,null,null,null,null,"  ",null,null,null,null,null,null,"N/A","N/A","ƏMƏK HAQQI",null,"008",null," ","AGHJA_H"]
["",null,null,null,"  ",null,null,null,null,null,null,null,null,null,null,null,", ",null,null,null,null,null,"  ",null,null,null,null,null,null,"N/A","N/A","ƏMƏK HAQQI",null,"008",null," ","AGHJA_H"]
["",null,null,null,"  ",null,null,null,null,null,null,null,null,null,null,null,", ",null,null,null,null,null,"  ",null,null,null,null,null,null,"N/A","N/A","ƏMƏK HAQQI",null,"008",null," ","AGHJA_H"]
["",null,null,null,"  ",null,null,null,null,null,null,null,null,null,null,null,", ",null,null,null,null,null,"  ",null,null,null,null,null,null,"N/A","N/A","ƏMƏK HAQQI",null,"008",null," ","AGHJA_H"]
["",null,null,null,"  ",null,null,null,null,null,null,null,null,null,null,null,", ",null,null,null,null,null,"  ",null,null,null,null,null,null,"N/A","N/A","ƏMƏK HAQQI",null,"008",null," ","AGHJA_H"]
["",null,null,null,"  ",null,null,null,null,null,null,null,null,null,null,null,", ",null,null,null,null,null,"  ",null,null,null,null,null,null,"N/A","N/A","ƏMƏK HAQQI",null,"008",null," ","AGHJA_H"]
["",null,null,null,"  ",null,null,null,null,null,null,null,null,null,null,null,", ",null,null,null,null,null,"  ",null,null,null,null,null,null,"N/A","N/A","ƏMƏK HAQQI",null,"008",null," ","AGHJA_H"]
["",null,null,null,"  ",null,null,null,null,null,null,null,null,null,null,null,", ",null,null,null,null,null,"  ",null,null,null,null,null,null,"N/A","N/A","ƏMƏK HAQQI",null,"008",null," ","AGHJA_H"]
["",null,null,null,"  ",null,null,null,null,null,null,null,null,null,null,null,", ",null,null,null,null,null,"  ",null,null,null,null,null,null,"N/A","N/A","ƏMƏK HAQQI",null,"008",null," ","AGHJA_H"]
["",null,null,null,"  ",null,null,null,null,null,null,null,null,null,null,null,", ",null,null,null,null,null,"  ",null,null,null,null,null,null,"N/A","N/A","ƏMƏK HAQQI",null,"008",null," ","AGHJA_H"]
["",null,null,null,"  ",null,null,null,null,null,null,null,null,null,null,null,", ",null,null,null,null,null,"  ",null,null,null,null,null,null,"N/A","N/A","ƏMƏK HAQQI",null,"008",null," ","AGHJA_H"]
["",null,null,null,"  ",null,null,null,null,null,null,null,null,null,null,null,", ",null,null,null,null,null,"  ",null,null,null,null,null,null,"N/A","N/A","ƏMƏK HAQQI",null,"008",null," ","AGHJA_H"]
["",null,null,null,"  ",null,null,null,null,null,null,null,null,null,null,null,", ",null,null,null,null,null,"  ",null,null,null,null,null,null,"N/A","N/A","ƏMƏK HAQQI",null,"008",null," ","AGHJA_H"]
["",null,null,null,"  ",null,null,null,null,null,null,null,null,null,null,null,", ",null,null,null,null,null,"  ",null,null,null,null,null,null,"N/A","N/A","ƏMƏK HAQQI",null,"008",null," ","AGHJA_H"]
["",null,null,null,"  ",null,null,null,null,null,null,null,null,null,null,null,", ",null,null,null,null,null,"  ",null,null,null,null,null,null,"N/A","N/A","ƏMƏK HAQQI",null,"008",null," ","AGHJA_H"]
["",null,null,null,"  ",null,null,null,null,null,null,null,null,null,null,null,", ",null,null,null,null,null,"  ",null,null,null,null,null,null,"N/A","N/A","ƏMƏK HAQQI",null,"008",null," ","AGHJA_H"]
["",null,null,null,"  ",null,null,null,null,null,null,null,null,null,null,null,", ",null,null,null,null,null,"  ",null,null,null,null,null,null,"N/A","N/A","ƏMƏK HAQQI",null,"008",null," ","AGHJA_H"]
["",null,null,null,"  ",null,null,null,null,null,null,null,null,null,null,null,", ",null,null,null,null,null,"  ",null,null,null,null,null,null,"N/A","N/A","ƏMƏK HAQQI",null,"008",null," ","AGHJA_H"]
["",null,null,null,"  ",null,null,null,null,null,null,null,null,null,null,null,", ",null,null,null,null,null,"  ",null,null,null,null,null,null,"N/A","N/A","ƏMƏK HAQQI",null,"008",null," ","AGHJA_H"]
["",null,null,null,"  ",null,null,null,null,null,null,null,null,null,null,null,", ",null,null,null,null,null,"  ",null,null,null,null,null,null,"N/A","N/A","ƏMƏK HAQQI",null,"008",null," ","AGHJA_H"]
["",null,null,null,"  ",null,null,null,null,null,null,null,null,null,null,null,", ",null,null,null,null,null,"  ",null,null,null,null,null,null,"N/A","N/A","ƏMƏK HAQQI",null,"008",null," ","AGHJA_H"]
["",null,null,null,"  ",null,null,null,null,null,null,null,null,null,null,null,", ",null,null,null,null,null,"  ",null,null,null,null,null,null,"N/A","N/A","ƏMƏK HAQQI",null,"008",null," ","AGHJA_H"]
["",null,null,null,"  ",null,null,null,null,null,null,null,null,null,null,null,", ",null,null,null,null,null,"  ",null,null,null,null,null,null,"N/A","N/A","ƏMƏK HAQQI",null,"008",null," ","AGHJA_H"]
["",null,null,null,"  ",null,null,null,null,null,null,null,null,null,null,null,", ",null,null,null,null,null,"  ",null,null,null,null,null,null,"N/A","N/A","ƏMƏK HAQQI",null,"008",null," ","AGHJA_H"]
["",null,null,null,"  ",null,null,null,null,null,null,null,null,null,null,null,", ",null,null,null,null,null,"  ",null,null,null,null,null,null,"N/A","N/A","ƏMƏK HAQQI",null,"008",null," ","AGHJA_H"]
["",null,null,null,"  ",null,null,null,null,null,null,null,null,null,null,null,", ",null,null,null,null,null,"  ",null,null,null,null,null,null,"N/A","N/A","ƏMƏK HAQQI",null,"008",null," ","AGHJA_H"]
["",null,null,null,"  ",null,null,null,null,null,null,null,null,null,null,null,", ",null,null,null,null,null,"  ",null,null,null,null,null,null,"N/A","N/A","ƏMƏK HAQQI",null,"008",null," ","AGHJA_H"]
["",null,null,null,"  ",null,null,null,null,null,null,null,null,null,null,null,", ",null,null,null,null,null,"  ",null,null,null,null,null,null,"N/A","N/A","ƏMƏK HAQQI",null,"008",null," ","AGHJA_H"]
["",null,null,null,"  ",null,null,null,null,null,null,null,null,null,null,null,", ",null,null,null,null,null,"  ",null,null,null,null,null,null,"N/A","N/A","ƏMƏK HAQQI",null,"008",null," ","AGHJA_H"]
["",null,null,null,"  ",null,null,null,null,null,null,null,null,null,null,null,", ",null,null,null,null,null,"  ",null,null,null,null,null,null,"N/A","N/A","ƏMƏK HAQQI",null,"008",null," ","AGHJA_H"]
["",null,null,null,"  ",null,null,null,null,null,null,null,null,null,null,null,", ",null,null,null,null,null,"  ",null,null,null,null,null,null,"N/A","N/A","ƏMƏK HAQQI",null,"008",null," ","AGHJA_H"]
["",null,null,null,"  ",null,null,null,null,null,null,null,null,null,null,null,", ",null,null,null,null,null,"  ",null,null,null,null,null,null,"N/A","N/A","ƏMƏK HAQQI",null,"008",null," ","AGHJA_H"]
["",null,null,null,"  ",null,null,null,null,null,null,null,null,null,null,null,", ",null,null,null,null,null,"  ",null,null,null,null,null,null,"N/A","N/A","ƏMƏK HAQQI",null,"008",null," ","AGHJA_H"]
["",null,null,null,"  ",null,null,null,null,null,null,null,null,null,null,null,", ",null,null,null,null,null,"  ",null,null,null,null,null,null,"N/A","N/A","ƏMƏK HAQQI",null,"008",null," ","AGHJA_H"]
["",null,null,null,"  ",null,null,null,null,null,null,null,null,null,null,null,", ",null,null,null,null,null,"  ",null,null,null,null,null,null,"N/A","N/A","ƏMƏK HAQQI",null,"008",null," ","AGHJA_H"]
["",null,null,null,"  ",null,null,null,null,null,null,null,null,null,null,null,", ",null,null,null,null,null,"  ",null,null,null,null,null,null,"N/A","N/A","ƏMƏK HAQQI",null,"008",null," ","AGHJA_H"]
["",null,null,null,"  ",null,null,null,null,null,null,null,null,null,null,null,", ",null,null,null,null,null,"  ",null,null,null,null,null,null,"N/A","N/A","ƏMƏK HAQQI",null,"008",null,{"$f":"CONCATENATE((SUBSTITUTE(SUBSTITUTE(SUBSTITUTE(SUBSTITUTE(SUBSTITUTE(SUBSTITUTE(SUBSTITUTE(SUBSTITUTE(SUBSTITUTE(SUBSTITUTE(SUBSTITUTE(C890,\"Ə\",\"A\"),\"J\",\"ZH\"),\"C\",\"J\"),\"Ç\",\"CH\"),\"İ\",\"I\"),\"Ğ\",\"GH\"),\"Ö\",\"O\"),\"Ü\",\"U\"),\"Ş\",\"SH\"),\"Q\",\"G\"),\"X\",\"KH\")),\" \",(SUBSTITUTE(SUBSTITUTE(SUBSTITUTE(SUBSTITUTE(SUBSTITUTE(SUBSTITUTE(SUBSTITUTE(SUBSTITUTE(SUBSTITUTE(SUBSTITUTE(SUBSTITUTE(B890,\"Ə\",\"A\"),\"J\",\"ZH\"),\"C\",\"J\"),\"Ç\",\"CH\"),\"İ\",\"I\"),\"Ğ\",\"GH\"),\"Ö\",\"O\"),\"Ü\",\"U\"),\"Ş\",\"SH\"),\"Q\",\"G\"),\"X\",\"KH\")))","v":" "},"AGHJA_H"]
["",null,null,null,{"$f":"CONCATENATE((SUBSTITUTE(SUBSTITUTE(SUBSTITUTE(SUBSTITUTE(SUBSTITUTE(SUBSTITUTE(SUBSTITUTE(SUBSTITUTE(SUBSTITUTE(SUBSTITUTE(SUBSTITUTE(C891,\"Ə\",\"A\"),\"J\",\"ZH\"),\"C\",\"J\"),\"Ç\",\"CH\"),\"İ\",\"I\"),\"Ğ\",\"GH\"),\"Ö\",\"O\"),\"Ü\",\"U\"),\"Ş\",\"SH\"),\"Q\",\"G\"),\"X\",\"KH\")),\" \",(SUBSTITUTE(SUBSTITUTE(SUBSTITUTE(SUBSTITUTE(SUBSTITUTE(SUBSTITUTE(SUBSTITUTE(SUBSTITUTE(SUBSTITUTE(SUBSTITUTE(SUBSTITUTE(B891,\"Ə\",\"A\"),\"J\",\"ZH\"),\"C\",\"J\"),\"Ç\",\"CH\"),\"İ\",\"I\"),\"Ğ\",\"GH\"),\"Ö\",\"O\"),\"Ü\",\"U\"),\"Ş\",\"SH\"),\"Q\",\"G\"),\"X\",\"KH\")),\" \",(SUBSTITUTE(SUBSTITUTE(SUBSTITUTE(SUBSTITUTE(SUBSTITUTE(SUBSTITUTE(SUBSTITUTE(SUBSTITUTE(SUBSTITUTE(SUBSTITUTE(SUBSTITUTE(SUBSTITUTE(SUBSTITUTE(D891,\" OĞLU\",\"\"),\" QIZI\",\"\"),\"Ə\",\"A\"),\"J\",\"ZH\"),\"C\",\"J\"),\"Ç\",\"CH\"),\"İ\",\"I\"),\"Ğ\",\"GH\"),\"Ö\",\"O\"),\"Ü\",\"U\"),\"Ş\",\"SH\"),\"Q\",\"G\"),\"X\",\"KH\")))","v":"  "},null,null,null,null,null,null,null,null,null,null,null,{"$f":"CONCATENATE((SUBSTITUTE(SUBSTITUTE(SUBSTITUTE(SUBSTITUTE(SUBSTITUTE(SUBSTITUTE(SUBSTITUTE(SUBSTITUTE(SUBSTITUTE(SUBSTITUTE(SUBSTITUTE(O891,\"Ə\",\"A\"),\"J\",\"ZH\"),\"C\",\"J\"),\"Ç\",\"CH\"),\"İ\",\"I\"),\"Ğ\",\"GH\"),\"Ö\",\"O\"),\"Ü\",\"U\"),\"Ş\",\"SH\"),\"Q\",\"G\"),\"X\",\"KH\")),\", \",(SUBSTITUTE(SUBSTITUTE(SUBSTITUTE(SUBSTITUTE(SUBSTITUTE(SUBSTITUTE(SUBSTITUTE(SUBSTITUTE(SUBSTITUTE(SUBSTITUTE(SUBSTITUTE(M891,\"Ə\",\"A\"),\"J\",\"ZH\"),\"C\",\"J\"),\"Ç\",\"CH\"),\"İ\",\"I\"),\"Ğ\",\"GH\"),\"Ö\",\"O\"),\"Ü\",\"U\"),\"Ş\",\"SH\"),\"Q\",\"G\"),\"X\",\"KH\")))","v":", "},null,null,null,null,null,"  ",null,null,null,null,null,null,"N/A","N/A","ƏMƏK HAQQI",null,"008",null," ","AGHJA_H"]
[{"$f":"IF(B892=\"\",\"\",A891+1)","v":""},null,null,null,"  ",null,null,null,null,null,null,null,null,null,null,null,", ",null,null,null,null,null,{"$f":"(C892:C892&\" \"&D892:D892&\" \"&B892:B892)","v":"  "},null,null,null,null,null,null,"N/A","N/A","ƏMƏK HAQQI",null,"008",null," ","AGHJA_H"]
["",null,null,null,"  ",null,null,null,null,null,null,null,null,null,null,null,", ",null,null,null,null,null,"  ",null,null,null,null,null,null,"N/A","N/A","ƏMƏK HAQQI",null,"008",null," ","AGHJA_H"]
["",null,null,null,"  ",null,null,null,null,null,null,null,null,null,null,null,", ",null,null,null,null,null,"  ",null,null,null,null,null,null,"N/A","N/A","ƏMƏK HAQQI",null,"008",null," ","AGHJA_H"]
["",null,null,null,"  ",null,null,null,null,null,null,null,null,null,null,null,", ",null,null,null,null,null,"  ",null,null,null,null,null,null,"N/A","N/A","ƏMƏK HAQQI",null,"008",null," ","AGHJA_H"]
["",null,null,null,"  ",null,null,null,null,null,null,null,null,null,null,null,", ",null,null,null,null,null,"  ",null,null,null,null,null,null,"N/A","N/A","ƏMƏK HAQQI",null,"008",null," ","AGHJA_H"]
["",null,null,null,"  ",null,null,null,null,null,null,null,null,null,null,null,", ",null,null,null,null,null,"  ",null,null,null,null,null,null,"N/A","N/A","ƏMƏK HAQQI",null,"008",null," ","AGHJA_H"]
["",null,null,null,"  ",null,null,null,null,null,null,null,null,null,null,null,", ",null,null,null,null,null,"  ",null,null,null,null,null,null,"N/A","N/A","ƏMƏK HAQQI",null,"008",null," ","AGHJA_H"]
["",null,null,null,"  ",null,null,null,null,null,null,null,null,null,null,null,", ",null,null,null,null,null,"  ",null,null,null,null,null,null,"N/A","N/A","ƏMƏK HAQQI",null,"008",null," ","AGHJA_H"]
["",null,null,null,"  ",null,null,null,null,null,null,null,null,null,null,null,", ",null,null,null,null,null,"  ",null,null,null,null,null,null,"N/A","N/A","ƏMƏK HAQQI",null,"008",null," ","AGHJA_H"]
["",null,null,null,"  ",null,null,null,null,null,null,null,null,null,null,null,", ",null,null,null,null,null,"  ",null,null,null,null,null,null,"N/A","N/A","ƏMƏK HAQQI",null,"008",null," ","AGHJA_H"]
["",null,null,null,"  ",null,null,null,null,null,null,null,null,null,null,null,", ",null,null,null,null,null,"  ",null,null,null,null,null,null,"N/A","N/A","ƏMƏK HAQQI",null,"008",null," ","AGHJA_H"]
["",null,null,null,"  ",null,null,null,null,null,null,null,null,null,null,null,", ",null,null,null,null,null,"  ",null,null,null,null,null,null,"N/A","N/A","ƏMƏK HAQQI",null,"008",null," ","AGHJA_H"]
["",null,null,null,"  ",null,null,null,null,null,null,null,null,null,null,null,", ",null,null,null,null,null,"  ",null,null,null,null,null,null,"N/A","N/A","ƏMƏK HAQQI",null,"008",null," ","AGHJA_H"]
["",null,null,null,"  ",null,null,null,null,null,null,null,null,null,null,null,", ",null,null,null,null,null,"  ",null,null,null,null,null,null,"N/A","N/A","ƏMƏK HAQQI",null,"008",null," ","AGHJA_H"]
["",null,null,null,"  ",null,null,null,null,null,null,null,null,null,null,null,", ",null,null,null,null,null,"  ",null,null,null,null,null,null,"N/A","N/A","ƏMƏK HAQQI",null,"008",null," ","AGHJA_H"]
["",null,null,null,"  ",null,null,null,null,null,null,null,null,null,null,null,", ",null,null,null,null,null,"  ",null,null,null,null,null,null,"N/A","N/A","ƏMƏK HAQQI",null,"008",null," ","AGHJA_H"]
["",null,null,null,"  ",null,null,null,null,null,null,null,null,null,null,null,", ",null,null,null,null,null,"  ",null,null,null,null,null,null,"N/A","N/A","ƏMƏK HAQQI",null,"008",null," ","AGHJA_H"]
["",null,null,null,"  ",null,null,null,null,null,null,null,null,null,null,null,", ",null,null,null,null,null,"  ",null,null,null,null,null,null,"N/A","N/A","ƏMƏK HAQQI",null,"008",null," ","AGHJA_H"]
["",null,null,null,"  ",null,null,null,null,null,null,null,null,null,null,null,", ",null,null,null,null,null,"  ",null,null,null,null,null,null,"N/A","N/A","ƏMƏK HAQQI",null,"008",null," ","AGHJA_H"]
["",null,null,null,"  ",null,null,null,null,null,null,null,null,null,null,null,", ",null,null,null,null,null,"  ",null,null,null,null,null,null,"N/A","N/A","ƏMƏK HAQQI",null,"008",null," ","AGHJA_H"]
["",null,null,null,"  ",null,null,null,null,null,null,null,null,null,null,null,", ",null,null,null,null,null,"  ",null,null,null,null,null,null,"N/A","N/A","ƏMƏK HAQQI",null,"008",null," ","AGHJA_H"]
["",null,null,null,"  ",null,null,null,null,null,null,null,null,null,null,null,", ",null,null,null,null,null,"  ",null,null,null,null,null,null,"N/A","N/A","ƏMƏK HAQQI",null,"008",null," ","AGHJA_H"]
["",null,null,null,"  ",null,null,null,null,null,null,null,null,null,null,null,", ",null,null,null,null,null,"  ",null,null,null,null,null,null,"N/A","N/A","ƏMƏK HAQQI",null,"008",null," ","AGHJA_H"]
["",null,null,null,"  ",null,null,null,null,null,null,null,null,null,null,null,", ",null,null,null,null,null,"  ",null,null,null,null,null,null,"N/A","N/A","ƏMƏK HAQQI",null,"008",null," ","AGHJA_H"]
["",null,null,null,"  ",null,null,null,null,null,null,null,null,null,null,null,", ",null,null,null,null,null,"  ",null,null,null,null,null,null,"N/A","N/A","ƏMƏK HAQQI",null,"008",null," ","AGHJA_H"]
["",null,null,null,"  ",null,null,null,null,null,null,null,null,null,null,null,", ",null,null,null,null,null,"  ",null,null,null,null,null,null,"N/A","N/A","ƏMƏK HAQQI",null,"008",null," ","AGHJA_H"]
["",null,null,null,"  ",null,null,null,null,null,null,null,null,null,null,null,", ",null,null,null,null,null,"  ",null,null,null,null,null,null,"N/A","N/A","ƏMƏK HAQQI",null,"008",null," ","AGHJA_H"]
["",null,null,null,"  ",null,null,null,null,null,null,null,null,null,null,null,", ",null,null,null,null,null,"  ",null,null,null,null,null,null,"N/A","N/A","ƏMƏK HAQQI",null,"008",null," ","AGHJA_H"]
["",null,null,null,"  ",null,null,null,null,null,null,null,null,null,null,null,", ",null,null,null,null,null,"  ",null,null,null,null,null,null,"N/A","N/A","ƏMƏK HAQQI",null,"008",null," ","AGHJA_H"]
["",null,null,null,"  ",null,null,null,null,null,null,null,null,null,null,null,", ",null,null,null,null,null,"  ",null,null,null,null,null,null,"N/A","N/A","ƏMƏK HAQQI",null,"008",null," ","AGHJA_H"]
["",null,null,null,"  ",null,null,null,null,null,null,null,null,null,null,null,", ",null,null,null,null,null,"  ",null,null,null,null,null,null,"N/A","N/A","ƏMƏK HAQQI",null,"008",null," ","AGHJA_H"]
["",null,null,null,"  ",null,null,null,null,null,null,null,null,null,null,null,", ",null,null,null,null,null,"  ",null,null,null,null,null,null,"N/A","N/A","ƏMƏK HAQQI",null,"008",null," ","AGHJA_H"]
["",null,null,null,"  ",null,null,null,null,null,null,null,null,null,null,null,", ",null,null,null,null,null,"  ",null,null,null,null,null,null,"N/A","N/A","ƏMƏK HAQQI",null,"008",null," ","AGHJA_H"]
["",null,null,null,"  ",null,null,null,null,null,null,null,null,null,null,null,", ",null,null,null,null,null,"  ",null,null,null,null,null,null,"N/A","N/A","ƏMƏK HAQQI",null,"008",null," ","AGHJA_H"]
["",null,null,null,"  ",null,null,null,null,null,null,null,null,null,null,null,", ",null,null,null,null,null,"  ",null,null,null,null,null,null,"N/A","N/A","ƏMƏK HAQQI",null,"008",null," ","AGHJA_H"]
["",null,null,null,"  ",null,null,null,null,null,null,null,null,null,null,null,", ",null,null,null,null,null,"  ",null,null,null,null,null,null,"N/A","N/A","ƏMƏK HAQQI",null,"008",null," ","AGHJA_H"]
["",null,null,null,"  ",null,null,null,null,null,null,null,null,null,null,null,", ",null,null,null,null,null,"  ",null,null,null,null,null,null,"N/A","N/A","ƏMƏK HAQQI",null,"008",null," ","AGHJA_H"]
["",null,null,null,"  ",null,null,null,null,null,null,null,null,null,null,null,", ",null,null,null,null,null,"  ",null,null,null,null,null,null,"N/A","N/A","ƏMƏK HAQQI",null,"008",null," ","AGHJA_H"]
["",null,null,null,"  ",null,null,null,null,null,null,null,null,null,null,null,", ",null,null,null,null,null,"  ",null,null,null,null,null,null,"N/A","N/A","ƏMƏK HAQQI",null,"008",null," ","AGHJA_H"]
["",null,null,null,"  ",null,null,null,null,null,null,null,null,null,null,null,", ",null,null,null,null,null,"  ",null,null,null,null,null,null,"N/A","N/A","ƏMƏK HAQQI",null,"008",null," ","AGHJA_H"]
["",null,null,null,"  ",null,null,null,null,null,null,null,null,null,null,null,", ",null,null,null,null,null,"  ",null,null,null,null,null,null,"N/A","N/A","ƏMƏK HAQQI",null,"008",null," ","AGHJA_H"]
["",null,null,null,"  ",null,null,null,null,null,null,null,null,null,null,null,", ",null,null,null,null,null,"  ",null,null,null,null,null,null,"N/A","N/A","ƏMƏK HAQQI",null,"008",null," ","AGHJA_H"]
["",null,null,null,"  ",null,null,null,null,null,null,null,null,null,null,null,", ",null,null,null,null,null,"  ",null,null,null,null,null,null,"N/A","N/A","ƏMƏK HAQQI",null,"008",null," ","AGHJA_H"]
["",null,null,null,"  ",null,null,null,null,null,null,null,null,null,null,null,", ",null,null,null,null,null,"  ",null,null,null,null,null,null,"N/A","N/A","ƏMƏK HAQQI",null,"008",null," ","AGHJA_H"]
["",null,null,null,"  ",null,null,null,null,null,null,null,null,null,null,null,", ",null,null,null,null,null,"  ",null,null,null,null,null,null,"N/A","N/A","ƏMƏK HAQQI",null,"008",null," ","AGHJA_H"]
["",null,null,null,"  ",null,null,null,null,null,null,null,null,null,null,null,", ",null,null,null,null,null,"  ",null,null,null,null,null,null,"N/A","N/A","ƏMƏK HAQQI",null,"008",null," ","AGHJA_H"]
["",null,null,null,"  ",null,null,null,null,null,null,null,null,null,null,null,", ",null,null,null,null,null,"  ",null,null,null,null,null,null,"N/A","N/A","ƏMƏK HAQQI",null,"008",null," ","AGHJA_H"]
["",null,null,null,"  ",null,null,null,null,null,null,null,null,null,null,null,", ",null,null,null,null,null,"  ",null,null,null,null,null,null,"N/A","N/A","ƏMƏK HAQQI",null,"008",null," ","AGHJA_H"]
["",null,null,null,"  ",null,null,null,null,null,null,null,null,null,null,null,", ",null,null,null,null,null,"  ",null,null,null,null,null,null,"N/A","N/A","ƏMƏK HAQQI",null,"008",null," ","AGHJA_H"]
["",null,null,null,"  ",null,null,null,null,null,null,null,null,null,null,null,", ",null,null,null,null,null,"  ",null,null,null,null,null,null,"N/A","N/A","ƏMƏK HAQQI",null,"008",null," ","AGHJA_H"]
["",null,null,null,"  ",null,null,null,null,null,null,null,null,null,null,null,", ",null,null,null,null,null,"  ",null,null,null,null,null,null,"N/A","N/A","ƏMƏK HAQQI",null,"008",null," ","AGHJA_H"]
["",null,null,null,"  ",null,null,null,null,null,null,null,null,null,null,null,", ",null,null,null,null,null,"  ",null,null,null,null,null,null,"N/A","N/A","ƏMƏK HAQQI",null,"008",null," ","AGHJA_H"]
["",null,null,null,"  ",null,null,null,null,null,null,null,null,null,null,null,", ",null,null,null,null,null,"  ",null,null,null,null,null,null,"N/A","N/A","ƏMƏK HAQQI",null,"008",null," ","AGHJA_H"]
["",null,null,null,"  ",null,null,null,null,null,null,null,null,null,null,null,", ",null,null,null,null,null,"  ",null,null,null,null,null,null,"N/A","N/A","ƏMƏK HAQQI",null,"008",null," ","AGHJA_H"]
["",null,null,null,"  ",null,null,null,null,null,null,null,null,null,null,null,", ",null,null,null,null,null,"  ",null,null,null,null,null,null,"N/A","N/A","ƏMƏK HAQQI",null,"008",null," ","AGHJA_H"]
["",null,null,null,"  ",null,null,null,null,null,null,null,null,null,null,null,", ",null,null,null,null,null,"  ",null,null,null,null,null,null,"N/A","N/A","ƏMƏK HAQQI",null,"008",null," ","AGHJA_H"]
["",null,null,null,"  ",null,null,null,null,null,null,null,null,null,null,null,", ",null,null,null,null,null,"  ",null,null,null,null,null,null,"N/A","N/A","ƏMƏK HAQQI",null,"008",null," ","AGHJA_H"]
["",null,null,null,"  ",null,null,null,null,null,null,null,null,null,null,null,", ",null,null,null,null,null,"  ",null,null,null,null,null,null,"N/A","N/A","ƏMƏK HAQQI",null,"008",null," ","AGHJA_H"]
["",null,null,null,"  ",null,null,null,null,null,null,null,null,null,null,null,", ",null,null,null,null,null,"  ",null,null,null,null,null,null,"N/A","N/A","ƏMƏK HAQQI",null,"008",null," ","AGHJA_H"]
["",null,null,null,"  ",null,null,null,null,null,null,null,null,null,null,null,", ",null,null,null,null,null,"  ",null,null,null,null,null,null,"N/A","N/A","ƏMƏK HAQQI",null,"008",null," ","AGHJA_H"]
["",null,null,null,"  ",null,null,null,null,null,null,null,null,null,null,null,", ",null,null,null,null,null,"  ",null,null,null,null,null,null,"N/A","N/A","ƏMƏK HAQQI",null,"008",null," ","AGHJA_H"]
["",null,null,null,"  ",null,null,null,null,null,null,null,null,null,null,null,", ",null,null,null,null,null,"  ",null,null,null,null,null,null,"N/A","N/A","ƏMƏK HAQQI",null,"008",null," ","AGHJA_H"]
["",null,null,null,"  ",null,null,null,null,null,null,null,null,null,null,null,", ",null,null,null,null,null,"  ",null,null,null,null,null,null,"N/A","N/A","ƏMƏK HAQQI",null,"008",null,{"$f":"CONCATENATE((SUBSTITUTE(SUBSTITUTE(SUBSTITUTE(SUBSTITUTE(SUBSTITUTE(SUBSTITUTE(SUBSTITUTE(SUBSTITUTE(SUBSTITUTE(SUBSTITUTE(SUBSTITUTE(C954,\"Ə\",\"A\"),\"J\",\"ZH\"),\"C\",\"J\"),\"Ç\",\"CH\"),\"İ\",\"I\"),\"Ğ\",\"GH\"),\"Ö\",\"O\"),\"Ü\",\"U\"),\"Ş\",\"SH\"),\"Q\",\"G\"),\"X\",\"KH\")),\" \",(SUBSTITUTE(SUBSTITUTE(SUBSTITUTE(SUBSTITUTE(SUBSTITUTE(SUBSTITUTE(SUBSTITUTE(SUBSTITUTE(SUBSTITUTE(SUBSTITUTE(SUBSTITUTE(B954,\"Ə\",\"A\"),\"J\",\"ZH\"),\"C\",\"J\"),\"Ç\",\"CH\"),\"İ\",\"I\"),\"Ğ\",\"GH\"),\"Ö\",\"O\"),\"Ü\",\"U\"),\"Ş\",\"SH\"),\"Q\",\"G\"),\"X\",\"KH\")))","v":" "},"AGHJA_H"]
["",null,null,null,{"$f":"CONCATENATE((SUBSTITUTE(SUBSTITUTE(SUBSTITUTE(SUBSTITUTE(SUBSTITUTE(SUBSTITUTE(SUBSTITUTE(SUBSTITUTE(SUBSTITUTE(SUBSTITUTE(SUBSTITUTE(C955,\"Ə\",\"A\"),\"J\",\"ZH\"),\"C\",\"J\"),\"Ç\",\"CH\"),\"İ\",\"I\"),\"Ğ\",\"GH\"),\"Ö\",\"O\"),\"Ü\",\"U\"),\"Ş\",\"SH\"),\"Q\",\"G\"),\"X\",\"KH\")),\" \",(SUBSTITUTE(SUBSTITUTE(SUBSTITUTE(SUBSTITUTE(SUBSTITUTE(SUBSTITUTE(SUBSTITUTE(SUBSTITUTE(SUBSTITUTE(SUBSTITUTE(SUBSTITUTE(B955,\"Ə\",\"A\"),\"J\",\"ZH\"),\"C\",\"J\"),\"Ç\",\"CH\"),\"İ\",\"I\"),\"Ğ\",\"GH\"),\"Ö\",\"O\"),\"Ü\",\"U\"),\"Ş\",\"SH\"),\"Q\",\"G\"),\"X\",\"KH\")),\" \",(SUBSTITUTE(SUBSTITUTE(SUBSTITUTE(SUBSTITUTE(SUBSTITUTE(SUBSTITUTE(SUBSTITUTE(SUBSTITUTE(SUBSTITUTE(SUBSTITUTE(SUBSTITUTE(SUBSTITUTE(SUBSTITUTE(D955,\" OĞLU\",\"\"),\" QIZI\",\"\"),\"Ə\",\"A\"),\"J\",\"ZH\"),\"C\",\"J\"),\"Ç\",\"CH\"),\"İ\",\"I\"),\"Ğ\",\"GH\"),\"Ö\",\"O\"),\"Ü\",\"U\"),\"Ş\",\"SH\"),\"Q\",\"G\"),\"X\",\"KH\")))","v":"  "},null,null,null,null,null,null,null,null,null,null,null,{"$f":"CONCATENATE((SUBSTITUTE(SUBSTITUTE(SUBSTITUTE(SUBSTITUTE(SUBSTITUTE(SUBSTITUTE(SUBSTITUTE(SUBSTITUTE(SUBSTITUTE(SUBSTITUTE(SUBSTITUTE(O955,\"Ə\",\"A\"),\"J\",\"ZH\"),\"C\",\"J\"),\"Ç\",\"CH\"),\"İ\",\"I\"),\"Ğ\",\"GH\"),\"Ö\",\"O\"),\"Ü\",\"U\"),\"Ş\",\"SH\"),\"Q\",\"G\"),\"X\",\"KH\")),\", \",(SUBSTITUTE(SUBSTITUTE(SUBSTITUTE(SUBSTITUTE(SUBSTITUTE(SUBSTITUTE(SUBSTITUTE(SUBSTITUTE(SUBSTITUTE(SUBSTITUTE(SUBSTITUTE(M955,\"Ə\",\"A\"),\"J\",\"ZH\"),\"C\",\"J\"),\"Ç\",\"CH\"),\"İ\",\"I\"),\"Ğ\",\"GH\"),\"Ö\",\"O\"),\"Ü\",\"U\"),\"Ş\",\"SH\"),\"Q\",\"G\"),\"X\",\"KH\")))","v":", "},null,null,null,null,null,"  ",null,null,null,null,null,null,"N/A","N/A","ƏMƏK HAQQI",null,"008",null," ","AGHJA_H"]
[{"$f":"IF(B956=\"\",\"\",A955+1)","v":""},null,null,null,"  ",null,null,null,null,null,null,null,null,null,null,null,", ",null,null,null,null,null,{"$f":"(C956:C956&\" \"&D956:D956&\" \"&B956:B956)","v":"  "},null,null,null,null,null,null,"N/A","N/A","ƏMƏK HAQQI",null,"008",null," ","AGHJA_H"]
["",null,null,null,"  ",null,null,null,null,null,null,null,null,null,null,null,", ",null,null,null,null,null,"  ",null,null,null,null,null,null,"N/A","N/A","ƏMƏK HAQQI",null,"008",null," ","AGHJA_H"]
["",null,null,null,"  ",null,null,null,null,null,null,null,null,null,null,null,", ",null,null,null,null,null,"  ",null,null,null,null,null,null,"N/A","N/A","ƏMƏK HAQQI",null,"008",null," ","AGHJA_H"]
["",null,null,null,"  ",null,null,null,null,null,null,null,null,null,null,null,", ",null,null,null,null,null,"  ",null,null,null,null,null,null,"N/A","N/A","ƏMƏK HAQQI",null,"008",null," ","AGHJA_H"]
["",null,null,null,"  ",null,null,null,null,null,null,null,null,null,null,null,", ",null,null,null,null,null,"  ",null,null,null,null,null,null,"N/A","N/A","ƏMƏK HAQQI",null,"008",null," ","AGHJA_H"]
["",null,null,null,"  ",null,null,null,null,null,null,null,null,null,null,null,", ",null,null,null,null,null,"  ",null,null,null,null,null,null,"N/A","N/A","ƏMƏK HAQQI",null,"008",null," ","AGHJA_H"]
["",null,null,null,"  ",null,null,null,null,null,null,null,null,null,null,null,", ",null,null,null,null,null,"  ",null,null,null,null,null,null,"N/A","N/A","ƏMƏK HAQQI",null,"008",null," ","AGHJA_H"]
["",null,null,null,"  ",null,null,null,null,null,null,null,null,null,null,null,", ",null,null,null,null,null,"  ",null,null,null,null,null,null,"N/A","N/A","ƏMƏK HAQQI",null,"008",null," ","AGHJA_H"]
["",null,null,null,"  ",null,null,null,null,null,null,null,null,null,null,null,", ",null,null,null,null,null,"  ",null,null,null,null,null,null,"N/A","N/A","ƏMƏK HAQQI",null,"008",null," ","AGHJA_H"]
["",null,null,null,"  ",null,null,null,null,null,null,null,null,null,null,null,", ",null,null,null,null,null,"  ",null,null,null,null,null,null,"N/A","N/A","ƏMƏK HAQQI",null,"008",null," ","AGHJA_H"]
["",null,null,null,"  ",null,null,null,null,null,null,null,null,null,null,null,", ",null,null,null,null,null,"  ",null,null,null,null,null,null,"N/A","N/A","ƏMƏK HAQQI",null,"008",null," ","AGHJA_H"]
["",null,null,null,"  ",null,null,null,null,null,null,null,null,null,null,null,", ",null,null,null,null,null,"  ",null,null,null,null,null,null,"N/A","N/A","ƏMƏK HAQQI",null,"008",null," ","AGHJA_H"]
["",null,null,null,"  ",null,null,null,null,null,null,null,null,null,null,null,", ",null,null,null,null,null,"  ",null,null,null,null,null,null,"N/A","N/A","ƏMƏK HAQQI",null,"008",null," ","AGHJA_H"]
["",null,null,null,"  ",null,null,null,null,null,null,null,null,null,null,null,", ",null,null,null,null,null,"  ",null,null,null,null,null,null,"N/A","N/A","ƏMƏK HAQQI",null,"008",null," ","AGHJA_H"]
["",null,null,null,"  ",null,null,null,null,null,null,null,null,null,null,null,", ",null,null,null,null,null,"  ",null,null,null,null,null,null,"N/A","N/A","ƏMƏK HAQQI",null,"008",null," ","AGHJA_H"]
["",null,null,null,"  ",null,null,null,null,null,null,null,null,null,null,null,", ",null,null,null,null,null,"  ",null,null,null,null,null,null,"N/A","N/A","ƏMƏK HAQQI",null,"008",null," ","AGHJA_H"]
["",null,null,null,"  ",null,null,null,null,null,null,null,null,null,null,null,", ",null,null,null,null,null,"  ",null,null,null,null,null,null,"N/A","N/A","ƏMƏK HAQQI",null,"008",null," ","AGHJA_H"]
["",null,null,null,"  ",null,null,null,null,null,null,null,null,null,null,null,", ",null,null,null,null,null,"  ",null,null,null,null,null,null,"N/A","N/A","ƏMƏK HAQQI",null,"008",null," ","AGHJA_H"]
["",null,null,null,"  ",null,null,null,null,null,null,null,null,null,null,null,", ",null,null,null,null,null,"  ",null,null,null,null,null,null,"N/A","N/A","ƏMƏK HAQQI",null,"008",null," ","AGHJA_H"]
["",null,null,null,"  ",null,null,null,null,null,null,null,null,null,null,null,", ",null,null,null,null,null,"  ",null,null,null,null,null,null,"N/A","N/A","ƏMƏK HAQQI",null,"008",null," ","AGHJA_H"]
["",null,null,null,"  ",null,null,null,null,null,null,null,null,null,null,null,", ",null,null,null,null,null,"  ",null,null,null,null,null,null,"N/A","N/A","ƏMƏK HAQQI",null,"008",null," ","AGHJA_H"]
["",null,null,null,"  ",null,null,null,null,null,null,null,null,null,null,null,", ",null,null,null,null,null,"  ",null,null,null,null,null,null,"N/A","N/A","ƏMƏK HAQQI",null,"008",null," ","AGHJA_H"]
["",null,null,null,"  ",null,null,null,null,null,null,null,null,null,null,null,", ",null,null,null,null,null,"  ",null,null,null,null,null,null,"N/A","N/A","ƏMƏK HAQQI",null,"008",null," ","AGHJA_H"]
["",null,null,null,"  ",null,null,null,null,null,null,null,null,null,null,null,", ",null,null,null,null,null,"  ",null,null,null,null,null,null,"N/A","N/A","ƏMƏK HAQQI",null,"008",null," ","AGHJA_H"]
["",null,null,null,"  ",null,null,null,null,null,null,null,null,null,null,null,", ",null,null,null,null,null,"  ",null,null,null,null,null,null,"N/A","N/A","ƏMƏK HAQQI",null,"008",null," ","AGHJA_H"]
["",null,null,null,"  ",null,null,null,null,null,null,null,null,null,null,null,", ",null,null,null,null,null,"  ",null,null,null,null,null,null,"N/A","N/A","ƏMƏK HAQQI",null,"008",null," ","AGHJA_H"]
["",null,null,null,"  ",null,null,null,null,null,null,null,null,null,null,null,", ",null,null,null,null,null,"  ",null,null,null,null,null,null,"N/A","N/A","ƏMƏK HAQQI",null,"008",null," ","AGHJA_H"]
["",null,null,null,"  ",null,null,null,null,null,null,null,null,null,null,null,", ",null,null,null,null,null,"  ",null,null,null,null,null,null,"N/A","N/A","ƏMƏK HAQQI",null,"008",null," ","AGHJA_H"]
["",null,null,null,"  ",null,null,null,null,null,null,null,null,null,null,null,", ",null,null,null,null,null,"  ",null,null,null,null,null,null,"N/A","N/A","ƏMƏK HAQQI",null,"008",null," ","AGHJA_H"]
["",null,null,null,"  ",null,null,null,null,null,null,null,null,null,null,null,", ",null,null,null,null,null,"  ",null,null,null,null,null,null,"N/A","N/A","ƏMƏK HAQQI",null,"008",null," ","AGHJA_H"]
["",null,null,null,"  ",null,null,null,null,null,null,null,null,null,null,null,", ",null,null,null,null,null,"  ",null,null,null,null,null,null,"N/A","N/A","ƏMƏK HAQQI",null,"008",null," ","AGHJA_H"]
["",null,null,null,"  ",null,null,null,null,null,null,null,null,null,null,null,", ",null,null,null,null,null,"  ",null,null,null,null,null,null,"N/A","N/A","ƏMƏK HAQQI",null,"008",null," ","AGHJA_H"]
["",null,null,null,"  ",null,null,null,null,null,null,null,null,null,null,null,", ",null,null,null,null,null,"  ",null,null,null,null,null,null,"N/A","N/A","ƏMƏK HAQQI",null,"008",null," ","AGHJA_H"]
["",null,null,null,"  ",null,null,null,null,null,null,null,null,null,null,null,", ",null,null,null,null,null,"  ",null,null,null,null,null,null,"N/A","N/A","ƏMƏK HAQQI",null,"008",null," ","AGHJA_H"]
["",null,null,null,"  ",null,null,null,null,null,null,null,null,null,null,null,", ",null,null,null,null,null,"  ",null,null,null,null,null,null,"N/A","N/A","ƏMƏK HAQQI",null,"008",null," ","AGHJA_H"]
["",null,null,null,"  ",null,null,null,null,null,null,null,null,null,null,null,", ",null,null,null,null,null,"  ",null,null,null,null,null,null,"N/A","N/A","ƏMƏK HAQQI",null,"008",null," ","AGHJA_H"]
["",null,null,null,"  ",null,null,null,null,null,null,null,null,null,null,null,", ",null,null,null,null,null,"  ",null,null,null,null,null,null,"N/A","N/A","ƏMƏK HAQQI",null,"008",null," ","AGHJA_H"]
["",null,null,null,"  ",null,null,null,null,null,null,null,null,null,null,null,", ",null,null,null,null,null,"  ",null,null,null,null,null,null,"N/A","N/A","ƏMƏK HAQQI",null,"008",null," ","AGHJA_H"]
["",null,null,null,"  ",null,null,null,null,null,null,null,null,null,null,null,", ",null,null,null,null,null,"  ",null,null,null,null,null,null,"N/A","N/A","ƏMƏK HAQQI",null,"008",null," ","AGHJA_H"]
["",null,null,null,"  ",null,null,null,null,null,null,null,null,null,null,null,", ",null,null,null,null,null,"  ",null,null,null,null,null,null,"N/A","N/A","ƏMƏK HAQQI",null,"008",null," ","AGHJA_H"]
["",null,null,null,"  ",null,null,null,null,null,null,null,null,null,null,null,", ",null,null,null,null,null,"  ",null,null,null,null,null,null,"N/A","N/A","ƏMƏK HAQQI",null,"008",null," ","AGHJA_H"]
["",null,null,null,"  ",null,null,null,null,null,null,null,null,null,null,null,", ",null,null,null,null,null,"  ",null,null,null,null,null,null,"N/A","N/A","ƏMƏK HAQQI",null,"008",null," ","AGHJA_H"]
["",null,null,null,"  ",null,null,null,null,null,null,null,null,null,null,null,", ",null,null,null,null,null,"  ",null,null,null,null,null,null,"N/A","N/A","ƏMƏK HAQQI",null,"008",null," ","AGHJA_H"]
["",null,null,null,"  ",null,null,null,null,null,null,null,null,null,null,null,", ",null,null,null,null,null,"  ",null,null,null,null,null,null,"N/A","N/A","ƏMƏK HAQQI",null,"008",null," ","AGHJA_H"]
["",null,null,null,"  ",null,null,null,null,null,null,null,null,null,null,null,", ",null,null,null,null,null,"  ",null,null,null,null,null,null,"N/A","N/A","ƏMƏK HAQQI",null,"008",null," ","AGHJA_H"]
["",null,null,null,"  ",null,null,null,null,null,null,null,null,null,null,null,", ",null,null,null,null,null,"  ",null,null,null,null,null,null,"N/A","N/A","ƏMƏK HAQQI",null,"008",null," ","AGHJA_H"]
["",null,null,null,"  ",null,null,null,null,null,null,null,null,null,null,null,", ",null,null,null,null,null,"  ",null,null,null,null,null,null,"N/A","N/A","ƏMƏK HAQQI",null,"008",null," ","AGHJA_H"]
["",null,null,null,"  ",null,null,null,null,null,null,null,null,null,null,null,", ",null,null,null,null,null,"  ",null,null,null,null,null,null,"N/A","N/A","ƏMƏK HAQQI",null,"008",null," ","AGHJA_H"]
["",null,null,null,"  ",null,null,null,null,null,null,null,null,null,null,null,", ",null,null,null,null,null,"  ",null,null,null,null,null,null,"N/A","N/A","ƏMƏK HAQQI",null,"008",null," ","AGHJA_H"]
["",null,null,null,"  ",null,null,null,null,null,null,null,null,null,null,null,", ",null,null,null,null,null,"  ",null,null,null,null,null,null,"N/A","N/A","ƏMƏK HAQQI",null,"008",null," ","AGHJA_H"]
["",null,null,null,"  ",null,null,null,null,null,null,null,null,null,null,null,", ",null,null,null,null,null,"  ",null,null,null,null,null,null,"N/A","N/A","ƏMƏK HAQQI",null,"008",null," ","AGHJA_H"]
["",null,null,null,"  ",null,null,null,null,null,null,null,null,null,null,null,", ",null,null,null,null,null,"  ",null,null,null,null,null,null,"N/A","N/A","ƏMƏK HAQQI",null,"008",null," ","AGHJA_H"]
["",null,null,null,"  ",null,null,null,null,null,null,null,null,null,null,null,", ",null,null,null,null,null,"  ",null,null,null,null,null,null,"N/A","N/A","ƏMƏK HAQQI",null,"008",null," ","AGHJA_H"]
["",null,null,null,"  ",null,null,null,null,null,null,null,null,null,null,null,", ",null,null,null,null,null,"  ",null,null,null,null,null,null,"N/A","N/A","ƏMƏK HAQQI",null,"008",null,{"$f":"CONCATENATE((SUBSTITUTE(SUBSTITUTE(SUBSTITUTE(SUBSTITUTE(SUBSTITUTE(SUBSTITUTE(SUBSTITUTE(SUBSTITUTE(SUBSTITUTE(SUBSTITUTE(SUBSTITUTE(C1018,\"Ə\",\"A\"),\"J\",\"ZH\"),\"C\",\"J\"),\"Ç\",\"CH\"),\"İ\",\"I\"),\"Ğ\",\"GH\"),\"Ö\",\"O\"),\"Ü\",\"U\"),\"Ş\",\"SH\"),\"Q\",\"G\"),\"X\",\"KH\")),\" \",(SUBSTITUTE(SUBSTITUTE(SUBSTITUTE(SUBSTITUTE(SUBSTITUTE(SUBSTITUTE(SUBSTITUTE(SUBSTITUTE(SUBSTITUTE(SUBSTITUTE(SUBSTITUTE(B1018,\"Ə\",\"A\"),\"J\",\"ZH\"),\"C\",\"J\"),\"Ç\",\"CH\"),\"İ\",\"I\"),\"Ğ\",\"GH\"),\"Ö\",\"O\"),\"Ü\",\"U\"),\"Ş\",\"SH\"),\"Q\",\"G\"),\"X\",\"KH\")))","v":" "},"AGHJA_H"]
["",null,null,null,{"$f":"CONCATENATE((SUBSTITUTE(SUBSTITUTE(SUBSTITUTE(SUBSTITUTE(SUBSTITUTE(SUBSTITUTE(SUBSTITUTE(SUBSTITUTE(SUBSTITUTE(SUBSTITUTE(SUBSTITUTE(C1019,\"Ə\",\"A\"),\"J\",\"ZH\"),\"C\",\"J\"),\"Ç\",\"CH\"),\"İ\",\"I\"),\"Ğ\",\"GH\"),\"Ö\",\"O\"),\"Ü\",\"U\"),\"Ş\",\"SH\"),\"Q\",\"G\"),\"X\",\"KH\")),\" \",(SUBSTITUTE(SUBSTITUTE(SUBSTITUTE(SUBSTITUTE(SUBSTITUTE(SUBSTITUTE(SUBSTITUTE(SUBSTITUTE(SUBSTITUTE(SUBSTITUTE(SUBSTITUTE(B1019,\"Ə\",\"A\"),\"J\",\"ZH\"),\"C\",\"J\"),\"Ç\",\"CH\"),\"İ\",\"I\"),\"Ğ\",\"GH\"),\"Ö\",\"O\"),\"Ü\",\"U\"),\"Ş\",\"SH\"),\"Q\",\"G\"),\"X\",\"KH\")),\" \",(SUBSTITUTE(SUBSTITUTE(SUBSTITUTE(SUBSTITUTE(SUBSTITUTE(SUBSTITUTE(SUBSTITUTE(SUBSTITUTE(SUBSTITUTE(SUBSTITUTE(SUBSTITUTE(SUBSTITUTE(SUBSTITUTE(D1019,\" OĞLU\",\"\"),\" QIZI\",\"\"),\"Ə\",\"A\"),\"J\",\"ZH\"),\"C\",\"J\"),\"Ç\",\"CH\"),\"İ\",\"I\"),\"Ğ\",\"GH\"),\"Ö\",\"O\"),\"Ü\",\"U\"),\"Ş\",\"SH\"),\"Q\",\"G\"),\"X\",\"KH\")))","v":"  "},null,null,null,null,null,null,null,null,null,null,null,{"$f":"CONCATENATE((SUBSTITUTE(SUBSTITUTE(SUBSTITUTE(SUBSTITUTE(SUBSTITUTE(SUBSTITUTE(SUBSTITUTE(SUBSTITUTE(SUBSTITUTE(SUBSTITUTE(SUBSTITUTE(O1019,\"Ə\",\"A\"),\"J\",\"ZH\"),\"C\",\"J\"),\"Ç\",\"CH\"),\"İ\",\"I\"),\"Ğ\",\"GH\"),\"Ö\",\"O\"),\"Ü\",\"U\"),\"Ş\",\"SH\"),\"Q\",\"G\"),\"X\",\"KH\")),\", \",(SUBSTITUTE(SUBSTITUTE(SUBSTITUTE(SUBSTITUTE(SUBSTITUTE(SUBSTITUTE(SUBSTITUTE(SUBSTITUTE(SUBSTITUTE(SUBSTITUTE(SUBSTITUTE(M1019,\"Ə\",\"A\"),\"J\",\"ZH\"),\"C\",\"J\"),\"Ç\",\"CH\"),\"İ\",\"I\"),\"Ğ\",\"GH\"),\"Ö\",\"O\"),\"Ü\",\"U\"),\"Ş\",\"SH\"),\"Q\",\"G\"),\"X\",\"KH\")))","v":", "},null,null,null,null,null,"  ",null,null,null,null,null,null,"N/A","N/A","ƏMƏK HAQQI",null,"008",null," ","AGHJA_H"]
["",null,null,null,"  ",null,null,null,null,null,null,null,null,null,null,null,", ",null,null,null,null,null,"  ",null,null,null,null,null,null,"N/A","N/A","ƏMƏK HAQQI",null,"008",null," ","AGHJA_H"]
["",null,null,null,"  ",null,null,null,null,null,null,null,null,null,null,null,", ",null,null,null,null,null,"  ",null,null,null,null,null,null,"N/A","N/A","ƏMƏK HAQQI",null,"008",null," ","AGHJA_H"]
["",null,null,null,"  ",null,null,null,null,null,null,null,null,null,null,null,", ",null,null,null,null,null,"  ",null,null,null,null,null,null,"N/A","N/A","ƏMƏK HAQQI",null,"008",null," ","AGHJA_H"]
["",null,null,null,"  ",null,null,null,null,null,null,null,null,null,null,null,", ",null,null,null,null,null,"  ",null,null,null,null,null,null,"N/A","N/A","ƏMƏK HAQQI",null,"008",null," ","AGHJA_H"]
["",null,null,null,"  ",null,null,null,null,null,null,null,null,null,null,null,", ",null,null,null,null,null,"  ",null,null,null,null,null,null,"N/A","N/A","ƏMƏK HAQQI",null,"008",null," ","AGHJA_H"]
["",null,null,null,"  ",null,null,null,null,null,null,null,null,null,null,null,", ",null,null,null,null,null,"  ",null,null,null,null,null,null,"N/A","N/A","ƏMƏK HAQQI",null,"008",null," ","AGHJA_H"]
["",null,null,null,"  ",null,null,null,null,null,null,null,null,null,null,null,", ",null,null,null,null,null,"  ",null,null,null,null,null,null,"N/A","N/A","ƏMƏK HAQQI",null,"008",null," ","AGHJA_H"]
["",null,null,null,"  ",null,null,null,null,null,null,null,null,null,null,null,", ",null,null,null,null,null,"  ",null,null,null,null,null,null,"N/A","N/A","ƏMƏK HAQQI",null,"008",null," ","AGHJA_H"]
["",null,null,null,"  ",null,null,null,null,null,null,null,null,null,null,null,", ",null,null,null,null,null,"  ",null,null,null,null,null,null,"N/A","N/A","ƏMƏK HAQQI",null,"008",null," ","AGHJA_H"]
["",null,null,null,"  ",null,null,null,null,null,null,null,null,null,null,null,", ",null,null,null,null,null,"  ",null,null,null,null,null,null,"N/A","N/A","ƏMƏK HAQQI",null,"008",null," ","AGHJA_H"]
["",null,null,null,"  ",null,null,null,null,null,null,null,null,null,null,null,", ",null,null,null,null,null,"  ",null,null,null,null,null,null,"N/A","N/A","ƏMƏK HAQQI",null,"008",null," ","AGHJA_H"]
["",null,null,null,"  ",null,null,null,null,null,null,null,null,null,null,null,", ",null,null,null,null,null,"  ",null,null,null,null,null,null,"N/A","N/A","ƏMƏK HAQQI",null,"008",null," ","AGHJA_H"]
["",null,null,null,"  ",null,null,null,null,null,null,null,null,null,null,null,", ",null,null,null,null,null,"  ",null,null,null,null,null,null,"N/A","N/A","ƏMƏK HAQQI",null,"008",null," ","AGHJA_H"]
["",null,null,null,"  ",null,null,null,null,null,null,null,null,null,null,null,", ",null,null,null,null,null,"  ",null,null,null,null,null,null,"N/A","N/A","ƏMƏK HAQQI",null,"008",null," ","AGHJA_H"]
["",null,null,null,"  ",null,null,null,null,null,null,null,null,null,null,null,", ",null,null,null,null,null,"  ",null,null,null,null,null,null,"N/A","N/A","ƏMƏK HAQQI",null,"008",null," ","AGHJA_H"]
["",null,null,null,"  ",null,null,null,null,null,null,null,null,null,null,null,", ",null,null,null,null,null,"  ",null,null,null,null,null,null,"N/A","N/A","ƏMƏK HAQQI",null,"008",null," ","AGHJA_H"]
["",null,null,null,"  ",null,null,null,null,null,null,null,null,null,null,null,", ",null,null,null,null,null,"  ",null,null,null,null,null,null,"N/A","N/A","ƏMƏK HAQQI",null,"008",null," ","AGHJA_H"]
["",null,null,null,"  ",null,null,null,null,null,null,null,null,null,null,null,", ",null,null,null,null,null,"  ",null,null,null,null,null,null,"N/A","N/A","ƏMƏK HAQQI",null,"008",null," ","AGHJA_H"]
["",null,null,null,"  ",null,null,null,null,null,null,null,null,null,null,null,", ",null,null,null,null,null,"  ",null,null,null,null,null,null,"N/A","N/A","ƏMƏK HAQQI",null,"008",null," ","AGHJA_H"]
["",null,null,null,"  ",null,null,null,null,null,null,null,null,null,null,null,", ",null,null,null,null,null,"  ",null,null,null,null,null,null,"N/A","N/A","ƏMƏK HAQQI",null,"008",null," ","AGHJA_H"]
["",null,null,null,"  ",null,null,null,null,null,null,null,null,null,null,null,", ",null,null,null,null,null,"  ",null,null,null,null,null,null,"N/A","N/A","ƏMƏK HAQQI",null,"008",null," ","AGHJA_H"]
["",null,null,null,"  ",null,null,null,null,null,null,null,null,null,null,null,", ",null,null,null,null,null,"  ",null,null,null,null,null,null,"N/A","N/A","ƏMƏK HAQQI",null,"008",null," ","AGHJA_H"]
["",null,null,null,"  ",null,null,null,null,null,null,null,null,null,null,null,", ",null,null,null,null,null,"  ",null,null,null,null,null,null,"N/A","N/A","ƏMƏK HAQQI",null,"008",null," ","AGHJA_H"]
["",null,null,null,"  ",null,null,null,null,null,null,null,null,null,null,null,", ",null,null,null,null,null,"  ",null,null,null,null,null,null,"N/A","N/A","ƏMƏK HAQQI",null,"008",null," ","AGHJA_H"]
["",null,null,null,"  ",null,null,null,null,null,null,null,null,null,null,null,", ",null,null,null,null,null,"  ",null,null,null,null,null,null,"N/A","N/A","ƏMƏK HAQQI",null,"008",null," ","AGHJA_H"]
["",null,null,null,"  ",null,null,null,null,null,null,null,null,null,null,null,", ",null,null,null,null,null,"  ",null,null,null,null,null,null,"N/A","N/A","ƏMƏK HAQQI",null,"008",null," ","AGHJA_H"]
["",null,null,null,"  ",null,null,null,null,null,null,null,null,null,null,null,", ",null,null,null,null,null,"  ",null,null,null,null,null,null,"N/A","N/A","ƏMƏK HAQQI",null,"008",null," ","AGHJA_H"]
["",null,null,null,"  ",null,null,null,null,null,null,null,null,null,null,null,", ",null,null,null,null,null,"  ",null,null,null,null,null,null,"N/A","N/A","ƏMƏK HAQQI",null,"008",null," ","AGHJA_H"]
["",null,null,null,"  ",null,null,null,null,null,null,null,null,null,null,null,", ",null,null,null,null,null,"  ",null,null,null,null,null,null,"N/A","N/A","ƏMƏK HAQQI",null,"008",null," ","AGHJA_H"]
["",null,null,null,"  ",null,null,null,null,null,null,null,null,null,null,null,", ",null,null,null,null,null,"  ",null,null,null,null,null,null,"N/A","N/A","ƏMƏK HAQQI",null,"008",null," ","AGHJA_H"]
["",null,null,null,"  ",null,null,null,null,null,null,null,null,null,null,null,", ",null,null,null,null,null,"  ",null,null,null,null,null,null,"N/A","N/A","ƏMƏK HAQQI",null,"008",null,{"$f":"CONCATENATE((SUBSTITUTE(SUBSTITUTE(SUBSTITUTE(SUBSTITUTE(SUBSTITUTE(SUBSTITUTE(SUBSTITUTE(SUBSTITUTE(SUBSTITUTE(SUBSTITUTE(SUBSTITUTE(C1082,\"Ə\",\"A\"),\"J\",\"ZH\"),\"C\",\"J\"),\"Ç\",\"CH\"),\"İ\",\"I\"),\"Ğ\",\"GH\"),\"Ö\",\"O\"),\"Ü\",\"U\"),\"Ş\",\"SH\"),\"Q\",\"G\"),\"X\",\"KH\")),\" \",(SUBSTITUTE(SUBSTITUTE(SUBSTITUTE(SUBSTITUTE(SUBSTITUTE(SUBSTITUTE(SUBSTITUTE(SUBSTITUTE(SUBSTITUTE(SUBSTITUTE(SUBSTITUTE(B1082,\"Ə\",\"A\"),\"J\",\"ZH\"),\"C\",\"J\"),\"Ç\",\"CH\"),\"İ\",\"I\"),\"Ğ\",\"GH\"),\"Ö\",\"O\"),\"Ü\",\"U\"),\"Ş\",\"SH\"),\"Q\",\"G\"),\"X\",\"KH\")))","v":" "},"AGHJA_H"]
["",null,null,null,{"$f":"CONCATENATE((SUBSTITUTE(SUBSTITUTE(SUBSTITUTE(SUBSTITUTE(SUBSTITUTE(SUBSTITUTE(SUBSTITUTE(SUBSTITUTE(SUBSTITUTE(SUBSTITUTE(SUBSTITUTE(C1083,\"Ə\",\"A\"),\"J\",\"ZH\"),\"C\",\"J\"),\"Ç\",\"CH\"),\"İ\",\"I\"),\"Ğ\",\"GH\"),\"Ö\",\"O\"),\"Ü\",\"U\"),\"Ş\",\"SH\"),\"Q\",\"G\"),\"X\",\"KH\")),\" \",(SUBSTITUTE(SUBSTITUTE(SUBSTITUTE(SUBSTITUTE(SUBSTITUTE(SUBSTITUTE(SUBSTITUTE(SUBSTITUTE(SUBSTITUTE(SUBSTITUTE(SUBSTITUTE(B1083,\"Ə\",\"A\"),\"J\",\"ZH\"),\"C\",\"J\"),\"Ç\",\"CH\"),\"İ\",\"I\"),\"Ğ\",\"GH\"),\"Ö\",\"O\"),\"Ü\",\"U\"),\"Ş\",\"SH\"),\"Q\",\"G\"),\"X\",\"KH\")),\" \",(SUBSTITUTE(SUBSTITUTE(SUBSTITUTE(SUBSTITUTE(SUBSTITUTE(SUBSTITUTE(SUBSTITUTE(SUBSTITUTE(SUBSTITUTE(SUBSTITUTE(SUBSTITUTE(SUBSTITUTE(SUBSTITUTE(D1083,\" OĞLU\",\"\"),\" QIZI\",\"\"),\"Ə\",\"A\"),\"J\",\"ZH\"),\"C\",\"J\"),\"Ç\",\"CH\"),\"İ\",\"I\"),\"Ğ\",\"GH\"),\"Ö\",\"O\"),\"Ü\",\"U\"),\"Ş\",\"SH\"),\"Q\",\"G\"),\"X\",\"KH\")))","v":"  "},null,null,null,null,null,null,null,null,null,null,null,{"$f":"CONCATENATE((SUBSTITUTE(SUBSTITUTE(SUBSTITUTE(SUBSTITUTE(SUBSTITUTE(SUBSTITUTE(SUBSTITUTE(SUBSTITUTE(SUBSTITUTE(SUBSTITUTE(SUBSTITUTE(O1083,\"Ə\",\"A\"),\"J\",\"ZH\"),\"C\",\"J\"),\"Ç\",\"CH\"),\"İ\",\"I\"),\"Ğ\",\"GH\"),\"Ö\",\"O\"),\"Ü\",\"U\"),\"Ş\",\"SH\"),\"Q\",\"G\"),\"X\",\"KH\")),\", \",(SUBSTITUTE(SUBSTITUTE(SUBSTITUTE(SUBSTITUTE(SUBSTITUTE(SUBSTITUTE(SUBSTITUTE(SUBSTITUTE(SUBSTITUTE(SUBSTITUTE(SUBSTITUTE(M1083,\"Ə\",\"A\"),\"J\",\"ZH\"),\"C\",\"J\"),\"Ç\",\"CH\"),\"İ\",\"I\"),\"Ğ\",\"GH\"),\"Ö\",\"O\"),\"Ü\",\"U\"),\"Ş\",\"SH\"),\"Q\",\"G\"),\"X\",\"KH\")))","v":", "},null,null,null,null,null,"  ",null,null,null,null,null,null,"N/A","N/A","ƏMƏK HAQQI",null,"008",null," ","AGHJA_H"]
["",null,null,null,"  ",null,null,null,null,null,null,null,null,null,null,null,", ",null,null,null,null,null,"  ",null,null,null,null,null,null,"N/A","N/A","ƏMƏK HAQQI",null,"008",null," ","AGHJA_H"]
["",null,null,null,"  ",null,null,null,null,null,null,null,null,null,null,null,", ",null,null,null,null,null,"  ",null,null,null,null,null,null,"N/A","N/A","ƏMƏK HAQQI",null,"008",null," ","AGHJA_H"]
["",null,null,null,"  ",null,null,null,null,null,null,null,null,null,null,null,", ",null,null,null,null,null,"  ",null,null,null,null,null,null,"N/A","N/A","ƏMƏK HAQQI",null,"008",null," ","AGHJA_H"]
["",null,null,null,"  ",null,null,null,null,null,null,null,null,null,null,null,", ",null,null,null,null,null,"  ",null,null,null,null,null,null,"N/A","N/A","ƏMƏK HAQQI",null,"008",null," ","AGHJA_H"]
["",null,null,null,"  ",null,null,null,null,null,null,null,null,null,null,null,", ",null,null,null,null,null,"  ",null,null,null,null,null,null,"N/A","N/A","ƏMƏK HAQQI",null,"008",null," ","AGHJA_H"]
["",null,null,null,"  ",null,null,null,null,null,null,null,null,null,null,null,", ",null,null,null,null,null,"  ",null,null,null,null,null,null,"N/A","N/A","ƏMƏK HAQQI",null,"008",null," ","AGHJA_H"]
["",null,null,null,"  ",null,null,null,null,null,null,null,null,null,null,null,", ",null,null,null,null,null,"  ",null,null,null,null,null,null,"N/A","N/A","ƏMƏK HAQQI",null,"008",null," ","AGHJA_H"]
["",null,null,null,"  ",null,null,null,null,null,null,null,null,null,null,null,", ",null,null,null,null,null,"  ",null,null,null,null,null,null,"N/A","N/A","ƏMƏK HAQQI",null,"008",null," ","AGHJA_H"]
["",null,null,null,"  ",null,null,null,null,null,null,null,null,null,null,null,", ",null,null,null,null,null,"  ",null,null,null,null,null,null,"N/A","N/A","ƏMƏK HAQQI",null,"008",null," ","AGHJA_H"]
["",null,null,null,"  ",null,null,null,null,null,null,null,null,null,null,null,", ",null,null,null,null,null,"  ",null,null,null,null,null,null,"N/A","N/A","ƏMƏK HAQQI",null,"008",null," ","AGHJA_H"]
["",null,null,null,"  ",null,null,null,null,null,null,null,null,null,null,null,", ",null,null,null,null,null,"  ",null,null,null,null,null,null,"N/A","N/A","ƏMƏK HAQQI",null,"008",null," ","AGHJA_H"]
["",null,null,null,"  ",null,null,null,null,null,null,null,null,null,null,null,", ",null,null,null,null,null,"  ",null,null,null,null,null,null,"N/A","N/A","ƏMƏK HAQQI",null,"008",null," ","AGHJA_H"]
["",null,null,null,"  ",null,null,null,null,null,null,null,null,null,null,null,", ",null,null,null,null,null,"  ",null,null,null,null,null,null,"N/A","N/A","ƏMƏK HAQQI",null,"008",null," ","AGHJA_H"]
["",null,null,null,"  ",null,null,null,null,null,null,null,null,null,null,null,", ",null,null,null,null,null,"  ",null,null,null,null,null,null,"N/A","N/A","ƏMƏK HAQQI",null,"008",null," ","AGHJA_H"]
["",null,null,null,"  ",null,null,null,null,null,null,null,null,null,null,null,", ",null,null,null,null,null,"  ",null,null,null,null,null,null,"N/A","N/A","ƏMƏK HAQQI",null,"008",null," ","AGHJA_H"]
["",null,null,null,"  ",null,null,null,null,null,null,null,null,null,null,null,", ",null,null,null,null,null,"  ",null,null,null,null,null,null,"N/A","N/A","ƏMƏK HAQQI",null,"008",null," ","AGHJA_H"]
["",null,null,null,"  ",null,null,null,null,null,null,null,null,null,null,null,", ",null,null,null,null,null,"  ",null,null,null,null,null,null,"N/A","N/A","ƏMƏK HAQQI",null,"008",null," ","AGHJA_H"]
["",null,null,null,"  ",null,null,null,null,null,null,null,null,null,null,null,", ",null,null,null,null,null,"  ",null,null,null,null,null,null,"N/A","N/A","ƏMƏK HAQQI",null,"008",null," ","AGHJA_H"]
["",null,null,null,"  ",null,null,null,null,null,null,null,null,null,null,null,", ",null,null,null,null,null,"  ",null,null,null,null,null,null,"N/A","N/A","ƏMƏK HAQQI",null,"008",null," ","AGHJA_H"]
["",null,null,null,"  ",null,null,null,null,null,null,null,null,null,null,null,", ",null,null,null,null,null,"  ",null,null,null,null,null,null,"N/A","N/A","ƏMƏK HAQQI",null,"008",null," ","AGHJA_H"]
["",null,null,null,"  ",null,null,null,null,null,null,null,null,null,null,null,", ",null,null,null,null,null,"  ",null,null,null,null,null,null,"N/A","N/A","ƏMƏK HAQQI",null,"008",null," ","AGHJA_H"]
["",null,null,null,"  ",null,null,null,null,null,null,null,null,null,null,null,", ",null,null,null,null,null,"  ",null,null,null,null,null,null,"N/A","N/A","ƏMƏK HAQQI",null,"008",null," ","AGHJA_H"]
["",null,null,null,"  ",null,null,null,null,null,null,null,null,null,null,null,", ",null,null,null,null,null,"  ",null,null,null,null,null,null,"N/A","N/A","ƏMƏK HAQQI",null,"008",null," ","AGHJA_H"]
["",null,null,null,"  ",null,null,null,null,null,null,null,null,null,null,null,", ",null,null,null,null,null,"  ",null,null,null,null,null,null,"N/A","N/A","ƏMƏK HAQQI",null,"008",null," ","AGHJA_H"]
["",null,null,null,"  ",null,null,null,null,null,null,null,null,null,null,null,", ",null,null,null,null,null,"  ",null,null,null,null,null,null,"N/A","N/A","ƏMƏK HAQQI",null,"008",null," ","AGHJA_H"]
["",null,null,null,"  ",null,null,null,null,null,null,null,null,null,null,null,", ",null,null,null,null,null,"  ",null,null,null,null,null,null,"N/A","N/A","ƏMƏK HAQQI",null,"008",null," ","AGHJA_H"]
["",null,null,null,"  ",null,null,null,null,null,null,null,null,null,null,null,", ",null,null,null,null,null,"  ",null,null,null,null,null,null,"N/A","N/A","ƏMƏK HAQQI",null,"008",null," ","AGHJA_H"]
["",null,null,null,"  ",null,null,null,null,null,null,null,null,null,null,null,", ",null,null,null,null,null,"  ",null,null,null,null,null,null,"N/A","N/A","ƏMƏK HAQQI",null,"008",null," ","AGHJA_H"]
["",null,null,null,"  ",null,null,null,null,null,null,null,null,null,null,null,", ",null,null,null,null,null,"  ",null,null,null,null,null,null,"N/A","N/A","ƏMƏK HAQQI",null,"008",null," ","AGHJA_H"]
["",null,null,null,"  ",null,null,null,null,null,null,null,null,null,null,null,", ",null,null,null,null,null,"  ",null,null,null,null,null,null,"N/A","N/A","ƏMƏK HAQQI",null,"008",null," ","AGHJA_H"]
["",null,null,null,"  ",null,null,null,null,null,null,null,null,null,null,null,", ",null,null,null,null,null,"  ",null,null,null,null,null,null,"N/A","N/A","ƏMƏK HAQQI",null,"008",null,{"$f":"CONCATENATE((SUBSTITUTE(SUBSTITUTE(SUBSTITUTE(SUBSTITUTE(SUBSTITUTE(SUBSTITUTE(SUBSTITUTE(SUBSTITUTE(SUBSTITUTE(SUBSTITUTE(SUBSTITUTE(C1146,\"Ə\",\"A\"),\"J\",\"ZH\"),\"C\",\"J\"),\"Ç\",\"CH\"),\"İ\",\"I\"),\"Ğ\",\"GH\"),\"Ö\",\"O\"),\"Ü\",\"U\"),\"Ş\",\"SH\"),\"Q\",\"G\"),\"X\",\"KH\")),\" \",(SUBSTITUTE(SUBSTITUTE(SUBSTITUTE(SUBSTITUTE(SUBSTITUTE(SUBSTITUTE(SUBSTITUTE(SUBSTITUTE(SUBSTITUTE(SUBSTITUTE(SUBSTITUTE(B1146,\"Ə\",\"A\"),\"J\",\"ZH\"),\"C\",\"J\"),\"Ç\",\"CH\"),\"İ\",\"I\"),\"Ğ\",\"GH\"),\"Ö\",\"O\"),\"Ü\",\"U\"),\"Ş\",\"SH\"),\"Q\",\"G\"),\"X\",\"KH\")))","v":" "},"AGHJA_H"]
["",null,null,null,{"$f":"CONCATENATE((SUBSTITUTE(SUBSTITUTE(SUBSTITUTE(SUBSTITUTE(SUBSTITUTE(SUBSTITUTE(SUBSTITUTE(SUBSTITUTE(SUBSTITUTE(SUBSTITUTE(SUBSTITUTE(C1147,\"Ə\",\"A\"),\"J\",\"ZH\"),\"C\",\"J\"),\"Ç\",\"CH\"),\"İ\",\"I\"),\"Ğ\",\"GH\"),\"Ö\",\"O\"),\"Ü\",\"U\"),\"Ş\",\"SH\"),\"Q\",\"G\"),\"X\",\"KH\")),\" \",(SUBSTITUTE(SUBSTITUTE(SUBSTITUTE(SUBSTITUTE(SUBSTITUTE(SUBSTITUTE(SUBSTITUTE(SUBSTITUTE(SUBSTITUTE(SUBSTITUTE(SUBSTITUTE(B1147,\"Ə\",\"A\"),\"J\",\"ZH\"),\"C\",\"J\"),\"Ç\",\"CH\"),\"İ\",\"I\"),\"Ğ\",\"GH\"),\"Ö\",\"O\"),\"Ü\",\"U\"),\"Ş\",\"SH\"),\"Q\",\"G\"),\"X\",\"KH\")),\" \",(SUBSTITUTE(SUBSTITUTE(SUBSTITUTE(SUBSTITUTE(SUBSTITUTE(SUBSTITUTE(SUBSTITUTE(SUBSTITUTE(SUBSTITUTE(SUBSTITUTE(SUBSTITUTE(SUBSTITUTE(SUBSTITUTE(D1147,\" OĞLU\",\"\"),\" QIZI\",\"\"),\"Ə\",\"A\"),\"J\",\"ZH\"),\"C\",\"J\"),\"Ç\",\"CH\"),\"İ\",\"I\"),\"Ğ\",\"GH\"),\"Ö\",\"O\"),\"Ü\",\"U\"),\"Ş\",\"SH\"),\"Q\",\"G\"),\"X\",\"KH\")))","v":"  "},null,null,null,null,null,null,null,null,null,null,null,{"$f":"CONCATENATE((SUBSTITUTE(SUBSTITUTE(SUBSTITUTE(SUBSTITUTE(SUBSTITUTE(SUBSTITUTE(SUBSTITUTE(SUBSTITUTE(SUBSTITUTE(SUBSTITUTE(SUBSTITUTE(O1147,\"Ə\",\"A\"),\"J\",\"ZH\"),\"C\",\"J\"),\"Ç\",\"CH\"),\"İ\",\"I\"),\"Ğ\",\"GH\"),\"Ö\",\"O\"),\"Ü\",\"U\"),\"Ş\",\"SH\"),\"Q\",\"G\"),\"X\",\"KH\")),\", \",(SUBSTITUTE(SUBSTITUTE(SUBSTITUTE(SUBSTITUTE(SUBSTITUTE(SUBSTITUTE(SUBSTITUTE(SUBSTITUTE(SUBSTITUTE(SUBSTITUTE(SUBSTITUTE(M1147,\"Ə\",\"A\"),\"J\",\"ZH\"),\"C\",\"J\"),\"Ç\",\"CH\"),\"İ\",\"I\"),\"Ğ\",\"GH\"),\"Ö\",\"O\"),\"Ü\",\"U\"),\"Ş\",\"SH\"),\"Q\",\"G\"),\"X\",\"KH\")))","v":", "},null,null,null,null,null,"  ",null,null,null,null,null,null,"N/A","N/A","ƏMƏK HAQQI",null,"008",null," ","AGHJA_H"]
["",null,null,null,"  ",null,null,null,null,null,null,null,null,null,null,null,", ",null,null,null,null,null,"  ",null,null,null,null,null,null,"N/A","N/A","ƏMƏK HAQQI",null,"008",null," ","AGHJA_H"]
["",null,null,null,"  ",null,null,null,null,null,null,null,null,null,null,null,", ",null,null,null,null,null,"  ",null,null,null,null,null,null,"N/A","N/A","ƏMƏK HAQQI",null,"008",null," ","AGHJA_H"]
["",null,null,null,"  ",null,null,null,null,null,null,null,null,null,null,null,", ",null,null,null,null,null,"  ",null,null,null,null,null,null,"N/A","N/A","ƏMƏK HAQQI",null,"008",null," ","AGHJA_H"]
["",null,null,null,"  ",null,null,null,null,null,null,null,null,null,null,null,", ",null,null,null,null,null,"  ",null,null,null,null,null,null,"N/A","N/A","ƏMƏK HAQQI",null,"008",null," ","AGHJA_H"]
["",null,null,null,"  ",null,null,null,null,null,null,null,null,null,null,null,", ",null,null,null,null,null,"  ",null,null,null,null,null,null,"N/A","N/A","ƏMƏK HAQQI",null,"008",null," ","AGHJA_H"]
["",null,null,null,"  ",null,null,null,null,null,null,null,null,null,null,null,", ",null,null,null,null,null,"  ",null,null,null,null,null,null,"N/A","N/A","ƏMƏK HAQQI",null,"008",null," ","AGHJA_H"]
["",null,null,null,"  ",null,null,null,null,null,null,null,null,null,null,null,", ",null,null,null,null,null,"  ",null,null,null,null,null,null,"N/A","N/A","ƏMƏK HAQQI",null,"008",null," ","AGHJA_H"]
["",null,null,null,"  ",null,null,null,null,null,null,null,null,null,null,null,", ",null,null,null,null,null,"  ",null,null,null,null,null,null,"N/A","N/A","ƏMƏK HAQQI",null,"008",null," ","AGHJA_H"]
["",null,null,null,"  ",null,null,null,null,null,null,null,null,null,null,null,", ",null,null,null,null,null,"  ",null,null,null,null,null,null,"N/A","N/A","ƏMƏK HAQQI",null,"008",null," ","AGHJA_H"]
["",null,null,null,"  ",null,null,null,null,null,null,null,null,null,null,null,", ",null,null,null,null,null,"  ",null,null,null,null,null,null,"N/A","N/A","ƏMƏK HAQQI",null,"008",null," ","AGHJA_H"]
["",null,null,null,"  ",null,null,null,null,null,null,null,null,null,null,null,", ",null,null,null,null,null,"  ",null,null,null,null,null,null,"N/A","N/A","ƏMƏK HAQQI",null,"008",null," ","AGHJA_H"]
["",null,null,null,"  ",null,null,null,null,null,null,null,null,null,null,null,", ",null,null,null,null,null,"  ",null,null,null,null,null,null,"N/A","N/A","ƏMƏK HAQQI",null,"008",null," ","AGHJA_H"]
["",null,null,null,"  ",null,null,null,null,null,null,null,null,null,null,null,", ",null,null,null,null,null,"  ",null,null,null,null,null,null,"N/A","N/A","ƏMƏK HAQQI",null,"008",null," ","AGHJA_H"]
["",null,null,null,"  ",null,null,null,null,null,null,null,null,null,null,null,", ",null,null,null,null,null,"  ",null,null,null,null,null,null,"N/A","N/A","ƏMƏK HAQQI",null,"008",null," ","AGHJA_H"]
["",null,null,null,"  ",null,null,null,null,null,null,null,null,null,null,null,", ",null,null,null,null,null,"  ",null,null,null,null,null,null,"N/A","N/A","ƏMƏK HAQQI",null,"008",null," ","AGHJA_H"]
["",null,null,null,"  ",null,null,null,null,null,null,null,null,null,null,null,", ",null,null,null,null,null,"  ",null,null,null,null,null,null,"N/A","N/A","ƏMƏK HAQQI",null,"008",null," ","AGHJA_H"]
["",null,null,null,"  ",null,null,null,null,null,null,null,null,null,null,null,", ",null,null,null,null,null,"  ",null,null,null,null,null,null,"N/A","N/A","ƏMƏK HAQQI",null,"008",null," ","AGHJA_H"]
["",null,null,null,"  ",null,null,null,null,null,null,null,null,null,null,null,", ",null,null,null,null,null,"  ",null,null,null,null,null,null,"N/A","N/A","ƏMƏK HAQQI",null,"008",null," ","AGHJA_H"]
["",null,null,null,"  ",null,null,null,null,null,null,null,null,null,null,null,", ",null,null,null,null,null,"  ",null,null,null,null,null,null,"N/A","N/A","ƏMƏK HAQQI",null,"008",null," ","AGHJA_H"]
["",null,null,null,"  ",null,null,null,null,null,null,null,null,null,null,null,", ",null,null,null,null,null,"  ",null,null,null,null,null,null,"N/A","N/A","ƏMƏK HAQQI",null,"008",null," ","AGHJA_H"]
["",null,null,null,"  ",null,null,null,null,null,null,null,null,null,null,null,", ",null,null,null,null,null,"  ",null,null,null,null,null,null,"N/A","N/A","ƏMƏK HAQQI",null,"008",null," ","AGHJA_H"]
["",null,null,null,"  ",null,null,null,null,null,null,null,null,null,null,null,", ",null,null,null,null,null,"  ",null,null,null,null,null,null,"N/A","N/A","ƏMƏK HAQQI",null,"008",null," ","AGHJA_H"]
["",null,null,null,"  ",null,null,null,null,null,null,null,null,null,null,null,", ",null,null,null,null,null,"  ",null,null,null,null,null,null,"N/A","N/A","ƏMƏK HAQQI",null,"008",null," ","AGHJA_H"]
["",null,null,null,"  ",null,null,null,null,null,null,null,null,null,null,null,", ",null,null,null,null,null,"  ",null,null,null,null,null,null,"N/A","N/A","ƏMƏK HAQQI",null,"008",null," ","AGHJA_H"]
["",null,null,null,"  ",null,null,null,null,null,null,null,null,null,null,null,", ",null,null,null,null,null,"  ",null,null,null,null,null,null,"N/A","N/A","ƏMƏK HAQQI",null,"008",null," ","AGHJA_H"]
["",null,null,null,"  ",null,null,null,null,null,null,null,null,null,null,null,", ",null,null,null,null,null,"  ",null,null,null,null,null,null,"N/A","N/A","ƏMƏK HAQQI",null,"008",null," ","AGHJA_H"]
["",null,null,null,"  ",null,null,null,null,null,null,null,null,null,null,null,", ",null,null,null,null,null,"  ",null,null,null,null,null,null,"N/A","N/A","ƏMƏK HAQQI",null,"008",null," ","AGHJA_H"]
["",null,null,null,"  ",null,null,null,null,null,null,null,null,null,null,null,", ",null,null,null,null,null,"  ",null,null,null,null,null,null,"N/A","N/A","ƏMƏK HAQQI",null,"008",null," ","AGHJA_H"]
["",null,null,null,"  ",null,null,null,null,null,null,null,null,null,null,null,", ",null,null,null,null,null,"  ",null,null,null,null,null,null,"N/A","N/A","ƏMƏK HAQQI",null,"008",null," ","AGHJA_H"]
["",null,null,null,"  ",null,null,null,null,null,null,null,null,null,null,null,", ",null,null,null,null,null,"  ",null,null,null,null,null,null,"N/A","N/A","ƏMƏK HAQQI",null,"008",null," ","AGHJA_H"]
["",null,null,null,"  ",null,null,null,null,null,null,null,null,null,null,null,", ",null,null,null,null,null,"  ",null,null,null,null,null,null,"N/A","N/A","ƏMƏK HAQQI",null,"008",null,{"$f":"CONCATENATE((SUBSTITUTE(SUBSTITUTE(SUBSTITUTE(SUBSTITUTE(SUBSTITUTE(SUBSTITUTE(SUBSTITUTE(SUBSTITUTE(SUBSTITUTE(SUBSTITUTE(SUBSTITUTE(C1210,\"Ə\",\"A\"),\"J\",\"ZH\"),\"C\",\"J\"),\"Ç\",\"CH\"),\"İ\",\"I\"),\"Ğ\",\"GH\"),\"Ö\",\"O\"),\"Ü\",\"U\"),\"Ş\",\"SH\"),\"Q\",\"G\"),\"X\",\"KH\")),\" \",(SUBSTITUTE(SUBSTITUTE(SUBSTITUTE(SUBSTITUTE(SUBSTITUTE(SUBSTITUTE(SUBSTITUTE(SUBSTITUTE(SUBSTITUTE(SUBSTITUTE(SUBSTITUTE(B1210,\"Ə\",\"A\"),\"J\",\"ZH\"),\"C\",\"J\"),\"Ç\",\"CH\"),\"İ\",\"I\"),\"Ğ\",\"GH\"),\"Ö\",\"O\"),\"Ü\",\"U\"),\"Ş\",\"SH\"),\"Q\",\"G\"),\"X\",\"KH\")))","v":" "},"AGHJA_H"]
["",null,null,null,{"$f":"CONCATENATE((SUBSTITUTE(SUBSTITUTE(SUBSTITUTE(SUBSTITUTE(SUBSTITUTE(SUBSTITUTE(SUBSTITUTE(SUBSTITUTE(SUBSTITUTE(SUBSTITUTE(SUBSTITUTE(C1211,\"Ə\",\"A\"),\"J\",\"ZH\"),\"C\",\"J\"),\"Ç\",\"CH\"),\"İ\",\"I\"),\"Ğ\",\"GH\"),\"Ö\",\"O\"),\"Ü\",\"U\"),\"Ş\",\"SH\"),\"Q\",\"G\"),\"X\",\"KH\")),\" \",(SUBSTITUTE(SUBSTITUTE(SUBSTITUTE(SUBSTITUTE(SUBSTITUTE(SUBSTITUTE(SUBSTITUTE(SUBSTITUTE(SUBSTITUTE(SUBSTITUTE(SUBSTITUTE(B1211,\"Ə\",\"A\"),\"J\",\"ZH\"),\"C\",\"J\"),\"Ç\",\"CH\"),\"İ\",\"I\"),\"Ğ\",\"GH\"),\"Ö\",\"O\"),\"Ü\",\"U\"),\"Ş\",\"SH\"),\"Q\",\"G\"),\"X\",\"KH\")),\" \",(SUBSTITUTE(SUBSTITUTE(SUBSTITUTE(SUBSTITUTE(SUBSTITUTE(SUBSTITUTE(SUBSTITUTE(SUBSTITUTE(SUBSTITUTE(SUBSTITUTE(SUBSTITUTE(SUBSTITUTE(SUBSTITUTE(D1211,\" OĞLU\",\"\"),\" QIZI\",\"\"),\"Ə\",\"A\"),\"J\",\"ZH\"),\"C\",\"J\"),\"Ç\",\"CH\"),\"İ\",\"I\"),\"Ğ\",\"GH\"),\"Ö\",\"O\"),\"Ü\",\"U\"),\"Ş\",\"SH\"),\"Q\",\"G\"),\"X\",\"KH\")))","v":"  "},null,null,null,null,null,null,null,null,null,null,null,{"$f":"CONCATENATE((SUBSTITUTE(SUBSTITUTE(SUBSTITUTE(SUBSTITUTE(SUBSTITUTE(SUBSTITUTE(SUBSTITUTE(SUBSTITUTE(SUBSTITUTE(SUBSTITUTE(SUBSTITUTE(O1211,\"Ə\",\"A\"),\"J\",\"ZH\"),\"C\",\"J\"),\"Ç\",\"CH\"),\"İ\",\"I\"),\"Ğ\",\"GH\"),\"Ö\",\"O\"),\"Ü\",\"U\"),\"Ş\",\"SH\"),\"Q\",\"G\"),\"X\",\"KH\")),\", \",(SUBSTITUTE(SUBSTITUTE(SUBSTITUTE(SUBSTITUTE(SUBSTITUTE(SUBSTITUTE(SUBSTITUTE(SUBSTITUTE(SUBSTITUTE(SUBSTITUTE(SUBSTITUTE(M1211,\"Ə\",\"A\"),\"J\",\"ZH\"),\"C\",\"J\"),\"Ç\",\"CH\"),\"İ\",\"I\"),\"Ğ\",\"GH\"),\"Ö\",\"O\"),\"Ü\",\"U\"),\"Ş\",\"SH\"),\"Q\",\"G\"),\"X\",\"KH\")))","v":", "},null,null,null,null,null,"  ",null,null,null,null,null,null,"N/A","N/A","ƏMƏK HAQQI",null,"008",null," ","AGHJA_H"]
["",null,null,null,"  ",null,null,null,null,null,null,null,null,null,null,null,", ",null,null,null,null,null,"  ",null,null,null,null,null,null,"N/A","N/A","ƏMƏK HAQQI",null,"008",null," ","AGHJA_H"]
["",null,null,null,"  ",null,null,null,null,null,null,null,null,null,null,null,", ",null,null,null,null,null,"  ",null,null,null,null,null,null,"N/A","N/A","ƏMƏK HAQQI",null,"008",null," ","AGHJA_H"]
["",null,null,null,"  ",null,null,null,null,null,null,null,null,null,null,null,", ",null,null,null,null,null,"  ",null,null,null,null,null,null,"N/A","N/A","ƏMƏK HAQQI",null,"008",null," ","AGHJA_H"]
["",null,null,null,"  ",null,null,null,null,null,null,null,null,null,null,null,", ",null,null,null,null,null,"  ",null,null,null,null,null,null,"N/A","N/A","ƏMƏK HAQQI",null,"008",null," ","AGHJA_H"]
["",null,null,null,"  ",null,null,null,null,null,null,null,null,null,null,null,", ",null,null,null,null,null,"  ",null,null,null,null,null,null,"N/A","N/A","ƏMƏK HAQQI",null,"008",null," ","AGHJA_H"]
["",null,null,null,"  ",null,null,null,null,null,null,null,null,null,null,null,", ",null,null,null,null,null,"  ",null,null,null,null,null,null,"N/A","N/A","ƏMƏK HAQQI",null,"008",null," ","AGHJA_H"]
["",null,null,null,"  ",null,null,null,null,null,null,null,null,null,null,null,", ",null,null,null,null,null,"  ",null,null,null,null,null,null,"N/A","N/A","ƏMƏK HAQQI",null,"008",null," ","AGHJA_H"]
["",null,null,null,"  ",null,null,null,null,null,null,null,null,null,null,null,", ",null,null,null,null,null,"  ",null,null,null,null,null,null,"N/A","N/A","ƏMƏK HAQQI",null,"008",null," ","AGHJA_H"]
["",null,null,null,"  ",null,null,null,null,null,null,null,null,null,null,null,", ",null,null,null,null,null,"  ",null,null,null,null,null,null,"N/A","N/A","ƏMƏK HAQQI",null,"008",null," ","AGHJA_H"]
["",null,null,null,"  ",null,null,null,null,null,null,null,null,null,null,null,", ",null,null,null,null,null,"  ",null,null,null,null,null,null,"N/A","N/A","ƏMƏK HAQQI",null,"008",null," ","AGHJA_H"]
["",null,null,null,"  ",null,null,null,null,null,null,null,null,null,null,null,", ",null,null,null,null,null,"  ",null,null,null,null,null,null,"N/A","N/A","ƏMƏK HAQQI",null,"008",null," ","AGHJA_H"]
["",null,null,null,"  ",null,null,null,null,null,null,null,null,null,null,null,", ",null,null,null,null,null,"  ",null,null,null,null,null,null,"N/A","N/A","ƏMƏK HAQQI",null,"008",null," ","AGHJA_H"]
["",null,null,null,"  ",null,null,null,null,null,null,null,null,null,null,null,", ",null,null,null,null,null,"  ",null,null,null,null,null,null,"N/A","N/A","ƏMƏK HAQQI",null,"008",null," ","AGHJA_H"]
["",null,null,null,"  ",null,null,null,null,null,null,null,null,null,null,null,", ",null,null,null,null,null,"  ",null,null,null,null,null,null,"N/A","N/A","ƏMƏK HAQQI",null,"008",null," ","AGHJA_H"]
["",null,null,null,"  ",null,null,null,null,null,null,null,null,null,null,null,", ",null,null,null,null,null,"  ",null,null,null,null,null,null,"N/A","N/A","ƏMƏK HAQQI",null,"008",null," ","AGHJA_H"]
["",null,null,null,"  ",null,null,null,null,null,null,null,null,null,null,null,", ",null,null,null,null,null,"  ",null,null,null,null,null,null,"N/A","N/A","ƏMƏK HAQQI",null,"008",null," ","AGHJA_H"]
["",null,null,null,"  ",null,null,null,null,null,null,null,null,null,null,null,", ",null,null,null,null,null,"  ",null,null,null,null,null,null,"N/A","N/A","ƏMƏK HAQQI",null,"008",null," ","AGHJA_H"]
["",null,null,null,"  ",null,null,null,null,null,null,null,null,null,null,null,", ",null,null,null,null,null,"  ",null,null,null,null,null,null,"N/A","N/A","ƏMƏK HAQQI",null,"008",null," ","AGHJA_H"]
["",null,null,null,"  ",null,null,null,null,null,null,null,null,null,null,null,", ",null,null,null,null,null,"  ",null,null,null,null,null,null,"N/A","N/A","ƏMƏK HAQQI",null,"008",null," ","AGHJA_H"]
["",null,null,null,"  ",null,null,null,null,null,null,null,null,null,null,null,", ",null,null,null,null,null,"  ",null,null,null,null,null,null,"N/A","N/A","ƏMƏK HAQQI",null,"008",null," ","AGHJA_H"]
["",null,null,null,"  ",null,null,null,null,null,null,null,null,null,null,null,", ",null,null,null,null,null,"  ",null,null,null,null,null,null,"N/A","N/A","ƏMƏK HAQQI",null,"008",null," ","AGHJA_H"]
["",null,null,null,"  ",null,null,null,null,null,null,null,null,null,null,null,", ",null,null,null,null,null,"  ",null,null,null,null,null,null,"N/A","N/A","ƏMƏK HAQQI",null,"008",null," ","AGHJA_H"]
["",null,null,null,"  ",null,null,null,null,null,null,null,null,null,null,null,", ",null,null,null,null,null,"  ",null,null,null,null,null,null,"N/A","N/A","ƏMƏK HAQQI",null,"008",null," ","AGHJA_H"]
["",null,null,null,"  ",null,null,null,null,null,null,null,null,null,null,null,", ",null,null,null,null,null,"  ",null,null,null,null,null,null,"N/A","N/A","ƏMƏK HAQQI",null,"008",null," ","AGHJA_H"]
["",null,null,null,"  ",null,null,null,null,null,null,null,null,null,null,null,", ",null,null,null,null,null,"  ",null,null,null,null,null,null,"N/A","N/A","ƏMƏK HAQQI",null,"008",null," ","AGHJA_H"]
["",null,null,null,"  ",null,null,null,null,null,null,null,null,null,null,null,", ",null,null,null,null,null,"  ",null,null,null,null,null,null,"N/A","N/A","ƏMƏK HAQQI",null,"008",null," ","AGHJA_H"]
["",null,null,null,"  ",null,null,null,null,null,null,null,null,null,null,null,", ",null,null,null,null,null,"  ",null,null,null,null,null,null,"N/A","N/A","ƏMƏK HAQQI",null,"008",null," ","AGHJA_H"]
["",null,null,null,"  ",null,null,null,null,null,null,null,null,null,null,null,", ",null,null,null,null,null,"  ",null,null,null,null,null,null,"N/A","N/A","ƏMƏK HAQQI",null,"008",null," ","AGHJA_H"]
["",null,null,null,"  ",null,null,null,null,null,null,null,null,null,null,null,", ",null,null,null,null,null,"  ",null,null,null,null,null,null,"N/A","N/A","ƏMƏK HAQQI",null,"008",null," ","AGHJA_H"]
["",null,null,null,"  ",null,null,null,null,null,null,null,null,null,null,null,", ",null,null,null,null,null,"  ",null,null,null,null,null,null,"N/A","N/A","ƏMƏK HAQQI",null,"008",null," ","AGHJA_H"]
["",null,null,null,"  ",null,null,null,null,null,null,null,null,null,null,null,", ",null,null,null,null,null,"  ",null,null,null,null,null,null,"N/A","N/A","ƏMƏK HAQQI",null,"008",null,{"$f":"CONCATENATE((SUBSTITUTE(SUBSTITUTE(SUBSTITUTE(SUBSTITUTE(SUBSTITUTE(SUBSTITUTE(SUBSTITUTE(SUBSTITUTE(SUBSTITUTE(SUBSTITUTE(SUBSTITUTE(C1274,\"Ə\",\"A\"),\"J\",\"ZH\"),\"C\",\"J\"),\"Ç\",\"CH\"),\"İ\",\"I\"),\"Ğ\",\"GH\"),\"Ö\",\"O\"),\"Ü\",\"U\"),\"Ş\",\"SH\"),\"Q\",\"G\"),\"X\",\"KH\")),\" \",(SUBSTITUTE(SUBSTITUTE(SUBSTITUTE(SUBSTITUTE(SUBSTITUTE(SUBSTITUTE(SUBSTITUTE(SUBSTITUTE(SUBSTITUTE(SUBSTITUTE(SUBSTITUTE(B1274,\"Ə\",\"A\"),\"J\",\"ZH\"),\"C\",\"J\"),\"Ç\",\"CH\"),\"İ\",\"I\"),\"Ğ\",\"GH\"),\"Ö\",\"O\"),\"Ü\",\"U\"),\"Ş\",\"SH\"),\"Q\",\"G\"),\"X\",\"KH\")))","v":" "},"AGHJA_H"]
["",null,null,null,{"$f":"CONCATENATE((SUBSTITUTE(SUBSTITUTE(SUBSTITUTE(SUBSTITUTE(SUBSTITUTE(SUBSTITUTE(SUBSTITUTE(SUBSTITUTE(SUBSTITUTE(SUBSTITUTE(SUBSTITUTE(C1275,\"Ə\",\"A\"),\"J\",\"ZH\"),\"C\",\"J\"),\"Ç\",\"CH\"),\"İ\",\"I\"),\"Ğ\",\"GH\"),\"Ö\",\"O\"),\"Ü\",\"U\"),\"Ş\",\"SH\"),\"Q\",\"G\"),\"X\",\"KH\")),\" \",(SUBSTITUTE(SUBSTITUTE(SUBSTITUTE(SUBSTITUTE(SUBSTITUTE(SUBSTITUTE(SUBSTITUTE(SUBSTITUTE(SUBSTITUTE(SUBSTITUTE(SUBSTITUTE(B1275,\"Ə\",\"A\"),\"J\",\"ZH\"),\"C\",\"J\"),\"Ç\",\"CH\"),\"İ\",\"I\"),\"Ğ\",\"GH\"),\"Ö\",\"O\"),\"Ü\",\"U\"),\"Ş\",\"SH\"),\"Q\",\"G\"),\"X\",\"KH\")),\" \",(SUBSTITUTE(SUBSTITUTE(SUBSTITUTE(SUBSTITUTE(SUBSTITUTE(SUBSTITUTE(SUBSTITUTE(SUBSTITUTE(SUBSTITUTE(SUBSTITUTE(SUBSTITUTE(SUBSTITUTE(SUBSTITUTE(D1275,\" OĞLU\",\"\"),\" QIZI\",\"\"),\"Ə\",\"A\"),\"J\",\"ZH\"),\"C\",\"J\"),\"Ç\",\"CH\"),\"İ\",\"I\"),\"Ğ\",\"GH\"),\"Ö\",\"O\"),\"Ü\",\"U\"),\"Ş\",\"SH\"),\"Q\",\"G\"),\"X\",\"KH\")))","v":"  "},null,null,null,null,null,null,null,null,null,null,null,{"$f":"CONCATENATE((SUBSTITUTE(SUBSTITUTE(SUBSTITUTE(SUBSTITUTE(SUBSTITUTE(SUBSTITUTE(SUBSTITUTE(SUBSTITUTE(SUBSTITUTE(SUBSTITUTE(SUBSTITUTE(O1275,\"Ə\",\"A\"),\"J\",\"ZH\"),\"C\",\"J\"),\"Ç\",\"CH\"),\"İ\",\"I\"),\"Ğ\",\"GH\"),\"Ö\",\"O\"),\"Ü\",\"U\"),\"Ş\",\"SH\"),\"Q\",\"G\"),\"X\",\"KH\")),\", \",(SUBSTITUTE(SUBSTITUTE(SUBSTITUTE(SUBSTITUTE(SUBSTITUTE(SUBSTITUTE(SUBSTITUTE(SUBSTITUTE(SUBSTITUTE(SUBSTITUTE(SUBSTITUTE(M1275,\"Ə\",\"A\"),\"J\",\"ZH\"),\"C\",\"J\"),\"Ç\",\"CH\"),\"İ\",\"I\"),\"Ğ\",\"GH\"),\"Ö\",\"O\"),\"Ü\",\"U\"),\"Ş\",\"SH\"),\"Q\",\"G\"),\"X\",\"KH\")))","v":", "},null,null,null,null,null,"  ",null,null,null,null,null,null,"N/A","N/A","ƏMƏK HAQQI",null,"008",null," ","AGHJA_H"]
["",null,null,null,"  ",null,null,null,null,null,null,null,null,null,null,null,", ",null,null,null,null,null,"  ",null,null,null,null,null,null,"N/A","N/A","ƏMƏK HAQQI",null,"008",null," ","AGHJA_H"]
["",null,null,null,"  ",null,null,null,null,null,null,null,null,null,null,null,", ",null,null,null,null,null,"  ",null,null,null,null,null,null,"N/A","N/A","ƏMƏK HAQQI",null,"008",null," ","AGHJA_H"]
["",null,null,null,"  ",null,null,null,null,null,null,null,null,null,null,null,", ",null,null,null,null,null,"  ",null,null,null,null,null,null,"N/A","N/A","ƏMƏK HAQQI",null,"008",null," ","AGHJA_H"]
["",null,null,null,"  ",null,null,null,null,null,null,null,null,null,null,null,", ",null,null,null,null,null,"  ",null,null,null,null,null,null,"N/A","N/A","ƏMƏK HAQQI",null,"008",null," ","AGHJA_H"]
["",null,null,null,"  ",null,null,null,null,null,null,null,null,null,null,null,", ",null,null,null,null,null,"  ",null,null,null,null,null,null,"N/A","N/A","ƏMƏK HAQQI",null,"008",null," ","AGHJA_H"]
["",null,null,null,"  ",null,null,null,null,null,null,null,null,null,null,null,", ",null,null,null,null,null,"  ",null,null,null,null,null,null,"N/A","N/A","ƏMƏK HAQQI",null,"008",null," ","AGHJA_H"]
["",null,null,null,"  ",null,null,null,null,null,null,null,null,null,null,null,", ",null,null,null,null,null,"  ",null,null,null,null,null,null,"N/A","N/A","ƏMƏK HAQQI",null,"008",null," ","AGHJA_H"]
["",null,null,null,"  ",null,null,null,null,null,null,null,null,null,null,null,", ",null,null,null,null,null,"  ",null,null,null,null,null,null,"N/A","N/A","ƏMƏK HAQQI",null,"008",null," ","AGHJA_H"]
["",null,null,null,"  ",null,null,null,null,null,null,null,null,null,null,null,", ",null,null,null,null,null,"  ",null,null,null,null,null,null,"N/A","N/A","ƏMƏK HAQQI",null,"008",null," ","AGHJA_H"]
["",null,null,null,"  ",null,null,null,null,null,null,null,null,null,null,null,", ",null,null,null,null,null,"  ",null,null,null,null,null,null,"N/A","N/A","ƏMƏK HAQQI",null,"008",null," ","AGHJA_H"]
["",null,null,null,"  ",null,null,null,null,null,null,null,null,null,null,null,", ",null,null,null,null,null,"  ",null,null,null,null,null,null,"N/A","N/A","ƏMƏK HAQQI",null,"008",null," ","AGHJA_H"]
["",null,null,null,"  ",null,null,null,null,null,null,null,null,null,null,null,", ",null,null,null,null,null,"  ",null,null,null,null,null,null,"N/A","N/A","ƏMƏK HAQQI",null,"008",null," ","AGHJA_H"]
["",null,null,null,"  ",null,null,null,null,null,null,null,null,null,null,null,", ",null,null,null,null,null,"  ",null,null,null,null,null,null,"N/A","N/A","ƏMƏK HAQQI",null,"008",null," ","AGHJA_H"]
["",null,null,null,"  ",null,null,null,null,null,null,null,null,null,null,null,", ",null,null,null,null,null,"  ",null,null,null,null,null,null,"N/A","N/A","ƏMƏK HAQQI",null,"008",null," ","AGHJA_H"]
["",null,null,null,"  ",null,null,null,null,null,null,null,null,null,null,null,", ",null,null,null,null,null,"  ",null,null,null,null,null,null,"N/A","N/A","ƏMƏK HAQQI",null,"008",null," ","AGHJA_H"]
["",null,null,null,"  ",null,null,null,null,null,null,null,null,null,null,null,", ",null,null,null,null,null,"  ",null,null,null,null,null,null,"N/A","N/A","ƏMƏK HAQQI",null,"008",null," ","AGHJA_H"]
["",null,null,null,"  ",null,null,null,null,null,null,null,null,null,null,null,", ",null,null,null,null,null,"  ",null,null,null,null,null,null,"N/A","N/A","ƏMƏK HAQQI",null,"008",null," ","AGHJA_H"]
["",null,null,null,"  ",null,null,null,null,null,null,null,null,null,null,null,", ",null,null,null,null,null,"  ",null,null,null,null,null,null,"N/A","N/A","ƏMƏK HAQQI",null,"008",null," ","AGHJA_H"]
["",null,null,null,"  ",null,null,null,null,null,null,null,null,null,null,null,", ",null,null,null,null,null,"  ",null,null,null,null,null,null,"N/A","N/A","ƏMƏK HAQQI",null,"008",null," ","AGHJA_H"]
["",null,null,null,"  ",null,null,null,null,null,null,null,null,null,null,null,", ",null,null,null,null,null,"  ",null,null,null,null,null,null,"N/A","N/A","ƏMƏK HAQQI",null,"008",null," ","AGHJA_H"]
["",null,null,null,"  ",null,null,null,null,null,null,null,null,null,null,null,", ",null,null,null,null,null,"  ",null,null,null,null,null,null,"N/A","N/A","ƏMƏK HAQQI",null,"008",null," ","AGHJA_H"]
["",null,null,null,"  ",null,null,null,null,null,null,null,null,null,null,null,", ",null,null,null,null,null,"  ",null,null,null,null,null,null,"N/A","N/A","ƏMƏK HAQQI",null,"008",null," ","AGHJA_H"]
["",null,null,null,"  ",null,null,null,null,null,null,null,null,null,null,null,", ",null,null,null,null,null,"  ",null,null,null,null,null,null,"N/A","N/A","ƏMƏK HAQQI",null,"008",null," ","AGHJA_H"]
["",null,null,null,"  ",null,null,null,null,null,null,null,null,null,null,null,", ",null,null,null,null,null,"  ",null,null,null,null,null,null,"N/A","N/A","ƏMƏK HAQQI",null,"008",null," ","AGHJA_H"]
["",null,null,null,"  ",null,null,null,null,null,null,null,null,null,null,null,", ",null,null,null,null,null,"  ",null,null,null,null,null,null,"N/A","N/A","ƏMƏK HAQQI",null,"008",null," ","AGHJA_H"]
["",null,null,null,"  ",null,null,null,null,null,null,null,null,null,null,null,", ",null,null,null,null,null,"  ",null,null,null,null,null,null,"N/A","N/A","ƏMƏK HAQQI",null,"008",null," ","AGHJA_H"]
["",null,null,null,"  ",null,null,null,null,null,null,null,null,null,null,null,", ",null,null,null,null,null,"  ",null,null,null,null,null,null,"N/A","N/A","ƏMƏK HAQQI",null,"008",null," ","AGHJA_H"]
["",null,null,null,"  ",null,null,null,null,null,null,null,null,null,null,null,", ",null,null,null,null,null,"  ",null,null,null,null,null,null,"N/A","N/A","ƏMƏK HAQQI",null,"008",null," ","AGHJA_H"]
["",null,null,null,"  ",null,null,null,null,null,null,null,null,null,null,null,", ",null,null,null,null,null,"  ",null,null,null,null,null,null,"N/A","N/A","ƏMƏK HAQQI",null,"008",null," ","AGHJA_H"]
["",null,null,null,"  ",null,null,null,null,null,null,null,null,null,null,null,", ",null,null,null,null,null,"  ",null,null,null,null,null,null,"N/A","N/A","ƏMƏK HAQQI",null,"008",null," ","AGHJA_H"]
["",null,null,null,"  ",null,null,null,null,null,null,null,null,null,null,null,", ",null,null,null,null,null,"  ",null,null,null,null,null,null,"N/A","N/A","ƏMƏK HAQQI",null,"008",null,{"$f":"CONCATENATE((SUBSTITUTE(SUBSTITUTE(SUBSTITUTE(SUBSTITUTE(SUBSTITUTE(SUBSTITUTE(SUBSTITUTE(SUBSTITUTE(SUBSTITUTE(SUBSTITUTE(SUBSTITUTE(C1338,\"Ə\",\"A\"),\"J\",\"ZH\"),\"C\",\"J\"),\"Ç\",\"CH\"),\"İ\",\"I\"),\"Ğ\",\"GH\"),\"Ö\",\"O\"),\"Ü\",\"U\"),\"Ş\",\"SH\"),\"Q\",\"G\"),\"X\",\"KH\")),\" \",(SUBSTITUTE(SUBSTITUTE(SUBSTITUTE(SUBSTITUTE(SUBSTITUTE(SUBSTITUTE(SUBSTITUTE(SUBSTITUTE(SUBSTITUTE(SUBSTITUTE(SUBSTITUTE(B1338,\"Ə\",\"A\"),\"J\",\"ZH\"),\"C\",\"J\"),\"Ç\",\"CH\"),\"İ\",\"I\"),\"Ğ\",\"GH\"),\"Ö\",\"O\"),\"Ü\",\"U\"),\"Ş\",\"SH\"),\"Q\",\"G\"),\"X\",\"KH\")))","v":" "},"AGHJA_H"]
["",null,null,null,{"$f":"CONCATENATE((SUBSTITUTE(SUBSTITUTE(SUBSTITUTE(SUBSTITUTE(SUBSTITUTE(SUBSTITUTE(SUBSTITUTE(SUBSTITUTE(SUBSTITUTE(SUBSTITUTE(SUBSTITUTE(C1339,\"Ə\",\"A\"),\"J\",\"ZH\"),\"C\",\"J\"),\"Ç\",\"CH\"),\"İ\",\"I\"),\"Ğ\",\"GH\"),\"Ö\",\"O\"),\"Ü\",\"U\"),\"Ş\",\"SH\"),\"Q\",\"G\"),\"X\",\"KH\")),\" \",(SUBSTITUTE(SUBSTITUTE(SUBSTITUTE(SUBSTITUTE(SUBSTITUTE(SUBSTITUTE(SUBSTITUTE(SUBSTITUTE(SUBSTITUTE(SUBSTITUTE(SUBSTITUTE(B1339,\"Ə\",\"A\"),\"J\",\"ZH\"),\"C\",\"J\"),\"Ç\",\"CH\"),\"İ\",\"I\"),\"Ğ\",\"GH\"),\"Ö\",\"O\"),\"Ü\",\"U\"),\"Ş\",\"SH\"),\"Q\",\"G\"),\"X\",\"KH\")),\" \",(SUBSTITUTE(SUBSTITUTE(SUBSTITUTE(SUBSTITUTE(SUBSTITUTE(SUBSTITUTE(SUBSTITUTE(SUBSTITUTE(SUBSTITUTE(SUBSTITUTE(SUBSTITUTE(SUBSTITUTE(SUBSTITUTE(D1339,\" OĞLU\",\"\"),\" QIZI\",\"\"),\"Ə\",\"A\"),\"J\",\"ZH\"),\"C\",\"J\"),\"Ç\",\"CH\"),\"İ\",\"I\"),\"Ğ\",\"GH\"),\"Ö\",\"O\"),\"Ü\",\"U\"),\"Ş\",\"SH\"),\"Q\",\"G\"),\"X\",\"KH\")))","v":"  "},null,null,null,null,null,null,null,null,null,null,null,{"$f":"CONCATENATE((SUBSTITUTE(SUBSTITUTE(SUBSTITUTE(SUBSTITUTE(SUBSTITUTE(SUBSTITUTE(SUBSTITUTE(SUBSTITUTE(SUBSTITUTE(SUBSTITUTE(SUBSTITUTE(O1339,\"Ə\",\"A\"),\"J\",\"ZH\"),\"C\",\"J\"),\"Ç\",\"CH\"),\"İ\",\"I\"),\"Ğ\",\"GH\"),\"Ö\",\"O\"),\"Ü\",\"U\"),\"Ş\",\"SH\"),\"Q\",\"G\"),\"X\",\"KH\")),\", \",(SUBSTITUTE(SUBSTITUTE(SUBSTITUTE(SUBSTITUTE(SUBSTITUTE(SUBSTITUTE(SUBSTITUTE(SUBSTITUTE(SUBSTITUTE(SUBSTITUTE(SUBSTITUTE(M1339,\"Ə\",\"A\"),\"J\",\"ZH\"),\"C\",\"J\"),\"Ç\",\"CH\"),\"İ\",\"I\"),\"Ğ\",\"GH\"),\"Ö\",\"O\"),\"Ü\",\"U\"),\"Ş\",\"SH\"),\"Q\",\"G\"),\"X\",\"KH\")))","v":", "},null,null,null,null,null,"  ",null,null,null,null,null,null,"N/A","N/A","ƏMƏK HAQQI",null,"008",null," ","AGHJA_H"]
["",null,null,null,"  ",null,null,null,null,null,null,null,null,null,null,null,", ",null,null,null,null,null,"  ",null,null,null,null,null,null,"N/A","N/A","ƏMƏK HAQQI",null,"008",null," ","AGHJA_H"]
["",null,null,null,"  ",null,null,null,null,null,null,null,null,null,null,null,", ",null,null,null,null,null,"  ",null,null,null,null,null,null,"N/A","N/A","ƏMƏK HAQQI",null,"008",null," ","AGHJA_H"]
["",null,null,null,"  ",null,null,null,null,null,null,null,null,null,null,null,", ",null,null,null,null,null,"  ",null,null,null,null,null,null,"N/A","N/A","ƏMƏK HAQQI",null,"008",null," ","AGHJA_H"]
["",null,null,null,"  ",null,null,null,null,null,null,null,null,null,null,null,", ",null,null,null,null,null,"  ",null,null,null,null,null,null,"N/A","N/A","ƏMƏK HAQQI",null,"008",null," ","AGHJA_H"]
["",null,null,null,"  ",null,null,null,null,null,null,null,null,null,null,null,", ",null,null,null,null,null,"  ",null,null,null,null,null,null,"N/A","N/A","ƏMƏK HAQQI",null,"008",null," ","AGHJA_H"]
["",null,null,null,"  ",null,null,null,null,null,null,null,null,null,null,null,", ",null,null,null,null,null,"  ",null,null,null,null,null,null,"N/A","N/A","ƏMƏK HAQQI",null,"008",null," ","AGHJA_H"]
["",null,null,null,"  ",null,null,null,null,null,null,null,null,null,null,null,", ",null,null,null,null,null,"  ",null,null,null,null,null,null,"N/A","N/A","ƏMƏK HAQQI",null,"008",null," ","AGHJA_H"]
["",null,null,null,"  ",null,null,null,null,null,null,null,null,null,null,null,", ",null,null,null,null,null,"  ",null,null,null,null,null,null,"N/A","N/A","ƏMƏK HAQQI",null,"008",null," ","AGHJA_H"]
["",null,null,null,"  ",null,null,null,null,null,null,null,null,null,null,null,", ",null,null,null,null,null,"  ",null,null,null,null,null,null,"N/A","N/A","ƏMƏK HAQQI",null,"008",null," ","AGHJA_H"]
["",null,null,null,"  ",null,null,null,null,null,null,null,null,null,null,null,", ",null,null,null,null,null,"  ",null,null,null,null,null,null,"N/A","N/A","ƏMƏK HAQQI",null,"008",null," ","AGHJA_H"]
["",null,null,null,"  ",null,null,null,null,null,null,null,null,null,null,null,", ",null,null,null,null,null,"  ",null,null,null,null,null,null,"N/A","N/A","ƏMƏK HAQQI",null,"008",null," ","AGHJA_H"]
["",null,null,null,"  ",null,null,null,null,null,null,null,null,null,null,null,", ",null,null,null,null,null,"  ",null,null,null,null,null,null,"N/A","N/A","ƏMƏK HAQQI",null,"008",null," ","AGHJA_H"]
["",null,null,null,"  ",null,null,null,null,null,null,null,null,null,null,null,", ",null,null,null,null,null,"  ",null,null,null,null,null,null,"N/A","N/A","ƏMƏK HAQQI",null,"008",null," ","AGHJA_H"]
["",null,null,null,"  ",null,null,null,null,null,null,null,null,null,null,null,", ",null,null,null,null,null,"  ",null,null,null,null,null,null,"N/A","N/A","ƏMƏK HAQQI",null,"008",null," ","AGHJA_H"]
["",null,null,null,"  ",null,null,null,null,null,null,null,null,null,null,null,", ",null,null,null,null,null,"  ",null,null,null,null,null,null,"N/A","N/A","ƏMƏK HAQQI",null,"008",null," ","AGHJA_H"]
["",null,null,null,"  ",null,null,null,null,null,null,null,null,null,null,null,", ",null,null,null,null,null,"  ",null,null,null,null,null,null,"N/A","N/A","ƏMƏK HAQQI",null,"008",null," ","AGHJA_H"]
["",null,null,null,"  ",null,null,null,null,null,null,null,null,null,null,null,", ",null,null,null,null,null,"  ",null,null,null,null,null,null,"N/A","N/A","ƏMƏK HAQQI",null,"008",null," ","AGHJA_H"]
["",null,null,null,"  ",null,null,null,null,null,null,null,null,null,null,null,", ",null,null,null,null,null,"  ",null,null,null,null,null,null,"N/A","N/A","ƏMƏK HAQQI",null,"008",null," ","AGHJA_H"]
["",null,null,null,"  ",null,null,null,null,null,null,null,null,null,null,null,", ",null,null,null,null,null,"  ",null,null,null,null,null,null,"N/A","N/A","ƏMƏK HAQQI",null,"008",null," ","AGHJA_H"]
["",null,null,null,"  ",null,null,null,null,null,null,null,null,null,null,null,", ",null,null,null,null,null,"  ",null,null,null,null,null,null,"N/A","N/A","ƏMƏK HAQQI",null,"008",null," ","AGHJA_H"]
["",null,null,null,"  ",null,null,null,null,null,null,null,null,null,null,null,", ",null,null,null,null,null,"  ",null,null,null,null,null,null,"N/A","N/A","ƏMƏK HAQQI",null,"008",null," ","AGHJA_H"]
["",null,null,null,"  ",null,null,null,null,null,null,null,null,null,null,null,", ",null,null,null,null,null,"  ",null,null,null,null,null,null,"N/A","N/A","ƏMƏK HAQQI",null,"008",null," ","AGHJA_H"]
["",null,null,null,"  ",null,null,null,null,null,null,null,null,null,null,null,", ",null,null,null,null,null,"  ",null,null,null,null,null,null,"N/A","N/A","ƏMƏK HAQQI",null,"008",null," ","AGHJA_H"]
["",null,null,null,"  ",null,null,null,null,null,null,null,null,null,null,null,", ",null,null,null,null,null,"  ",null,null,null,null,null,null,"N/A","N/A","ƏMƏK HAQQI",null,"008",null," ","AGHJA_H"]
["",null,null,null,"  ",null,null,null,null,null,null,null,null,null,null,null,", ",null,null,null,null,null,"  ",null,null,null,null,null,null,"N/A","N/A","ƏMƏK HAQQI",null,"008",null," ","AGHJA_H"]
["",null,null,null,"  ",null,null,null,null,null,null,null,null,null,null,null,", ",null,null,null,null,null,"  ",null,null,null,null,null,null,"N/A","N/A","ƏMƏK HAQQI",null,"008",null," ","AGHJA_H"]
["",null,null,null,"  ",null,null,null,null,null,null,null,null,null,null,null,", ",null,null,null,null,null,"  ",null,null,null,null,null,null,"N/A","N/A","ƏMƏK HAQQI",null,"008",null," ","AGHJA_H"]
["",null,null,null,"  ",null,null,null,null,null,null,null,null,null,null,null,", ",null,null,null,null,null,"  ",null,null,null,null,null,null,"N/A","N/A","ƏMƏK HAQQI",null,"008",null," ","AGHJA_H"]
["",null,null,null,"  ",null,null,null,null,null,null,null,null,null,null,null,", ",null,null,null,null,null,"  ",null,null,null,null,null,null,"N/A","N/A","ƏMƏK HAQQI",null,"008",null," ","AGHJA_H"]
["",null,null,null,"  ",null,null,null,null,null,null,null,null,null,null,null,", ",null,null,null,null,null,"  ",null,null,null,null,null,null,"N/A","N/A","ƏMƏK HAQQI",null,"008",null," ","AGHJA_H"]
["",null,null,null,"  ",null,null,null,null,null,null,null,null,null,null,null,", ",null,null,null,null,null,"  ",null,null,null,null,null,null,"N/A","N/A","ƏMƏK HAQQI",null,"008",null,{"$f":"CONCATENATE((SUBSTITUTE(SUBSTITUTE(SUBSTITUTE(SUBSTITUTE(SUBSTITUTE(SUBSTITUTE(SUBSTITUTE(SUBSTITUTE(SUBSTITUTE(SUBSTITUTE(SUBSTITUTE(C1402,\"Ə\",\"A\"),\"J\",\"ZH\"),\"C\",\"J\"),\"Ç\",\"CH\"),\"İ\",\"I\"),\"Ğ\",\"GH\"),\"Ö\",\"O\"),\"Ü\",\"U\"),\"Ş\",\"SH\"),\"Q\",\"G\"),\"X\",\"KH\")),\" \",(SUBSTITUTE(SUBSTITUTE(SUBSTITUTE(SUBSTITUTE(SUBSTITUTE(SUBSTITUTE(SUBSTITUTE(SUBSTITUTE(SUBSTITUTE(SUBSTITUTE(SUBSTITUTE(B1402,\"Ə\",\"A\"),\"J\",\"ZH\"),\"C\",\"J\"),\"Ç\",\"CH\"),\"İ\",\"I\"),\"Ğ\",\"GH\"),\"Ö\",\"O\"),\"Ü\",\"U\"),\"Ş\",\"SH\"),\"Q\",\"G\"),\"X\",\"KH\")))","v":" "},"AGHJA_H"]
["",null,null,null,{"$f":"CONCATENATE((SUBSTITUTE(SUBSTITUTE(SUBSTITUTE(SUBSTITUTE(SUBSTITUTE(SUBSTITUTE(SUBSTITUTE(SUBSTITUTE(SUBSTITUTE(SUBSTITUTE(SUBSTITUTE(C1403,\"Ə\",\"A\"),\"J\",\"ZH\"),\"C\",\"J\"),\"Ç\",\"CH\"),\"İ\",\"I\"),\"Ğ\",\"GH\"),\"Ö\",\"O\"),\"Ü\",\"U\"),\"Ş\",\"SH\"),\"Q\",\"G\"),\"X\",\"KH\")),\" \",(SUBSTITUTE(SUBSTITUTE(SUBSTITUTE(SUBSTITUTE(SUBSTITUTE(SUBSTITUTE(SUBSTITUTE(SUBSTITUTE(SUBSTITUTE(SUBSTITUTE(SUBSTITUTE(B1403,\"Ə\",\"A\"),\"J\",\"ZH\"),\"C\",\"J\"),\"Ç\",\"CH\"),\"İ\",\"I\"),\"Ğ\",\"GH\"),\"Ö\",\"O\"),\"Ü\",\"U\"),\"Ş\",\"SH\"),\"Q\",\"G\"),\"X\",\"KH\")),\" \",(SUBSTITUTE(SUBSTITUTE(SUBSTITUTE(SUBSTITUTE(SUBSTITUTE(SUBSTITUTE(SUBSTITUTE(SUBSTITUTE(SUBSTITUTE(SUBSTITUTE(SUBSTITUTE(SUBSTITUTE(SUBSTITUTE(D1403,\" OĞLU\",\"\"),\" QIZI\",\"\"),\"Ə\",\"A\"),\"J\",\"ZH\"),\"C\",\"J\"),\"Ç\",\"CH\"),\"İ\",\"I\"),\"Ğ\",\"GH\"),\"Ö\",\"O\"),\"Ü\",\"U\"),\"Ş\",\"SH\"),\"Q\",\"G\"),\"X\",\"KH\")))","v":"  "},null,null,null,null,null,null,null,null,null,null,null,{"$f":"CONCATENATE((SUBSTITUTE(SUBSTITUTE(SUBSTITUTE(SUBSTITUTE(SUBSTITUTE(SUBSTITUTE(SUBSTITUTE(SUBSTITUTE(SUBSTITUTE(SUBSTITUTE(SUBSTITUTE(O1403,\"Ə\",\"A\"),\"J\",\"ZH\"),\"C\",\"J\"),\"Ç\",\"CH\"),\"İ\",\"I\"),\"Ğ\",\"GH\"),\"Ö\",\"O\"),\"Ü\",\"U\"),\"Ş\",\"SH\"),\"Q\",\"G\"),\"X\",\"KH\")),\", \",(SUBSTITUTE(SUBSTITUTE(SUBSTITUTE(SUBSTITUTE(SUBSTITUTE(SUBSTITUTE(SUBSTITUTE(SUBSTITUTE(SUBSTITUTE(SUBSTITUTE(SUBSTITUTE(M1403,\"Ə\",\"A\"),\"J\",\"ZH\"),\"C\",\"J\"),\"Ç\",\"CH\"),\"İ\",\"I\"),\"Ğ\",\"GH\"),\"Ö\",\"O\"),\"Ü\",\"U\"),\"Ş\",\"SH\"),\"Q\",\"G\"),\"X\",\"KH\")))","v":", "},null,null,null,null,null,"  ",null,null,null,null,null,null,"N/A","N/A","ƏMƏK HAQQI",null,"008",null," ","AGHJA_H"]
["",null,null,null,"  ",null,null,null,null,null,null,null,null,null,null,null,", ",null,null,null,null,null,"  ",null,null,null,null,null,null,"N/A","N/A","ƏMƏK HAQQI",null,"008",null," ","AGHJA_H"]
["",null,null,null,"  ",null,null,null,null,null,null,null,null,null,null,null,", ",null,null,null,null,null,"  ",null,null,null,null,null,null,"N/A","N/A","ƏMƏK HAQQI",null,"008",null," ","AGHJA_H"]
["",null,null,null,"  ",null,null,null,null,null,null,null,null,null,null,null,", ",null,null,null,null,null,"  ",null,null,null,null,null,null,"N/A","N/A","ƏMƏK HAQQI",null,"008",null," ","AGHJA_H"]
["",null,null,null,"  ",null,null,null,null,null,null,null,null,null,null,null,", ",null,null,null,null,null,"  ",null,null,null,null,null,null,"N/A","N/A","ƏMƏK HAQQI",null,"008",null," ","AGHJA_H"]
["",null,null,null,"  ",null,null,null,null,null,null,null,null,null,null,null,", ",null,null,null,null,null,"  ",null,null,null,null,null,null,"N/A","N/A","ƏMƏK HAQQI",null,"008",null," ","AGHJA_H"]
["",null,null,null,"  ",null,null,null,null,null,null,null,null,null,null,null,", ",null,null,null,null,null,"  ",null,null,null,null,null,null,"N/A","N/A","ƏMƏK HAQQI",null,"008",null," ","AGHJA_H"]
["",null,null,null,"  ",null,null,null,null,null,null,null,null,null,null,null,", ",null,null,null,null,null,"  ",null,null,null,null,null,null,"N/A","N/A","ƏMƏK HAQQI",null,"008",null," ","AGHJA_H"]
["",null,null,null,"  ",null,null,null,null,null,null,null,null,null,null,null,", ",null,null,null,null,null,"  ",null,null,null,null,null,null,"N/A","N/A","ƏMƏK HAQQI",null,"008",null," ","AGHJA_H"]
["",null,null,null,"  ",null,null,null,null,null,null,null,null,null,null,null,", ",null,null,null,null,null,"  ",null,null,null,null,null,null,"N/A","N/A","ƏMƏK HAQQI",null,"008",null," ","AGHJA_H"]
["",null,null,null,"  ",null,null,null,null,null,null,null,null,null,null,null,", ",null,null,null,null,null,"  ",null,null,null,null,null,null,"N/A","N/A","ƏMƏK HAQQI",null,"008",null," ","AGHJA_H"]
["",null,null,null,"  ",null,null,null,null,null,null,null,null,null,null,null,", ",null,null,null,null,null,"  ",null,null,null,null,null,null,"N/A","N/A","ƏMƏK HAQQI",null,"008",null," ","AGHJA_H"]
["",null,null,null,"  ",null,null,null,null,null,null,null,null,null,null,null,", ",null,null,null,null,null,"  ",null,null,null,null,null,null,"N/A","N/A","ƏMƏK HAQQI",null,"008",null," ","AGHJA_H"]
["",null,null,null,"  ",null,null,null,null,null,null,null,null,null,null,null,", ",null,null,null,null,null,"  ",null,null,null,null,null,null,"N/A","N/A","ƏMƏK HAQQI",null,"008",null," ","AGHJA_H"]
["",null,null,null,"  ",null,null,null,null,null,null,null,null,null,null,null,", ",null,null,null,null,null,"  ",null,null,null,null,null,null,"N/A","N/A","ƏMƏK HAQQI",null,"008",null," ","AGHJA_H"]
["",null,null,null,"  ",null,null,null,null,null,null,null,null,null,null,null,", ",null,null,null,null,null,"  ",null,null,null,null,null,null,"N/A","N/A","ƏMƏK HAQQI",null,"008",null," ","AGHJA_H"]
["",null,null,null,"  ",null,null,null,null,null,null,null,null,null,null,null,", ",null,null,null,null,null,"  ",null,null,null,null,null,null,"N/A","N/A","ƏMƏK HAQQI",null,"008",null," ","AGHJA_H"]
["",null,null,null,"  ",null,null,null,null,null,null,null,null,null,null,null,", ",null,null,null,null,null,"  ",null,null,null,null,null,null,"N/A","N/A","ƏMƏK HAQQI",null,"008",null," ","AGHJA_H"]
["",null,null,null,"  ",null,null,null,null,null,null,null,null,null,null,null,", ",null,null,null,null,null,"  ",null,null,null,null,null,null,"N/A","N/A","ƏMƏK HAQQI",null,"008",null," ","AGHJA_H"]
["",null,null,null,"  ",null,null,null,null,null,null,null,null,null,null,null,", ",null,null,null,null,null,"  ",null,null,null,null,null,null,"N/A","N/A","ƏMƏK HAQQI",null,"008",null," ","AGHJA_H"]
["",null,null,null,"  ",null,null,null,null,null,null,null,null,null,null,null,", ",null,null,null,null,null,"  ",null,null,null,null,null,null,"N/A","N/A","ƏMƏK HAQQI",null,"008",null," ","AGHJA_H"]
["",null,null,null,"  ",null,null,null,null,null,null,null,null,null,null,null,", ",null,null,null,null,null,"  ",null,null,null,null,null,null,"N/A","N/A","ƏMƏK HAQQI",null,"008",null," ","AGHJA_H"]
["",null,null,null,"  ",null,null,null,null,null,null,null,null,null,null,null,", ",null,null,null,null,null,"  ",null,null,null,null,null,null,"N/A","N/A","ƏMƏK HAQQI",null,"008",null," ","AGHJA_H"]
["",null,null,null,"  ",null,null,null,null,null,null,null,null,null,null,null,", ",null,null,null,null,null,"  ",null,null,null,null,null,null,"N/A","N/A","ƏMƏK HAQQI",null,"008",null," ","AGHJA_H"]
["",null,null,null,"  ",null,null,null,null,null,null,null,null,null,null,null,", ",null,null,null,null,null,"  ",null,null,null,null,null,null,"N/A","N/A","ƏMƏK HAQQI",null,"008",null," ","AGHJA_H"]
["",null,null,null,"  ",null,null,null,null,null,null,null,null,null,null,null,", ",null,null,null,null,null,"  ",null,null,null,null,null,null,"N/A","N/A","ƏMƏK HAQQI",null,"008",null," ","AGHJA_H"]
["",null,null,null,"  ",null,null,null,null,null,null,null,null,null,null,null,", ",null,null,null,null,null,"  ",null,null,null,null,null,null,"N/A","N/A","ƏMƏK HAQQI",null,"008",null," ","AGHJA_H"]
["",null,null,null,"  ",null,null,null,null,null,null,null,null,null,null,null,", ",null,null,null,null,null,"  ",null,null,null,null,null,null,"N/A","N/A","ƏMƏK HAQQI",null,"008",null," ","AGHJA_H"]
["",null,null,null,"  ",null,null,null,null,null,null,null,null,null,null,null,", ",null,null,null,null,null,"  ",null,null,null,null,null,null,"N/A","N/A","ƏMƏK HAQQI",null,"008",null," ","AGHJA_H"]
["",null,null,null,"  ",null,null,null,null,null,null,null,null,null,null,null,", ",null,null,null,null,null,"  ",null,null,null,null,null,null,"N/A","N/A","ƏMƏK HAQQI",null,"008",null," ","AGHJA_H"]
["",null,null,null,"  ",null,null,null,null,null,null,null,null,null,null,null,", ",null,null,null,null,null,"  ",null,null,null,null,null,null,"N/A","N/A","ƏMƏK HAQQI",null,"008",null," ","AGHJA_H"]
["",null,null,null,"  ",null,null,null,null,null,null,null,null,null,null,null,", ",null,null,null,null,null,"  ",null,null,null,null,null,null,"N/A","N/A","ƏMƏK HAQQI",null,"008",null,{"$f":"CONCATENATE((SUBSTITUTE(SUBSTITUTE(SUBSTITUTE(SUBSTITUTE(SUBSTITUTE(SUBSTITUTE(SUBSTITUTE(SUBSTITUTE(SUBSTITUTE(SUBSTITUTE(SUBSTITUTE(C1466,\"Ə\",\"A\"),\"J\",\"ZH\"),\"C\",\"J\"),\"Ç\",\"CH\"),\"İ\",\"I\"),\"Ğ\",\"GH\"),\"Ö\",\"O\"),\"Ü\",\"U\"),\"Ş\",\"SH\"),\"Q\",\"G\"),\"X\",\"KH\")),\" \",(SUBSTITUTE(SUBSTITUTE(SUBSTITUTE(SUBSTITUTE(SUBSTITUTE(SUBSTITUTE(SUBSTITUTE(SUBSTITUTE(SUBSTITUTE(SUBSTITUTE(SUBSTITUTE(B1466,\"Ə\",\"A\"),\"J\",\"ZH\"),\"C\",\"J\"),\"Ç\",\"CH\"),\"İ\",\"I\"),\"Ğ\",\"GH\"),\"Ö\",\"O\"),\"Ü\",\"U\"),\"Ş\",\"SH\"),\"Q\",\"G\"),\"X\",\"KH\")))","v":" "},"AGHJA_H"]
["",null,null,null,{"$f":"CONCATENATE((SUBSTITUTE(SUBSTITUTE(SUBSTITUTE(SUBSTITUTE(SUBSTITUTE(SUBSTITUTE(SUBSTITUTE(SUBSTITUTE(SUBSTITUTE(SUBSTITUTE(SUBSTITUTE(C1467,\"Ə\",\"A\"),\"J\",\"ZH\"),\"C\",\"J\"),\"Ç\",\"CH\"),\"İ\",\"I\"),\"Ğ\",\"GH\"),\"Ö\",\"O\"),\"Ü\",\"U\"),\"Ş\",\"SH\"),\"Q\",\"G\"),\"X\",\"KH\")),\" \",(SUBSTITUTE(SUBSTITUTE(SUBSTITUTE(SUBSTITUTE(SUBSTITUTE(SUBSTITUTE(SUBSTITUTE(SUBSTITUTE(SUBSTITUTE(SUBSTITUTE(SUBSTITUTE(B1467,\"Ə\",\"A\"),\"J\",\"ZH\"),\"C\",\"J\"),\"Ç\",\"CH\"),\"İ\",\"I\"),\"Ğ\",\"GH\"),\"Ö\",\"O\"),\"Ü\",\"U\"),\"Ş\",\"SH\"),\"Q\",\"G\"),\"X\",\"KH\")),\" \",(SUBSTITUTE(SUBSTITUTE(SUBSTITUTE(SUBSTITUTE(SUBSTITUTE(SUBSTITUTE(SUBSTITUTE(SUBSTITUTE(SUBSTITUTE(SUBSTITUTE(SUBSTITUTE(SUBSTITUTE(SUBSTITUTE(D1467,\" OĞLU\",\"\"),\" QIZI\",\"\"),\"Ə\",\"A\"),\"J\",\"ZH\"),\"C\",\"J\"),\"Ç\",\"CH\"),\"İ\",\"I\"),\"Ğ\",\"GH\"),\"Ö\",\"O\"),\"Ü\",\"U\"),\"Ş\",\"SH\"),\"Q\",\"G\"),\"X\",\"KH\")))","v":"  "},null,null,null,null,null,null,null,null,null,null,null,{"$f":"CONCATENATE((SUBSTITUTE(SUBSTITUTE(SUBSTITUTE(SUBSTITUTE(SUBSTITUTE(SUBSTITUTE(SUBSTITUTE(SUBSTITUTE(SUBSTITUTE(SUBSTITUTE(SUBSTITUTE(O1467,\"Ə\",\"A\"),\"J\",\"ZH\"),\"C\",\"J\"),\"Ç\",\"CH\"),\"İ\",\"I\"),\"Ğ\",\"GH\"),\"Ö\",\"O\"),\"Ü\",\"U\"),\"Ş\",\"SH\"),\"Q\",\"G\"),\"X\",\"KH\")),\", \",(SUBSTITUTE(SUBSTITUTE(SUBSTITUTE(SUBSTITUTE(SUBSTITUTE(SUBSTITUTE(SUBSTITUTE(SUBSTITUTE(SUBSTITUTE(SUBSTITUTE(SUBSTITUTE(M1467,\"Ə\",\"A\"),\"J\",\"ZH\"),\"C\",\"J\"),\"Ç\",\"CH\"),\"İ\",\"I\"),\"Ğ\",\"GH\"),\"Ö\",\"O\"),\"Ü\",\"U\"),\"Ş\",\"SH\"),\"Q\",\"G\"),\"X\",\"KH\")))","v":", "},null,null,null,null,null,"  ",null,null,null,null,null,null,"N/A","N/A","ƏMƏK HAQQI",null,"008",null," ","AGHJA_H"]
["",null,null,null,"  ",null,null,null,null,null,null,null,null,null,null,null,", ",null,null,null,null,null,"  ",null,null,null,null,null,null,"N/A","N/A","ƏMƏK HAQQI",null,"008",null," ","AGHJA_H"]
["",null,null,null,"  ",null,null,null,null,null,null,null,null,null,null,null,", ",null,null,null,null,null,"  ",null,null,null,null,null,null,"N/A","N/A","ƏMƏK HAQQI",null,"008",null," ","AGHJA_H"]
["",null,null,null,"  ",null,null,null,null,null,null,null,null,null,null,null,", ",null,null,null,null,null,"  ",null,null,null,null,null,null,"N/A","N/A","ƏMƏK HAQQI",null,"008",null," ","AGHJA_H"]
["",null,null,null,"  ",null,null,null,null,null,null,null,null,null,null,null,", ",null,null,null,null,null,"  ",null,null,null,null,null,null,"N/A","N/A","ƏMƏK HAQQI",null,"008",null," ","AGHJA_H"]
["",null,null,null,"  ",null,null,null,null,null,null,null,null,null,null,null,", ",null,null,null,null,null,"  ",null,null,null,null,null,null,"N/A","N/A","ƏMƏK HAQQI",null,"008",null," ","AGHJA_H"]
["",null,null,null,"  ",null,null,null,null,null,null,null,null,null,null,null,", ",null,null,null,null,null,"  ",null,null,null,null,null,null,"N/A","N/A","ƏMƏK HAQQI",null,"008",null," ","AGHJA_H"]
["",null,null,null,"  ",null,null,null,null,null,null,null,null,null,null,null,", ",null,null,null,null,null,"  ",null,null,null,null,null,null,"N/A","N/A","ƏMƏK HAQQI",null,"008",null," ","AGHJA_H"]
["",null,null,null,"  ",null,null,null,null,null,null,null,null,null,null,null,", ",null,null,null,null,null,"  ",null,null,null,null,null,null,"N/A","N/A","ƏMƏK HAQQI",null,"008",null," ","AGHJA_H"]
["",null,null,null,"  ",null,null,null,null,null,null,null,null,null,null,null,", ",null,null,null,null,null,"  ",null,null,null,null,null,null,"N/A","N/A","ƏMƏK HAQQI",null,"008",null," ","AGHJA_H"]
["",null,null,null,"  ",null,null,null,null,null,null,null,null,null,null,null,", ",null,null,null,null,null,"  ",null,null,null,null,null,null,"N/A","N/A","ƏMƏK HAQQI",null,"008",null," ","AGHJA_H"]
["",null,null,null,"  ",null,null,null,null,null,null,null,null,null,null,null,", ",null,null,null,null,null,"  ",null,null,null,null,null,null,"N/A","N/A","ƏMƏK HAQQI",null,"008",null," ","AGHJA_H"]
["",null,null,null,"  ",null,null,null,null,null,null,null,null,null,null,null,", ",null,null,null,null,null,"  ",null,null,null,null,null,null,"N/A","N/A","ƏMƏK HAQQI",null,"008",null," ","AGHJA_H"]
["",null,null,null,"  ",null,null,null,null,null,null,null,null,null,null,null,", ",null,null,null,null,null,"  ",null,null,null,null,null,null,"N/A","N/A","ƏMƏK HAQQI",null,"008",null," ","AGHJA_H"]
["",null,null,null,"  ",null,null,null,null,null,null,null,null,null,null,null,", ",null,null,null,null,null,"  ",null,null,null,null,null,null,"N/A","N/A","ƏMƏK HAQQI",null,"008",null," ","AGHJA_H"]
["",null,null,null,"  ",null,null,null,null,null,null,null,null,null,null,null,", ",null,null,null,null,null,"  ",null,null,null,null,null,null,"N/A","N/A","ƏMƏK HAQQI",null,"008",null," ","AGHJA_H"]
["",null,null,null,"  ",null,null,null,null,null,null,null,null,null,null,null,", ",null,null,null,null,null,"  ",null,null,null,null,null,null,"N/A","N/A","ƏMƏK HAQQI",null,"008",null," ","AGHJA_H"]
["",null,null,null,"  ",null,null,null,null,null,null,null,null,null,null,null,", ",null,null,null,null,null,"  ",null,null,null,null,null,null,"N/A","N/A","ƏMƏK HAQQI",null,"008",null," ","AGHJA_H"]
["",null,null,null,"  ",null,null,null,null,null,null,null,null,null,null,null,", ",null,null,null,null,null,"  ",null,null,null,null,null,null,"N/A","N/A","ƏMƏK HAQQI",null,"008",null," ","AGHJA_H"]
["",null,null,null,"  ",null,null,null,null,null,null,null,null,null,null,null,", ",null,null,null,null,null,"  ",null,null,null,null,null,null,"N/A","N/A","ƏMƏK HAQQI",null,"008",null," ","AGHJA_H"]
["",null,null,null,"  ",null,null,null,null,null,null,null,null,null,null,null,", ",null,null,null,null,null,"  ",null,null,null,null,null,null,"N/A","N/A","ƏMƏK HAQQI",null,"008",null," ","AGHJA_H"]
["",null,null,null,"  ",null,null,null,null,null,null,null,null,null,null,null,", ",null,null,null,null,null,"  ",null,null,null,null,null,null,"N/A","N/A","ƏMƏK HAQQI",null,"008",null," ","AGHJA_H"]
["",null,null,null,"  ",null,null,null,null,null,null,null,null,null,null,null,", ",null,null,null,null,null,"  ",null,null,null,null,null,null,"N/A","N/A","ƏMƏK HAQQI",null,"008",null," ","AGHJA_H"]
["",null,null,null,"  ",null,null,null,null,null,null,null,null,null,null,null,", ",null,null,null,null,null,"  ",null,null,null,null,null,null,"N/A","N/A","ƏMƏK HAQQI",null,"008",null," ","AGHJA_H"]
["",null,null,null,"  ",null,null,null,null,null,null,null,null,null,null,null,", ",null,null,null,null,null,"  ",null,null,null,null,null,null,"N/A","N/A","ƏMƏK HAQQI",null,"008",null," ","AGHJA_H"]
["",null,null,null,"  ",null,null,null,null,null,null,null,null,null,null,null,", ",null,null,null,null,null,"  ",null,null,null,null,null,null,"N/A","N/A","ƏMƏK HAQQI",null,"008",null," ","AGHJA_H"]
["",null,null,null,"  ",null,null,null,null,null,null,null,null,null,null,null,", ",null,null,null,null,null,"  ",null,null,null,null,null,null,"N/A","N/A","ƏMƏK HAQQI",null,"008",null," ","AGHJA_H"]
["",null,null,null,"  ",null,null,null,null,null,null,null,null,null,null,null,", ",null,null,null,null,null,"  ",null,null,null,null,null,null,"N/A","N/A","ƏMƏK HAQQI",null,"008",null," ","AGHJA_H"]
["",null,null,null,"  ",null,null,null,null,null,null,null,null,null,null,null,", ",null,null,null,null,null,"  ",null,null,null,null,null,null,"N/A","N/A","ƏMƏK HAQQI",null,"008",null," ","AGHJA_H"]
["",null,null,null,"  ",null,null,null,null,null,null,null,null,null,null,null,", ",null,null,null,null,null,"  ",null,null,null,null,null,null,"N/A","N/A","ƏMƏK HAQQI",null,"008",null," ","AGHJA_H"]
["",null,null,null,"  ",null,null,null,null,null,null,null,null,null,null,null,", ",null,null,null,null,null,"  ",null,null,null,null,null,null,"N/A","N/A","ƏMƏK HAQQI",null,"008",null," ","AGHJA_H"]
["",null,null,null,"  ",null,null,null,null,null,null,null,null,null,null,null,", ",null,null,null,null,null,"  ",null,null,null,null,null,null,"N/A","N/A","ƏMƏK HAQQI",null,"008",null,{"$f":"CONCATENATE((SUBSTITUTE(SUBSTITUTE(SUBSTITUTE(SUBSTITUTE(SUBSTITUTE(SUBSTITUTE(SUBSTITUTE(SUBSTITUTE(SUBSTITUTE(SUBSTITUTE(SUBSTITUTE(C1530,\"Ə\",\"A\"),\"J\",\"ZH\"),\"C\",\"J\"),\"Ç\",\"CH\"),\"İ\",\"I\"),\"Ğ\",\"GH\"),\"Ö\",\"O\"),\"Ü\",\"U\"),\"Ş\",\"SH\"),\"Q\",\"G\"),\"X\",\"KH\")),\" \",(SUBSTITUTE(SUBSTITUTE(SUBSTITUTE(SUBSTITUTE(SUBSTITUTE(SUBSTITUTE(SUBSTITUTE(SUBSTITUTE(SUBSTITUTE(SUBSTITUTE(SUBSTITUTE(B1530,\"Ə\",\"A\"),\"J\",\"ZH\"),\"C\",\"J\"),\"Ç\",\"CH\"),\"İ\",\"I\"),\"Ğ\",\"GH\"),\"Ö\",\"O\"),\"Ü\",\"U\"),\"Ş\",\"SH\"),\"Q\",\"G\"),\"X\",\"KH\")))","v":" "},"AGHJA_H"]
["",null,null,null,{"$f":"CONCATENATE((SUBSTITUTE(SUBSTITUTE(SUBSTITUTE(SUBSTITUTE(SUBSTITUTE(SUBSTITUTE(SUBSTITUTE(SUBSTITUTE(SUBSTITUTE(SUBSTITUTE(SUBSTITUTE(C1531,\"Ə\",\"A\"),\"J\",\"ZH\"),\"C\",\"J\"),\"Ç\",\"CH\"),\"İ\",\"I\"),\"Ğ\",\"GH\"),\"Ö\",\"O\"),\"Ü\",\"U\"),\"Ş\",\"SH\"),\"Q\",\"G\"),\"X\",\"KH\")),\" \",(SUBSTITUTE(SUBSTITUTE(SUBSTITUTE(SUBSTITUTE(SUBSTITUTE(SUBSTITUTE(SUBSTITUTE(SUBSTITUTE(SUBSTITUTE(SUBSTITUTE(SUBSTITUTE(B1531,\"Ə\",\"A\"),\"J\",\"ZH\"),\"C\",\"J\"),\"Ç\",\"CH\"),\"İ\",\"I\"),\"Ğ\",\"GH\"),\"Ö\",\"O\"),\"Ü\",\"U\"),\"Ş\",\"SH\"),\"Q\",\"G\"),\"X\",\"KH\")),\" \",(SUBSTITUTE(SUBSTITUTE(SUBSTITUTE(SUBSTITUTE(SUBSTITUTE(SUBSTITUTE(SUBSTITUTE(SUBSTITUTE(SUBSTITUTE(SUBSTITUTE(SUBSTITUTE(SUBSTITUTE(SUBSTITUTE(D1531,\" OĞLU\",\"\"),\" QIZI\",\"\"),\"Ə\",\"A\"),\"J\",\"ZH\"),\"C\",\"J\"),\"Ç\",\"CH\"),\"İ\",\"I\"),\"Ğ\",\"GH\"),\"Ö\",\"O\"),\"Ü\",\"U\"),\"Ş\",\"SH\"),\"Q\",\"G\"),\"X\",\"KH\")))","v":"  "},null,null,null,null,null,null,null,null,null,null,null,{"$f":"CONCATENATE((SUBSTITUTE(SUBSTITUTE(SUBSTITUTE(SUBSTITUTE(SUBSTITUTE(SUBSTITUTE(SUBSTITUTE(SUBSTITUTE(SUBSTITUTE(SUBSTITUTE(SUBSTITUTE(O1531,\"Ə\",\"A\"),\"J\",\"ZH\"),\"C\",\"J\"),\"Ç\",\"CH\"),\"İ\",\"I\"),\"Ğ\",\"GH\"),\"Ö\",\"O\"),\"Ü\",\"U\"),\"Ş\",\"SH\"),\"Q\",\"G\"),\"X\",\"KH\")),\", \",(SUBSTITUTE(SUBSTITUTE(SUBSTITUTE(SUBSTITUTE(SUBSTITUTE(SUBSTITUTE(SUBSTITUTE(SUBSTITUTE(SUBSTITUTE(SUBSTITUTE(SUBSTITUTE(M1531,\"Ə\",\"A\"),\"J\",\"ZH\"),\"C\",\"J\"),\"Ç\",\"CH\"),\"İ\",\"I\"),\"Ğ\",\"GH\"),\"Ö\",\"O\"),\"Ü\",\"U\"),\"Ş\",\"SH\"),\"Q\",\"G\"),\"X\",\"KH\")))","v":", "},null,null,null,null,null,"  ",null,null,null,null,null,null,"N/A","N/A","ƏMƏK HAQQI",null,"008",null," ","AGHJA_H"]
["",null,null,null,"  ",null,null,null,null,null,null,null,null,null,null,null,", ",null,null,null,null,null,"  ",null,null,null,null,null,null,"N/A","N/A","ƏMƏK HAQQI",null,"008",null," ","AGHJA_H"]
["",null,null,null,"  ",null,null,null,null,null,null,null,null,null,null,null,", ",null,null,null,null,null,"  ",null,null,null,null,null,null,"N/A","N/A","ƏMƏK HAQQI",null,"008",null," ","AGHJA_H"]
["",null,null,null,"  ",null,null,null,null,null,null,null,null,null,null,null,", ",null,null,null,null,null,"  ",null,null,null,null,null,null,"N/A","N/A","ƏMƏK HAQQI",null,"008",null," ","AGHJA_H"]
["",null,null,null,"  ",null,null,null,null,null,null,null,null,null,null,null,", ",null,null,null,null,null,"  ",null,null,null,null,null,null,"N/A","N/A","ƏMƏK HAQQI",null,"008",null," ","AGHJA_H"]
["",null,null,null,"  ",null,null,null,null,null,null,null,null,null,null,null,", ",null,null,null,null,null,"  ",null,null,null,null,null,null,"N/A","N/A","ƏMƏK HAQQI",null,"008",null," ","AGHJA_H"]
["",null,null,null,"  ",null,null,null,null,null,null,null,null,null,null,null,", ",null,null,null,null,null,"  ",null,null,null,null,null,null,"N/A","N/A","ƏMƏK HAQQI",null,"008",null," ","AGHJA_H"]
["",null,null,null,"  ",null,null,null,null,null,null,null,null,null,null,null,", ",null,null,null,null,null,"  ",null,null,null,null,null,null,"N/A","N/A","ƏMƏK HAQQI",null,"008",null," ","AGHJA_H"]
["",null,null,null,"  ",null,null,null,null,null,null,null,null,null,null,null,", ",null,null,null,null,null,"  ",null,null,null,null,null,null,"N/A","N/A","ƏMƏK HAQQI",null,"008",null," ","AGHJA_H"]
["",null,null,null,"  ",null,null,null,null,null,null,null,null,null,null,null,", ",null,null,null,null,null,"  ",null,null,null,null,null,null,"N/A","N/A","ƏMƏK HAQQI",null,"008",null," ","AGHJA_H"]
["",null,null,null,"  ",null,null,null,null,null,null,null,null,null,null,null,", ",null,null,null,null,null,"  ",null,null,null,null,null,null,"N/A","N/A","ƏMƏK HAQQI",null,"008",null," ","AGHJA_H"]
["",null,null,null,"  ",null,null,null,null,null,null,null,null,null,null,null,", ",null,null,null,null,null,"  ",null,null,null,null,null,null,"N/A","N/A","ƏMƏK HAQQI",null,"008",null," ","AGHJA_H"]
["",null,null,null,"  ",null,null,null,null,null,null,null,null,null,null,null,", ",null,null,null,null,null,"  ",null,null,null,null,null,null,"N/A","N/A","ƏMƏK HAQQI",null,"008",null," ","AGHJA_H"]
["",null,null,null,"  ",null,null,null,null,null,null,null,null,null,null,null,", ",null,null,null,null,null,"  ",null,null,null,null,null,null,"N/A","N/A","ƏMƏK HAQQI",null,"008",null," ","AGHJA_H"]
["",null,null,null,"  ",null,null,null,null,null,null,null,null,null,null,null,", ",null,null,null,null,null,"  ",null,null,null,null,null,null,"N/A","N/A","ƏMƏK HAQQI",null,"008",null," ","AGHJA_H"]
["",null,null,null,"  ",null,null,null,null,null,null,null,null,null,null,null,", ",null,null,null,null,null,"  ",null,null,null,null,null,null,"N/A","N/A","ƏMƏK HAQQI",null,"008",null," ","AGHJA_H"]
["",null,null,null,"  ",null,null,null,null,null,null,null,null,null,null,null,", ",null,null,null,null,null,"  ",null,null,null,null,null,null,"N/A","N/A","ƏMƏK HAQQI",null,"008",null," ","AGHJA_H"]
["",null,null,null,"  ",null,null,null,null,null,null,null,null,null,null,null,", ",null,null,null,null,null,"  ",null,null,null,null,null,null,"N/A","N/A","ƏMƏK HAQQI",null,"008",null," ","AGHJA_H"]
["",null,null,null,"  ",null,null,null,null,null,null,null,null,null,null,null,", ",null,null,null,null,null,"  ",null,null,null,null,null,null,"N/A","N/A","ƏMƏK HAQQI",null,"008",null," ","AGHJA_H"]
["",null,null,null,"  ",null,null,null,null,null,null,null,null,null,null,null,", ",null,null,null,null,null,"  ",null,null,null,null,null,null,"N/A","N/A","ƏMƏK HAQQI",null,"008",null," ","AGHJA_H"]
["",null,null,null,"  ",null,null,null,null,null,null,null,null,null,null,null,", ",null,null,null,null,null,"  ",null,null,null,null,null,null,"N/A","N/A","ƏMƏK HAQQI",null,"008",null," ","AGHJA_H"]
["",null,null,null,"  ",null,null,null,null,null,null,null,null,null,null,null,", ",null,null,null,null,null,"  ",null,null,null,null,null,null,"N/A","N/A","ƏMƏK HAQQI",null,"008",null," ","AGHJA_H"]
["",null,null,null,"  ",null,null,null,null,null,null,null,null,null,null,null,", ",null,null,null,null,null,"  ",null,null,null,null,null,null,"N/A","N/A","ƏMƏK HAQQI",null,"008",null," ","AGHJA_H"]
["",null,null,null,"  ",null,null,null,null,null,null,null,null,null,null,null,", ",null,null,null,null,null,"  ",null,null,null,null,null,null,"N/A","N/A","ƏMƏK HAQQI",null,"008",null," ","AGHJA_H"]
["",null,null,null,"  ",null,null,null,null,null,null,null,null,null,null,null,", ",null,null,null,null,null,"  ",null,null,null,null,null,null,"N/A","N/A","ƏMƏK HAQQI",null,"008",null," ","AGHJA_H"]
["",null,null,null,"  ",null,null,null,null,null,null,null,null,null,null,null,", ",null,null,null,null,null,"  ",null,null,null,null,null,null,"N/A","N/A","ƏMƏK HAQQI",null,"008",null," ","AGHJA_H"]
["",null,null,null,"  ",null,null,null,null,null,null,null,null,null,null,null,", ",null,null,null,null,null,"  ",null,null,null,null,null,null,"N/A","N/A","ƏMƏK HAQQI",null,"008",null," ","AGHJA_H"]
["",null,null,null,"  ",null,null,null,null,null,null,null,null,null,null,null,", ",null,null,null,null,null,"  ",null,null,null,null,null,null,"N/A","N/A","ƏMƏK HAQQI",null,"008",null," ","AGHJA_H"]
["",null,null,null,"  ",null,null,null,null,null,null,null,null,null,null,null,", ",null,null,null,null,null,"  ",null,null,null,null,null,null,"N/A","N/A","ƏMƏK HAQQI",null,"008",null," ","AGHJA_H"]
["",null,null,null,"  ",null,null,null,null,null,null,null,null,null,null,null,", ",null,null,null,null,null,"  ",null,null,null,null,null,null,"N/A","N/A","ƏMƏK HAQQI",null,"008",null," ","AGHJA_H"]
["",null,null,null,"  ",null,null,null,null,null,null,null,null,null,null,null,", ",null,null,null,null,null,"  ",null,null,null,null,null,null,"N/A","N/A","ƏMƏK HAQQI",null,"008",null," ","AGHJA_H"]
["",null,null,null,"  ",null,null,null,null,null,null,null,null,null,null,null,", ",null,null,null,null,null,"  ",null,null,null,null,null,null,"N/A","N/A","ƏMƏK HAQQI",null,"008",null,{"$f":"CONCATENATE((SUBSTITUTE(SUBSTITUTE(SUBSTITUTE(SUBSTITUTE(SUBSTITUTE(SUBSTITUTE(SUBSTITUTE(SUBSTITUTE(SUBSTITUTE(SUBSTITUTE(SUBSTITUTE(C1594,\"Ə\",\"A\"),\"J\",\"ZH\"),\"C\",\"J\"),\"Ç\",\"CH\"),\"İ\",\"I\"),\"Ğ\",\"GH\"),\"Ö\",\"O\"),\"Ü\",\"U\"),\"Ş\",\"SH\"),\"Q\",\"G\"),\"X\",\"KH\")),\" \",(SUBSTITUTE(SUBSTITUTE(SUBSTITUTE(SUBSTITUTE(SUBSTITUTE(SUBSTITUTE(SUBSTITUTE(SUBSTITUTE(SUBSTITUTE(SUBSTITUTE(SUBSTITUTE(B1594,\"Ə\",\"A\"),\"J\",\"ZH\"),\"C\",\"J\"),\"Ç\",\"CH\"),\"İ\",\"I\"),\"Ğ\",\"GH\"),\"Ö\",\"O\"),\"Ü\",\"U\"),\"Ş\",\"SH\"),\"Q\",\"G\"),\"X\",\"KH\")))","v":" "},"AGHJA_H"]
["",null,null,null,{"$f":"CONCATENATE((SUBSTITUTE(SUBSTITUTE(SUBSTITUTE(SUBSTITUTE(SUBSTITUTE(SUBSTITUTE(SUBSTITUTE(SUBSTITUTE(SUBSTITUTE(SUBSTITUTE(SUBSTITUTE(C1595,\"Ə\",\"A\"),\"J\",\"ZH\"),\"C\",\"J\"),\"Ç\",\"CH\"),\"İ\",\"I\"),\"Ğ\",\"GH\"),\"Ö\",\"O\"),\"Ü\",\"U\"),\"Ş\",\"SH\"),\"Q\",\"G\"),\"X\",\"KH\")),\" \",(SUBSTITUTE(SUBSTITUTE(SUBSTITUTE(SUBSTITUTE(SUBSTITUTE(SUBSTITUTE(SUBSTITUTE(SUBSTITUTE(SUBSTITUTE(SUBSTITUTE(SUBSTITUTE(B1595,\"Ə\",\"A\"),\"J\",\"ZH\"),\"C\",\"J\"),\"Ç\",\"CH\"),\"İ\",\"I\"),\"Ğ\",\"GH\"),\"Ö\",\"O\"),\"Ü\",\"U\"),\"Ş\",\"SH\"),\"Q\",\"G\"),\"X\",\"KH\")),\" \",(SUBSTITUTE(SUBSTITUTE(SUBSTITUTE(SUBSTITUTE(SUBSTITUTE(SUBSTITUTE(SUBSTITUTE(SUBSTITUTE(SUBSTITUTE(SUBSTITUTE(SUBSTITUTE(SUBSTITUTE(SUBSTITUTE(D1595,\" OĞLU\",\"\"),\" QIZI\",\"\"),\"Ə\",\"A\"),\"J\",\"ZH\"),\"C\",\"J\"),\"Ç\",\"CH\"),\"İ\",\"I\"),\"Ğ\",\"GH\"),\"Ö\",\"O\"),\"Ü\",\"U\"),\"Ş\",\"SH\"),\"Q\",\"G\"),\"X\",\"KH\")))","v":"  "},null,null,null,null,null,null,null,null,null,null,null,{"$f":"CONCATENATE((SUBSTITUTE(SUBSTITUTE(SUBSTITUTE(SUBSTITUTE(SUBSTITUTE(SUBSTITUTE(SUBSTITUTE(SUBSTITUTE(SUBSTITUTE(SUBSTITUTE(SUBSTITUTE(O1595,\"Ə\",\"A\"),\"J\",\"ZH\"),\"C\",\"J\"),\"Ç\",\"CH\"),\"İ\",\"I\"),\"Ğ\",\"GH\"),\"Ö\",\"O\"),\"Ü\",\"U\"),\"Ş\",\"SH\"),\"Q\",\"G\"),\"X\",\"KH\")),\", \",(SUBSTITUTE(SUBSTITUTE(SUBSTITUTE(SUBSTITUTE(SUBSTITUTE(SUBSTITUTE(SUBSTITUTE(SUBSTITUTE(SUBSTITUTE(SUBSTITUTE(SUBSTITUTE(M1595,\"Ə\",\"A\"),\"J\",\"ZH\"),\"C\",\"J\"),\"Ç\",\"CH\"),\"İ\",\"I\"),\"Ğ\",\"GH\"),\"Ö\",\"O\"),\"Ü\",\"U\"),\"Ş\",\"SH\"),\"Q\",\"G\"),\"X\",\"KH\")))","v":", "},null,null,null,null,null,"  ",null,null,null,null,null,null,"N/A","N/A","ƏMƏK HAQQI",null,"008",null," ","AGHJA_H"]
["",null,null,null,"  ",null,null,null,null,null,null,null,null,null,null,null,", ",null,null,null,null,null,"  ",null,null,null,null,null,null,"N/A","N/A","ƏMƏK HAQQI",null,"008",null," ","AGHJA_H"]
["",null,null,null,"  ",null,null,null,null,null,null,null,null,null,null,null,", ",null,null,null,null,null,"  ",null,null,null,null,null,null,"N/A","N/A","ƏMƏK HAQQI",null,"008",null," ","AGHJA_H"]
["",null,null,null,"  ",null,null,null,null,null,null,null,null,null,null,null,", ",null,null,null,null,null,"  ",null,null,null,null,null,null,"N/A","N/A","ƏMƏK HAQQI",null,"008",null," ","AGHJA_H"]
["",null,null,null,"  ",null,null,null,null,null,null,null,null,null,null,null,", ",null,null,null,null,null,"  ",null,null,null,null,null,null,"N/A","N/A","ƏMƏK HAQQI",null,"008",null," ","AGHJA_H"]
["",null,null,null,"  ",null,null,null,null,null,null,null,null,null,null,null,", ",null,null,null,null,null,"  ",null,null,null,null,null,null,"N/A","N/A","ƏMƏK HAQQI",null,"008",null," ","AGHJA_H"]
["",null,null,null,"  ",null,null,null,null,null,null,null,null,null,null,null,", ",null,null,null,null,null,"  ",null,null,null,null,null,null,"N/A","N/A","ƏMƏK HAQQI",null,"008",null," ","AGHJA_H"]
["",null,null,null,"  ",null,null,null,null,null,null,null,null,null,null,null,", ",null,null,null,null,null,"  ",null,null,null,null,null,null,"N/A","N/A","ƏMƏK HAQQI",null,"008",null," ","AGHJA_H"]
["",null,null,null,"  ",null,null,null,null,null,null,null,null,null,null,null,", ",null,null,null,null,null,"  ",null,null,null,null,null,null,"N/A","N/A","ƏMƏK HAQQI",null,"008",null," ","AGHJA_H"]
["",null,null,null,"  ",null,null,null,null,null,null,null,null,null,null,null,", ",null,null,null,null,null,"  ",null,null,null,null,null,null,"N/A","N/A","ƏMƏK HAQQI",null,"008",null," ","AGHJA_H"]
["",null,null,null,"  ",null,null,null,null,null,null,null,null,null,null,null,", ",null,null,null,null,null,"  ",null,null,null,null,null,null,"N/A","N/A","ƏMƏK HAQQI",null,"008",null," ","AGHJA_H"]
["",null,null,null,"  ",null,null,null,null,null,null,null,null,null,null,null,", ",null,null,null,null,null,"  ",null,null,null,null,null,null,"N/A","N/A","ƏMƏK HAQQI",null,"008",null," ","AGHJA_H"]
["",null,null,null,"  ",null,null,null,null,null,null,null,null,null,null,null,", ",null,null,null,null,null,"  ",null,null,null,null,null,null,"N/A","N/A","ƏMƏK HAQQI",null,"008",null," ","AGHJA_H"]
["",null,null,null,"  ",null,null,null,null,null,null,null,null,null,null,null,", ",null,null,null,null,null,"  ",null,null,null,null,null,null,"N/A","N/A","ƏMƏK HAQQI",null,"008",null," ","AGHJA_H"]
["",null,null,null,"  ",null,null,null,null,null,null,null,null,null,null,null,", ",null,null,null,null,null,"  ",null,null,null,null,null,null,"N/A","N/A","ƏMƏK HAQQI",null,"008",null," ","AGHJA_H"]
["",null,null,null,"  ",null,null,null,null,null,null,null,null,null,null,null,", ",null,null,null,null,null,"  ",null,null,null,null,null,null,"N/A","N/A","ƏMƏK HAQQI",null,"008",null," ","AGHJA_H"]
["",null,null,null,"  ",null,null,null,null,null,null,null,null,null,null,null,", ",null,null,null,null,null,"  ",null,null,null,null,null,null,"N/A","N/A","ƏMƏK HAQQI",null,"008",null," ","AGHJA_H"]
["",null,null,null,"  ",null,null,null,null,null,null,null,null,null,null,null,", ",null,null,null,null,null,"  ",null,null,null,null,null,null,"N/A","N/A","ƏMƏK HAQQI",null,"008",null," ","AGHJA_H"]
["",null,null,null,"  ",null,null,null,null,null,null,null,null,null,null,null,", ",null,null,null,null,null,"  ",null,null,null,null,null,null,"N/A","N/A","ƏMƏK HAQQI",null,"008",null," ","AGHJA_H"]
["",null,null,null,"  ",null,null,null,null,null,null,null,null,null,null,null,", ",null,null,null,null,null,"  ",null,null,null,null,null,null,"N/A","N/A","ƏMƏK HAQQI",null,"008",null," ","AGHJA_H"]
["",null,null,null,"  ",null,null,null,null,null,null,null,null,null,null,null,", ",null,null,null,null,null,"  ",null,null,null,null,null,null,"N/A","N/A","ƏMƏK HAQQI",null,"008",null," ","AGHJA_H"]
["",null,null,null,"  ",null,null,null,null,null,null,null,null,null,null,null,", ",null,null,null,null,null,"  ",null,null,null,null,null,null,"N/A","N/A","ƏMƏK HAQQI",null,"008",null," ","AGHJA_H"]
["",null,null,null,"  ",null,null,null,null,null,null,null,null,null,null,null,", ",null,null,null,null,null,"  ",null,null,null,null,null,null,"N/A","N/A","ƏMƏK HAQQI",null,"008",null," ","AGHJA_H"]
["",null,null,null,"  ",null,null,null,null,null,null,null,null,null,null,null,", ",null,null,null,null,null,"  ",null,null,null,null,null,null,"N/A","N/A","ƏMƏK HAQQI",null,"008",null," ","AGHJA_H"]
["",null,null,null,"  ",null,null,null,null,null,null,null,null,null,null,null,", ",null,null,null,null,null,"  ",null,null,null,null,null,null,"N/A","N/A","ƏMƏK HAQQI",null,"008",null," ","AGHJA_H"]
["",null,null,null,"  ",null,null,null,null,null,null,null,null,null,null,null,", ",null,null,null,null,null,"  ",null,null,null,null,null,null,"N/A","N/A","ƏMƏK HAQQI",null,"008",null," ","AGHJA_H"]
["",null,null,null,"  ",null,null,null,null,null,null,null,null,null,null,null,", ",null,null,null,null,null,"  ",null,null,null,null,null,null,"N/A","N/A","ƏMƏK HAQQI",null,"008",null," ","AGHJA_H"]
["",null,null,null,"  ",null,null,null,null,null,null,null,null,null,null,null,", ",null,null,null,null,null,"  ",null,null,null,null,null,null,"N/A","N/A","ƏMƏK HAQQI",null,"008",null," ","AGHJA_H"]
["",null,null,null,"  ",null,null,null,null,null,null,null,null,null,null,null,", ",null,null,null,null,null,"  ",null,null,null,null,null,null,"N/A","N/A","ƏMƏK HAQQI",null,"008",null," ","AGHJA_H"]
["",null,null,null,"  ",null,null,null,null,null,null,null,null,null,null,null,", ",null,null,null,null,null,"  ",null,null,null,null,null,null,"N/A","N/A","ƏMƏK HAQQI",null,"008",null," ","AGHJA_H"]
["",null,null,null,"  ",null,null,null,null,null,null,null,null,null,null,null,", ",null,null,null,null,null,"  ",null,null,null,null,null,null,"N/A","N/A","ƏMƏK HAQQI",null,"008",null," ","AGHJA_H"]
["",null,null,null,"  ",null,null,null,null,null,null,null,null,null,null,null,", ",null,null,null,null,null,"  ",null,null,null,null,null,null,"N/A","N/A","ƏMƏK HAQQI",null,"008",null,{"$f":"CONCATENATE((SUBSTITUTE(SUBSTITUTE(SUBSTITUTE(SUBSTITUTE(SUBSTITUTE(SUBSTITUTE(SUBSTITUTE(SUBSTITUTE(SUBSTITUTE(SUBSTITUTE(SUBSTITUTE(C1658,\"Ə\",\"A\"),\"J\",\"ZH\"),\"C\",\"J\"),\"Ç\",\"CH\"),\"İ\",\"I\"),\"Ğ\",\"GH\"),\"Ö\",\"O\"),\"Ü\",\"U\"),\"Ş\",\"SH\"),\"Q\",\"G\"),\"X\",\"KH\")),\" \",(SUBSTITUTE(SUBSTITUTE(SUBSTITUTE(SUBSTITUTE(SUBSTITUTE(SUBSTITUTE(SUBSTITUTE(SUBSTITUTE(SUBSTITUTE(SUBSTITUTE(SUBSTITUTE(B1658,\"Ə\",\"A\"),\"J\",\"ZH\"),\"C\",\"J\"),\"Ç\",\"CH\"),\"İ\",\"I\"),\"Ğ\",\"GH\"),\"Ö\",\"O\"),\"Ü\",\"U\"),\"Ş\",\"SH\"),\"Q\",\"G\"),\"X\",\"KH\")))","v":" "},"AGHJA_H"]
["",null,null,null,{"$f":"CONCATENATE((SUBSTITUTE(SUBSTITUTE(SUBSTITUTE(SUBSTITUTE(SUBSTITUTE(SUBSTITUTE(SUBSTITUTE(SUBSTITUTE(SUBSTITUTE(SUBSTITUTE(SUBSTITUTE(C1659,\"Ə\",\"A\"),\"J\",\"ZH\"),\"C\",\"J\"),\"Ç\",\"CH\"),\"İ\",\"I\"),\"Ğ\",\"GH\"),\"Ö\",\"O\"),\"Ü\",\"U\"),\"Ş\",\"SH\"),\"Q\",\"G\"),\"X\",\"KH\")),\" \",(SUBSTITUTE(SUBSTITUTE(SUBSTITUTE(SUBSTITUTE(SUBSTITUTE(SUBSTITUTE(SUBSTITUTE(SUBSTITUTE(SUBSTITUTE(SUBSTITUTE(SUBSTITUTE(B1659,\"Ə\",\"A\"),\"J\",\"ZH\"),\"C\",\"J\"),\"Ç\",\"CH\"),\"İ\",\"I\"),\"Ğ\",\"GH\"),\"Ö\",\"O\"),\"Ü\",\"U\"),\"Ş\",\"SH\"),\"Q\",\"G\"),\"X\",\"KH\")),\" \",(SUBSTITUTE(SUBSTITUTE(SUBSTITUTE(SUBSTITUTE(SUBSTITUTE(SUBSTITUTE(SUBSTITUTE(SUBSTITUTE(SUBSTITUTE(SUBSTITUTE(SUBSTITUTE(SUBSTITUTE(SUBSTITUTE(D1659,\" OĞLU\",\"\"),\" QIZI\",\"\"),\"Ə\",\"A\"),\"J\",\"ZH\"),\"C\",\"J\"),\"Ç\",\"CH\"),\"İ\",\"I\"),\"Ğ\",\"GH\"),\"Ö\",\"O\"),\"Ü\",\"U\"),\"Ş\",\"SH\"),\"Q\",\"G\"),\"X\",\"KH\")))","v":"  "},null,null,null,null,null,null,null,null,null,null,null,{"$f":"CONCATENATE((SUBSTITUTE(SUBSTITUTE(SUBSTITUTE(SUBSTITUTE(SUBSTITUTE(SUBSTITUTE(SUBSTITUTE(SUBSTITUTE(SUBSTITUTE(SUBSTITUTE(SUBSTITUTE(O1659,\"Ə\",\"A\"),\"J\",\"ZH\"),\"C\",\"J\"),\"Ç\",\"CH\"),\"İ\",\"I\"),\"Ğ\",\"GH\"),\"Ö\",\"O\"),\"Ü\",\"U\"),\"Ş\",\"SH\"),\"Q\",\"G\"),\"X\",\"KH\")),\", \",(SUBSTITUTE(SUBSTITUTE(SUBSTITUTE(SUBSTITUTE(SUBSTITUTE(SUBSTITUTE(SUBSTITUTE(SUBSTITUTE(SUBSTITUTE(SUBSTITUTE(SUBSTITUTE(M1659,\"Ə\",\"A\"),\"J\",\"ZH\"),\"C\",\"J\"),\"Ç\",\"CH\"),\"İ\",\"I\"),\"Ğ\",\"GH\"),\"Ö\",\"O\"),\"Ü\",\"U\"),\"Ş\",\"SH\"),\"Q\",\"G\"),\"X\",\"KH\")))","v":", "},null,null,null,null,null,"  ",null,null,null,null,null,null,"N/A","N/A","ƏMƏK HAQQI",null,"008",null," ","AGHJA_H"]
["",null,null,null,"  ",null,null,null,null,null,null,null,null,null,null,null,", ",null,null,null,null,null,"  ",null,null,null,null,null,null,"N/A","N/A","ƏMƏK HAQQI",null,"008",null," ","AGHJA_H"]
["",null,null,null,"  ",null,null,null,null,null,null,null,null,null,null,null,", ",null,null,null,null,null,"  ",null,null,null,null,null,null,"N/A","N/A","ƏMƏK HAQQI",null,"008",null," ","AGHJA_H"]
["",null,null,null,"  ",null,null,null,null,null,null,null,null,null,null,null,", ",null,null,null,null,null,"  ",null,null,null,null,null,null,"N/A","N/A","ƏMƏK HAQQI",null,"008",null," ","AGHJA_H"]
["",null,null,null,"  ",null,null,null,null,null,null,null,null,null,null,null,", ",null,null,null,null,null,"  ",null,null,null,null,null,null,"N/A","N/A","ƏMƏK HAQQI",null,"008",null," ","AGHJA_H"]
["",null,null,null,"  ",null,null,null,null,null,null,null,null,null,null,null,", ",null,null,null,null,null,"  ",null,null,null,null,null,null,"N/A","N/A","ƏMƏK HAQQI",null,"008",null," ","AGHJA_H"]
["",null,null,null,"  ",null,null,null,null,null,null,null,null,null,null,null,", ",null,null,null,null,null,"  ",null,null,null,null,null,null,"N/A","N/A","ƏMƏK HAQQI",null,"008",null," ","AGHJA_H"]
["",null,null,null,"  ",null,null,null,null,null,null,null,null,null,null,null,", ",null,null,null,null,null,"  ",null,null,null,null,null,null,"N/A","N/A","ƏMƏK HAQQI",null,"008",null," ","AGHJA_H"]
["",null,null,null,"  ",null,null,null,null,null,null,null,null,null,null,null,", ",null,null,null,null,null,"  ",null,null,null,null,null,null,"N/A","N/A","ƏMƏK HAQQI",null,"008",null," ","AGHJA_H"]
["",null,null,null,"  ",null,null,null,null,null,null,null,null,null,null,null,", ",null,null,null,null,null,"  ",null,null,null,null,null,null,"N/A","N/A","ƏMƏK HAQQI",null,"008",null," ","AGHJA_H"]
["",null,null,null,"  ",null,null,null,null,null,null,null,null,null,null,null,", ",null,null,null,null,null,"  ",null,null,null,null,null,null,"N/A","N/A","ƏMƏK HAQQI",null,"008",null," ","AGHJA_H"]
["",null,null,null,"  ",null,null,null,null,null,null,null,null,null,null,null,", ",null,null,null,null,null,"  ",null,null,null,null,null,null,"N/A","N/A","ƏMƏK HAQQI",null,"008",null," ","AGHJA_H"]
["",null,null,null,"  ",null,null,null,null,null,null,null,null,null,null,null,", ",null,null,null,null,null,"  ",null,null,null,null,null,null,"N/A","N/A","ƏMƏK HAQQI",null,"008",null," ","AGHJA_H"]
["",null,null,null,"  ",null,null,null,null,null,null,null,null,null,null,null,", ",null,null,null,null,null,"  ",null,null,null,null,null,null,"N/A","N/A","ƏMƏK HAQQI",null,"008",null," ","AGHJA_H"]
["",null,null,null,"  ",null,null,null,null,null,null,null,null,null,null,null,", ",null,null,null,null,null,"  ",null,null,null,null,null,null,"N/A","N/A","ƏMƏK HAQQI",null,"008",null," ","AGHJA_H"]
["",null,null,null,"  ",null,null,null,null,null,null,null,null,null,null,null,", ",null,null,null,null,null,"  ",null,null,null,null,null,null,"N/A","N/A","ƏMƏK HAQQI",null,"008",null," ","AGHJA_H"]
["",null,null,null,"  ",null,null,null,null,null,null,null,null,null,null,null,", ",null,null,null,null,null,"  ",null,null,null,null,null,null,"N/A","N/A","ƏMƏK HAQQI",null,"008",null," ","AGHJA_H"]
["",null,null,null,"  ",null,null,null,null,null,null,null,null,null,null,null,", ",null,null,null,null,null,"  ",null,null,null,null,null,null,"N/A","N/A","ƏMƏK HAQQI",null,"008",null," ","AGHJA_H"]
["",null,null,null,"  ",null,null,null,null,null,null,null,null,null,null,null,", ",null,null,null,null,null,"  ",null,null,null,null,null,null,"N/A","N/A","ƏMƏK HAQQI",null,"008",null," ","AGHJA_H"]
["",null,null,null,"  ",null,null,null,null,null,null,null,null,null,null,null,", ",null,null,null,null,null,"  ",null,null,null,null,null,null,"N/A","N/A","ƏMƏK HAQQI",null,"008",null," ","AGHJA_H"]
["",null,null,null,"  ",null,null,null,null,null,null,null,null,null,null,null,", ",null,null,null,null,null,"  ",null,null,null,null,null,null,"N/A","N/A","ƏMƏK HAQQI",null,"008",null," ","AGHJA_H"]
["",null,null,null,"  ",null,null,null,null,null,null,null,null,null,null,null,", ",null,null,null,null,null,"  ",null,null,null,null,null,null,"N/A","N/A","ƏMƏK HAQQI",null,"008",null," ","AGHJA_H"]
["",null,null,null,"  ",null,null,null,null,null,null,null,null,null,null,null,", ",null,null,null,null,null,"  ",null,null,null,null,null,null,"N/A","N/A","ƏMƏK HAQQI",null,"008",null," ","AGHJA_H"]
["",null,null,null,"  ",null,null,null,null,null,null,null,null,null,null,null,", ",null,null,null,null,null,"  ",null,null,null,null,null,null,"N/A","N/A","ƏMƏK HAQQI",null,"008",null," ","AGHJA_H"]
["",null,null,null,"  ",null,null,null,null,null,null,null,null,null,null,null,", ",null,null,null,null,null,"  ",null,null,null,null,null,null,"N/A","N/A","ƏMƏK HAQQI",null,"008",null," ","AGHJA_H"]
["",null,null,null,"  ",null,null,null,null,null,null,null,null,null,null,null,", ",null,null,null,null,null,"  ",null,null,null,null,null,null,"N/A","N/A","ƏMƏK HAQQI",null,"008",null," ","AGHJA_H"]
["",null,null,null,"  ",null,null,null,null,null,null,null,null,null,null,null,", ",null,null,null,null,null,"  ",null,null,null,null,null,null,"N/A","N/A","ƏMƏK HAQQI",null,"008",null," ","AGHJA_H"]
["",null,null,null,"  ",null,null,null,null,null,null,null,null,null,null,null,", ",null,null,null,null,null,"  ",null,null,null,null,null,null,"N/A","N/A","ƏMƏK HAQQI",null,"008",null," ","AGHJA_H"]
["",null,null,null,"  ",null,null,null,null,null,null,null,null,null,null,null,", ",null,null,null,null,null,"  ",null,null,null,null,null,null,"N/A","N/A","ƏMƏK HAQQI",null,"008",null," ","AGHJA_H"]
["",null,null,null,"  ",null,null,null,null,null,null,null,null,null,null,null,", ",null,null,null,null,null,"  ",null,null,null,null,null,null,"N/A","N/A","ƏMƏK HAQQI",null,"008",null," ","AGHJA_H"]
["",null,null,null,"  ",null,null,null,null,null,null,null,null,null,null,null,", ",null,null,null,null,null,"  ",null,null,null,null,null,null,"N/A","N/A","ƏMƏK HAQQI",null,"008",null," ","AGHJA_H"]
["",null,null,null,"  ",null,null,null,null,null,null,null,null,null,null,null,", ",null,null,null,null,null,"  ",null,null,null,null,null,null,"N/A","N/A","ƏMƏK HAQQI",null,"008",null,{"$f":"CONCATENATE((SUBSTITUTE(SUBSTITUTE(SUBSTITUTE(SUBSTITUTE(SUBSTITUTE(SUBSTITUTE(SUBSTITUTE(SUBSTITUTE(SUBSTITUTE(SUBSTITUTE(SUBSTITUTE(C1722,\"Ə\",\"A\"),\"J\",\"ZH\"),\"C\",\"J\"),\"Ç\",\"CH\"),\"İ\",\"I\"),\"Ğ\",\"GH\"),\"Ö\",\"O\"),\"Ü\",\"U\"),\"Ş\",\"SH\"),\"Q\",\"G\"),\"X\",\"KH\")),\" \",(SUBSTITUTE(SUBSTITUTE(SUBSTITUTE(SUBSTITUTE(SUBSTITUTE(SUBSTITUTE(SUBSTITUTE(SUBSTITUTE(SUBSTITUTE(SUBSTITUTE(SUBSTITUTE(B1722,\"Ə\",\"A\"),\"J\",\"ZH\"),\"C\",\"J\"),\"Ç\",\"CH\"),\"İ\",\"I\"),\"Ğ\",\"GH\"),\"Ö\",\"O\"),\"Ü\",\"U\"),\"Ş\",\"SH\"),\"Q\",\"G\"),\"X\",\"KH\")))","v":" "},"AGHJA_H"]
["",null,null,null,{"$f":"CONCATENATE((SUBSTITUTE(SUBSTITUTE(SUBSTITUTE(SUBSTITUTE(SUBSTITUTE(SUBSTITUTE(SUBSTITUTE(SUBSTITUTE(SUBSTITUTE(SUBSTITUTE(SUBSTITUTE(C1723,\"Ə\",\"A\"),\"J\",\"ZH\"),\"C\",\"J\"),\"Ç\",\"CH\"),\"İ\",\"I\"),\"Ğ\",\"GH\"),\"Ö\",\"O\"),\"Ü\",\"U\"),\"Ş\",\"SH\"),\"Q\",\"G\"),\"X\",\"KH\")),\" \",(SUBSTITUTE(SUBSTITUTE(SUBSTITUTE(SUBSTITUTE(SUBSTITUTE(SUBSTITUTE(SUBSTITUTE(SUBSTITUTE(SUBSTITUTE(SUBSTITUTE(SUBSTITUTE(B1723,\"Ə\",\"A\"),\"J\",\"ZH\"),\"C\",\"J\"),\"Ç\",\"CH\"),\"İ\",\"I\"),\"Ğ\",\"GH\"),\"Ö\",\"O\"),\"Ü\",\"U\"),\"Ş\",\"SH\"),\"Q\",\"G\"),\"X\",\"KH\")),\" \",(SUBSTITUTE(SUBSTITUTE(SUBSTITUTE(SUBSTITUTE(SUBSTITUTE(SUBSTITUTE(SUBSTITUTE(SUBSTITUTE(SUBSTITUTE(SUBSTITUTE(SUBSTITUTE(SUBSTITUTE(SUBSTITUTE(D1723,\" OĞLU\",\"\"),\" QIZI\",\"\"),\"Ə\",\"A\"),\"J\",\"ZH\"),\"C\",\"J\"),\"Ç\",\"CH\"),\"İ\",\"I\"),\"Ğ\",\"GH\"),\"Ö\",\"O\"),\"Ü\",\"U\"),\"Ş\",\"SH\"),\"Q\",\"G\"),\"X\",\"KH\")))","v":"  "},null,null,null,null,null,null,null,null,null,null,null,{"$f":"CONCATENATE((SUBSTITUTE(SUBSTITUTE(SUBSTITUTE(SUBSTITUTE(SUBSTITUTE(SUBSTITUTE(SUBSTITUTE(SUBSTITUTE(SUBSTITUTE(SUBSTITUTE(SUBSTITUTE(O1723,\"Ə\",\"A\"),\"J\",\"ZH\"),\"C\",\"J\"),\"Ç\",\"CH\"),\"İ\",\"I\"),\"Ğ\",\"GH\"),\"Ö\",\"O\"),\"Ü\",\"U\"),\"Ş\",\"SH\"),\"Q\",\"G\"),\"X\",\"KH\")),\", \",(SUBSTITUTE(SUBSTITUTE(SUBSTITUTE(SUBSTITUTE(SUBSTITUTE(SUBSTITUTE(SUBSTITUTE(SUBSTITUTE(SUBSTITUTE(SUBSTITUTE(SUBSTITUTE(M1723,\"Ə\",\"A\"),\"J\",\"ZH\"),\"C\",\"J\"),\"Ç\",\"CH\"),\"İ\",\"I\"),\"Ğ\",\"GH\"),\"Ö\",\"O\"),\"Ü\",\"U\"),\"Ş\",\"SH\"),\"Q\",\"G\"),\"X\",\"KH\")))","v":", "},null,null,null,null,null,"  ",null,null,null,null,null,null,"N/A","N/A","ƏMƏK HAQQI",null,"008",null," ","AGHJA_H"]
["",null,null,null,"  ",null,null,null,null,null,null,null,null,null,null,null,", ",null,null,null,null,null,"  ",null,null,null,null,null,null,"N/A","N/A","ƏMƏK HAQQI",null,"008",null," ","AGHJA_H"]
["",null,null,null,"  ",null,null,null,null,null,null,null,null,null,null,null,", ",null,null,null,null,null,"  ",null,null,null,null,null,null,"N/A","N/A","ƏMƏK HAQQI",null,"008",null," ","AGHJA_H"]
["",null,null,null,"  ",null,null,null,null,null,null,null,null,null,null,null,", ",null,null,null,null,null,"  ",null,null,null,null,null,null,"N/A","N/A","ƏMƏK HAQQI",null,"008",null," ","AGHJA_H"]
["",null,null,null,"  ",null,null,null,null,null,null,null,null,null,null,null,", ",null,null,null,null,null,"  ",null,null,null,null,null,null,"N/A","N/A","ƏMƏK HAQQI",null,"008",null," ","AGHJA_H"]
["",null,null,null,"  ",null,null,null,null,null,null,null,null,null,null,null,", ",null,null,null,null,null,"  ",null,null,null,null,null,null,"N/A","N/A","ƏMƏK HAQQI",null,"008",null," ","AGHJA_H"]
["",null,null,null,"  ",null,null,null,null,null,null,null,null,null,null,null,", ",null,null,null,null,null,"  ",null,null,null,null,null,null,"N/A","N/A","ƏMƏK HAQQI",null,"008",null," ","AGHJA_H"]
["",null,null,null,"  ",null,null,null,null,null,null,null,null,null,null,null,", ",null,null,null,null,null,"  ",null,null,null,null,null,null,"N/A","N/A","ƏMƏK HAQQI",null,"008",null," ","AGHJA_H"]
["",null,null,null,"  ",null,null,null,null,null,null,null,null,null,null,null,", ",null,null,null,null,null,"  ",null,null,null,null,null,null,"N/A","N/A","ƏMƏK HAQQI",null,"008",null," ","AGHJA_H"]
["",null,null,null,"  ",null,null,null,null,null,null,null,null,null,null,null,", ",null,null,null,null,null,"  ",null,null,null,null,null,null,"N/A","N/A","ƏMƏK HAQQI",null,"008",null," ","AGHJA_H"]
["",null,null,null,"  ",null,null,null,null,null,null,null,null,null,null,null,", ",null,null,null,null,null,"  ",null,null,null,null,null,null,"N/A","N/A","ƏMƏK HAQQI",null,"008",null," ","AGHJA_H"]
["",null,null,null,"  ",null,null,null,null,null,null,null,null,null,null,null,", ",null,null,null,null,null,"  ",null,null,null,null,null,null,"N/A","N/A","ƏMƏK HAQQI",null,"008",null," ","AGHJA_H"]
["",null,null,null,"  ",null,null,null,null,null,null,null,null,null,null,null,", ",null,null,null,null,null,"  ",null,null,null,null,null,null,"N/A","N/A","ƏMƏK HAQQI",null,"008",null," ","AGHJA_H"]
["",null,null,null,"  ",null,null,null,null,null,null,null,null,null,null,null,", ",null,null,null,null,null,"  ",null,null,null,null,null,null,"N/A","N/A","ƏMƏK HAQQI",null,"008",null," ","AGHJA_H"]
["",null,null,null,"  ",null,null,null,null,null,null,null,null,null,null,null,", ",null,null,null,null,null,"  ",null,null,null,null,null,null,"N/A","N/A","ƏMƏK HAQQI",null,"008",null," ","AGHJA_H"]
["",null,null,null,"  ",null,null,null,null,null,null,null,null,null,null,null,", ",null,null,null,null,null,"  ",null,null,null,null,null,null,"N/A","N/A","ƏMƏK HAQQI",null,"008",null," ","AGHJA_H"]
["",null,null,null,"  ",null,null,null,null,null,null,null,null,null,null,null,", ",null,null,null,null,null,"  ",null,null,null,null,null,null,"N/A","N/A","ƏMƏK HAQQI",null,"008",null," ","AGHJA_H"]
["",null,null,null,"  ",null,null,null,null,null,null,null,null,null,null,null,", ",null,null,null,null,null,"  ",null,null,null,null,null,null,"N/A","N/A","ƏMƏK HAQQI",null,"008",null," ","AGHJA_H"]
["",null,null,null,"  ",null,null,null,null,null,null,null,null,null,null,null,", ",null,null,null,null,null,"  ",null,null,null,null,null,null,"N/A","N/A","ƏMƏK HAQQI",null,"008",null," ","AGHJA_H"]
["",null,null,null,"  ",null,null,null,null,null,null,null,null,null,null,null,", ",null,null,null,null,null,"  ",null,null,null,null,null,null,"N/A","N/A","ƏMƏK HAQQI",null,"008",null," ","AGHJA_H"]
["",null,null,null,"  ",null,null,null,null,null,null,null,null,null,null,null,", ",null,null,null,null,null,"  ",null,null,null,null,null,null,"N/A","N/A","ƏMƏK HAQQI",null,"008",null," ","AGHJA_H"]
["",null,null,null,"  ",null,null,null,null,null,null,null,null,null,null,null,", ",null,null,null,null,null,"  ",null,null,null,null,null,null,"N/A","N/A","ƏMƏK HAQQI",null,"008",null," ","AGHJA_H"]
["",null,null,null,"  ",null,null,null,null,null,null,null,null,null,null,null,", ",null,null,null,null,null,"  ",null,null,null,null,null,null,"N/A","N/A","ƏMƏK HAQQI",null,"008",null," ","AGHJA_H"]
["",null,null,null,"  ",null,null,null,null,null,null,null,null,null,null,null,", ",null,null,null,null,null,"  ",null,null,null,null,null,null,"N/A","N/A","ƏMƏK HAQQI",null,"008",null," ","AGHJA_H"]
["",null,null,null,"  ",null,null,null,null,null,null,null,null,null,null,null,", ",null,null,null,null,null,"  ",null,null,null,null,null,null,"N/A","N/A","ƏMƏK HAQQI",null,"008",null," ","AGHJA_H"]
["",null,null,null,"  ",null,null,null,null,null,null,null,null,null,null,null,", ",null,null,null,null,null,"  ",null,null,null,null,null,null,"N/A","N/A","ƏMƏK HAQQI",null,"008",null," ","AGHJA_H"]
["",null,null,null,"  ",null,null,null,null,null,null,null,null,null,null,null,", ",null,null,null,null,null,"  ",null,null,null,null,null,null,"N/A","N/A","ƏMƏK HAQQI",null,"008",null," ","AGHJA_H"]
["",null,null,null,"  ",null,null,null,null,null,null,null,null,null,null,null,", ",null,null,null,null,null,"  ",null,null,null,null,null,null,"N/A","N/A","ƏMƏK HAQQI",null,"008",null," ","AGHJA_H"]
["",null,null,null,"  ",null,null,null,null,null,null,null,null,null,null,null,", ",null,null,null,null,null,"  ",null,null,null,null,null,null,"N/A","N/A","ƏMƏK HAQQI",null,"008",null," ","AGHJA_H"]
["",null,null,null,"  ",null,null,null,null,null,null,null,null,null,null,null,", ",null,null,null,null,null,"  ",null,null,null,null,null,null,"N/A","N/A","ƏMƏK HAQQI",null,"008",null," ","AGHJA_H"]
["",null,null,null,"  ",null,null,null,null,null,null,null,null,null,null,null,", ",null,null,null,null,null,"  ",null,null,null,null,null,null,"N/A","N/A","ƏMƏK HAQQI",null,"008",null," ","AGHJA_H"]
["",null,null,null,"  ",null,null,null,null,null,null,null,null,null,null,null,", ",null,null,null,null,null,"  ",null,null,null,null,null,null,"N/A","N/A","ƏMƏK HAQQI",null,"008",null,{"$f":"CONCATENATE((SUBSTITUTE(SUBSTITUTE(SUBSTITUTE(SUBSTITUTE(SUBSTITUTE(SUBSTITUTE(SUBSTITUTE(SUBSTITUTE(SUBSTITUTE(SUBSTITUTE(SUBSTITUTE(C1786,\"Ə\",\"A\"),\"J\",\"ZH\"),\"C\",\"J\"),\"Ç\",\"CH\"),\"İ\",\"I\"),\"Ğ\",\"GH\"),\"Ö\",\"O\"),\"Ü\",\"U\"),\"Ş\",\"SH\"),\"Q\",\"G\"),\"X\",\"KH\")),\" \",(SUBSTITUTE(SUBSTITUTE(SUBSTITUTE(SUBSTITUTE(SUBSTITUTE(SUBSTITUTE(SUBSTITUTE(SUBSTITUTE(SUBSTITUTE(SUBSTITUTE(SUBSTITUTE(B1786,\"Ə\",\"A\"),\"J\",\"ZH\"),\"C\",\"J\"),\"Ç\",\"CH\"),\"İ\",\"I\"),\"Ğ\",\"GH\"),\"Ö\",\"O\"),\"Ü\",\"U\"),\"Ş\",\"SH\"),\"Q\",\"G\"),\"X\",\"KH\")))","v":" "},"AGHJA_H"]
["",null,null,null,{"$f":"CONCATENATE((SUBSTITUTE(SUBSTITUTE(SUBSTITUTE(SUBSTITUTE(SUBSTITUTE(SUBSTITUTE(SUBSTITUTE(SUBSTITUTE(SUBSTITUTE(SUBSTITUTE(SUBSTITUTE(C1787,\"Ə\",\"A\"),\"J\",\"ZH\"),\"C\",\"J\"),\"Ç\",\"CH\"),\"İ\",\"I\"),\"Ğ\",\"GH\"),\"Ö\",\"O\"),\"Ü\",\"U\"),\"Ş\",\"SH\"),\"Q\",\"G\"),\"X\",\"KH\")),\" \",(SUBSTITUTE(SUBSTITUTE(SUBSTITUTE(SUBSTITUTE(SUBSTITUTE(SUBSTITUTE(SUBSTITUTE(SUBSTITUTE(SUBSTITUTE(SUBSTITUTE(SUBSTITUTE(B1787,\"Ə\",\"A\"),\"J\",\"ZH\"),\"C\",\"J\"),\"Ç\",\"CH\"),\"İ\",\"I\"),\"Ğ\",\"GH\"),\"Ö\",\"O\"),\"Ü\",\"U\"),\"Ş\",\"SH\"),\"Q\",\"G\"),\"X\",\"KH\")),\" \",(SUBSTITUTE(SUBSTITUTE(SUBSTITUTE(SUBSTITUTE(SUBSTITUTE(SUBSTITUTE(SUBSTITUTE(SUBSTITUTE(SUBSTITUTE(SUBSTITUTE(SUBSTITUTE(SUBSTITUTE(SUBSTITUTE(D1787,\" OĞLU\",\"\"),\" QIZI\",\"\"),\"Ə\",\"A\"),\"J\",\"ZH\"),\"C\",\"J\"),\"Ç\",\"CH\"),\"İ\",\"I\"),\"Ğ\",\"GH\"),\"Ö\",\"O\"),\"Ü\",\"U\"),\"Ş\",\"SH\"),\"Q\",\"G\"),\"X\",\"KH\")))","v":"  "},null,null,null,null,null,null,null,null,null,null,null,{"$f":"CONCATENATE((SUBSTITUTE(SUBSTITUTE(SUBSTITUTE(SUBSTITUTE(SUBSTITUTE(SUBSTITUTE(SUBSTITUTE(SUBSTITUTE(SUBSTITUTE(SUBSTITUTE(SUBSTITUTE(O1787,\"Ə\",\"A\"),\"J\",\"ZH\"),\"C\",\"J\"),\"Ç\",\"CH\"),\"İ\",\"I\"),\"Ğ\",\"GH\"),\"Ö\",\"O\"),\"Ü\",\"U\"),\"Ş\",\"SH\"),\"Q\",\"G\"),\"X\",\"KH\")),\", \",(SUBSTITUTE(SUBSTITUTE(SUBSTITUTE(SUBSTITUTE(SUBSTITUTE(SUBSTITUTE(SUBSTITUTE(SUBSTITUTE(SUBSTITUTE(SUBSTITUTE(SUBSTITUTE(M1787,\"Ə\",\"A\"),\"J\",\"ZH\"),\"C\",\"J\"),\"Ç\",\"CH\"),\"İ\",\"I\"),\"Ğ\",\"GH\"),\"Ö\",\"O\"),\"Ü\",\"U\"),\"Ş\",\"SH\"),\"Q\",\"G\"),\"X\",\"KH\")))","v":", "},null,null,null,null,null,"  ",null,null,null,null,null,null,"N/A","N/A","ƏMƏK HAQQI",null,"008",null," ","AGHJA_H"]
["",null,null,null,"  ",null,null,null,null,null,null,null,null,null,null,null,", ",null,null,null,null,null,"  ",null,null,null,null,null,null,"N/A","N/A","ƏMƏK HAQQI",null,"008",null," ","AGHJA_H"]
["",null,null,null,"  ",null,null,null,null,null,null,null,null,null,null,null,", ",null,null,null,null,null,"  ",null,null,null,null,null,null,"N/A","N/A","ƏMƏK HAQQI",null,"008",null," ","AGHJA_H"]
["",null,null,null,"  ",null,null,null,null,null,null,null,null,null,null,null,", ",null,null,null,null,null,"  ",null,null,null,null,null,null,"N/A","N/A","ƏMƏK HAQQI",null,"008",null," ","AGHJA_H"]
["",null,null,null,"  ",null,null,null,null,null,null,null,null,null,null,null,", ",null,null,null,null,null,"  ",null,null,null,null,null,null,"N/A","N/A","ƏMƏK HAQQI",null,"008",null," ","AGHJA_H"]
["",null,null,null,"  ",null,null,null,null,null,null,null,null,null,null,null,", ",null,null,null,null,null,"  ",null,null,null,null,null,null,"N/A","N/A","ƏMƏK HAQQI",null,"008",null," ","AGHJA_H"]
["",null,null,null,"  ",null,null,null,null,null,null,null,null,null,null,null,", ",null,null,null,null,null,"  ",null,null,null,null,null,null,"N/A","N/A","ƏMƏK HAQQI",null,"008",null," ","AGHJA_H"]
["",null,null,null,"  ",null,null,null,null,null,null,null,null,null,null,null,", ",null,null,null,null,null,"  ",null,null,null,null,null,null,"N/A","N/A","ƏMƏK HAQQI",null,"008",null," ","AGHJA_H"]
["",null,null,null,"  ",null,null,null,null,null,null,null,null,null,null,null,", ",null,null,null,null,null,"  ",null,null,null,null,null,null,"N/A","N/A","ƏMƏK HAQQI",null,"008",null," ","AGHJA_H"]
["",null,null,null,"  ",null,null,null,null,null,null,null,null,null,null,null,", ",null,null,null,null,null,"  ",null,null,null,null,null,null,"N/A","N/A","ƏMƏK HAQQI",null,"008",null," ","AGHJA_H"]
["",null,null,null,"  ",null,null,null,null,null,null,null,null,null,null,null,", ",null,null,null,null,null,"  ",null,null,null,null,null,null,"N/A","N/A","ƏMƏK HAQQI",null,"008",null," ","AGHJA_H"]
["",null,null,null,"  ",null,null,null,null,null,null,null,null,null,null,null,", ",null,null,null,null,null,"  ",null,null,null,null,null,null,"N/A","N/A","ƏMƏK HAQQI",null,"008",null," ","AGHJA_H"]
["",null,null,null,"  ",null,null,null,null,null,null,null,null,null,null,null,", ",null,null,null,null,null,"  ",null,null,null,null,null,null,"N/A","N/A","ƏMƏK HAQQI",null,"008",null," ","AGHJA_H"]
["",null,null,null,"  ",null,null,null,null,null,null,null,null,null,null,null,", ",null,null,null,null,null,"  ",null,null,null,null,null,null,"N/A","N/A","ƏMƏK HAQQI",null,"008",null," ","AGHJA_H"]
["",null,null,null,"  ",null,null,null,null,null,null,null,null,null,null,null,", ",null,null,null,null,null,"  ",null,null,null,null,null,null,"N/A","N/A","ƏMƏK HAQQI",null,"008",null," ","AGHJA_H"]
["",null,null,null,"  ",null,null,null,null,null,null,null,null,null,null,null,", ",null,null,null,null,null,"  ",null,null,null,null,null,null,"N/A","N/A","ƏMƏK HAQQI",null,"008",null," ","AGHJA_H"]
["",null,null,null,"  ",null,null,null,null,null,null,null,null,null,null,null,", ",null,null,null,null,null,"  ",null,null,null,null,null,null,"N/A","N/A","ƏMƏK HAQQI",null,"008",null," ","AGHJA_H"]
["",null,null,null,"  ",null,null,null,null,null,null,null,null,null,null,null,", ",null,null,null,null,null,"  ",null,null,null,null,null,null,"N/A","N/A","ƏMƏK HAQQI",null,"008",null," ","AGHJA_H"]
["",null,null,null,"  ",null,null,null,null,null,null,null,null,null,null,null,", ",null,null,null,null,null,"  ",null,null,null,null,null,null,"N/A","N/A","ƏMƏK HAQQI",null,"008",null," ","AGHJA_H"]
["",null,null,null,"  ",null,null,null,null,null,null,null,null,null,null,null,", ",null,null,null,null,null,"  ",null,null,null,null,null,null,"N/A","N/A","ƏMƏK HAQQI",null,"008",null," ","AGHJA_H"]
["",null,null,null,"  ",null,null,null,null,null,null,null,null,null,null,null,", ",null,null,null,null,null,"  ",null,null,null,null,null,null,"N/A","N/A","ƏMƏK HAQQI",null,"008",null," ","AGHJA_H"]
["",null,null,null,"  ",null,null,null,null,null,null,null,null,null,null,null,", ",null,null,null,null,null,"  ",null,null,null,null,null,null,"N/A","N/A","ƏMƏK HAQQI",null,"008",null," ","AGHJA_H"]
["",null,null,null,"  ",null,null,null,null,null,null,null,null,null,null,null,", ",null,null,null,null,null,"  ",null,null,null,null,null,null,"N/A","N/A","ƏMƏK HAQQI",null,"008",null," ","AGHJA_H"]
["",null,null,null,"  ",null,null,null,null,null,null,null,null,null,null,null,", ",null,null,null,null,null,"  ",null,null,null,null,null,null,"N/A","N/A","ƏMƏK HAQQI",null,"008",null," ","AGHJA_H"]
["",null,null,null,"  ",null,null,null,null,null,null,null,null,null,null,null,", ",null,null,null,null,null,"  ",null,null,null,null,null,null,"N/A","N/A","ƏMƏK HAQQI",null,"008",null," ","AGHJA_H"]
["",null,null,null,"  ",null,null,null,null,null,null,null,null,null,null,null,", ",null,null,null,null,null,"  ",null,null,null,null,null,null,"N/A","N/A","ƏMƏK HAQQI",null,"008",null," ","AGHJA_H"]
["",null,null,null,"  ",null,null,null,null,null,null,null,null,null,null,null,", ",null,null,null,null,null,"  ",null,null,null,null,null,null,"N/A","N/A","ƏMƏK HAQQI",null,"008",null," ","AGHJA_H"]
["",null,null,null,"  ",null,null,null,null,null,null,null,null,null,null,null,", ",null,null,null,null,null,"  ",null,null,null,null,null,null,"N/A","N/A","ƏMƏK HAQQI",null,"008",null," ","AGHJA_H"]
["",null,null,null,"  ",null,null,null,null,null,null,null,null,null,null,null,", ",null,null,null,null,null,"  ",null,null,null,null,null,null,"N/A","N/A","ƏMƏK HAQQI",null,"008",null," ","AGHJA_H"]
["",null,null,null,"  ",null,null,null,null,null,null,null,null,null,null,null,", ",null,null,null,null,null,"  ",null,null,null,null,null,null,"N/A","N/A","ƏMƏK HAQQI",null,"008",null," ","AGHJA_H"]
["",null,null,null,"  ",null,null,null,null,null,null,null,null,null,null,null,", ",null,null,null,null,null,"  ",null,null,null,null,null,null,"N/A","N/A","ƏMƏK HAQQI",null,"008",null," ","AGHJA_H"]
["",null,null,null,"  ",null,null,null,null,null,null,null,null,null,null,null,", ",null,null,null,null,null,"  ",null,null,null,null,null,null,"N/A","N/A","ƏMƏK HAQQI",null,"008",null,{"$f":"CONCATENATE((SUBSTITUTE(SUBSTITUTE(SUBSTITUTE(SUBSTITUTE(SUBSTITUTE(SUBSTITUTE(SUBSTITUTE(SUBSTITUTE(SUBSTITUTE(SUBSTITUTE(SUBSTITUTE(C1850,\"Ə\",\"A\"),\"J\",\"ZH\"),\"C\",\"J\"),\"Ç\",\"CH\"),\"İ\",\"I\"),\"Ğ\",\"GH\"),\"Ö\",\"O\"),\"Ü\",\"U\"),\"Ş\",\"SH\"),\"Q\",\"G\"),\"X\",\"KH\")),\" \",(SUBSTITUTE(SUBSTITUTE(SUBSTITUTE(SUBSTITUTE(SUBSTITUTE(SUBSTITUTE(SUBSTITUTE(SUBSTITUTE(SUBSTITUTE(SUBSTITUTE(SUBSTITUTE(B1850,\"Ə\",\"A\"),\"J\",\"ZH\"),\"C\",\"J\"),\"Ç\",\"CH\"),\"İ\",\"I\"),\"Ğ\",\"GH\"),\"Ö\",\"O\"),\"Ü\",\"U\"),\"Ş\",\"SH\"),\"Q\",\"G\"),\"X\",\"KH\")))","v":" "},"AGHJA_H"]
["",null,null,null,{"$f":"CONCATENATE((SUBSTITUTE(SUBSTITUTE(SUBSTITUTE(SUBSTITUTE(SUBSTITUTE(SUBSTITUTE(SUBSTITUTE(SUBSTITUTE(SUBSTITUTE(SUBSTITUTE(SUBSTITUTE(C1851,\"Ə\",\"A\"),\"J\",\"ZH\"),\"C\",\"J\"),\"Ç\",\"CH\"),\"İ\",\"I\"),\"Ğ\",\"GH\"),\"Ö\",\"O\"),\"Ü\",\"U\"),\"Ş\",\"SH\"),\"Q\",\"G\"),\"X\",\"KH\")),\" \",(SUBSTITUTE(SUBSTITUTE(SUBSTITUTE(SUBSTITUTE(SUBSTITUTE(SUBSTITUTE(SUBSTITUTE(SUBSTITUTE(SUBSTITUTE(SUBSTITUTE(SUBSTITUTE(B1851,\"Ə\",\"A\"),\"J\",\"ZH\"),\"C\",\"J\"),\"Ç\",\"CH\"),\"İ\",\"I\"),\"Ğ\",\"GH\"),\"Ö\",\"O\"),\"Ü\",\"U\"),\"Ş\",\"SH\"),\"Q\",\"G\"),\"X\",\"KH\")),\" \",(SUBSTITUTE(SUBSTITUTE(SUBSTITUTE(SUBSTITUTE(SUBSTITUTE(SUBSTITUTE(SUBSTITUTE(SUBSTITUTE(SUBSTITUTE(SUBSTITUTE(SUBSTITUTE(SUBSTITUTE(SUBSTITUTE(D1851,\" OĞLU\",\"\"),\" QIZI\",\"\"),\"Ə\",\"A\"),\"J\",\"ZH\"),\"C\",\"J\"),\"Ç\",\"CH\"),\"İ\",\"I\"),\"Ğ\",\"GH\"),\"Ö\",\"O\"),\"Ü\",\"U\"),\"Ş\",\"SH\"),\"Q\",\"G\"),\"X\",\"KH\")))","v":"  "},null,null,null,null,null,null,null,null,null,null,null,{"$f":"CONCATENATE((SUBSTITUTE(SUBSTITUTE(SUBSTITUTE(SUBSTITUTE(SUBSTITUTE(SUBSTITUTE(SUBSTITUTE(SUBSTITUTE(SUBSTITUTE(SUBSTITUTE(SUBSTITUTE(O1851,\"Ə\",\"A\"),\"J\",\"ZH\"),\"C\",\"J\"),\"Ç\",\"CH\"),\"İ\",\"I\"),\"Ğ\",\"GH\"),\"Ö\",\"O\"),\"Ü\",\"U\"),\"Ş\",\"SH\"),\"Q\",\"G\"),\"X\",\"KH\")),\", \",(SUBSTITUTE(SUBSTITUTE(SUBSTITUTE(SUBSTITUTE(SUBSTITUTE(SUBSTITUTE(SUBSTITUTE(SUBSTITUTE(SUBSTITUTE(SUBSTITUTE(SUBSTITUTE(M1851,\"Ə\",\"A\"),\"J\",\"ZH\"),\"C\",\"J\"),\"Ç\",\"CH\"),\"İ\",\"I\"),\"Ğ\",\"GH\"),\"Ö\",\"O\"),\"Ü\",\"U\"),\"Ş\",\"SH\"),\"Q\",\"G\"),\"X\",\"KH\")))","v":", "},null,null,null,null,null,"  ",null,null,null,null,null,null,"N/A","N/A","ƏMƏK HAQQI",null,"008",null," ","AGHJA_H"]
["",null,null,null,"  ",null,null,null,null,null,null,null,null,null,null,null,", ",null,null,null,null,null,"  ",null,null,null,null,null,null,"N/A","N/A","ƏMƏK HAQQI",null,"008",null," ","AGHJA_H"]
["",null,null,null,"  ",null,null,null,null,null,null,null,null,null,null,null,", ",null,null,null,null,null,"  ",null,null,null,null,null,null,"N/A","N/A","ƏMƏK HAQQI",null,"008",null," ","AGHJA_H"]
["",null,null,null,"  ",null,null,null,null,null,null,null,null,null,null,null,", ",null,null,null,null,null,"  ",null,null,null,null,null,null,"N/A","N/A","ƏMƏK HAQQI",null,"008",null," ","AGHJA_H"]
["",null,null,null,"  ",null,null,null,null,null,null,null,null,null,null,null,", ",null,null,null,null,null,"  ",null,null,null,null,null,null,"N/A","N/A","ƏMƏK HAQQI",null,"008",null," ","AGHJA_H"]
["",null,null,null,"  ",null,null,null,null,null,null,null,null,null,null,null,", ",null,null,null,null,null,"  ",null,null,null,null,null,null,"N/A","N/A","ƏMƏK HAQQI",null,"008",null," ","AGHJA_H"]
["",null,null,null,"  ",null,null,null,null,null,null,null,null,null,null,null,", ",null,null,null,null,null,"  ",null,null,null,null,null,null,"N/A","N/A","ƏMƏK HAQQI",null,"008",null," ","AGHJA_H"]
["",null,null,null,"  ",null,null,null,null,null,null,null,null,null,null,null,", ",null,null,null,null,null,"  ",null,null,null,null,null,null,"N/A","N/A","ƏMƏK HAQQI",null,"008",null," ","AGHJA_H"]
["",null,null,null,"  ",null,null,null,null,null,null,null,null,null,null,null,", ",null,null,null,null,null,"  ",null,null,null,null,null,null,"N/A","N/A","ƏMƏK HAQQI",null,"008",null," ","AGHJA_H"]
["",null,null,null,"  ",null,null,null,null,null,null,null,null,null,null,null,", ",null,null,null,null,null,"  ",null,null,null,null,null,null,"N/A","N/A","ƏMƏK HAQQI",null,"008",null," ","AGHJA_H"]
["",null,null,null,"  ",null,null,null,null,null,null,null,null,null,null,null,", ",null,null,null,null,null,"  ",null,null,null,null,null,null,"N/A","N/A","ƏMƏK HAQQI",null,"008",null," ","AGHJA_H"]
["",null,null,null,"  ",null,null,null,null,null,null,null,null,null,null,null,", ",null,null,null,null,null,"  ",null,null,null,null,null,null,"N/A","N/A","ƏMƏK HAQQI",null,"008",null," ","AGHJA_H"]
["",null,null,null,"  ",null,null,null,null,null,null,null,null,null,null,null,", ",null,null,null,null,null,"  ",null,null,null,null,null,null,"N/A","N/A","ƏMƏK HAQQI",null,"008",null," ","AGHJA_H"]
["",null,null,null,"  ",null,null,null,null,null,null,null,null,null,null,null,", ",null,null,null,null,null,"  ",null,null,null,null,null,null,"N/A","N/A","ƏMƏK HAQQI",null,"008",null," ","AGHJA_H"]
["",null,null,null,"  ",null,null,null,null,null,null,null,null,null,null,null,", ",null,null,null,null,null,"  ",null,null,null,null,null,null,"N/A","N/A","ƏMƏK HAQQI",null,"008",null," ","AGHJA_H"]
["",null,null,null,"  ",null,null,null,null,null,null,null,null,null,null,null,", ",null,null,null,null,null,"  ",null,null,null,null,null,null,"N/A","N/A","ƏMƏK HAQQI",null,"008",null," ","AGHJA_H"]
["",null,null,null,"  ",null,null,null,null,null,null,null,null,null,null,null,", ",null,null,null,null,null,"  ",null,null,null,null,null,null,"N/A","N/A","ƏMƏK HAQQI",null,"008",null," ","AGHJA_H"]
["",null,null,null,"  ",null,null,null,null,null,null,null,null,null,null,null,", ",null,null,null,null,null,"  ",null,null,null,null,null,null,"N/A","N/A","ƏMƏK HAQQI",null,"008",null," ","AGHJA_H"]
["",null,null,null,"  ",null,null,null,null,null,null,null,null,null,null,null,", ",null,null,null,null,null,"  ",null,null,null,null,null,null,"N/A","N/A","ƏMƏK HAQQI",null,"008",null," ","AGHJA_H"]
["",null,null,null,"  ",null,null,null,null,null,null,null,null,null,null,null,", ",null,null,null,null,null,"  ",null,null,null,null,null,null,"N/A","N/A","ƏMƏK HAQQI",null,"008",null," ","AGHJA_H"]
["",null,null,null,"  ",null,null,null,null,null,null,null,null,null,null,null,", ",null,null,null,null,null,"  ",null,null,null,null,null,null,"N/A","N/A","ƏMƏK HAQQI",null,"008",null," ","AGHJA_H"]
["",null,null,null,"  ",null,null,null,null,null,null,null,null,null,null,null,", ",null,null,null,null,null,"  ",null,null,null,null,null,null,"N/A","N/A","ƏMƏK HAQQI",null,"008",null," ","AGHJA_H"]
["",null,null,null,"  ",null,null,null,null,null,null,null,null,null,null,null,", ",null,null,null,null,null,"  ",null,null,null,null,null,null,"N/A","N/A","ƏMƏK HAQQI",null,"008",null," ","AGHJA_H"]
["",null,null,null,"  ",null,null,null,null,null,null,null,null,null,null,null,", ",null,null,null,null,null,"  ",null,null,null,null,null,null,"N/A","N/A","ƏMƏK HAQQI",null,"008",null," ","AGHJA_H"]
["",null,null,null,"  ",null,null,null,null,null,null,null,null,null,null,null,", ",null,null,null,null,null,"  ",null,null,null,null,null,null,"N/A","N/A","ƏMƏK HAQQI",null,"008",null," ","AGHJA_H"]
["",null,null,null,"  ",null,null,null,null,null,null,null,null,null,null,null,", ",null,null,null,null,null,"  ",null,null,null,null,null,null,"N/A","N/A","ƏMƏK HAQQI",null,"008",null," ","AGHJA_H"]
["",null,null,null,"  ",null,null,null,null,null,null,null,null,null,null,null,", ",null,null,null,null,null,"  ",null,null,null,null,null,null,"N/A","N/A","ƏMƏK HAQQI",null,"008",null," ","AGHJA_H"]
["",null,null,null,"  ",null,null,null,null,null,null,null,null,null,null,null,", ",null,null,null,null,null,"  ",null,null,null,null,null,null,"N/A","N/A","ƏMƏK HAQQI",null,"008",null," ","AGHJA_H"]
["",null,null,null,"  ",null,null,null,null,null,null,null,null,null,null,null,", ",null,null,null,null,null,"  ",null,null,null,null,null,null,"N/A","N/A","ƏMƏK HAQQI",null,"008",null," ","AGHJA_H"]
["",null,null,null,"  ",null,null,null,null,null,null,null,null,null,null,null,", ",null,null,null,null,null,"  ",null,null,null,null,null,null,"N/A","N/A","ƏMƏK HAQQI",null,"008",null," ","AGHJA_H"]
["",null,null,null,"  ",null,null,null,null,null,null,null,null,null,null,null,", ",null,null,null,null,null,"  ",null,null,null,null,null,null,"N/A","N/A","ƏMƏK HAQQI",null,"008",null," ","AGHJA_H"]
["",null,null,null,"  ",null,null,null,null,null,null,null,null,null,null,null,", ",null,null,null,null,null,"  ",null,null,null,null,null,null,"N/A","N/A","ƏMƏK HAQQI",null,"008",null,{"$f":"CONCATENATE((SUBSTITUTE(SUBSTITUTE(SUBSTITUTE(SUBSTITUTE(SUBSTITUTE(SUBSTITUTE(SUBSTITUTE(SUBSTITUTE(SUBSTITUTE(SUBSTITUTE(SUBSTITUTE(C1914,\"Ə\",\"A\"),\"J\",\"ZH\"),\"C\",\"J\"),\"Ç\",\"CH\"),\"İ\",\"I\"),\"Ğ\",\"GH\"),\"Ö\",\"O\"),\"Ü\",\"U\"),\"Ş\",\"SH\"),\"Q\",\"G\"),\"X\",\"KH\")),\" \",(SUBSTITUTE(SUBSTITUTE(SUBSTITUTE(SUBSTITUTE(SUBSTITUTE(SUBSTITUTE(SUBSTITUTE(SUBSTITUTE(SUBSTITUTE(SUBSTITUTE(SUBSTITUTE(B1914,\"Ə\",\"A\"),\"J\",\"ZH\"),\"C\",\"J\"),\"Ç\",\"CH\"),\"İ\",\"I\"),\"Ğ\",\"GH\"),\"Ö\",\"O\"),\"Ü\",\"U\"),\"Ş\",\"SH\"),\"Q\",\"G\"),\"X\",\"KH\")))","v":" "},"AGHJA_H"]
["",null,null,null,{"$f":"CONCATENATE((SUBSTITUTE(SUBSTITUTE(SUBSTITUTE(SUBSTITUTE(SUBSTITUTE(SUBSTITUTE(SUBSTITUTE(SUBSTITUTE(SUBSTITUTE(SUBSTITUTE(SUBSTITUTE(C1915,\"Ə\",\"A\"),\"J\",\"ZH\"),\"C\",\"J\"),\"Ç\",\"CH\"),\"İ\",\"I\"),\"Ğ\",\"GH\"),\"Ö\",\"O\"),\"Ü\",\"U\"),\"Ş\",\"SH\"),\"Q\",\"G\"),\"X\",\"KH\")),\" \",(SUBSTITUTE(SUBSTITUTE(SUBSTITUTE(SUBSTITUTE(SUBSTITUTE(SUBSTITUTE(SUBSTITUTE(SUBSTITUTE(SUBSTITUTE(SUBSTITUTE(SUBSTITUTE(B1915,\"Ə\",\"A\"),\"J\",\"ZH\"),\"C\",\"J\"),\"Ç\",\"CH\"),\"İ\",\"I\"),\"Ğ\",\"GH\"),\"Ö\",\"O\"),\"Ü\",\"U\"),\"Ş\",\"SH\"),\"Q\",\"G\"),\"X\",\"KH\")),\" \",(SUBSTITUTE(SUBSTITUTE(SUBSTITUTE(SUBSTITUTE(SUBSTITUTE(SUBSTITUTE(SUBSTITUTE(SUBSTITUTE(SUBSTITUTE(SUBSTITUTE(SUBSTITUTE(SUBSTITUTE(SUBSTITUTE(D1915,\" OĞLU\",\"\"),\" QIZI\",\"\"),\"Ə\",\"A\"),\"J\",\"ZH\"),\"C\",\"J\"),\"Ç\",\"CH\"),\"İ\",\"I\"),\"Ğ\",\"GH\"),\"Ö\",\"O\"),\"Ü\",\"U\"),\"Ş\",\"SH\"),\"Q\",\"G\"),\"X\",\"KH\")))","v":"  "},null,null,null,null,null,null,null,null,null,null,null,{"$f":"CONCATENATE((SUBSTITUTE(SUBSTITUTE(SUBSTITUTE(SUBSTITUTE(SUBSTITUTE(SUBSTITUTE(SUBSTITUTE(SUBSTITUTE(SUBSTITUTE(SUBSTITUTE(SUBSTITUTE(O1915,\"Ə\",\"A\"),\"J\",\"ZH\"),\"C\",\"J\"),\"Ç\",\"CH\"),\"İ\",\"I\"),\"Ğ\",\"GH\"),\"Ö\",\"O\"),\"Ü\",\"U\"),\"Ş\",\"SH\"),\"Q\",\"G\"),\"X\",\"KH\")),\", \",(SUBSTITUTE(SUBSTITUTE(SUBSTITUTE(SUBSTITUTE(SUBSTITUTE(SUBSTITUTE(SUBSTITUTE(SUBSTITUTE(SUBSTITUTE(SUBSTITUTE(SUBSTITUTE(M1915,\"Ə\",\"A\"),\"J\",\"ZH\"),\"C\",\"J\"),\"Ç\",\"CH\"),\"İ\",\"I\"),\"Ğ\",\"GH\"),\"Ö\",\"O\"),\"Ü\",\"U\"),\"Ş\",\"SH\"),\"Q\",\"G\"),\"X\",\"KH\")))","v":", "},null,null,null,null,null,"  ",null,null,null,null,null,null,"N/A","N/A","ƏMƏK HAQQI",null,"008",null," ","AGHJA_H"]
["",null,null,null,"  ",null,null,null,null,null,null,null,null,null,null,null,", ",null,null,null,null,null,"  ",null,null,null,null,null,null,"N/A","N/A","ƏMƏK HAQQI",null,"008",null," ","AGHJA_H"]
["",null,null,null,"  ",null,null,null,null,null,null,null,null,null,null,null,", ",null,null,null,null,null,"  ",null,null,null,null,null,null,"N/A","N/A","ƏMƏK HAQQI",null,"008",null," ","AGHJA_H"]
["",null,null,null,"  ",null,null,null,null,null,null,null,null,null,null,null,", ",null,null,null,null,null,"  ",null,null,null,null,null,null,"N/A","N/A","ƏMƏK HAQQI",null,"008",null," ","AGHJA_H"]
["",null,null,null,"  ",null,null,null,null,null,null,null,null,null,null,null,", ",null,null,null,null,null,"  ",null,null,null,null,null,null,"N/A","N/A","ƏMƏK HAQQI",null,"008",null," ","AGHJA_H"]
["",null,null,null,"  ",null,null,null,null,null,null,null,null,null,null,null,", ",null,null,null,null,null,"  ",null,null,null,null,null,null,"N/A","N/A","ƏMƏK HAQQI",null,"008",null," ","AGHJA_H"]
["",null,null,null,"  ",null,null,null,null,null,null,null,null,null,null,null,", ",null,null,null,null,null,"  ",null,null,null,null,null,null,"N/A","N/A","ƏMƏK HAQQI",null,"008",null," ","AGHJA_H"]
["",null,null,null,"  ",null,null,null,null,null,null,null,null,null,null,null,", ",null,null,null,null,null,"  ",null,null,null,null,null,null,"N/A","N/A","ƏMƏK HAQQI",null,"008",null," ","AGHJA_H"]
["",null,null,null,"  ",null,null,null,null,null,null,null,null,null,null,null,", ",null,null,null,null,null,"  ",null,null,null,null,null,null,"N/A","N/A","ƏMƏK HAQQI",null,"008",null," ","AGHJA_H"]
["",null,null,null,"  ",null,null,null,null,null,null,null,null,null,null,null,", ",null,null,null,null,null,"  ",null,null,null,null,null,null,"N/A","N/A","ƏMƏK HAQQI",null,"008",null," ","AGHJA_H"]
["",null,null,null,"  ",null,null,null,null,null,null,null,null,null,null,null,", ",null,null,null,null,null,"  ",null,null,null,null,null,null,"N/A","N/A","ƏMƏK HAQQI",null,"008",null," ","AGHJA_H"]
["",null,null,null,"  ",null,null,null,null,null,null,null,null,null,null,null,", ",null,null,null,null,null,"  ",null,null,null,null,null,null,"N/A","N/A","ƏMƏK HAQQI",null,"008",null," ","AGHJA_H"]
["",null,null,null,"  ",null,null,null,null,null,null,null,null,null,null,null,", ",null,null,null,null,null,"  ",null,null,null,null,null,null,"N/A","N/A","ƏMƏK HAQQI",null,"008",null," ","AGHJA_H"]
["",null,null,null,"  ",null,null,null,null,null,null,null,null,null,null,null,", ",null,null,null,null,null,"  ",null,null,null,null,null,null,"N/A","N/A","ƏMƏK HAQQI",null,"008",null," ","AGHJA_H"]
["",null,null,null,"  ",null,null,null,null,null,null,null,null,null,null,null,", ",null,null,null,null,null,"  ",null,null,null,null,null,null,"N/A","N/A","ƏMƏK HAQQI",null,"008",null," ","AGHJA_H"]
["",null,null,null,"  ",null,null,null,null,null,null,null,null,null,null,null,", ",null,null,null,null,null,"  ",null,null,null,null,null,null,"N/A","N/A","ƏMƏK HAQQI",null,"008",null," ","AGHJA_H"]
["",null,null,null,"  ",null,null,null,null,null,null,null,null,null,null,null,", ",null,null,null,null,null,"  ",null,null,null,null,null,null,"N/A","N/A","ƏMƏK HAQQI",null,"008",null," ","AGHJA_H"]
["",null,null,null,"  ",null,null,null,null,null,null,null,null,null,null,null,", ",null,null,null,null,null,"  ",null,null,null,null,null,null,"N/A","N/A","ƏMƏK HAQQI",null,"008",null," ","AGHJA_H"]
["",null,null,null,"  ",null,null,null,null,null,null,null,null,null,null,null,", ",null,null,null,null,null,"  ",null,null,null,null,null,null,"N/A","N/A","ƏMƏK HAQQI",null,"008",null," ","AGHJA_H"]
["",null,null,null,"  ",null,null,null,null,null,null,null,null,null,null,null,", ",null,null,null,null,null,"  ",null,null,null,null,null,null,"N/A","N/A","ƏMƏK HAQQI",null,"008",null," ","AGHJA_H"]
["",null,null,null,"  ",null,null,null,null,null,null,null,null,null,null,null,", ",null,null,null,null,null,"  ",null,null,null,null,null,null,"N/A","N/A","ƏMƏK HAQQI",null,"008",null," ","AGHJA_H"]
["",null,null,null,"  ",null,null,null,null,null,null,null,null,null,null,null,", ",null,null,null,null,null,"  ",null,null,null,null,null,null,"N/A","N/A","ƏMƏK HAQQI",null,"008",null," ","AGHJA_H"]
["",null,null,null,"  ",null,null,null,null,null,null,null,null,null,null,null,", ",null,null,null,null,null,"  ",null,null,null,null,null,null,"N/A","N/A","ƏMƏK HAQQI",null,"008",null," ","AGHJA_H"]
["",null,null,null,"  ",null,null,null,null,null,null,null,null,null,null,null,", ",null,null,null,null,null,"  ",null,null,null,null,null,null,"N/A","N/A","ƏMƏK HAQQI",null,"008",null," ","AGHJA_H"]
["",null,null,null,"  ",null,null,null,null,null,null,null,null,null,null,null,", ",null,null,null,null,null,"  ",null,null,null,null,null,null,"N/A","N/A","ƏMƏK HAQQI",null,"008",null," ","AGHJA_H"]
["",null,null,null,"  ",null,null,null,null,null,null,null,null,null,null,null,", ",null,null,null,null,null,"  ",null,null,null,null,null,null,"N/A","N/A","ƏMƏK HAQQI",null,"008",null," ","AGHJA_H"]
["",null,null,null,"  ",null,null,null,null,null,null,null,null,null,null,null,", ",null,null,null,null,null,"  ",null,null,null,null,null,null,"N/A","N/A","ƏMƏK HAQQI",null,"008",null," ","AGHJA_H"]
["",null,null,null,"  ",null,null,null,null,null,null,null,null,null,null,null,", ",null,null,null,null,null,"  ",null,null,null,null,null,null,"N/A","N/A","ƏMƏK HAQQI",null,"008",null," ","AGHJA_H"]
["",null,null,null,"  ",null,null,null,null,null,null,null,null,null,null,null,", ",null,null,null,null,null,"  ",null,null,null,null,null,null,"N/A","N/A","ƏMƏK HAQQI",null,"008",null," ","AGHJA_H"]
["",null,null,null,"  ",null,null,null,null,null,null,null,null,null,null,null,", ",null,null,null,null,null,"  ",null,null,null,null,null,null,"N/A","N/A","ƏMƏK HAQQI",null,"008",null," ","AGHJA_H"]
["",null,null,null,"  ",null,null,null,null,null,null,null,null,null,null,null,", ",null,null,null,null,null,"  ",null,null,null,null,null,null,"N/A","N/A","ƏMƏK HAQQI",null,"008",null," ","AGHJA_H"]
["",null,null,null,"  ",null,null,null,null,null,null,null,null,null,null,null,", ",null,null,null,null,null,"  ",null,null,null,null,null,null,"N/A","N/A","ƏMƏK HAQQI",null,"008",null,{"$f":"CONCATENATE((SUBSTITUTE(SUBSTITUTE(SUBSTITUTE(SUBSTITUTE(SUBSTITUTE(SUBSTITUTE(SUBSTITUTE(SUBSTITUTE(SUBSTITUTE(SUBSTITUTE(SUBSTITUTE(C1978,\"Ə\",\"A\"),\"J\",\"ZH\"),\"C\",\"J\"),\"Ç\",\"CH\"),\"İ\",\"I\"),\"Ğ\",\"GH\"),\"Ö\",\"O\"),\"Ü\",\"U\"),\"Ş\",\"SH\"),\"Q\",\"G\"),\"X\",\"KH\")),\" \",(SUBSTITUTE(SUBSTITUTE(SUBSTITUTE(SUBSTITUTE(SUBSTITUTE(SUBSTITUTE(SUBSTITUTE(SUBSTITUTE(SUBSTITUTE(SUBSTITUTE(SUBSTITUTE(B1978,\"Ə\",\"A\"),\"J\",\"ZH\"),\"C\",\"J\"),\"Ç\",\"CH\"),\"İ\",\"I\"),\"Ğ\",\"GH\"),\"Ö\",\"O\"),\"Ü\",\"U\"),\"Ş\",\"SH\"),\"Q\",\"G\"),\"X\",\"KH\")))","v":" "},"AGHJA_H"]
["",null,null,null,{"$f":"CONCATENATE((SUBSTITUTE(SUBSTITUTE(SUBSTITUTE(SUBSTITUTE(SUBSTITUTE(SUBSTITUTE(SUBSTITUTE(SUBSTITUTE(SUBSTITUTE(SUBSTITUTE(SUBSTITUTE(C1979,\"Ə\",\"A\"),\"J\",\"ZH\"),\"C\",\"J\"),\"Ç\",\"CH\"),\"İ\",\"I\"),\"Ğ\",\"GH\"),\"Ö\",\"O\"),\"Ü\",\"U\"),\"Ş\",\"SH\"),\"Q\",\"G\"),\"X\",\"KH\")),\" \",(SUBSTITUTE(SUBSTITUTE(SUBSTITUTE(SUBSTITUTE(SUBSTITUTE(SUBSTITUTE(SUBSTITUTE(SUBSTITUTE(SUBSTITUTE(SUBSTITUTE(SUBSTITUTE(B1979,\"Ə\",\"A\"),\"J\",\"ZH\"),\"C\",\"J\"),\"Ç\",\"CH\"),\"İ\",\"I\"),\"Ğ\",\"GH\"),\"Ö\",\"O\"),\"Ü\",\"U\"),\"Ş\",\"SH\"),\"Q\",\"G\"),\"X\",\"KH\")),\" \",(SUBSTITUTE(SUBSTITUTE(SUBSTITUTE(SUBSTITUTE(SUBSTITUTE(SUBSTITUTE(SUBSTITUTE(SUBSTITUTE(SUBSTITUTE(SUBSTITUTE(SUBSTITUTE(SUBSTITUTE(SUBSTITUTE(D1979,\" OĞLU\",\"\"),\" QIZI\",\"\"),\"Ə\",\"A\"),\"J\",\"ZH\"),\"C\",\"J\"),\"Ç\",\"CH\"),\"İ\",\"I\"),\"Ğ\",\"GH\"),\"Ö\",\"O\"),\"Ü\",\"U\"),\"Ş\",\"SH\"),\"Q\",\"G\"),\"X\",\"KH\")))","v":"  "},null,null,null,null,null,null,null,null,null,null,null,{"$f":"CONCATENATE((SUBSTITUTE(SUBSTITUTE(SUBSTITUTE(SUBSTITUTE(SUBSTITUTE(SUBSTITUTE(SUBSTITUTE(SUBSTITUTE(SUBSTITUTE(SUBSTITUTE(SUBSTITUTE(O1979,\"Ə\",\"A\"),\"J\",\"ZH\"),\"C\",\"J\"),\"Ç\",\"CH\"),\"İ\",\"I\"),\"Ğ\",\"GH\"),\"Ö\",\"O\"),\"Ü\",\"U\"),\"Ş\",\"SH\"),\"Q\",\"G\"),\"X\",\"KH\")),\", \",(SUBSTITUTE(SUBSTITUTE(SUBSTITUTE(SUBSTITUTE(SUBSTITUTE(SUBSTITUTE(SUBSTITUTE(SUBSTITUTE(SUBSTITUTE(SUBSTITUTE(SUBSTITUTE(M1979,\"Ə\",\"A\"),\"J\",\"ZH\"),\"C\",\"J\"),\"Ç\",\"CH\"),\"İ\",\"I\"),\"Ğ\",\"GH\"),\"Ö\",\"O\"),\"Ü\",\"U\"),\"Ş\",\"SH\"),\"Q\",\"G\"),\"X\",\"KH\")))","v":", "},null,null,null,null,null,"  ",null,null,null,null,null,null,"N/A","N/A","ƏMƏK HAQQI",null,"008",null," ","AGHJA_H"]
["",null,null,null,"  ",null,null,null,null,null,null,null,null,null,null,null,", ",null,null,null,null,null,"  ",null,null,null,null,null,null,"N/A","N/A","ƏMƏK HAQQI",null,"008",null," ","AGHJA_H"]
["",null,null,null,"  ",null,null,null,null,null,null,null,null,null,null,null,", ",null,null,null,null,null,"  ",null,null,null,null,null,null,"N/A","N/A","ƏMƏK HAQQI",null,"008",null," ","AGHJA_H"]
["",null,null,null,"  ",null,null,null,null,null,null,null,null,null,null,null,", ",null,null,null,null,null,"  ",null,null,null,null,null,null,"N/A","N/A","ƏMƏK HAQQI",null,"008",null," ","AGHJA_H"]
["",null,null,null,"  ",null,null,null,null,null,null,null,null,null,null,null,", ",null,null,null,null,null,"  ",null,null,null,null,null,null,"N/A","N/A","ƏMƏK HAQQI",null,"008",null," ","AGHJA_H"]
["",null,null,null,"  ",null,null,null,null,null,null,null,null,null,null,null,", ",null,null,null,null,null,"  ",null,null,null,null,null,null,"N/A","N/A","ƏMƏK HAQQI",null,"008",null," ","AGHJA_H"]
["",null,null,null,"  ",null,null,null,null,null,null,null,null,null,null,null,", ",null,null,null,null,null,"  ",null,null,null,null,null,null,"N/A","N/A","ƏMƏK HAQQI",null,"008",null," ","AGHJA_H"]
["",null,null,null,"  ",null,null,null,null,null,null,null,null,null,null,null,", ",null,null,null,null,null,"  ",null,null,null,null,null,null,"N/A","N/A","ƏMƏK HAQQI",null,"008",null," ","AGHJA_H"]
["",null,null,null,"  ",null,null,null,null,null,null,null,null,null,null,null,", ",null,null,null,null,null,"  ",null,null,null,null,null,null,"N/A","N/A","ƏMƏK HAQQI",null,"008",null," ","AGHJA_H"]
["",null,null,null,"  ",null,null,null,null,null,null,null,null,null,null,null,", ",null,null,null,null,null,"  ",null,null,null,null,null,null,"N/A","N/A","ƏMƏK HAQQI",null,"008",null," ","AGHJA_H"]
["",null,null,null,"  ",null,null,null,null,null,null,null,null,null,null,null,", ",null,null,null,null,null,"  ",null,null,null,null,null,null,"N/A","N/A","ƏMƏK HAQQI",null,"008",null," ","AGHJA_H"]
["",null,null,null,"  ",null,null,null,null,null,null,null,null,null,null,null,", ",null,null,null,null,null,"  ",null,null,null,null,null,null,"N/A","N/A","ƏMƏK HAQQI",null,"008",null," ","AGHJA_H"]
["",null,null,null,"  ",null,null,null,null,null,null,null,null,null,null,null,", ",null,null,null,null,null,"  ",null,null,null,null,null,null,"N/A","N/A","ƏMƏK HAQQI",null,"008",null," ","AGHJA_H"]
["",null,null,null,"  ",null,null,null,null,null,null,null,null,null,null,null,", ",null,null,null,null,null,"  ",null,null,null,null,null,null,"N/A","N/A","ƏMƏK HAQQI",null,"008",null," ","AGHJA_H"]
["",null,null,null,"  ",null,null,null,null,null,null,null,null,null,null,null,", ",null,null,null,null,null,"  ",null,null,null,null,null,null,"N/A","N/A","ƏMƏK HAQQI",null,"008",null," ","AGHJA_H"]
["",null,null,null,"  ",null,null,null,null,null,null,null,null,null,null,null,", ",null,null,null,null,null,"  ",null,null,null,null,null,null,"N/A","N/A","ƏMƏK HAQQI",null,"008",null," ","AGHJA_H"]
["",null,null,null,"  ",null,null,null,null,null,null,null,null,null,null,null,", ",null,null,null,null,null,"  ",null,null,null,null,null,null,"N/A","N/A","ƏMƏK HAQQI",null,"008",null," ","AGHJA_H"]
["",null,null,null,"  ",null,null,null,null,null,null,null,null,null,null,null,", ",null,null,null,null,null,"  ",null,null,null,null,null,null,"N/A","N/A","ƏMƏK HAQQI",null,"008",null," ","AGHJA_H"]
["",null,null,null,"  ",null,null,null,null,null,null,null,null,null,null,null,", ",null,null,null,null,null,"  ",null,null,null,null,null,null,"N/A","N/A","ƏMƏK HAQQI",null,"008",null," ","AGHJA_H"]
["",null,null,null,"  ",null,null,null,null,null,null,null,null,null,null,null,", ",null,null,null,null,null,"  ",null,null,null,null,null,null,"N/A","N/A","ƏMƏK HAQQI",null,"008",null," ","AGHJA_H"]
["",null,null,null,"  ",null,null,null,null,null,null,null,null,null,null,null,", ",null,null,null,null,null,"  ",null,null,null,null,null,null,"N/A","N/A","ƏMƏK HAQQI",null,"008",null," ","AGHJA_H"]
["",null,null,null,"  ",null,null,null,null,null,null,null,null,null,null,null,", ",null,null,null,null,null,"  ",null,null,null,null,null,null,"N/A","N/A","ƏMƏK HAQQI",null,"008",null," ","AGHJA_H"]
["",null,null,null,"  ",null,null,null,null,null,null,null,null,null,null,null,", ",null,null,null,null,null,"  ",null,null,null,null,null,null,"N/A","N/A","ƏMƏK HAQQI",null,"008",null," ","AGHJA_H"]
["",null,null,null,"  ",null,null,null,null,null,null,null,null,null,null,null,", ",null,null,null,null,null,"  ",null,null,null,null,null,null,"N/A","N/A","ƏMƏK HAQQI",null,"008",null," ","AGHJA_H"]
["",null,null,null,"  ",null,null,null,null,null,null,null,null,null,null,null,", ",null,null,null,null,null,"  ",null,null,null,null,null,null,"N/A","N/A","ƏMƏK HAQQI",null,"008",null," ","AGHJA_H"]
["",null,null,null,"  ",null,null,null,null,null,null,null,null,null,null,null,", ",null,null,null,null,null,"  ",null,null,null,null,null,null,"N/A","N/A","ƏMƏK HAQQI",null,"008",null," ","AGHJA_H"]
["",null,null,null,"  ",null,null,null,null,null,null,null,null,null,null,null,", ",null,null,null,null,null,"  ",null,null,null,null,null,null,"N/A","N/A","ƏMƏK HAQQI",null,"008",null," ","AGHJA_H"]
["",null,null,null,"  ",null,null,null,null,null,null,null,null,null,null,null,", ",null,null,null,null,null,"  ",null,null,null,null,null,null,"N/A","N/A","ƏMƏK HAQQI",null,"008",null," ","AGHJA_H"]
["",null,null,null,"  ",null,null,null,null,null,null,null,null,null,null,null,", ",null,null,null,null,null,"  ",null,null,null,null,null,null,"N/A","N/A","ƏMƏK HAQQI",null,"008",null," ","AGHJA_H"]
["",null,null,null,"  ",null,null,null,null,null,null,null,null,null,null,null,", ",null,null,null,null,null,"  ",null,null,null,null,null,null,"N/A","N/A","ƏMƏK HAQQI",null,"008",null," ","AGHJA_H"]
["",null,null,null,"  ",null,null,null,null,null,null,null,null,null,null,null,", ",null,null,null,null,null,"  ",null,null,null,null,null,null,"N/A","N/A","ƏMƏK HAQQI",null,"008",null," ","AGHJA_H"]
["",null,null,null,"  ",null,null,null,null,null,null,null,null,null,null,null,", ",null,null,null,null,null,"  ",null,null,null,null,null,null,"N/A","N/A","ƏMƏK HAQQI",null,"008",null,{"$f":"CONCATENATE((SUBSTITUTE(SUBSTITUTE(SUBSTITUTE(SUBSTITUTE(SUBSTITUTE(SUBSTITUTE(SUBSTITUTE(SUBSTITUTE(SUBSTITUTE(SUBSTITUTE(SUBSTITUTE(C2042,\"Ə\",\"A\"),\"J\",\"ZH\"),\"C\",\"J\"),\"Ç\",\"CH\"),\"İ\",\"I\"),\"Ğ\",\"GH\"),\"Ö\",\"O\"),\"Ü\",\"U\"),\"Ş\",\"SH\"),\"Q\",\"G\"),\"X\",\"KH\")),\" \",(SUBSTITUTE(SUBSTITUTE(SUBSTITUTE(SUBSTITUTE(SUBSTITUTE(SUBSTITUTE(SUBSTITUTE(SUBSTITUTE(SUBSTITUTE(SUBSTITUTE(SUBSTITUTE(B2042,\"Ə\",\"A\"),\"J\",\"ZH\"),\"C\",\"J\"),\"Ç\",\"CH\"),\"İ\",\"I\"),\"Ğ\",\"GH\"),\"Ö\",\"O\"),\"Ü\",\"U\"),\"Ş\",\"SH\"),\"Q\",\"G\"),\"X\",\"KH\")))","v":" "},"AGHJA_H"]
["",null,null,null,{"$f":"CONCATENATE((SUBSTITUTE(SUBSTITUTE(SUBSTITUTE(SUBSTITUTE(SUBSTITUTE(SUBSTITUTE(SUBSTITUTE(SUBSTITUTE(SUBSTITUTE(SUBSTITUTE(SUBSTITUTE(C2043,\"Ə\",\"A\"),\"J\",\"ZH\"),\"C\",\"J\"),\"Ç\",\"CH\"),\"İ\",\"I\"),\"Ğ\",\"GH\"),\"Ö\",\"O\"),\"Ü\",\"U\"),\"Ş\",\"SH\"),\"Q\",\"G\"),\"X\",\"KH\")),\" \",(SUBSTITUTE(SUBSTITUTE(SUBSTITUTE(SUBSTITUTE(SUBSTITUTE(SUBSTITUTE(SUBSTITUTE(SUBSTITUTE(SUBSTITUTE(SUBSTITUTE(SUBSTITUTE(B2043,\"Ə\",\"A\"),\"J\",\"ZH\"),\"C\",\"J\"),\"Ç\",\"CH\"),\"İ\",\"I\"),\"Ğ\",\"GH\"),\"Ö\",\"O\"),\"Ü\",\"U\"),\"Ş\",\"SH\"),\"Q\",\"G\"),\"X\",\"KH\")),\" \",(SUBSTITUTE(SUBSTITUTE(SUBSTITUTE(SUBSTITUTE(SUBSTITUTE(SUBSTITUTE(SUBSTITUTE(SUBSTITUTE(SUBSTITUTE(SUBSTITUTE(SUBSTITUTE(SUBSTITUTE(SUBSTITUTE(D2043,\" OĞLU\",\"\"),\" QIZI\",\"\"),\"Ə\",\"A\"),\"J\",\"ZH\"),\"C\",\"J\"),\"Ç\",\"CH\"),\"İ\",\"I\"),\"Ğ\",\"GH\"),\"Ö\",\"O\"),\"Ü\",\"U\"),\"Ş\",\"SH\"),\"Q\",\"G\"),\"X\",\"KH\")))","v":"  "},null,null,null,null,null,null,null,null,null,null,null,{"$f":"CONCATENATE((SUBSTITUTE(SUBSTITUTE(SUBSTITUTE(SUBSTITUTE(SUBSTITUTE(SUBSTITUTE(SUBSTITUTE(SUBSTITUTE(SUBSTITUTE(SUBSTITUTE(SUBSTITUTE(O2043,\"Ə\",\"A\"),\"J\",\"ZH\"),\"C\",\"J\"),\"Ç\",\"CH\"),\"İ\",\"I\"),\"Ğ\",\"GH\"),\"Ö\",\"O\"),\"Ü\",\"U\"),\"Ş\",\"SH\"),\"Q\",\"G\"),\"X\",\"KH\")),\", \",(SUBSTITUTE(SUBSTITUTE(SUBSTITUTE(SUBSTITUTE(SUBSTITUTE(SUBSTITUTE(SUBSTITUTE(SUBSTITUTE(SUBSTITUTE(SUBSTITUTE(SUBSTITUTE(M2043,\"Ə\",\"A\"),\"J\",\"ZH\"),\"C\",\"J\"),\"Ç\",\"CH\"),\"İ\",\"I\"),\"Ğ\",\"GH\"),\"Ö\",\"O\"),\"Ü\",\"U\"),\"Ş\",\"SH\"),\"Q\",\"G\"),\"X\",\"KH\")))","v":", "},null,null,null,null,null,"  ",null,null,null,null,null,null,"N/A","N/A","ƏMƏK HAQQI",null,"008",null," ","AGHJA_H"]
["",null,null,null,"  ",null,null,null,null,null,null,null,null,null,null,null,", ",null,null,null,null,null,"  ",null,null,null,null,null,null,"N/A","N/A","ƏMƏK HAQQI",null,"008",null," ","AGHJA_H"]
["",null,null,null,"  ",null,null,null,null,null,null,null,null,null,null,null,", ",null,null,null,null,null,"  ",null,null,null,null,null,null,"N/A","N/A","ƏMƏK HAQQI",null,"008",null," ","AGHJA_H"]
["",null,null,null,"  ",null,null,null,null,null,null,null,null,null,null,null,", ",null,null,null,null,null,"  ",null,null,null,null,null,null,"N/A","N/A","ƏMƏK HAQQI",null,"008",null," ","AGHJA_H"]
["",null,null,null,"  ",null,null,null,null,null,null,null,null,null,null,null,", ",null,null,null,null,null,"  ",null,null,null,null,null,null,"N/A","N/A","ƏMƏK HAQQI",null,"008",null," ","AGHJA_H"]
["",null,null,null,"  ",null,null,null,null,null,null,null,null,null,null,null,", ",null,null,null,null,null,"  ",null,null,null,null,null,null,"N/A","N/A","ƏMƏK HAQQI",null,"008",null," ","AGHJA_H"]
["",null,null,null,"  ",null,null,null,null,null,null,null,null,null,null,null,", ",null,null,null,null,null,"  ",null,null,null,null,null,null,"N/A","N/A","ƏMƏK HAQQI",null,"008",null," ","AGHJA_H"]
["",null,null,null,"  ",null,null,null,null,null,null,null,null,null,null,null,", ",null,null,null,null,null,"  ",null,null,null,null,null,null,"N/A","N/A","ƏMƏK HAQQI",null,"008",null," ","AGHJA_H"]
["",null,null,null,"  ",null,null,null,null,null,null,null,null,null,null,null,", ",null,null,null,null,null,"  ",null,null,null,null,null,null,"N/A","N/A","ƏMƏK HAQQI",null,"008",null," ","AGHJA_H"]
["",null,null,null,"  ",null,null,null,null,null,null,null,null,null,null,null,", ",null,null,null,null,null,"  ",null,null,null,null,null,null,"N/A","N/A","ƏMƏK HAQQI",null,"008",null," ","AGHJA_H"]
["",null,null,null,"  ",null,null,null,null,null,null,null,null,null,null,null,", ",null,null,null,null,null,"  ",null,null,null,null,null,null,"N/A","N/A","ƏMƏK HAQQI",null,"008",null," ","AGHJA_H"]
["",null,null,null,"  ",null,null,null,null,null,null,null,null,null,null,null,", ",null,null,null,null,null,"  ",null,null,null,null,null,null,"N/A","N/A","ƏMƏK HAQQI",null,"008",null," ","AGHJA_H"]
["",null,null,null,"  ",null,null,null,null,null,null,null,null,null,null,null,", ",null,null,null,null,null,"  ",null,null,null,null,null,null,"N/A","N/A","ƏMƏK HAQQI",null,"008",null," ","AGHJA_H"]
["",null,null,null,"  ",null,null,null,null,null,null,null,null,null,null,null,", ",null,null,null,null,null,"  ",null,null,null,null,null,null,"N/A","N/A","ƏMƏK HAQQI",null,"008",null," ","AGHJA_H"]
["",null,null,null,"  ",null,null,null,null,null,null,null,null,null,null,null,", ",null,null,null,null,null,"  ",null,null,null,null,null,null,"N/A","N/A","ƏMƏK HAQQI",null,"008",null," ","AGHJA_H"]
["",null,null,null,"  ",null,null,null,null,null,null,null,null,null,null,null,", ",null,null,null,null,null,"  ",null,null,null,null,null,null,"N/A","N/A","ƏMƏK HAQQI",null,"008",null," ","AGHJA_H"]
["",null,null,null,"  ",null,null,null,null,null,null,null,null,null,null,null,", ",null,null,null,null,null,"  ",null,null,null,null,null,null,"N/A","N/A","ƏMƏK HAQQI",null,"008",null," ","AGHJA_H"]
["",null,null,null,"  ",null,null,null,null,null,null,null,null,null,null,null,", ",null,null,null,null,null,"  ",null,null,null,null,null,null,"N/A","N/A","ƏMƏK HAQQI",null,"008",null," ","AGHJA_H"]
["",null,null,null,"  ",null,null,null,null,null,null,null,null,null,null,null,", ",null,null,null,null,null,"  ",null,null,null,null,null,null,"N/A","N/A","ƏMƏK HAQQI",null,"008",null," ","AGHJA_H"]
["",null,null,null,"  ",null,null,null,null,null,null,null,null,null,null,null,", ",null,null,null,null,null,"  ",null,null,null,null,null,null,"N/A","N/A","ƏMƏK HAQQI",null,"008",null," ","AGHJA_H"]
["",null,null,null,"  ",null,null,null,null,null,null,null,null,null,null,null,", ",null,null,null,null,null,"  ",null,null,null,null,null,null,"N/A","N/A","ƏMƏK HAQQI",null,"008",null," ","AGHJA_H"]
["",null,null,null,"  ",null,null,null,null,null,null,null,null,null,null,null,", ",null,null,null,null,null,"  ",null,null,null,null,null,null,"N/A","N/A","ƏMƏK HAQQI",null,"008",null," ","AGHJA_H"]
["",null,null,null,"  ",null,null,null,null,null,null,null,null,null,null,null,", ",null,null,null,null,null,"  ",null,null,null,null,null,null,"N/A","N/A","ƏMƏK HAQQI",null,"008",null," ","AGHJA_H"]
["",null,null,null,"  ",null,null,null,null,null,null,null,null,null,null,null,", ",null,null,null,null,null,"  ",null,null,null,null,null,null,"N/A","N/A","ƏMƏK HAQQI",null,"008",null," ","AGHJA_H"]
["",null,null,null,"  ",null,null,null,null,null,null,null,null,null,null,null,", ",null,null,null,null,null,"  ",null,null,null,null,null,null,"N/A","N/A","ƏMƏK HAQQI",null,"008",null," ","AGHJA_H"]
["",null,null,null,"  ",null,null,null,null,null,null,null,null,null,null,null,", ",null,null,null,null,null,"  ",null,null,null,null,null,null,"N/A","N/A","ƏMƏK HAQQI",null,"008",null," ","AGHJA_H"]
["",null,null,null,"  ",null,null,null,null,null,null,null,null,null,null,null,", ",null,null,null,null,null,"  ",null,null,null,null,null,null,"N/A","N/A","ƏMƏK HAQQI",null,"008",null," ","AGHJA_H"]
["",null,null,null,"  ",null,null,null,null,null,null,null,null,null,null,null,", ",null,null,null,null,null,"  ",null,null,null,null,null,null,"N/A","N/A","ƏMƏK HAQQI",null,"008",null," ","AGHJA_H"]
["",null,null,null,"  ",null,null,null,null,null,null,null,null,null,null,null,", ",null,null,null,null,null,"  ",null,null,null,null,null,null,"N/A","N/A","ƏMƏK HAQQI",null,"008",null," ","AGHJA_H"]
["",null,null,null,"  ",null,null,null,null,null,null,null,null,null,null,null,", ",null,null,null,null,null,"  ",null,null,null,null,null,null,"N/A","N/A","ƏMƏK HAQQI",null,"008",null," ","AGHJA_H"]
["",null,null,null,"  ",null,null,null,null,null,null,null,null,null,null,null,", ",null,null,null,null,null,"  ",null,null,null,null,null,null,"N/A","N/A","ƏMƏK HAQQI",null,"008",null," ","AGHJA_H"]
["",null,null,null,"  ",null,null,null,null,null,null,null,null,null,null,null,", ",null,null,null,null,null,"  ",null,null,null,null,null,null,"N/A","N/A","ƏMƏK HAQQI",null,"008",null,{"$f":"CONCATENATE((SUBSTITUTE(SUBSTITUTE(SUBSTITUTE(SUBSTITUTE(SUBSTITUTE(SUBSTITUTE(SUBSTITUTE(SUBSTITUTE(SUBSTITUTE(SUBSTITUTE(SUBSTITUTE(C2106,\"Ə\",\"A\"),\"J\",\"ZH\"),\"C\",\"J\"),\"Ç\",\"CH\"),\"İ\",\"I\"),\"Ğ\",\"GH\"),\"Ö\",\"O\"),\"Ü\",\"U\"),\"Ş\",\"SH\"),\"Q\",\"G\"),\"X\",\"KH\")),\" \",(SUBSTITUTE(SUBSTITUTE(SUBSTITUTE(SUBSTITUTE(SUBSTITUTE(SUBSTITUTE(SUBSTITUTE(SUBSTITUTE(SUBSTITUTE(SUBSTITUTE(SUBSTITUTE(B2106,\"Ə\",\"A\"),\"J\",\"ZH\"),\"C\",\"J\"),\"Ç\",\"CH\"),\"İ\",\"I\"),\"Ğ\",\"GH\"),\"Ö\",\"O\"),\"Ü\",\"U\"),\"Ş\",\"SH\"),\"Q\",\"G\"),\"X\",\"KH\")))","v":" "},"AGHJA_H"]
["",null,null,null,{"$f":"CONCATENATE((SUBSTITUTE(SUBSTITUTE(SUBSTITUTE(SUBSTITUTE(SUBSTITUTE(SUBSTITUTE(SUBSTITUTE(SUBSTITUTE(SUBSTITUTE(SUBSTITUTE(SUBSTITUTE(C2107,\"Ə\",\"A\"),\"J\",\"ZH\"),\"C\",\"J\"),\"Ç\",\"CH\"),\"İ\",\"I\"),\"Ğ\",\"GH\"),\"Ö\",\"O\"),\"Ü\",\"U\"),\"Ş\",\"SH\"),\"Q\",\"G\"),\"X\",\"KH\")),\" \",(SUBSTITUTE(SUBSTITUTE(SUBSTITUTE(SUBSTITUTE(SUBSTITUTE(SUBSTITUTE(SUBSTITUTE(SUBSTITUTE(SUBSTITUTE(SUBSTITUTE(SUBSTITUTE(B2107,\"Ə\",\"A\"),\"J\",\"ZH\"),\"C\",\"J\"),\"Ç\",\"CH\"),\"İ\",\"I\"),\"Ğ\",\"GH\"),\"Ö\",\"O\"),\"Ü\",\"U\"),\"Ş\",\"SH\"),\"Q\",\"G\"),\"X\",\"KH\")),\" \",(SUBSTITUTE(SUBSTITUTE(SUBSTITUTE(SUBSTITUTE(SUBSTITUTE(SUBSTITUTE(SUBSTITUTE(SUBSTITUTE(SUBSTITUTE(SUBSTITUTE(SUBSTITUTE(SUBSTITUTE(SUBSTITUTE(D2107,\" OĞLU\",\"\"),\" QIZI\",\"\"),\"Ə\",\"A\"),\"J\",\"ZH\"),\"C\",\"J\"),\"Ç\",\"CH\"),\"İ\",\"I\"),\"Ğ\",\"GH\"),\"Ö\",\"O\"),\"Ü\",\"U\"),\"Ş\",\"SH\"),\"Q\",\"G\"),\"X\",\"KH\")))","v":"  "},null,null,null,null,null,null,null,null,null,null,null,{"$f":"CONCATENATE((SUBSTITUTE(SUBSTITUTE(SUBSTITUTE(SUBSTITUTE(SUBSTITUTE(SUBSTITUTE(SUBSTITUTE(SUBSTITUTE(SUBSTITUTE(SUBSTITUTE(SUBSTITUTE(O2107,\"Ə\",\"A\"),\"J\",\"ZH\"),\"C\",\"J\"),\"Ç\",\"CH\"),\"İ\",\"I\"),\"Ğ\",\"GH\"),\"Ö\",\"O\"),\"Ü\",\"U\"),\"Ş\",\"SH\"),\"Q\",\"G\"),\"X\",\"KH\")),\", \",(SUBSTITUTE(SUBSTITUTE(SUBSTITUTE(SUBSTITUTE(SUBSTITUTE(SUBSTITUTE(SUBSTITUTE(SUBSTITUTE(SUBSTITUTE(SUBSTITUTE(SUBSTITUTE(M2107,\"Ə\",\"A\"),\"J\",\"ZH\"),\"C\",\"J\"),\"Ç\",\"CH\"),\"İ\",\"I\"),\"Ğ\",\"GH\"),\"Ö\",\"O\"),\"Ü\",\"U\"),\"Ş\",\"SH\"),\"Q\",\"G\"),\"X\",\"KH\")))","v":", "},null,null,null,null,null,"  ",null,null,null,null,null,null,"N/A","N/A","ƏMƏK HAQQI",null,"008",null," ","AGHJA_H"]
["",null,null,null,"  ",null,null,null,null,null,null,null,null,null,null,null,", ",null,null,null,null,null,"  ",null,null,null,null,null,null,"N/A","N/A","ƏMƏK HAQQI",null,"008",null," ","AGHJA_H"]
["",null,null,null,"  ",null,null,null,null,null,null,null,null,null,null,null,", ",null,null,null,null,null,"  ",null,null,null,null,null,null,"N/A","N/A","ƏMƏK HAQQI",null,"008",null," ","AGHJA_H"]
["",null,null,null,"  ",null,null,null,null,null,null,null,null,null,null,null,", ",null,null,null,null,null,"  ",null,null,null,null,null,null,"N/A","N/A","ƏMƏK HAQQI",null,"008",null," ","AGHJA_H"]
["",null,null,null,"  ",null,null,null,null,null,null,null,null,null,null,null,", ",null,null,null,null,null,"  ",null,null,null,null,null,null,"N/A","N/A","ƏMƏK HAQQI",null,"008",null," ","AGHJA_H"]
["",null,null,null,"  ",null,null,null,null,null,null,null,null,null,null,null,", ",null,null,null,null,null,"  ",null,null,null,null,null,null,"N/A","N/A","ƏMƏK HAQQI",null,"008",null," ","AGHJA_H"]
["",null,null,null,"  ",null,null,null,null,null,null,null,null,null,null,null,", ",null,null,null,null,null,"  ",null,null,null,null,null,null,"N/A","N/A","ƏMƏK HAQQI",null,"008",null," ","AGHJA_H"]
["",null,null,null,"  ",null,null,null,null,null,null,null,null,null,null,null,", ",null,null,null,null,null,"  ",null,null,null,null,null,null,"N/A","N/A","ƏMƏK HAQQI",null,"008",null," ","AGHJA_H"]
["",null,null,null,"  ",null,null,null,null,null,null,null,null,null,null,null,", ",null,null,null,null,null,"  ",null,null,null,null,null,null,"N/A","N/A","ƏMƏK HAQQI",null,"008",null," ","AGHJA_H"]
["",null,null,null,"  ",null,null,null,null,null,null,null,null,null,null,null,", ",null,null,null,null,null,"  ",null,null,null,null,null,null,"N/A","N/A","ƏMƏK HAQQI",null,"008",null," ","AGHJA_H"]
["",null,null,null,"  ",null,null,null,null,null,null,null,null,null,null,null,", ",null,null,null,null,null,"  ",null,null,null,null,null,null,"N/A","N/A","ƏMƏK HAQQI",null,"008",null," ","AGHJA_H"]
["",null,null,null,"  ",null,null,null,null,null,null,null,null,null,null,null,", ",null,null,null,null,null,"  ",null,null,null,null,null,null,"N/A","N/A","ƏMƏK HAQQI",null,"008",null," ","AGHJA_H"]
["",null,null,null,"  ",null,null,null,null,null,null,null,null,null,null,null,", ",null,null,null,null,null,"  ",null,null,null,null,null,null,"N/A","N/A","ƏMƏK HAQQI",null,"008",null," ","AGHJA_H"]
["",null,null,null,"  ",null,null,null,null,null,null,null,null,null,null,null,", ",null,null,null,null,null,"  ",null,null,null,null,null,null,"N/A","N/A","ƏMƏK HAQQI",null,"008",null," ","AGHJA_H"]
["",null,null,null,"  ",null,null,null,null,null,null,null,null,null,null,null,", ",null,null,null,null,null,"  ",null,null,null,null,null,null,"N/A","N/A","ƏMƏK HAQQI",null,"008",null," ","AGHJA_H"]
["",null,null,null,"  ",null,null,null,null,null,null,null,null,null,null,null,", ",null,null,null,null,null,"  ",null,null,null,null,null,null,"N/A","N/A","ƏMƏK HAQQI",null,"008",null," ","AGHJA_H"]
["",null,null,null,"  ",null,null,null,null,null,null,null,null,null,null,null,", ",null,null,null,null,null,"  ",null,null,null,null,null,null,"N/A","N/A","ƏMƏK HAQQI",null,"008",null," ","AGHJA_H"]
["",null,null,null,"  ",null,null,null,null,null,null,null,null,null,null,null,", ",null,null,null,null,null,"  ",null,null,null,null,null,null,"N/A","N/A","ƏMƏK HAQQI",null,"008",null," ","AGHJA_H"]
["",null,null,null,"  ",null,null,null,null,null,null,null,null,null,null,null,", ",null,null,null,null,null,"  ",null,null,null,null,null,null,"N/A","N/A","ƏMƏK HAQQI",null,"008",null," ","AGHJA_H"]
["",null,null,null,"  ",null,null,null,null,null,null,null,null,null,null,null,", ",null,null,null,null,null,"  ",null,null,null,null,null,null,"N/A","N/A","ƏMƏK HAQQI",null,"008",null," ","AGHJA_H"]
["",null,null,null,"  ",null,null,null,null,null,null,null,null,null,null,null,", ",null,null,null,null,null,"  ",null,null,null,null,null,null,"N/A","N/A","ƏMƏK HAQQI",null,"008",null," ","AGHJA_H"]
["",null,null,null,"  ",null,null,null,null,null,null,null,null,null,null,null,", ",null,null,null,null,null,"  ",null,null,null,null,null,null,"N/A","N/A","ƏMƏK HAQQI",null,"008",null," ","AGHJA_H"]
["",null,null,null,"  ",null,null,null,null,null,null,null,null,null,null,null,", ",null,null,null,null,null,"  ",null,null,null,null,null,null,"N/A","N/A","ƏMƏK HAQQI",null,"008",null," ","AGHJA_H"]
["",null,null,null,"  ",null,null,null,null,null,null,null,null,null,null,null,", ",null,null,null,null,null,"  ",null,null,null,null,null,null,"N/A","N/A","ƏMƏK HAQQI",null,"008",null," ","AGHJA_H"]
["",null,null,null,"  ",null,null,null,null,null,null,null,null,null,null,null,", ",null,null,null,null,null,"  ",null,null,null,null,null,null,"N/A","N/A","ƏMƏK HAQQI",null,"008",null," ","AGHJA_H"]
["",null,null,null,"  ",null,null,null,null,null,null,null,null,null,null,null,", ",null,null,null,null,null,"  ",null,null,null,null,null,null,"N/A","N/A","ƏMƏK HAQQI",null,"008",null," ","AGHJA_H"]
["",null,null,null,"  ",null,null,null,null,null,null,null,null,null,null,null,", ",null,null,null,null,null,"  ",null,null,null,null,null,null,"N/A","N/A","ƏMƏK HAQQI",null,"008",null," ","AGHJA_H"]
["",null,null,null,"  ",null,null,null,null,null,null,null,null,null,null,null,", ",null,null,null,null,null,"  ",null,null,null,null,null,null,"N/A","N/A","ƏMƏK HAQQI",null,"008",null," ","AGHJA_H"]
["",null,null,null,"  ",null,null,null,null,null,null,null,null,null,null,null,", ",null,null,null,null,null,"  ",null,null,null,null,null,null,"N/A","N/A","ƏMƏK HAQQI",null,"008",null," ","AGHJA_H"]
["",null,null,null,"  ",null,null,null,null,null,null,null,null,null,null,null,", ",null,null,null,null,null,"  ",null,null,null,null,null,null,"N/A","N/A","ƏMƏK HAQQI",null,"008",null," ","AGHJA_H"]
["",null,null,null,"  ",null,null,null,null,null,null,null,null,null,null,null,", ",null,null,null,null,null,"  ",null,null,null,null,null,null,"N/A","N/A","ƏMƏK HAQQI",null,"008",null," ","AGHJA_H"]
["",null,null,null,"  ",null,null,null,null,null,null,null,null,null,null,null,", ",null,null,null,null,null,"  ",null,null,null,null,null,null,"N/A","N/A","ƏMƏK HAQQI",null,"008",null,{"$f":"CONCATENATE((SUBSTITUTE(SUBSTITUTE(SUBSTITUTE(SUBSTITUTE(SUBSTITUTE(SUBSTITUTE(SUBSTITUTE(SUBSTITUTE(SUBSTITUTE(SUBSTITUTE(SUBSTITUTE(C2170,\"Ə\",\"A\"),\"J\",\"ZH\"),\"C\",\"J\"),\"Ç\",\"CH\"),\"İ\",\"I\"),\"Ğ\",\"GH\"),\"Ö\",\"O\"),\"Ü\",\"U\"),\"Ş\",\"SH\"),\"Q\",\"G\"),\"X\",\"KH\")),\" \",(SUBSTITUTE(SUBSTITUTE(SUBSTITUTE(SUBSTITUTE(SUBSTITUTE(SUBSTITUTE(SUBSTITUTE(SUBSTITUTE(SUBSTITUTE(SUBSTITUTE(SUBSTITUTE(B2170,\"Ə\",\"A\"),\"J\",\"ZH\"),\"C\",\"J\"),\"Ç\",\"CH\"),\"İ\",\"I\"),\"Ğ\",\"GH\"),\"Ö\",\"O\"),\"Ü\",\"U\"),\"Ş\",\"SH\"),\"Q\",\"G\"),\"X\",\"KH\")))","v":" "},"AGHJA_H"]
["",null,null,null,{"$f":"CONCATENATE((SUBSTITUTE(SUBSTITUTE(SUBSTITUTE(SUBSTITUTE(SUBSTITUTE(SUBSTITUTE(SUBSTITUTE(SUBSTITUTE(SUBSTITUTE(SUBSTITUTE(SUBSTITUTE(C2171,\"Ə\",\"A\"),\"J\",\"ZH\"),\"C\",\"J\"),\"Ç\",\"CH\"),\"İ\",\"I\"),\"Ğ\",\"GH\"),\"Ö\",\"O\"),\"Ü\",\"U\"),\"Ş\",\"SH\"),\"Q\",\"G\"),\"X\",\"KH\")),\" \",(SUBSTITUTE(SUBSTITUTE(SUBSTITUTE(SUBSTITUTE(SUBSTITUTE(SUBSTITUTE(SUBSTITUTE(SUBSTITUTE(SUBSTITUTE(SUBSTITUTE(SUBSTITUTE(B2171,\"Ə\",\"A\"),\"J\",\"ZH\"),\"C\",\"J\"),\"Ç\",\"CH\"),\"İ\",\"I\"),\"Ğ\",\"GH\"),\"Ö\",\"O\"),\"Ü\",\"U\"),\"Ş\",\"SH\"),\"Q\",\"G\"),\"X\",\"KH\")),\" \",(SUBSTITUTE(SUBSTITUTE(SUBSTITUTE(SUBSTITUTE(SUBSTITUTE(SUBSTITUTE(SUBSTITUTE(SUBSTITUTE(SUBSTITUTE(SUBSTITUTE(SUBSTITUTE(SUBSTITUTE(SUBSTITUTE(D2171,\" OĞLU\",\"\"),\" QIZI\",\"\"),\"Ə\",\"A\"),\"J\",\"ZH\"),\"C\",\"J\"),\"Ç\",\"CH\"),\"İ\",\"I\"),\"Ğ\",\"GH\"),\"Ö\",\"O\"),\"Ü\",\"U\"),\"Ş\",\"SH\"),\"Q\",\"G\"),\"X\",\"KH\")))","v":"  "},null,null,null,null,null,null,null,null,null,null,null,{"$f":"CONCATENATE((SUBSTITUTE(SUBSTITUTE(SUBSTITUTE(SUBSTITUTE(SUBSTITUTE(SUBSTITUTE(SUBSTITUTE(SUBSTITUTE(SUBSTITUTE(SUBSTITUTE(SUBSTITUTE(O2171,\"Ə\",\"A\"),\"J\",\"ZH\"),\"C\",\"J\"),\"Ç\",\"CH\"),\"İ\",\"I\"),\"Ğ\",\"GH\"),\"Ö\",\"O\"),\"Ü\",\"U\"),\"Ş\",\"SH\"),\"Q\",\"G\"),\"X\",\"KH\")),\", \",(SUBSTITUTE(SUBSTITUTE(SUBSTITUTE(SUBSTITUTE(SUBSTITUTE(SUBSTITUTE(SUBSTITUTE(SUBSTITUTE(SUBSTITUTE(SUBSTITUTE(SUBSTITUTE(M2171,\"Ə\",\"A\"),\"J\",\"ZH\"),\"C\",\"J\"),\"Ç\",\"CH\"),\"İ\",\"I\"),\"Ğ\",\"GH\"),\"Ö\",\"O\"),\"Ü\",\"U\"),\"Ş\",\"SH\"),\"Q\",\"G\"),\"X\",\"KH\")))","v":", "},null,null,null,null,null,"  ",null,null,null,null,null,null,"N/A","N/A","ƏMƏK HAQQI",null,"008",null," ","AGHJA_H"]
["",null,null,null,"  ",null,null,null,null,null,null,null,null,null,null,null,", ",null,null,null,null,null,"  ",null,null,null,null,null,null,"N/A","N/A","ƏMƏK HAQQI",null,"008",null," ","AGHJA_H"]
["",null,null,null,"  ",null,null,null,null,null,null,null,null,null,null,null,", ",null,null,null,null,null,"  ",null,null,null,null,null,null,"N/A","N/A","ƏMƏK HAQQI",null,"008",null," ","AGHJA_H"]
["",null,null,null,"  ",null,null,null,null,null,null,null,null,null,null,null,", ",null,null,null,null,null,"  ",null,null,null,null,null,null,"N/A","N/A","ƏMƏK HAQQI",null,"008",null," ","AGHJA_H"]
["",null,null,null,"  ",null,null,null,null,null,null,null,null,null,null,null,", ",null,null,null,null,null,"  ",null,null,null,null,null,null,"N/A","N/A","ƏMƏK HAQQI",null,"008",null," ","AGHJA_H"]
["",null,null,null,"  ",null,null,null,null,null,null,null,null,null,null,null,", ",null,null,null,null,null,"  ",null,null,null,null,null,null,"N/A","N/A","ƏMƏK HAQQI",null,"008",null," ","AGHJA_H"]
["",null,null,null,"  ",null,null,null,null,null,null,null,null,null,null,null,", ",null,null,null,null,null,"  ",null,null,null,null,null,null,"N/A","N/A","ƏMƏK HAQQI",null,"008",null," ","AGHJA_H"]
["",null,null,null,"  ",null,null,null,null,null,null,null,null,null,null,null,", ",null,null,null,null,null,"  ",null,null,null,null,null,null,"N/A","N/A","ƏMƏK HAQQI",null,"008",null," ","AGHJA_H"]
["",null,null,null,"  ",null,null,null,null,null,null,null,null,null,null,null,", ",null,null,null,null,null,"  ",null,null,null,null,null,null,"N/A","N/A","ƏMƏK HAQQI",null,"008",null," ","AGHJA_H"]
["",null,null,null,"  ",null,null,null,null,null,null,null,null,null,null,null,", ",null,null,null,null,null,"  ",null,null,null,null,null,null,"N/A","N/A","ƏMƏK HAQQI",null,"008",null," ","AGHJA_H"]
["",null,null,null,"  ",null,null,null,null,null,null,null,null,null,null,null,", ",null,null,null,null,null,"  ",null,null,null,null,null,null,"N/A","N/A","ƏMƏK HAQQI",null,"008",null," ","AGHJA_H"]
["",null,null,null,"  ",null,null,null,null,null,null,null,null,null,null,null,", ",null,null,null,null,null,"  ",null,null,null,null,null,null,"N/A","N/A","ƏMƏK HAQQI",null,"008",null," ","AGHJA_H"]
["",null,null,null,"  ",null,null,null,null,null,null,null,null,null,null,null,", ",null,null,null,null,null,"  ",null,null,null,null,null,null,"N/A","N/A","ƏMƏK HAQQI",null,"008",null," ","AGHJA_H"]
["",null,null,null,"  ",null,null,null,null,null,null,null,null,null,null,null,", ",null,null,null,null,null,"  ",null,null,null,null,null,null,"N/A","N/A","ƏMƏK HAQQI",null,"008",null," ","AGHJA_H"]
["",null,null,null,"  ",null,null,null,null,null,null,null,null,null,null,null,", ",null,null,null,null,null,"  ",null,null,null,null,null,null,"N/A","N/A","ƏMƏK HAQQI",null,"008",null," ","AGHJA_H"]
["",null,null,null,"  ",null,null,null,null,null,null,null,null,null,null,null,", ",null,null,null,null,null,"  ",null,null,null,null,null,null,"N/A","N/A","ƏMƏK HAQQI",null,"008",null," ","AGHJA_H"]
["",null,null,null,"  ",null,null,null,null,null,null,null,null,null,null,null,", ",null,null,null,null,null,"  ",null,null,null,null,null,null,"N/A","N/A","ƏMƏK HAQQI",null,"008",null," ","AGHJA_H"]
["",null,null,null,"  ",null,null,null,null,null,null,null,null,null,null,null,", ",null,null,null,null,null,"  ",null,null,null,null,null,null,"N/A","N/A","ƏMƏK HAQQI",null,"008",null," ","AGHJA_H"]
["",null,null,null,"  ",null,null,null,null,null,null,null,null,null,null,null,", ",null,null,null,null,null,"  ",null,null,null,null,null,null,"N/A","N/A","ƏMƏK HAQQI",null,"008",null," ","AGHJA_H"]
["",null,null,null,"  ",null,null,null,null,null,null,null,null,null,null,null,", ",null,null,null,null,null,"  ",null,null,null,null,null,null,"N/A","N/A","ƏMƏK HAQQI",null,"008",null," ","AGHJA_H"]
["",null,null,null,"  ",null,null,null,null,null,null,null,null,null,null,null,", ",null,null,null,null,null,"  ",null,null,null,null,null,null,"N/A","N/A","ƏMƏK HAQQI",null,"008",null," ","AGHJA_H"]
["",null,null,null,"  ",null,null,null,null,null,null,null,null,null,null,null,", ",null,null,null,null,null,"  ",null,null,null,null,null,null,"N/A","N/A","ƏMƏK HAQQI",null,"008",null," ","AGHJA_H"]
["",null,null,null,"  ",null,null,null,null,null,null,null,null,null,null,null,", ",null,null,null,null,null,"  ",null,null,null,null,null,null,"N/A","N/A","ƏMƏK HAQQI",null,"008",null," ","AGHJA_H"]
["",null,null,null,"  ",null,null,null,null,null,null,null,null,null,null,null,", ",null,null,null,null,null,"  ",null,null,null,null,null,null,"N/A","N/A","ƏMƏK HAQQI",null,"008",null," ","AGHJA_H"]
["",null,null,null,"  ",null,null,null,null,null,null,null,null,null,null,null,", ",null,null,null,null,null,"  ",null,null,null,null,null,null,"N/A","N/A","ƏMƏK HAQQI",null,"008",null," ","AGHJA_H"]
["",null,null,null,"  ",null,null,null,null,null,null,null,null,null,null,null,", ",null,null,null,null,null,"  ",null,null,null,null,null,null,"N/A","N/A","ƏMƏK HAQQI",null,"008",null," ","AGHJA_H"]
["",null,null,null,"  ",null,null,null,null,null,null,null,null,null,null,null,", ",null,null,null,null,null,"  ",null,null,null,null,null,null,"N/A","N/A","ƏMƏK HAQQI",null,"008",null," ","AGHJA_H"]
["",null,null,null,"  ",null,null,null,null,null,null,null,null,null,null,null,", ",null,null,null,null,null,"  ",null,null,null,null,null,null,"N/A","N/A","ƏMƏK HAQQI",null,"008",null," ","AGHJA_H"]
["",null,null,null,"  ",null,null,null,null,null,null,null,null,null,null,null,", ",null,null,null,null,null,"  ",null,null,null,null,null,null,"N/A","N/A","ƏMƏK HAQQI",null,"008",null," ","AGHJA_H"]
["",null,null,null,"  ",null,null,null,null,null,null,null,null,null,null,null,", ",null,null,null,null,null,"  ",null,null,null,null,null,null,"N/A","N/A","ƏMƏK HAQQI",null,"008",null," ","AGHJA_H"]
["",null,null,null,"  ",null,null,null,null,null,null,null,null,null,null,null,", ",null,null,null,null,null,"  ",null,null,null,null,null,null,"N/A","N/A","ƏMƏK HAQQI",null,"008",null," ","AGHJA_H"]
["",null,null,null,"  ",null,null,null,null,null,null,null,null,null,null,null,", ",null,null,null,null,null,"  ",null,null,null,null,null,null,"N/A","N/A","ƏMƏK HAQQI",null,"008",null,{"$f":"CONCATENATE((SUBSTITUTE(SUBSTITUTE(SUBSTITUTE(SUBSTITUTE(SUBSTITUTE(SUBSTITUTE(SUBSTITUTE(SUBSTITUTE(SUBSTITUTE(SUBSTITUTE(SUBSTITUTE(C2234,\"Ə\",\"A\"),\"J\",\"ZH\"),\"C\",\"J\"),\"Ç\",\"CH\"),\"İ\",\"I\"),\"Ğ\",\"GH\"),\"Ö\",\"O\"),\"Ü\",\"U\"),\"Ş\",\"SH\"),\"Q\",\"G\"),\"X\",\"KH\")),\" \",(SUBSTITUTE(SUBSTITUTE(SUBSTITUTE(SUBSTITUTE(SUBSTITUTE(SUBSTITUTE(SUBSTITUTE(SUBSTITUTE(SUBSTITUTE(SUBSTITUTE(SUBSTITUTE(B2234,\"Ə\",\"A\"),\"J\",\"ZH\"),\"C\",\"J\"),\"Ç\",\"CH\"),\"İ\",\"I\"),\"Ğ\",\"GH\"),\"Ö\",\"O\"),\"Ü\",\"U\"),\"Ş\",\"SH\"),\"Q\",\"G\"),\"X\",\"KH\")))","v":" "},"AGHJA_H"]
["",null,null,null,{"$f":"CONCATENATE((SUBSTITUTE(SUBSTITUTE(SUBSTITUTE(SUBSTITUTE(SUBSTITUTE(SUBSTITUTE(SUBSTITUTE(SUBSTITUTE(SUBSTITUTE(SUBSTITUTE(SUBSTITUTE(C2235,\"Ə\",\"A\"),\"J\",\"ZH\"),\"C\",\"J\"),\"Ç\",\"CH\"),\"İ\",\"I\"),\"Ğ\",\"GH\"),\"Ö\",\"O\"),\"Ü\",\"U\"),\"Ş\",\"SH\"),\"Q\",\"G\"),\"X\",\"KH\")),\" \",(SUBSTITUTE(SUBSTITUTE(SUBSTITUTE(SUBSTITUTE(SUBSTITUTE(SUBSTITUTE(SUBSTITUTE(SUBSTITUTE(SUBSTITUTE(SUBSTITUTE(SUBSTITUTE(B2235,\"Ə\",\"A\"),\"J\",\"ZH\"),\"C\",\"J\"),\"Ç\",\"CH\"),\"İ\",\"I\"),\"Ğ\",\"GH\"),\"Ö\",\"O\"),\"Ü\",\"U\"),\"Ş\",\"SH\"),\"Q\",\"G\"),\"X\",\"KH\")),\" \",(SUBSTITUTE(SUBSTITUTE(SUBSTITUTE(SUBSTITUTE(SUBSTITUTE(SUBSTITUTE(SUBSTITUTE(SUBSTITUTE(SUBSTITUTE(SUBSTITUTE(SUBSTITUTE(SUBSTITUTE(SUBSTITUTE(D2235,\" OĞLU\",\"\"),\" QIZI\",\"\"),\"Ə\",\"A\"),\"J\",\"ZH\"),\"C\",\"J\"),\"Ç\",\"CH\"),\"İ\",\"I\"),\"Ğ\",\"GH\"),\"Ö\",\"O\"),\"Ü\",\"U\"),\"Ş\",\"SH\"),\"Q\",\"G\"),\"X\",\"KH\")))","v":"  "},null,null,null,null,null,null,null,null,null,null,null,{"$f":"CONCATENATE((SUBSTITUTE(SUBSTITUTE(SUBSTITUTE(SUBSTITUTE(SUBSTITUTE(SUBSTITUTE(SUBSTITUTE(SUBSTITUTE(SUBSTITUTE(SUBSTITUTE(SUBSTITUTE(O2235,\"Ə\",\"A\"),\"J\",\"ZH\"),\"C\",\"J\"),\"Ç\",\"CH\"),\"İ\",\"I\"),\"Ğ\",\"GH\"),\"Ö\",\"O\"),\"Ü\",\"U\"),\"Ş\",\"SH\"),\"Q\",\"G\"),\"X\",\"KH\")),\", \",(SUBSTITUTE(SUBSTITUTE(SUBSTITUTE(SUBSTITUTE(SUBSTITUTE(SUBSTITUTE(SUBSTITUTE(SUBSTITUTE(SUBSTITUTE(SUBSTITUTE(SUBSTITUTE(M2235,\"Ə\",\"A\"),\"J\",\"ZH\"),\"C\",\"J\"),\"Ç\",\"CH\"),\"İ\",\"I\"),\"Ğ\",\"GH\"),\"Ö\",\"O\"),\"Ü\",\"U\"),\"Ş\",\"SH\"),\"Q\",\"G\"),\"X\",\"KH\")))","v":", "},null,null,null,null,null,"  ",null,null,null,null,null,null,"N/A","N/A","ƏMƏK HAQQI",null,"008",null," ","AGHJA_H"]
["",null,null,null,"  ",null,null,null,null,null,null,null,null,null,null,null,", ",null,null,null,null,null,"  ",null,null,null,null,null,null,"N/A","N/A","ƏMƏK HAQQI",null,"008",null," ","AGHJA_H"]
["",null,null,null,"  ",null,null,null,null,null,null,null,null,null,null,null,", ",null,null,null,null,null,"  ",null,null,null,null,null,null,"N/A","N/A","ƏMƏK HAQQI",null,"008",null," ","AGHJA_H"]
["",null,null,null,"  ",null,null,null,null,null,null,null,null,null,null,null,", ",null,null,null,null,null,"  ",null,null,null,null,null,null,"N/A","N/A","ƏMƏK HAQQI",null,"008",null," ","AGHJA_H"]
["",null,null,null,"  ",null,null,null,null,null,null,null,null,null,null,null,", ",null,null,null,null,null,"  ",null,null,null,null,null,null,"N/A","N/A","ƏMƏK HAQQI",null,"008",null," ","AGHJA_H"]
["",null,null,null,"  ",null,null,null,null,null,null,null,null,null,null,null,", ",null,null,null,null,null,"  ",null,null,null,null,null,null,"N/A","N/A","ƏMƏK HAQQI",null,"008",null," ","AGHJA_H"]
["",null,null,null,"  ",null,null,null,null,null,null,null,null,null,null,null,", ",null,null,null,null,null,"  ",null,null,null,null,null,null,"N/A","N/A","ƏMƏK HAQQI",null,"008",null," ","AGHJA_H"]
["",null,null,null,"  ",null,null,null,null,null,null,null,null,null,null,null,", ",null,null,null,null,null,"  ",null,null,null,null,null,null,"N/A","N/A","ƏMƏK HAQQI",null,"008",null," ","AGHJA_H"]
["",null,null,null,"  ",null,null,null,null,null,null,null,null,null,null,null,", ",null,null,null,null,null,"  ",null,null,null,null,null,null,"N/A","N/A","ƏMƏK HAQQI",null,"008",null," ","AGHJA_H"]
["",null,null,null,"  ",null,null,null,null,null,null,null,null,null,null,null,", ",null,null,null,null,null,"  ",null,null,null,null,null,null,"N/A","N/A","ƏMƏK HAQQI",null,"008",null," ","AGHJA_H"]
["",null,null,null,"  ",null,null,null,null,null,null,null,null,null,null,null,", ",null,null,null,null,null,"  ",null,null,null,null,null,null,"N/A","N/A","ƏMƏK HAQQI",null,"008",null," ","AGHJA_H"]
["",null,null,null,"  ",null,null,null,null,null,null,null,null,null,null,null,", ",null,null,null,null,null,"  ",null,null,null,null,null,null,"N/A","N/A","ƏMƏK HAQQI",null,"008",null," ","AGHJA_H"]
["",null,null,null,"  ",null,null,null,null,null,null,null,null,null,null,null,", ",null,null,null,null,null,"  ",null,null,null,null,null,null,"N/A","N/A","ƏMƏK HAQQI",null,"008",null," ","AGHJA_H"]
["",null,null,null,"  ",null,null,null,null,null,null,null,null,null,null,null,", ",null,null,null,null,null,"  ",null,null,null,null,null,null,"N/A","N/A","ƏMƏK HAQQI",null,"008",null," ","AGHJA_H"]
["",null,null,null,"  ",null,null,null,null,null,null,null,null,null,null,null,", ",null,null,null,null,null,"  ",null,null,null,null,null,null,"N/A","N/A","ƏMƏK HAQQI",null,"008",null," ","AGHJA_H"]
["",null,null,null,"  ",null,null,null,null,null,null,null,null,null,null,null,", ",null,null,null,null,null,"  ",null,null,null,null,null,null,"N/A","N/A","ƏMƏK HAQQI",null,"008",null," ","AGHJA_H"]
["",null,null,null,"  ",null,null,null,null,null,null,null,null,null,null,null,", ",null,null,null,null,null,"  ",null,null,null,null,null,null,"N/A","N/A","ƏMƏK HAQQI",null,"008",null," ","AGHJA_H"]
["",null,null,null,"  ",null,null,null,null,null,null,null,null,null,null,null,", ",null,null,null,null,null,"  ",null,null,null,null,null,null,"N/A","N/A","ƏMƏK HAQQI",null,"008",null," ","AGHJA_H"]
["",null,null,null,"  ",null,null,null,null,null,null,null,null,null,null,null,", ",null,null,null,null,null,"  ",null,null,null,null,null,null,"N/A","N/A","ƏMƏK HAQQI",null,"008",null," ","AGHJA_H"]
["",null,null,null,"  ",null,null,null,null,null,null,null,null,null,null,null,", ",null,null,null,null,null,"  ",null,null,null,null,null,null,"N/A","N/A","ƏMƏK HAQQI",null,"008",null," ","AGHJA_H"]
["",null,null,null,"  ",null,null,null,null,null,null,null,null,null,null,null,", ",null,null,null,null,null,"  ",null,null,null,null,null,null,"N/A","N/A","ƏMƏK HAQQI",null,"008",null," ","AGHJA_H"]
["",null,null,null,"  ",null,null,null,null,null,null,null,null,null,null,null,", ",null,null,null,null,null,"  ",null,null,null,null,null,null,"N/A","N/A","ƏMƏK HAQQI",null,"008",null," ","AGHJA_H"]
["",null,null,null,"  ",null,null,null,null,null,null,null,null,null,null,null,", ",null,null,null,null,null,"  ",null,null,null,null,null,null,"N/A","N/A","ƏMƏK HAQQI",null,"008",null," ","AGHJA_H"]
["",null,null,null,"  ",null,null,null,null,null,null,null,null,null,null,null,", ",null,null,null,null,null,"  ",null,null,null,null,null,null,"N/A","N/A","ƏMƏK HAQQI",null,"008",null," ","AGHJA_H"]
["",null,null,null,"  ",null,null,null,null,null,null,null,null,null,null,null,", ",null,null,null,null,null,"  ",null,null,null,null,null,null,"N/A","N/A","ƏMƏK HAQQI",null,"008",null," ","AGHJA_H"]
["",null,null,null,"  ",null,null,null,null,null,null,null,null,null,null,null,", ",null,null,null,null,null,"  ",null,null,null,null,null,null,"N/A","N/A","ƏMƏK HAQQI",null,"008",null," ","AGHJA_H"]
["",null,null,null,"  ",null,null,null,null,null,null,null,null,null,null,null,", ",null,null,null,null,null,"  ",null,null,null,null,null,null,"N/A","N/A","ƏMƏK HAQQI",null,"008",null," ","AGHJA_H"]
["",null,null,null,"  ",null,null,null,null,null,null,null,null,null,null,null,", ",null,null,null,null,null,"  ",null,null,null,null,null,null,"N/A","N/A","ƏMƏK HAQQI",null,"008",null," ","AGHJA_H"]
["",null,null,null,"  ",null,null,null,null,null,null,null,null,null,null,null,", ",null,null,null,null,null,"  ",null,null,null,null,null,null,"N/A","N/A","ƏMƏK HAQQI",null,"008",null," ","AGHJA_H"]
["",null,null,null,"  ",null,null,null,null,null,null,null,null,null,null,null,", ",null,null,null,null,null,"  ",null,null,null,null,null,null,"N/A","N/A","ƏMƏK HAQQI",null,"008",null," ","AGHJA_H"]
["",null,null,null,"  ",null,null,null,null,null,null,null,null,null,null,null,", ",null,null,null,null,null,"  ",null,null,null,null,null,null,"N/A","N/A","ƏMƏK HAQQI",null,"008",null," ","AGHJA_H"]
["",null,null,null,"  ",null,null,null,null,null,null,null,null,null,null,null,", ",null,null,null,null,null,"  ",null,null,null,null,null,null,"N/A","N/A","ƏMƏK HAQQI",null,"008",null,{"$f":"CONCATENATE((SUBSTITUTE(SUBSTITUTE(SUBSTITUTE(SUBSTITUTE(SUBSTITUTE(SUBSTITUTE(SUBSTITUTE(SUBSTITUTE(SUBSTITUTE(SUBSTITUTE(SUBSTITUTE(C2298,\"Ə\",\"A\"),\"J\",\"ZH\"),\"C\",\"J\"),\"Ç\",\"CH\"),\"İ\",\"I\"),\"Ğ\",\"GH\"),\"Ö\",\"O\"),\"Ü\",\"U\"),\"Ş\",\"SH\"),\"Q\",\"G\"),\"X\",\"KH\")),\" \",(SUBSTITUTE(SUBSTITUTE(SUBSTITUTE(SUBSTITUTE(SUBSTITUTE(SUBSTITUTE(SUBSTITUTE(SUBSTITUTE(SUBSTITUTE(SUBSTITUTE(SUBSTITUTE(B2298,\"Ə\",\"A\"),\"J\",\"ZH\"),\"C\",\"J\"),\"Ç\",\"CH\"),\"İ\",\"I\"),\"Ğ\",\"GH\"),\"Ö\",\"O\"),\"Ü\",\"U\"),\"Ş\",\"SH\"),\"Q\",\"G\"),\"X\",\"KH\")))","v":" "},"AGHJA_H"]
["",null,null,null,{"$f":"CONCATENATE((SUBSTITUTE(SUBSTITUTE(SUBSTITUTE(SUBSTITUTE(SUBSTITUTE(SUBSTITUTE(SUBSTITUTE(SUBSTITUTE(SUBSTITUTE(SUBSTITUTE(SUBSTITUTE(C2299,\"Ə\",\"A\"),\"J\",\"ZH\"),\"C\",\"J\"),\"Ç\",\"CH\"),\"İ\",\"I\"),\"Ğ\",\"GH\"),\"Ö\",\"O\"),\"Ü\",\"U\"),\"Ş\",\"SH\"),\"Q\",\"G\"),\"X\",\"KH\")),\" \",(SUBSTITUTE(SUBSTITUTE(SUBSTITUTE(SUBSTITUTE(SUBSTITUTE(SUBSTITUTE(SUBSTITUTE(SUBSTITUTE(SUBSTITUTE(SUBSTITUTE(SUBSTITUTE(B2299,\"Ə\",\"A\"),\"J\",\"ZH\"),\"C\",\"J\"),\"Ç\",\"CH\"),\"İ\",\"I\"),\"Ğ\",\"GH\"),\"Ö\",\"O\"),\"Ü\",\"U\"),\"Ş\",\"SH\"),\"Q\",\"G\"),\"X\",\"KH\")),\" \",(SUBSTITUTE(SUBSTITUTE(SUBSTITUTE(SUBSTITUTE(SUBSTITUTE(SUBSTITUTE(SUBSTITUTE(SUBSTITUTE(SUBSTITUTE(SUBSTITUTE(SUBSTITUTE(SUBSTITUTE(SUBSTITUTE(D2299,\" OĞLU\",\"\"),\" QIZI\",\"\"),\"Ə\",\"A\"),\"J\",\"ZH\"),\"C\",\"J\"),\"Ç\",\"CH\"),\"İ\",\"I\"),\"Ğ\",\"GH\"),\"Ö\",\"O\"),\"Ü\",\"U\"),\"Ş\",\"SH\"),\"Q\",\"G\"),\"X\",\"KH\")))","v":"  "},null,null,null,null,null,null,null,null,null,null,null,{"$f":"CONCATENATE((SUBSTITUTE(SUBSTITUTE(SUBSTITUTE(SUBSTITUTE(SUBSTITUTE(SUBSTITUTE(SUBSTITUTE(SUBSTITUTE(SUBSTITUTE(SUBSTITUTE(SUBSTITUTE(O2299,\"Ə\",\"A\"),\"J\",\"ZH\"),\"C\",\"J\"),\"Ç\",\"CH\"),\"İ\",\"I\"),\"Ğ\",\"GH\"),\"Ö\",\"O\"),\"Ü\",\"U\"),\"Ş\",\"SH\"),\"Q\",\"G\"),\"X\",\"KH\")),\", \",(SUBSTITUTE(SUBSTITUTE(SUBSTITUTE(SUBSTITUTE(SUBSTITUTE(SUBSTITUTE(SUBSTITUTE(SUBSTITUTE(SUBSTITUTE(SUBSTITUTE(SUBSTITUTE(M2299,\"Ə\",\"A\"),\"J\",\"ZH\"),\"C\",\"J\"),\"Ç\",\"CH\"),\"İ\",\"I\"),\"Ğ\",\"GH\"),\"Ö\",\"O\"),\"Ü\",\"U\"),\"Ş\",\"SH\"),\"Q\",\"G\"),\"X\",\"KH\")))","v":", "},null,null,null,null,null,"  ",null,null,null,null,null,null,"N/A","N/A","ƏMƏK HAQQI",null,"008",null," ","AGHJA_H"]
["",null,null,null,"  ",null,null,null,null,null,null,null,null,null,null,null,", ",null,null,null,null,null,"  ",null,null,null,null,null,null,"N/A","N/A","ƏMƏK HAQQI",null,"008",null," ","AGHJA_H"]
["",null,null,null,"  ",null,null,null,null,null,null,null,null,null,null,null,", ",null,null,null,null,null,"  ",null,null,null,null,null,null,"N/A","N/A","ƏMƏK HAQQI",null,"008",null," ","AGHJA_H"]
["",null,null,null,"  ",null,null,null,null,null,null,null,null,null,null,null,", ",null,null,null,null,null,"  ",null,null,null,null,null,null,"N/A","N/A","ƏMƏK HAQQI",null,"008",null," ","AGHJA_H"]
["",null,null,null,"  ",null,null,null,null,null,null,null,null,null,null,null,", ",null,null,null,null,null,"  ",null,null,null,null,null,null,"N/A","N/A","ƏMƏK HAQQI",null,"008",null," ","AGHJA_H"]
["",null,null,null,"  ",null,null,null,null,null,null,null,null,null,null,null,", ",null,null,null,null,null,"  ",null,null,null,null,null,null,"N/A","N/A","ƏMƏK HAQQI",null,"008",null," ","AGHJA_H"]
["",null,null,null,"  ",null,null,null,null,null,null,null,null,null,null,null,", ",null,null,null,null,null,"  ",null,null,null,null,null,null,"N/A","N/A","ƏMƏK HAQQI",null,"008",null," ","AGHJA_H"]
["",null,null,null,"  ",null,null,null,null,null,null,null,null,null,null,null,", ",null,null,null,null,null,"  ",null,null,null,null,null,null,"N/A","N/A","ƏMƏK HAQQI",null,"008",null," ","AGHJA_H"]
["",null,null,null,"  ",null,null,null,null,null,null,null,null,null,null,null,", ",null,null,null,null,null,"  ",null,null,null,null,null,null,"N/A","N/A","ƏMƏK HAQQI",null,"008",null," ","AGHJA_H"]
["",null,null,null,"  ",null,null,null,null,null,null,null,null,null,null,null,", ",null,null,null,null,null,"  ",null,null,null,null,null,null,"N/A","N/A","ƏMƏK HAQQI",null,"008",null," ","AGHJA_H"]
["",null,null,null,"  ",null,null,null,null,null,null,null,null,null,null,null,", ",null,null,null,null,null,"  ",null,null,null,null,null,null,"N/A","N/A","ƏMƏK HAQQI",null,"008",null," ","AGHJA_H"]
["",null,null,null,"  ",null,null,null,null,null,null,null,null,null,null,null,", ",null,null,null,null,null,"  ",null,null,null,null,null,null,"N/A","N/A","ƏMƏK HAQQI",null,"008",null," ","AGHJA_H"]
["",null,null,null,"  ",null,null,null,null,null,null,null,null,null,null,null,", ",null,null,null,null,null,"  ",null,null,null,null,null,null,"N/A","N/A","ƏMƏK HAQQI",null,"008",null," ","AGHJA_H"]
["",null,null,null,"  ",null,null,null,null,null,null,null,null,null,null,null,", ",null,null,null,null,null,"  ",null,null,null,null,null,null,"N/A","N/A","ƏMƏK HAQQI",null,"008",null," ","AGHJA_H"]
["",null,null,null,"  ",null,null,null,null,null,null,null,null,null,null,null,", ",null,null,null,null,null,"  ",null,null,null,null,null,null,"N/A","N/A","ƏMƏK HAQQI",null,"008",null," ","AGHJA_H"]
["",null,null,null,"  ",null,null,null,null,null,null,null,null,null,null,null,", ",null,null,null,null,null,"  ",null,null,null,null,null,null,"N/A","N/A","ƏMƏK HAQQI",null,"008",null," ","AGHJA_H"]
["",null,null,null,"  ",null,null,null,null,null,null,null,null,null,null,null,", ",null,null,null,null,null,"  ",null,null,null,null,null,null,"N/A","N/A","ƏMƏK HAQQI",null,"008",null," ","AGHJA_H"]
["",null,null,null,"  ",null,null,null,null,null,null,null,null,null,null,null,", ",null,null,null,null,null,"  ",null,null,null,null,null,null,"N/A","N/A","ƏMƏK HAQQI",null,"008",null," ","AGHJA_H"]
["",null,null,null,"  ",null,null,null,null,null,null,null,null,null,null,null,", ",null,null,null,null,null,"  ",null,null,null,null,null,null,"N/A","N/A","ƏMƏK HAQQI",null,"008",null," ","AGHJA_H"]
["",null,null,null,"  ",null,null,null,null,null,null,null,null,null,null,null,", ",null,null,null,null,null,"  ",null,null,null,null,null,null,"N/A","N/A","ƏMƏK HAQQI",null,"008",null," ","AGHJA_H"]
["",null,null,null,"  ",null,null,null,null,null,null,null,null,null,null,null,", ",null,null,null,null,null,"  ",null,null,null,null,null,null,"N/A","N/A","ƏMƏK HAQQI",null,"008",null," ","AGHJA_H"]
["",null,null,null,"  ",null,null,null,null,null,null,null,null,null,null,null,", ",null,null,null,null,null,"  ",null,null,null,null,null,null,"N/A","N/A","ƏMƏK HAQQI",null,"008",null," ","AGHJA_H"]
["",null,null,null,"  ",null,null,null,null,null,null,null,null,null,null,null,", ",null,null,null,null,null,"  ",null,null,null,null,null,null,"N/A","N/A","ƏMƏK HAQQI",null,"008",null," ","AGHJA_H"]
["",null,null,null,"  ",null,null,null,null,null,null,null,null,null,null,null,", ",null,null,null,null,null,"  ",null,null,null,null,null,null,"N/A","N/A","ƏMƏK HAQQI",null,"008",null," ","AGHJA_H"]
["",null,null,null,"  ",null,null,null,null,null,null,null,null,null,null,null,", ",null,null,null,null,null,"  ",null,null,null,null,null,null,"N/A","N/A","ƏMƏK HAQQI",null,"008",null," ","AGHJA_H"]
["",null,null,null,"  ",null,null,null,null,null,null,null,null,null,null,null,", ",null,null,null,null,null,"  ",null,null,null,null,null,null,"N/A","N/A","ƏMƏK HAQQI",null,"008",null," ","AGHJA_H"]
["",null,null,null,"  ",null,null,null,null,null,null,null,null,null,null,null,", ",null,null,null,null,null,"  ",null,null,null,null,null,null,"N/A","N/A","ƏMƏK HAQQI",null,"008",null," ","AGHJA_H"]
["",null,null,null,"  ",null,null,null,null,null,null,null,null,null,null,null,", ",null,null,null,null,null,"  ",null,null,null,null,null,null,"N/A","N/A","ƏMƏK HAQQI",null,"008",null," ","AGHJA_H"]
["",null,null,null,"  ",null,null,null,null,null,null,null,null,null,null,null,", ",null,null,null,null,null,"  ",null,null,null,null,null,null,"N/A","N/A","ƏMƏK HAQQI",null,"008",null," ","AGHJA_H"]
["",null,null,null,"  ",null,null,null,null,null,null,null,null,null,null,null,", ",null,null,null,null,null,"  ",null,null,null,null,null,null,"N/A","N/A","ƏMƏK HAQQI",null,"008",null," ","AGHJA_H"]
["",null,null,null,"  ",null,null,null,null,null,null,null,null,null,null,null,", ",null,null,null,null,null,"  ",null,null,null,null,null,null,"N/A","N/A","ƏMƏK HAQQI",null,"008",null," ","AGHJA_H"]
["",null,null,null,"  ",null,null,null,null,null,null,null,null,null,null,null,", ",null,null,null,null,null,"  ",null,null,null,null,null,null,"N/A","N/A","ƏMƏK HAQQI",null,"008",null,{"$f":"CONCATENATE((SUBSTITUTE(SUBSTITUTE(SUBSTITUTE(SUBSTITUTE(SUBSTITUTE(SUBSTITUTE(SUBSTITUTE(SUBSTITUTE(SUBSTITUTE(SUBSTITUTE(SUBSTITUTE(C2362,\"Ə\",\"A\"),\"J\",\"ZH\"),\"C\",\"J\"),\"Ç\",\"CH\"),\"İ\",\"I\"),\"Ğ\",\"GH\"),\"Ö\",\"O\"),\"Ü\",\"U\"),\"Ş\",\"SH\"),\"Q\",\"G\"),\"X\",\"KH\")),\" \",(SUBSTITUTE(SUBSTITUTE(SUBSTITUTE(SUBSTITUTE(SUBSTITUTE(SUBSTITUTE(SUBSTITUTE(SUBSTITUTE(SUBSTITUTE(SUBSTITUTE(SUBSTITUTE(B2362,\"Ə\",\"A\"),\"J\",\"ZH\"),\"C\",\"J\"),\"Ç\",\"CH\"),\"İ\",\"I\"),\"Ğ\",\"GH\"),\"Ö\",\"O\"),\"Ü\",\"U\"),\"Ş\",\"SH\"),\"Q\",\"G\"),\"X\",\"KH\")))","v":" "},"AGHJA_H"]
["",null,null,null,{"$f":"CONCATENATE((SUBSTITUTE(SUBSTITUTE(SUBSTITUTE(SUBSTITUTE(SUBSTITUTE(SUBSTITUTE(SUBSTITUTE(SUBSTITUTE(SUBSTITUTE(SUBSTITUTE(SUBSTITUTE(C2363,\"Ə\",\"A\"),\"J\",\"ZH\"),\"C\",\"J\"),\"Ç\",\"CH\"),\"İ\",\"I\"),\"Ğ\",\"GH\"),\"Ö\",\"O\"),\"Ü\",\"U\"),\"Ş\",\"SH\"),\"Q\",\"G\"),\"X\",\"KH\")),\" \",(SUBSTITUTE(SUBSTITUTE(SUBSTITUTE(SUBSTITUTE(SUBSTITUTE(SUBSTITUTE(SUBSTITUTE(SUBSTITUTE(SUBSTITUTE(SUBSTITUTE(SUBSTITUTE(B2363,\"Ə\",\"A\"),\"J\",\"ZH\"),\"C\",\"J\"),\"Ç\",\"CH\"),\"İ\",\"I\"),\"Ğ\",\"GH\"),\"Ö\",\"O\"),\"Ü\",\"U\"),\"Ş\",\"SH\"),\"Q\",\"G\"),\"X\",\"KH\")),\" \",(SUBSTITUTE(SUBSTITUTE(SUBSTITUTE(SUBSTITUTE(SUBSTITUTE(SUBSTITUTE(SUBSTITUTE(SUBSTITUTE(SUBSTITUTE(SUBSTITUTE(SUBSTITUTE(SUBSTITUTE(SUBSTITUTE(D2363,\" OĞLU\",\"\"),\" QIZI\",\"\"),\"Ə\",\"A\"),\"J\",\"ZH\"),\"C\",\"J\"),\"Ç\",\"CH\"),\"İ\",\"I\"),\"Ğ\",\"GH\"),\"Ö\",\"O\"),\"Ü\",\"U\"),\"Ş\",\"SH\"),\"Q\",\"G\"),\"X\",\"KH\")))","v":"  "},null,null,null,null,null,null,null,null,null,null,null,{"$f":"CONCATENATE((SUBSTITUTE(SUBSTITUTE(SUBSTITUTE(SUBSTITUTE(SUBSTITUTE(SUBSTITUTE(SUBSTITUTE(SUBSTITUTE(SUBSTITUTE(SUBSTITUTE(SUBSTITUTE(O2363,\"Ə\",\"A\"),\"J\",\"ZH\"),\"C\",\"J\"),\"Ç\",\"CH\"),\"İ\",\"I\"),\"Ğ\",\"GH\"),\"Ö\",\"O\"),\"Ü\",\"U\"),\"Ş\",\"SH\"),\"Q\",\"G\"),\"X\",\"KH\")),\", \",(SUBSTITUTE(SUBSTITUTE(SUBSTITUTE(SUBSTITUTE(SUBSTITUTE(SUBSTITUTE(SUBSTITUTE(SUBSTITUTE(SUBSTITUTE(SUBSTITUTE(SUBSTITUTE(M2363,\"Ə\",\"A\"),\"J\",\"ZH\"),\"C\",\"J\"),\"Ç\",\"CH\"),\"İ\",\"I\"),\"Ğ\",\"GH\"),\"Ö\",\"O\"),\"Ü\",\"U\"),\"Ş\",\"SH\"),\"Q\",\"G\"),\"X\",\"KH\")))","v":", "},null,null,null,null,null,"  ",null,null,null,null,null,null,"N/A","N/A","ƏMƏK HAQQI",null,"008",null," ","AGHJA_H"]
["",null,null,null,"  ",null,null,null,null,null,null,null,null,null,null,null,", ",null,null,null,null,null,"  ",null,null,null,null,null,null,"N/A","N/A","ƏMƏK HAQQI",null,"008",null," ","AGHJA_H"]
["",null,null,null,"  ",null,null,null,null,null,null,null,null,null,null,null,", ",null,null,null,null,null,"  ",null,null,null,null,null,null,"N/A","N/A","ƏMƏK HAQQI",null,"008",null," ","AGHJA_H"]
["",null,null,null,"  ",null,null,null,null,null,null,null,null,null,null,null,", ",null,null,null,null,null,"  ",null,null,null,null,null,null,"N/A","N/A","ƏMƏK HAQQI",null,"008",null," ","AGHJA_H"]
["",null,null,null,"  ",null,null,null,null,null,null,null,null,null,null,null,", ",null,null,null,null,null,"  ",null,null,null,null,null,null,"N/A","N/A","ƏMƏK HAQQI",null,"008",null," ","AGHJA_H"]
["",null,null,null,"  ",null,null,null,null,null,null,null,null,null,null,null,", ",null,null,null,null,null,"  ",null,null,null,null,null,null,"N/A","N/A","ƏMƏK HAQQI",null,"008",null," ","AGHJA_H"]
["",null,null,null,"  ",null,null,null,null,null,null,null,null,null,null,null,", ",null,null,null,null,null,"  ",null,null,null,null,null,null,"N/A","N/A","ƏMƏK HAQQI",null,"008",null," ","AGHJA_H"]
["",null,null,null,"  ",null,null,null,null,null,null,null,null,null,null,null,", ",null,null,null,null,null,"  ",null,null,null,null,null,null,"N/A","N/A","ƏMƏK HAQQI",null,"008",null," ","AGHJA_H"]
["",null,null,null,"  ",null,null,null,null,null,null,null,null,null,null,null,", ",null,null,null,null,null,"  ",null,null,null,null,null,null,"N/A","N/A","ƏMƏK HAQQI",null,"008",null," ","AGHJA_H"]
["",null,null,null,"  ",null,null,null,null,null,null,null,null,null,null,null,", ",null,null,null,null,null,"  ",null,null,null,null,null,null,"N/A","N/A","ƏMƏK HAQQI",null,"008",null," ","AGHJA_H"]
["",null,null,null,"  ",null,null,null,null,null,null,null,null,null,null,null,", ",null,null,null,null,null,"  ",null,null,null,null,null,null,"N/A","N/A","ƏMƏK HAQQI",null,"008",null," ","AGHJA_H"]
["",null,null,null,"  ",null,null,null,null,null,null,null,null,null,null,null,", ",null,null,null,null,null,"  ",null,null,null,null,null,null,"N/A","N/A","ƏMƏK HAQQI",null,"008",null," ","AGHJA_H"]
["",null,null,null,"  ",null,null,null,null,null,null,null,null,null,null,null,", ",null,null,null,null,null,"  ",null,null,null,null,null,null,"N/A","N/A","ƏMƏK HAQQI",null,"008",null," ","AGHJA_H"]
["",null,null,null,"  ",null,null,null,null,null,null,null,null,null,null,null,", ",null,null,null,null,null,"  ",null,null,null,null,null,null,"N/A","N/A","ƏMƏK HAQQI",null,"008",null," ","AGHJA_H"]
["",null,null,null,"  ",null,null,null,null,null,null,null,null,null,null,null,", ",null,null,null,null,null,"  ",null,null,null,null,null,null,"N/A","N/A","ƏMƏK HAQQI",null,"008",null," ","AGHJA_H"]
["",null,null,null,"  ",null,null,null,null,null,null,null,null,null,null,null,", ",null,null,null,null,null,"  ",null,null,null,null,null,null,"N/A","N/A","ƏMƏK HAQQI",null,"008",null," ","AGHJA_H"]
["",null,null,null,"  ",null,null,null,null,null,null,null,null,null,null,null,", ",null,null,null,null,null,"  ",null,null,null,null,null,null,"N/A","N/A","ƏMƏK HAQQI",null,"008",null," ","AGHJA_H"]
["",null,null,null,"  ",null,null,null,null,null,null,null,null,null,null,null,", ",null,null,null,null,null,"  ",null,null,null,null,null,null,"N/A","N/A","ƏMƏK HAQQI",null,"008",null," ","AGHJA_H"]
["",null,null,null,"  ",null,null,null,null,null,null,null,null,null,null,null,", ",null,null,null,null,null,"  ",null,null,null,null,null,null,"N/A","N/A","ƏMƏK HAQQI",null,"008",null," ","AGHJA_H"]
["",null,null,null,"  ",null,null,null,null,null,null,null,null,null,null,null,", ",null,null,null,null,null,"  ",null,null,null,null,null,null,"N/A","N/A","ƏMƏK HAQQI",null,"008",null," ","AGHJA_H"]
["",null,null,null,"  ",null,null,null,null,null,null,null,null,null,null,null,", ",null,null,null,null,null,"  ",null,null,null,null,null,null,"N/A","N/A","ƏMƏK HAQQI",null,"008",null," ","AGHJA_H"]
["",null,null,null,"  ",null,null,null,null,null,null,null,null,null,null,null,", ",null,null,null,null,null,"  ",null,null,null,null,null,null,"N/A","N/A","ƏMƏK HAQQI",null,"008",null," ","AGHJA_H"]
["",null,null,null,"  ",null,null,null,null,null,null,null,null,null,null,null,", ",null,null,null,null,null,"  ",null,null,null,null,null,null,"N/A","N/A","ƏMƏK HAQQI",null,"008",null," ","AGHJA_H"]
["",null,null,null,"  ",null,null,null,null,null,null,null,null,null,null,null,", ",null,null,null,null,null,"  ",null,null,null,null,null,null,"N/A","N/A","ƏMƏK HAQQI",null,"008",null," ","AGHJA_H"]
["",null,null,null,"  ",null,null,null,null,null,null,null,null,null,null,null,", ",null,null,null,null,null,"  ",null,null,null,null,null,null,"N/A","N/A","ƏMƏK HAQQI",null,"008",null," ","AGHJA_H"]
["",null,null,null,"  ",null,null,null,null,null,null,null,null,null,null,null,", ",null,null,null,null,null,"  ",null,null,null,null,null,null,"N/A","N/A","ƏMƏK HAQQI",null,"008",null," ","AGHJA_H"]
["",null,null,null,"  ",null,null,null,null,null,null,null,null,null,null,null,", ",null,null,null,null,null,"  ",null,null,null,null,null,null,"N/A","N/A","ƏMƏK HAQQI",null,"008",null," ","AGHJA_H"]
["",null,null,null,"  ",null,null,null,null,null,null,null,null,null,null,null,", ",null,null,null,null,null,"  ",null,null,null,null,null,null,"N/A","N/A","ƏMƏK HAQQI",null,"008",null," ","AGHJA_H"]
["",null,null,null,"  ",null,null,null,null,null,null,null,null,null,null,null,", ",null,null,null,null,null,"  ",null,null,null,null,null,null,"N/A","N/A","ƏMƏK HAQQI",null,"008",null," ","AGHJA_H"]
["",null,null,null,"  ",null,null,null,null,null,null,null,null,null,null,null,", ",null,null,null,null,null,"  ",null,null,null,null,null,null,"N/A","N/A","ƏMƏK HAQQI",null,"008",null," ","AGHJA_H"]
["",null,null,null,"  ",null,null,null,null,null,null,null,null,null,null,null,", ",null,null,null,null,null,"  ",null,null,null,null,null,null,"N/A","N/A","ƏMƏK HAQQI",null,"008",null," ","AGHJA_H"]
["",null,null,null,"  ",null,null,null,null,null,null,null,null,null,null,null,", ",null,null,null,null,null,"  ",null,null,null,null,null,null,"N/A","N/A","ƏMƏK HAQQI",null,"008",null,{"$f":"CONCATENATE((SUBSTITUTE(SUBSTITUTE(SUBSTITUTE(SUBSTITUTE(SUBSTITUTE(SUBSTITUTE(SUBSTITUTE(SUBSTITUTE(SUBSTITUTE(SUBSTITUTE(SUBSTITUTE(C2426,\"Ə\",\"A\"),\"J\",\"ZH\"),\"C\",\"J\"),\"Ç\",\"CH\"),\"İ\",\"I\"),\"Ğ\",\"GH\"),\"Ö\",\"O\"),\"Ü\",\"U\"),\"Ş\",\"SH\"),\"Q\",\"G\"),\"X\",\"KH\")),\" \",(SUBSTITUTE(SUBSTITUTE(SUBSTITUTE(SUBSTITUTE(SUBSTITUTE(SUBSTITUTE(SUBSTITUTE(SUBSTITUTE(SUBSTITUTE(SUBSTITUTE(SUBSTITUTE(B2426,\"Ə\",\"A\"),\"J\",\"ZH\"),\"C\",\"J\"),\"Ç\",\"CH\"),\"İ\",\"I\"),\"Ğ\",\"GH\"),\"Ö\",\"O\"),\"Ü\",\"U\"),\"Ş\",\"SH\"),\"Q\",\"G\"),\"X\",\"KH\")))","v":" "},"AGHJA_H"]
["",null,null,null,{"$f":"CONCATENATE((SUBSTITUTE(SUBSTITUTE(SUBSTITUTE(SUBSTITUTE(SUBSTITUTE(SUBSTITUTE(SUBSTITUTE(SUBSTITUTE(SUBSTITUTE(SUBSTITUTE(SUBSTITUTE(C2427,\"Ə\",\"A\"),\"J\",\"ZH\"),\"C\",\"J\"),\"Ç\",\"CH\"),\"İ\",\"I\"),\"Ğ\",\"GH\"),\"Ö\",\"O\"),\"Ü\",\"U\"),\"Ş\",\"SH\"),\"Q\",\"G\"),\"X\",\"KH\")),\" \",(SUBSTITUTE(SUBSTITUTE(SUBSTITUTE(SUBSTITUTE(SUBSTITUTE(SUBSTITUTE(SUBSTITUTE(SUBSTITUTE(SUBSTITUTE(SUBSTITUTE(SUBSTITUTE(B2427,\"Ə\",\"A\"),\"J\",\"ZH\"),\"C\",\"J\"),\"Ç\",\"CH\"),\"İ\",\"I\"),\"Ğ\",\"GH\"),\"Ö\",\"O\"),\"Ü\",\"U\"),\"Ş\",\"SH\"),\"Q\",\"G\"),\"X\",\"KH\")),\" \",(SUBSTITUTE(SUBSTITUTE(SUBSTITUTE(SUBSTITUTE(SUBSTITUTE(SUBSTITUTE(SUBSTITUTE(SUBSTITUTE(SUBSTITUTE(SUBSTITUTE(SUBSTITUTE(SUBSTITUTE(SUBSTITUTE(D2427,\" OĞLU\",\"\"),\" QIZI\",\"\"),\"Ə\",\"A\"),\"J\",\"ZH\"),\"C\",\"J\"),\"Ç\",\"CH\"),\"İ\",\"I\"),\"Ğ\",\"GH\"),\"Ö\",\"O\"),\"Ü\",\"U\"),\"Ş\",\"SH\"),\"Q\",\"G\"),\"X\",\"KH\")))","v":"  "},null,null,null,null,null,null,null,null,null,null,null,{"$f":"CONCATENATE((SUBSTITUTE(SUBSTITUTE(SUBSTITUTE(SUBSTITUTE(SUBSTITUTE(SUBSTITUTE(SUBSTITUTE(SUBSTITUTE(SUBSTITUTE(SUBSTITUTE(SUBSTITUTE(O2427,\"Ə\",\"A\"),\"J\",\"ZH\"),\"C\",\"J\"),\"Ç\",\"CH\"),\"İ\",\"I\"),\"Ğ\",\"GH\"),\"Ö\",\"O\"),\"Ü\",\"U\"),\"Ş\",\"SH\"),\"Q\",\"G\"),\"X\",\"KH\")),\", \",(SUBSTITUTE(SUBSTITUTE(SUBSTITUTE(SUBSTITUTE(SUBSTITUTE(SUBSTITUTE(SUBSTITUTE(SUBSTITUTE(SUBSTITUTE(SUBSTITUTE(SUBSTITUTE(M2427,\"Ə\",\"A\"),\"J\",\"ZH\"),\"C\",\"J\"),\"Ç\",\"CH\"),\"İ\",\"I\"),\"Ğ\",\"GH\"),\"Ö\",\"O\"),\"Ü\",\"U\"),\"Ş\",\"SH\"),\"Q\",\"G\"),\"X\",\"KH\")))","v":", "},null,null,null,null,null,"  ",null,null,null,null,null,null,"N/A","N/A","ƏMƏK HAQQI",null,"008",null," ","AGHJA_H"]
["",null,null,null,"  ",null,null,null,null,null,null,null,null,null,null,null,", ",null,null,null,null,null,"  ",null,null,null,null,null,null,"N/A","N/A","ƏMƏK HAQQI",null,"008",null," ","AGHJA_H"]
["",null,null,null,"  ",null,null,null,null,null,null,null,null,null,null,null,", ",null,null,null,null,null,"  ",null,null,null,null,null,null,"N/A","N/A","ƏMƏK HAQQI",null,"008",null," ","AGHJA_H"]
["",null,null,null,"  ",null,null,null,null,null,null,null,null,null,null,null,", ",null,null,null,null,null,"  ",null,null,null,null,null,null,"N/A","N/A","ƏMƏK HAQQI",null,"008",null," ","AGHJA_H"]
["",null,null,null,"  ",null,null,null,null,null,null,null,null,null,null,null,", ",null,null,null,null,null,"  ",null,null,null,null,null,null,"N/A","N/A","ƏMƏK HAQQI",null,"008",null," ","AGHJA_H"]
["",null,null,null,"  ",null,null,null,null,null,null,null,null,null,null,null,", ",null,null,null,null,null,"  ",null,null,null,null,null,null,"N/A","N/A","ƏMƏK HAQQI",null,"008",null," ","AGHJA_H"]
["",null,null,null,"  ",null,null,null,null,null,null,null,null,null,null,null,", ",null,null,null,null,null,"  ",null,null,null,null,null,null,"N/A","N/A","ƏMƏK HAQQI",null,"008",null," ","AGHJA_H"]
["",null,null,null,"  ",null,null,null,null,null,null,null,null,null,null,null,", ",null,null,null,null,null,"  ",null,null,null,null,null,null,"N/A","N/A","ƏMƏK HAQQI",null,"008",null," ","AGHJA_H"]
["",null,null,null,"  ",null,null,null,null,null,null,null,null,null,null,null,", ",null,null,null,null,null,"  ",null,null,null,null,null,null,"N/A","N/A","ƏMƏK HAQQI",null,"008",null," ","AGHJA_H"]
["",null,null,null,"  ",null,null,null,null,null,null,null,null,null,null,null,", ",null,null,null,null,null,"  ",null,null,null,null,null,null,"N/A","N/A","ƏMƏK HAQQI",null,"008",null," ","AGHJA_H"]
["",null,null,null,"  ",null,null,null,null,null,null,null,null,null,null,null,", ",null,null,null,null,null,"  ",null,null,null,null,null,null,"N/A","N/A","ƏMƏK HAQQI",null,"008",null," ","AGHJA_H"]
["",null,null,null,"  ",null,null,null,null,null,null,null,null,null,null,null,", ",null,null,null,null,null,"  ",null,null,null,null,null,null,"N/A","N/A","ƏMƏK HAQQI",null,"008",null," ","AGHJA_H"]
["",null,null,null,"  ",null,null,null,null,null,null,null,null,null,null,null,", ",null,null,null,null,null,"  ",null,null,null,null,null,null,"N/A","N/A","ƏMƏK HAQQI",null,"008",null," ","AGHJA_H"]
["",null,null,null,"  ",null,null,null,null,null,null,null,null,null,null,null,", ",null,null,null,null,null,"  ",null,null,null,null,null,null,"N/A","N/A","ƏMƏK HAQQI",null,"008",null," ","AGHJA_H"]
["",null,null,null,"  ",null,null,null,null,null,null,null,null,null,null,null,", ",null,null,null,null,null,"  ",null,null,null,null,null,null,"N/A","N/A","ƏMƏK HAQQI",null,"008",null," ","AGHJA_H"]
["",null,null,null,"  ",null,null,null,null,null,null,null,null,null,null,null,", ",null,null,null,null,null,"  ",null,null,null,null,null,null,"N/A","N/A","ƏMƏK HAQQI",null,"008",null," ","AGHJA_H"]
["",null,null,null,"  ",null,null,null,null,null,null,null,null,null,null,null,", ",null,null,null,null,null,"  ",null,null,null,null,null,null,"N/A","N/A","ƏMƏK HAQQI",null,"008",null," ","AGHJA_H"]
["",null,null,null,"  ",null,null,null,null,null,null,null,null,null,null,null,", ",null,null,null,null,null,"  ",null,null,null,null,null,null,"N/A","N/A","ƏMƏK HAQQI",null,"008",null," ","AGHJA_H"]
["",null,null,null,"  ",null,null,null,null,null,null,null,null,null,null,null,", ",null,null,null,null,null,"  ",null,null,null,null,null,null,"N/A","N/A","ƏMƏK HAQQI",null,"008",null," ","AGHJA_H"]
["",null,null,null,"  ",null,null,null,null,null,null,null,null,null,null,null,", ",null,null,null,null,null,"  ",null,null,null,null,null,null,"N/A","N/A","ƏMƏK HAQQI",null,"008",null," ","AGHJA_H"]
["",null,null,null,"  ",null,null,null,null,null,null,null,null,null,null,null,", ",null,null,null,null,null,"  ",null,null,null,null,null,null,"N/A","N/A","ƏMƏK HAQQI",null,"008",null," ","AGHJA_H"]
["",null,null,null,"  ",null,null,null,null,null,null,null,null,null,null,null,", ",null,null,null,null,null,"  ",null,null,null,null,null,null,"N/A","N/A","ƏMƏK HAQQI",null,"008",null," ","AGHJA_H"]
["",null,null,null,"  ",null,null,null,null,null,null,null,null,null,null,null,", ",null,null,null,null,null,"  ",null,null,null,null,null,null,"N/A","N/A","ƏMƏK HAQQI",null,"008",null," ","AGHJA_H"]
["",null,null,null,"  ",null,null,null,null,null,null,null,null,null,null,null,", ",null,null,null,null,null,"  ",null,null,null,null,null,null,"N/A","N/A","ƏMƏK HAQQI",null,"008",null," ","AGHJA_H"]
["",null,null,null,"  ",null,null,null,null,null,null,null,null,null,null,null,", ",null,null,null,null,null,"  ",null,null,null,null,null,null,"N/A","N/A","ƏMƏK HAQQI",null,"008",null," ","AGHJA_H"]
["",null,null,null,"  ",null,null,null,null,null,null,null,null,null,null,null,", ",null,null,null,null,null,"  ",null,null,null,null,null,null,"N/A","N/A","ƏMƏK HAQQI",null,"008",null," ","AGHJA_H"]
["",null,null,null,"  ",null,null,null,null,null,null,null,null,null,null,null,", ",null,null,null,null,null,"  ",null,null,null,null,null,null,"N/A","N/A","ƏMƏK HAQQI",null,"008",null," ","AGHJA_H"]
["",null,null,null,"  ",null,null,null,null,null,null,null,null,null,null,null,", ",null,null,null,null,null,"  ",null,null,null,null,null,null,"N/A","N/A","ƏMƏK HAQQI",null,"008",null," ","AGHJA_H"]
["",null,null,null,"  ",null,null,null,null,null,null,null,null,null,null,null,", ",null,null,null,null,null,"  ",null,null,null,null,null,null,"N/A","N/A","ƏMƏK HAQQI",null,"008",null," ","AGHJA_H"]
["",null,null,null,"  ",null,null,null,null,null,null,null,null,null,null,null,", ",null,null,null,null,null,"  ",null,null,null,null,null,null,"N/A","N/A","ƏMƏK HAQQI",null,"008",null," ","AGHJA_H"]
["",null,null,null,"  ",null,null,null,null,null,null,null,null,null,null,null,", ",null,null,null,null,null,"  ",null,null,null,null,null,null,"N/A","N/A","ƏMƏK HAQQI",null,"008",null," ","AGHJA_H"]
["",null,null,null,"  ",null,null,null,null,null,null,null,null,null,null,null,", ",null,null,null,null,null,"  ",null,null,null,null,null,null,"N/A","N/A","ƏMƏK HAQQI",null,"008",null,{"$f":"CONCATENATE((SUBSTITUTE(SUBSTITUTE(SUBSTITUTE(SUBSTITUTE(SUBSTITUTE(SUBSTITUTE(SUBSTITUTE(SUBSTITUTE(SUBSTITUTE(SUBSTITUTE(SUBSTITUTE(C2490,\"Ə\",\"A\"),\"J\",\"ZH\"),\"C\",\"J\"),\"Ç\",\"CH\"),\"İ\",\"I\"),\"Ğ\",\"GH\"),\"Ö\",\"O\"),\"Ü\",\"U\"),\"Ş\",\"SH\"),\"Q\",\"G\"),\"X\",\"KH\")),\" \",(SUBSTITUTE(SUBSTITUTE(SUBSTITUTE(SUBSTITUTE(SUBSTITUTE(SUBSTITUTE(SUBSTITUTE(SUBSTITUTE(SUBSTITUTE(SUBSTITUTE(SUBSTITUTE(B2490,\"Ə\",\"A\"),\"J\",\"ZH\"),\"C\",\"J\"),\"Ç\",\"CH\"),\"İ\",\"I\"),\"Ğ\",\"GH\"),\"Ö\",\"O\"),\"Ü\",\"U\"),\"Ş\",\"SH\"),\"Q\",\"G\"),\"X\",\"KH\")))","v":" "},"AGHJA_H"]
["",null,null,null,{"$f":"CONCATENATE((SUBSTITUTE(SUBSTITUTE(SUBSTITUTE(SUBSTITUTE(SUBSTITUTE(SUBSTITUTE(SUBSTITUTE(SUBSTITUTE(SUBSTITUTE(SUBSTITUTE(SUBSTITUTE(C2491,\"Ə\",\"A\"),\"J\",\"ZH\"),\"C\",\"J\"),\"Ç\",\"CH\"),\"İ\",\"I\"),\"Ğ\",\"GH\"),\"Ö\",\"O\"),\"Ü\",\"U\"),\"Ş\",\"SH\"),\"Q\",\"G\"),\"X\",\"KH\")),\" \",(SUBSTITUTE(SUBSTITUTE(SUBSTITUTE(SUBSTITUTE(SUBSTITUTE(SUBSTITUTE(SUBSTITUTE(SUBSTITUTE(SUBSTITUTE(SUBSTITUTE(SUBSTITUTE(B2491,\"Ə\",\"A\"),\"J\",\"ZH\"),\"C\",\"J\"),\"Ç\",\"CH\"),\"İ\",\"I\"),\"Ğ\",\"GH\"),\"Ö\",\"O\"),\"Ü\",\"U\"),\"Ş\",\"SH\"),\"Q\",\"G\"),\"X\",\"KH\")),\" \",(SUBSTITUTE(SUBSTITUTE(SUBSTITUTE(SUBSTITUTE(SUBSTITUTE(SUBSTITUTE(SUBSTITUTE(SUBSTITUTE(SUBSTITUTE(SUBSTITUTE(SUBSTITUTE(SUBSTITUTE(SUBSTITUTE(D2491,\" OĞLU\",\"\"),\" QIZI\",\"\"),\"Ə\",\"A\"),\"J\",\"ZH\"),\"C\",\"J\"),\"Ç\",\"CH\"),\"İ\",\"I\"),\"Ğ\",\"GH\"),\"Ö\",\"O\"),\"Ü\",\"U\"),\"Ş\",\"SH\"),\"Q\",\"G\"),\"X\",\"KH\")))","v":"  "},null,null,null,null,null,null,null,null,null,null,null,{"$f":"CONCATENATE((SUBSTITUTE(SUBSTITUTE(SUBSTITUTE(SUBSTITUTE(SUBSTITUTE(SUBSTITUTE(SUBSTITUTE(SUBSTITUTE(SUBSTITUTE(SUBSTITUTE(SUBSTITUTE(O2491,\"Ə\",\"A\"),\"J\",\"ZH\"),\"C\",\"J\"),\"Ç\",\"CH\"),\"İ\",\"I\"),\"Ğ\",\"GH\"),\"Ö\",\"O\"),\"Ü\",\"U\"),\"Ş\",\"SH\"),\"Q\",\"G\"),\"X\",\"KH\")),\", \",(SUBSTITUTE(SUBSTITUTE(SUBSTITUTE(SUBSTITUTE(SUBSTITUTE(SUBSTITUTE(SUBSTITUTE(SUBSTITUTE(SUBSTITUTE(SUBSTITUTE(SUBSTITUTE(M2491,\"Ə\",\"A\"),\"J\",\"ZH\"),\"C\",\"J\"),\"Ç\",\"CH\"),\"İ\",\"I\"),\"Ğ\",\"GH\"),\"Ö\",\"O\"),\"Ü\",\"U\"),\"Ş\",\"SH\"),\"Q\",\"G\"),\"X\",\"KH\")))","v":", "},null,null,null,null,null,"  ",null,null,null,null,null,null,"N/A","N/A","ƏMƏK HAQQI",null,"008",null," ","AGHJA_H"]
["",null,null,null,"  ",null,null,null,null,null,null,null,null,null,null,null,", ",null,null,null,null,null,"  ",null,null,null,null,null,null,"N/A","N/A","ƏMƏK HAQQI",null,"008",null," ","AGHJA_H"]
["",null,null,null,"  ",null,null,null,null,null,null,null,null,null,null,null,", ",null,null,null,null,null,"  ",null,null,null,null,null,null,"N/A","N/A","ƏMƏK HAQQI",null,"008",null," ","AGHJA_H"]
["",null,null,null,"  ",null,null,null,null,null,null,null,null,null,null,null,", ",null,null,null,null,null,"  ",null,null,null,null,null,null,"N/A","N/A","ƏMƏK HAQQI",null,"008",null," ","AGHJA_H"]
["",null,null,null,"  ",null,null,null,null,null,null,null,null,null,null,null,", ",null,null,null,null,null,"  ",null,null,null,null,null,null,"N/A","N/A","ƏMƏK HAQQI",null,"008",null," ","AGHJA_H"]
["",null,null,null,"  ",null,null,null,null,null,null,null,null,null,null,null,", ",null,null,null,null,null,"  ",null,null,null,null,null,null,"N/A","N/A","ƏMƏK HAQQI",null,"008",null," ","AGHJA_H"]
["",null,null,null,"  ",null,null,null,null,null,null,null,null,null,null,null,", ",null,null,null,null,null,"  ",null,null,null,null,null,null,"N/A","N/A","ƏMƏK HAQQI",null,"008",null," ","AGHJA_H"]
["",null,null,null,"  ",null,null,null,null,null,null,null,null,null,null,null,", ",null,null,null,null,null,"  ",null,null,null,null,null,null,"N/A","N/A","ƏMƏK HAQQI",null,"008",null," ","AGHJA_H"]
["",null,null,null,"  ",null,null,null,null,null,null,null,null,null,null,null,", ",null,null,null,null,null,"  ",null,null,null,null,null,null,"N/A","N/A","ƏMƏK HAQQI",null,"008",null," ","AGHJA_H"]
["",null,null,null,"  ",null,null,null,null,null,null,null,null,null,null,null,", ",null,null,null,null,null,"  ",null,null,null,null,null,null,"N/A","N/A","ƏMƏK HAQQI",null,"008",null," ","AGHJA_H"]
["",null,null,null,"  ",null,null,null,null,null,null,null,null,null,null,null,", ",null,null,null,null,null,"  ",null,null,null,null,null,null,"N/A","N/A","ƏMƏK HAQQI",null,"008",null," ","AGHJA_H"]
["",null,null,null,"  ",null,null,null,null,null,null,null,null,null,null,null,", ",null,null,null,null,null,"  ",null,null,null,null,null,null,"N/A","N/A","ƏMƏK HAQQI",null,"008",null," ","AGHJA_H"]
["",null,null,null,"  ",null,null,null,null,null,null,null,null,null,null,null,", ",null,null,null,null,null,"  ",null,null,null,null,null,null,"N/A","N/A","ƏMƏK HAQQI",null,"008",null," ","AGHJA_H"]
["",null,null,null,"  ",null,null,null,null,null,null,null,null,null,null,null,", ",null,null,null,null,null,"  ",null,null,null,null,null,null,"N/A","N/A","ƏMƏK HAQQI",null,"008",null," ","AGHJA_H"]
["",null,null,null,"  ",null,null,null,null,null,null,null,null,null,null,null,", ",null,null,null,null,null,"  ",null,null,null,null,null,null,"N/A","N/A","ƏMƏK HAQQI",null,"008",null," ","AGHJA_H"]
["",null,null,null,"  ",null,null,null,null,null,null,null,null,null,null,null,", ",null,null,null,null,null,"  ",null,null,null,null,null,null,"N/A","N/A","ƏMƏK HAQQI",null,"008",null," ","AGHJA_H"]
["",null,null,null,"  ",null,null,null,null,null,null,null,null,null,null,null,", ",null,null,null,null,null,"  ",null,null,null,null,null,null,"N/A","N/A","ƏMƏK HAQQI",null,"008",null," ","AGHJA_H"]
["",null,null,null,"  ",null,null,null,null,null,null,null,null,null,null,null,", ",null,null,null,null,null,"  ",null,null,null,null,null,null,"N/A","N/A","ƏMƏK HAQQI",null,"008",null," ","AGHJA_H"]
["",null,null,null,"  ",null,null,null,null,null,null,null,null,null,null,null,", ",null,null,null,null,null,"  ",null,null,null,null,null,null,"N/A","N/A","ƏMƏK HAQQI",null,"008",null," ","AGHJA_H"]
["",null,null,null,"  ",null,null,null,null,null,null,null,null,null,null,null,", ",null,null,null,null,null,"  ",null,null,null,null,null,null,"N/A","N/A","ƏMƏK HAQQI",null,"008",null," ","AGHJA_H"]
["",null,null,null,"  ",null,null,null,null,null,null,null,null,null,null,null,", ",null,null,null,null,null,"  ",null,null,null,null,null,null,"N/A","N/A","ƏMƏK HAQQI",null,"008",null," ","AGHJA_H"]
["",null,null,null,"  ",null,null,null,null,null,null,null,null,null,null,null,", ",null,null,null,null,null,"  ",null,null,null,null,null,null,"N/A","N/A","ƏMƏK HAQQI",null,"008",null," ","AGHJA_H"]
["",null,null,null,"  ",null,null,null,null,null,null,null,null,null,null,null,", ",null,null,null,null,null,"  ",null,null,null,null,null,null,"N/A","N/A","ƏMƏK HAQQI",null,"008",null," ","AGHJA_H"]
["",null,null,null,"  ",null,null,null,null,null,null,null,null,null,null,null,", ",null,null,null,null,null,"  ",null,null,null,null,null,null,"N/A","N/A","ƏMƏK HAQQI",null,"008",null," ","AGHJA_H"]
["",null,null,null,"  ",null,null,null,null,null,null,null,null,null,null,null,", ",null,null,null,null,null,"  ",null,null,null,null,null,null,"N/A","N/A","ƏMƏK HAQQI",null,"008",null," ","AGHJA_H"]
["",null,null,null,"  ",null,null,null,null,null,null,null,null,null,null,null,", ",null,null,null,null,null,"  ",null,null,null,null,null,null,"N/A","N/A","ƏMƏK HAQQI",null,"008",null," ","AGHJA_H"]
["",null,null,null,"  ",null,null,null,null,null,null,null,null,null,null,null,", ",null,null,null,null,null,"  ",null,null,null,null,null,null,"N/A","N/A","ƏMƏK HAQQI",null,"008",null," ","AGHJA_H"]
["",null,null,null,"  ",null,null,null,null,null,null,null,null,null,null,null,", ",null,null,null,null,null,"  ",null,null,null,null,null,null,"N/A","N/A","ƏMƏK HAQQI",null,"008",null," ","AGHJA_H"]
["",null,null,null,"  ",null,null,null,null,null,null,null,null,null,null,null,", ",null,null,null,null,null,"  ",null,null,null,null,null,null,"N/A","N/A","ƏMƏK HAQQI",null,"008",null," ","AGHJA_H"]
["",null,null,null,"  ",null,null,null,null,null,null,null,null,null,null,null,", ",null,null,null,null,null,"  ",null,null,null,null,null,null,"N/A","N/A","ƏMƏK HAQQI",null,"008",null," ","AGHJA_H"]
["",null,null,null,"  ",null,null,null,null,null,null,null,null,null,null,null,", ",null,null,null,null,null,"  ",null,null,null,null,null,null,"N/A","N/A","ƏMƏK HAQQI",null,"008",null," ","AGHJA_H"]
["",null,null,null,"  ",null,null,null,null,null,null,null,null,null,null,null,", ",null,null,null,null,null,"  ",null,null,null,null,null,null,"N/A","N/A","ƏMƏK HAQQI",null,"008",null,{"$f":"CONCATENATE((SUBSTITUTE(SUBSTITUTE(SUBSTITUTE(SUBSTITUTE(SUBSTITUTE(SUBSTITUTE(SUBSTITUTE(SUBSTITUTE(SUBSTITUTE(SUBSTITUTE(SUBSTITUTE(C2554,\"Ə\",\"A\"),\"J\",\"ZH\"),\"C\",\"J\"),\"Ç\",\"CH\"),\"İ\",\"I\"),\"Ğ\",\"GH\"),\"Ö\",\"O\"),\"Ü\",\"U\"),\"Ş\",\"SH\"),\"Q\",\"G\"),\"X\",\"KH\")),\" \",(SUBSTITUTE(SUBSTITUTE(SUBSTITUTE(SUBSTITUTE(SUBSTITUTE(SUBSTITUTE(SUBSTITUTE(SUBSTITUTE(SUBSTITUTE(SUBSTITUTE(SUBSTITUTE(B2554,\"Ə\",\"A\"),\"J\",\"ZH\"),\"C\",\"J\"),\"Ç\",\"CH\"),\"İ\",\"I\"),\"Ğ\",\"GH\"),\"Ö\",\"O\"),\"Ü\",\"U\"),\"Ş\",\"SH\"),\"Q\",\"G\"),\"X\",\"KH\")))","v":" "},"AGHJA_H"]
["",null,null,null,{"$f":"CONCATENATE((SUBSTITUTE(SUBSTITUTE(SUBSTITUTE(SUBSTITUTE(SUBSTITUTE(SUBSTITUTE(SUBSTITUTE(SUBSTITUTE(SUBSTITUTE(SUBSTITUTE(SUBSTITUTE(C2555,\"Ə\",\"A\"),\"J\",\"ZH\"),\"C\",\"J\"),\"Ç\",\"CH\"),\"İ\",\"I\"),\"Ğ\",\"GH\"),\"Ö\",\"O\"),\"Ü\",\"U\"),\"Ş\",\"SH\"),\"Q\",\"G\"),\"X\",\"KH\")),\" \",(SUBSTITUTE(SUBSTITUTE(SUBSTITUTE(SUBSTITUTE(SUBSTITUTE(SUBSTITUTE(SUBSTITUTE(SUBSTITUTE(SUBSTITUTE(SUBSTITUTE(SUBSTITUTE(B2555,\"Ə\",\"A\"),\"J\",\"ZH\"),\"C\",\"J\"),\"Ç\",\"CH\"),\"İ\",\"I\"),\"Ğ\",\"GH\"),\"Ö\",\"O\"),\"Ü\",\"U\"),\"Ş\",\"SH\"),\"Q\",\"G\"),\"X\",\"KH\")),\" \",(SUBSTITUTE(SUBSTITUTE(SUBSTITUTE(SUBSTITUTE(SUBSTITUTE(SUBSTITUTE(SUBSTITUTE(SUBSTITUTE(SUBSTITUTE(SUBSTITUTE(SUBSTITUTE(SUBSTITUTE(SUBSTITUTE(D2555,\" OĞLU\",\"\"),\" QIZI\",\"\"),\"Ə\",\"A\"),\"J\",\"ZH\"),\"C\",\"J\"),\"Ç\",\"CH\"),\"İ\",\"I\"),\"Ğ\",\"GH\"),\"Ö\",\"O\"),\"Ü\",\"U\"),\"Ş\",\"SH\"),\"Q\",\"G\"),\"X\",\"KH\")))","v":"  "},null,null,null,null,null,null,null,null,null,null,null,{"$f":"CONCATENATE((SUBSTITUTE(SUBSTITUTE(SUBSTITUTE(SUBSTITUTE(SUBSTITUTE(SUBSTITUTE(SUBSTITUTE(SUBSTITUTE(SUBSTITUTE(SUBSTITUTE(SUBSTITUTE(O2555,\"Ə\",\"A\"),\"J\",\"ZH\"),\"C\",\"J\"),\"Ç\",\"CH\"),\"İ\",\"I\"),\"Ğ\",\"GH\"),\"Ö\",\"O\"),\"Ü\",\"U\"),\"Ş\",\"SH\"),\"Q\",\"G\"),\"X\",\"KH\")),\", \",(SUBSTITUTE(SUBSTITUTE(SUBSTITUTE(SUBSTITUTE(SUBSTITUTE(SUBSTITUTE(SUBSTITUTE(SUBSTITUTE(SUBSTITUTE(SUBSTITUTE(SUBSTITUTE(M2555,\"Ə\",\"A\"),\"J\",\"ZH\"),\"C\",\"J\"),\"Ç\",\"CH\"),\"İ\",\"I\"),\"Ğ\",\"GH\"),\"Ö\",\"O\"),\"Ü\",\"U\"),\"Ş\",\"SH\"),\"Q\",\"G\"),\"X\",\"KH\")))","v":", "},null,null,null,null,null,"  ",null,null,null,null,null,null,"N/A","N/A","ƏMƏK HAQQI",null,"008",null," ","AGHJA_H"]
["",null,null,null,"  ",null,null,null,null,null,null,null,null,null,null,null,", ",null,null,null,null,null,"  ",null,null,null,null,null,null,"N/A","N/A","ƏMƏK HAQQI",null,"008",null," ","AGHJA_H"]
["",null,null,null,"  ",null,null,null,null,null,null,null,null,null,null,null,", ",null,null,null,null,null,"  ",null,null,null,null,null,null,"N/A","N/A","ƏMƏK HAQQI",null,"008",null," ","AGHJA_H"]
["",null,null,null,"  ",null,null,null,null,null,null,null,null,null,null,null,", ",null,null,null,null,null,"  ",null,null,null,null,null,null,"N/A","N/A","ƏMƏK HAQQI",null,"008",null," ","AGHJA_H"]
["",null,null,null,"  ",null,null,null,null,null,null,null,null,null,null,null,", ",null,null,null,null,null,"  ",null,null,null,null,null,null,"N/A","N/A","ƏMƏK HAQQI",null,"008",null," ","AGHJA_H"]
["",null,null,null,"  ",null,null,null,null,null,null,null,null,null,null,null,", ",null,null,null,null,null,"  ",null,null,null,null,null,null,"N/A","N/A","ƏMƏK HAQQI",null,"008",null," ","AGHJA_H"]
["",null,null,null,"  ",null,null,null,null,null,null,null,null,null,null,null,", ",null,null,null,null,null,"  ",null,null,null,null,null,null,"N/A","N/A","ƏMƏK HAQQI",null,"008",null," ","AGHJA_H"]
["",null,null,null,"  ",null,null,null,null,null,null,null,null,null,null,null,", ",null,null,null,null,null,"  ",null,null,null,null,null,null,"N/A","N/A","ƏMƏK HAQQI",null,"008",null," ","AGHJA_H"]
["",null,null,null,"  ",null,null,null,null,null,null,null,null,null,null,null,", ",null,null,null,null,null,"  ",null,null,null,null,null,null,"N/A","N/A","ƏMƏK HAQQI",null,"008",null," ","AGHJA_H"]
["",null,null,null,"  ",null,null,null,null,null,null,null,null,null,null,null,", ",null,null,null,null,null,"  ",null,null,null,null,null,null,"N/A","N/A","ƏMƏK HAQQI",null,"008",null," ","AGHJA_H"]
["",null,null,null,"  ",null,null,null,null,null,null,null,null,null,null,null,", ",null,null,null,null,null,"  ",null,null,null,null,null,null,"N/A","N/A","ƏMƏK HAQQI",null,"008",null," ","AGHJA_H"]
["",null,null,null,"  ",null,null,null,null,null,null,null,null,null,null,null,", ",null,null,null,null,null,"  ",null,null,null,null,null,null,"N/A","N/A","ƏMƏK HAQQI",null,"008",null," ","AGHJA_H"]
["",null,null,null,"  ",null,null,null,null,null,null,null,null,null,null,null,", ",null,null,null,null,null,"  ",null,null,null,null,null,null,"N/A","N/A","ƏMƏK HAQQI",null,"008",null," ","AGHJA_H"]
["",null,null,null,"  ",null,null,null,null,null,null,null,null,null,null,null,", ",null,null,null,null,null,"  ",null,null,null,null,null,null,"N/A","N/A","ƏMƏK HAQQI",null,"008",null," ","AGHJA_H"]
["",null,null,null,"  ",null,null,null,null,null,null,null,null,null,null,null,", ",null,null,null,null,null,"  ",null,null,null,null,null,null,"N/A","N/A","ƏMƏK HAQQI",null,"008",null," ","AGHJA_H"]
["",null,null,null,"  ",null,null,null,null,null,null,null,null,null,null,null,", ",null,null,null,null,null,"  ",null,null,null,null,null,null,"N/A","N/A","ƏMƏK HAQQI",null,"008",null," ","AGHJA_H"]
["",null,null,null,"  ",null,null,null,null,null,null,null,null,null,null,null,", ",null,null,null,null,null,"  ",null,null,null,null,null,null,"N/A","N/A","ƏMƏK HAQQI",null,"008",null," ","AGHJA_H"]
["",null,null,null,"  ",null,null,null,null,null,null,null,null,null,null,null,", ",null,null,null,null,null,"  ",null,null,null,null,null,null,"N/A","N/A","ƏMƏK HAQQI",null,"008",null," ","AGHJA_H"]
["",null,null,null,"  ",null,null,null,null,null,null,null,null,null,null,null,", ",null,null,null,null,null,"  ",null,null,null,null,null,null,"N/A","N/A","ƏMƏK HAQQI",null,"008",null," ","AGHJA_H"]
["",null,null,null,"  ",null,null,null,null,null,null,null,null,null,null,null,", ",null,null,null,null,null,"  ",null,null,null,null,null,null,"N/A","N/A","ƏMƏK HAQQI",null,"008",null," ","AGHJA_H"]
["",null,null,null,"  ",null,null,null,null,null,null,null,null,null,null,null,", ",null,null,null,null,null,"  ",null,null,null,null,null,null,"N/A","N/A","ƏMƏK HAQQI",null,"008",null," ","AGHJA_H"]
["",null,null,null,"  ",null,null,null,null,null,null,null,null,null,null,null,", ",null,null,null,null,null,"  ",null,null,null,null,null,null,"N/A","N/A","ƏMƏK HAQQI",null,"008",null," ","AGHJA_H"]
["",null,null,null,"  ",null,null,null,null,null,null,null,null,null,null,null,", ",null,null,null,null,null,"  ",null,null,null,null,null,null,"N/A","N/A","ƏMƏK HAQQI",null,"008",null," ","AGHJA_H"]
["",null,null,null,"  ",null,null,null,null,null,null,null,null,null,null,null,", ",null,null,null,null,null,"  ",null,null,null,null,null,null,"N/A","N/A","ƏMƏK HAQQI",null,"008",null," ","AGHJA_H"]
["",null,null,null,"  ",null,null,null,null,null,null,null,null,null,null,null,", ",null,null,null,null,null,"  ",null,null,null,null,null,null,"N/A","N/A","ƏMƏK HAQQI",null,"008",null," ","AGHJA_H"]
["",null,null,null,"  ",null,null,null,null,null,null,null,null,null,null,null,", ",null,null,null,null,null,"  ",null,null,null,null,null,null,"N/A","N/A","ƏMƏK HAQQI",null,"008",null," ","AGHJA_H"]
["",null,null,null,"  ",null,null,null,null,null,null,null,null,null,null,null,", ",null,null,null,null,null,"  ",null,null,null,null,null,null,"N/A","N/A","ƏMƏK HAQQI",null,"008",null," ","AGHJA_H"]
["",null,null,null,"  ",null,null,null,null,null,null,null,null,null,null,null,", ",null,null,null,null,null,"  ",null,null,null,null,null,null,"N/A","N/A","ƏMƏK HAQQI",null,"008",null," ","AGHJA_H"]
["",null,null,null,"  ",null,null,null,null,null,null,null,null,null,null,null,", ",null,null,null,null,null,"  ",null,null,null,null,null,null,"N/A","N/A","ƏMƏK HAQQI",null,"008",null," ","AGHJA_H"]
["",null,null,null,"  ",null,null,null,null,null,null,null,null,null,null,null,", ",null,null,null,null,null,"  ",null,null,null,null,null,null,"N/A","N/A","ƏMƏK HAQQI",null,"008",null," ","AGHJA_H"]
["",null,null,null,"  ",null,null,null,null,null,null,null,null,null,null,null,", ",null,null,null,null,null,"  ",null,null,null,null,null,null,"N/A","N/A","ƏMƏK HAQQI",null,"008",null," ","AGHJA_H"]
["",null,null,null,"  ",null,null,null,null,null,null,null,null,null,null,null,", ",null,null,null,null,null,"  ",null,null,null,null,null,null,"N/A","N/A","ƏMƏK HAQQI",null,"008",null,{"$f":"CONCATENATE((SUBSTITUTE(SUBSTITUTE(SUBSTITUTE(SUBSTITUTE(SUBSTITUTE(SUBSTITUTE(SUBSTITUTE(SUBSTITUTE(SUBSTITUTE(SUBSTITUTE(SUBSTITUTE(C2618,\"Ə\",\"A\"),\"J\",\"ZH\"),\"C\",\"J\"),\"Ç\",\"CH\"),\"İ\",\"I\"),\"Ğ\",\"GH\"),\"Ö\",\"O\"),\"Ü\",\"U\"),\"Ş\",\"SH\"),\"Q\",\"G\"),\"X\",\"KH\")),\" \",(SUBSTITUTE(SUBSTITUTE(SUBSTITUTE(SUBSTITUTE(SUBSTITUTE(SUBSTITUTE(SUBSTITUTE(SUBSTITUTE(SUBSTITUTE(SUBSTITUTE(SUBSTITUTE(B2618,\"Ə\",\"A\"),\"J\",\"ZH\"),\"C\",\"J\"),\"Ç\",\"CH\"),\"İ\",\"I\"),\"Ğ\",\"GH\"),\"Ö\",\"O\"),\"Ü\",\"U\"),\"Ş\",\"SH\"),\"Q\",\"G\"),\"X\",\"KH\")))","v":" "},"AGHJA_H"]
["",null,null,null,{"$f":"CONCATENATE((SUBSTITUTE(SUBSTITUTE(SUBSTITUTE(SUBSTITUTE(SUBSTITUTE(SUBSTITUTE(SUBSTITUTE(SUBSTITUTE(SUBSTITUTE(SUBSTITUTE(SUBSTITUTE(C2619,\"Ə\",\"A\"),\"J\",\"ZH\"),\"C\",\"J\"),\"Ç\",\"CH\"),\"İ\",\"I\"),\"Ğ\",\"GH\"),\"Ö\",\"O\"),\"Ü\",\"U\"),\"Ş\",\"SH\"),\"Q\",\"G\"),\"X\",\"KH\")),\" \",(SUBSTITUTE(SUBSTITUTE(SUBSTITUTE(SUBSTITUTE(SUBSTITUTE(SUBSTITUTE(SUBSTITUTE(SUBSTITUTE(SUBSTITUTE(SUBSTITUTE(SUBSTITUTE(B2619,\"Ə\",\"A\"),\"J\",\"ZH\"),\"C\",\"J\"),\"Ç\",\"CH\"),\"İ\",\"I\"),\"Ğ\",\"GH\"),\"Ö\",\"O\"),\"Ü\",\"U\"),\"Ş\",\"SH\"),\"Q\",\"G\"),\"X\",\"KH\")),\" \",(SUBSTITUTE(SUBSTITUTE(SUBSTITUTE(SUBSTITUTE(SUBSTITUTE(SUBSTITUTE(SUBSTITUTE(SUBSTITUTE(SUBSTITUTE(SUBSTITUTE(SUBSTITUTE(SUBSTITUTE(SUBSTITUTE(D2619,\" OĞLU\",\"\"),\" QIZI\",\"\"),\"Ə\",\"A\"),\"J\",\"ZH\"),\"C\",\"J\"),\"Ç\",\"CH\"),\"İ\",\"I\"),\"Ğ\",\"GH\"),\"Ö\",\"O\"),\"Ü\",\"U\"),\"Ş\",\"SH\"),\"Q\",\"G\"),\"X\",\"KH\")))","v":"  "},null,null,null,null,null,null,null,null,null,null,null,{"$f":"CONCATENATE((SUBSTITUTE(SUBSTITUTE(SUBSTITUTE(SUBSTITUTE(SUBSTITUTE(SUBSTITUTE(SUBSTITUTE(SUBSTITUTE(SUBSTITUTE(SUBSTITUTE(SUBSTITUTE(O2619,\"Ə\",\"A\"),\"J\",\"ZH\"),\"C\",\"J\"),\"Ç\",\"CH\"),\"İ\",\"I\"),\"Ğ\",\"GH\"),\"Ö\",\"O\"),\"Ü\",\"U\"),\"Ş\",\"SH\"),\"Q\",\"G\"),\"X\",\"KH\")),\", \",(SUBSTITUTE(SUBSTITUTE(SUBSTITUTE(SUBSTITUTE(SUBSTITUTE(SUBSTITUTE(SUBSTITUTE(SUBSTITUTE(SUBSTITUTE(SUBSTITUTE(SUBSTITUTE(M2619,\"Ə\",\"A\"),\"J\",\"ZH\"),\"C\",\"J\"),\"Ç\",\"CH\"),\"İ\",\"I\"),\"Ğ\",\"GH\"),\"Ö\",\"O\"),\"Ü\",\"U\"),\"Ş\",\"SH\"),\"Q\",\"G\"),\"X\",\"KH\")))","v":", "},null,null,null,null,null,"  ",null,null,null,null,null,null,"N/A","N/A","ƏMƏK HAQQI",null,"008",null," ","AGHJA_H"]
["",null,null,null,"  ",null,null,null,null,null,null,null,null,null,null,null,", ",null,null,null,null,null,"  ",null,null,null,null,null,null,"N/A","N/A","ƏMƏK HAQQI",null,"008",null," ","AGHJA_H"]
["",null,null,null,"  ",null,null,null,null,null,null,null,null,null,null,null,", ",null,null,null,null,null,"  ",null,null,null,null,null,null,"N/A","N/A","ƏMƏK HAQQI",null,"008",null," ","AGHJA_H"]
["",null,null,null,"  ",null,null,null,null,null,null,null,null,null,null,null,", ",null,null,null,null,null,"  ",null,null,null,null,null,null,"N/A","N/A","ƏMƏK HAQQI",null,"008",null," ","AGHJA_H"]
["",null,null,null,"  ",null,null,null,null,null,null,null,null,null,null,null,", ",null,null,null,null,null,"  ",null,null,null,null,null,null,"N/A","N/A","ƏMƏK HAQQI",null,"008",null," ","AGHJA_H"]
["",null,null,null,"  ",null,null,null,null,null,null,null,null,null,null,null,", ",null,null,null,null,null,"  ",null,null,null,null,null,null,"N/A","N/A","ƏMƏK HAQQI",null,"008",null," ","AGHJA_H"]
["",null,null,null,"  ",null,null,null,null,null,null,null,null,null,null,null,", ",null,null,null,null,null,"  ",null,null,null,null,null,null,"N/A","N/A","ƏMƏK HAQQI",null,"008",null," ","AGHJA_H"]
["",null,null,null,"  ",null,null,null,null,null,null,null,null,null,null,null,", ",null,null,null,null,null,"  ",null,null,null,null,null,null,"N/A","N/A","ƏMƏK HAQQI",null,"008",null," ","AGHJA_H"]
["",null,null,null,"  ",null,null,null,null,null,null,null,null,null,null,null,", ",null,null,null,null,null,"  ",null,null,null,null,null,null,"N/A","N/A","ƏMƏK HAQQI",null,"008",null," ","AGHJA_H"]
["",null,null,null,"  ",null,null,null,null,null,null,null,null,null,null,null,", ",null,null,null,null,null,"  ",null,null,null,null,null,null,"N/A","N/A","ƏMƏK HAQQI",null,"008",null," ","AGHJA_H"]
["",null,null,null,"  ",null,null,null,null,null,null,null,null,null,null,null,", ",null,null,null,null,null,"  ",null,null,null,null,null,null,"N/A","N/A","ƏMƏK HAQQI",null,"008",null," ","AGHJA_H"]
["",null,null,null,"  ",null,null,null,null,null,null,null,null,null,null,null,", ",null,null,null,null,null,"  ",null,null,null,null,null,null,"N/A","N/A","ƏMƏK HAQQI",null,"008",null," ","AGHJA_H"]
["",null,null,null,"  ",null,null,null,null,null,null,null,null,null,null,null,", ",null,null,null,null,null,"  ",null,null,null,null,null,null,"N/A","N/A","ƏMƏK HAQQI",null,"008",null," ","AGHJA_H"]
["",null,null,null,"  ",null,null,null,null,null,null,null,null,null,null,null,", ",null,null,null,null,null,"  ",null,null,null,null,null,null,"N/A","N/A","ƏMƏK HAQQI",null,"008",null," ","AGHJA_H"]
["",null,null,null,"  ",null,null,null,null,null,null,null,null,null,null,null,", ",null,null,null,null,null,"  ",null,null,null,null,null,null,"N/A","N/A","ƏMƏK HAQQI",null,"008",null," ","AGHJA_H"]
["",null,null,null,"  ",null,null,null,null,null,null,null,null,null,null,null,", ",null,null,null,null,null,"  ",null,null,null,null,null,null,"N/A","N/A","ƏMƏK HAQQI",null,"008",null," ","AGHJA_H"]
["",null,null,null,"  ",null,null,null,null,null,null,null,null,null,null,null,", ",null,null,null,null,null,"  ",null,null,null,null,null,null,"N/A","N/A","ƏMƏK HAQQI",null,"008",null," ","AGHJA_H"]
["",null,null,null,"  ",null,null,null,null,null,null,null,null,null,null,null,", ",null,null,null,null,null,"  ",null,null,null,null,null,null,"N/A","N/A","ƏMƏK HAQQI",null,"008",null," ","AGHJA_H"]
["",null,null,null,"  ",null,null,null,null,null,null,null,null,null,null,null,", ",null,null,null,null,null,"  ",null,null,null,null,null,null,"N/A","N/A","ƏMƏK HAQQI",null,"008",null," ","AGHJA_H"]
["",null,null,null,"  ",null,null,null,null,null,null,null,null,null,null,null,", ",null,null,null,null,null,"  ",null,null,null,null,null,null,"N/A","N/A","ƏMƏK HAQQI",null,"008",null," ","AGHJA_H"]
["",null,null,null,"  ",null,null,null,null,null,null,null,null,null,null,null,", ",null,null,null,null,null,"  ",null,null,null,null,null,null,"N/A","N/A","ƏMƏK HAQQI",null,"008",null," ","AGHJA_H"]
["",null,null,null,"  ",null,null,null,null,null,null,null,null,null,null,null,", ",null,null,null,null,null,"  ",null,null,null,null,null,null,"N/A","N/A","ƏMƏK HAQQI",null,"008",null," ","AGHJA_H"]
["",null,null,null,"  ",null,null,null,null,null,null,null,null,null,null,null,", ",null,null,null,null,null,"  ",null,null,null,null,null,null,"N/A","N/A","ƏMƏK HAQQI",null,"008",null," ","AGHJA_H"]
["",null,null,null,"  ",null,null,null,null,null,null,null,null,null,null,null,", ",null,null,null,null,null,"  ",null,null,null,null,null,null,"N/A","N/A","ƏMƏK HAQQI",null,"008",null," ","AGHJA_H"]
["",null,null,null,"  ",null,null,null,null,null,null,null,null,null,null,null,", ",null,null,null,null,null,"  ",null,null,null,null,null,null,"N/A","N/A","ƏMƏK HAQQI",null,"008",null," ","AGHJA_H"]
["",null,null,null,"  ",null,null,null,null,null,null,null,null,null,null,null,", ",null,null,null,null,null,"  ",null,null,null,null,null,null,"N/A","N/A","ƏMƏK HAQQI",null,"008",null," ","AGHJA_H"]
["",null,null,null,"  ",null,null,null,null,null,null,null,null,null,null,null,", ",null,null,null,null,null,"  ",null,null,null,null,null,null,"N/A","N/A","ƏMƏK HAQQI",null,"008",null," ","AGHJA_H"]
["",null,null,null,"  ",null,null,null,null,null,null,null,null,null,null,null,", ",null,null,null,null,null,"  ",null,null,null,null,null,null,"N/A","N/A","ƏMƏK HAQQI",null,"008",null," ","AGHJA_H"]
["",null,null,null,"  ",null,null,null,null,null,null,null,null,null,null,null,", ",null,null,null,null,null,"  ",null,null,null,null,null,null,"N/A","N/A","ƏMƏK HAQQI",null,"008",null," ","AGHJA_H"]
["",null,null,null,"  ",null,null,null,null,null,null,null,null,null,null,null,", ",null,null,null,null,null,"  ",null,null,null,null,null,null,"N/A","N/A","ƏMƏK HAQQI",null,"008",null," ","AGHJA_H"]
["",null,null,null,"  ",null,null,null,null,null,null,null,null,null,null,null,", ",null,null,null,null,null,"  ",null,null,null,null,null,null,"N/A","N/A","ƏMƏK HAQQI",null,"008",null," ","AGHJA_H"]
["",null,null,null,"  ",null,null,null,null,null,null,null,null,null,null,null,", ",null,null,null,null,null,"  ",null,null,null,null,null,null,"N/A","N/A","ƏMƏK HAQQI",null,"008",null,{"$f":"CONCATENATE((SUBSTITUTE(SUBSTITUTE(SUBSTITUTE(SUBSTITUTE(SUBSTITUTE(SUBSTITUTE(SUBSTITUTE(SUBSTITUTE(SUBSTITUTE(SUBSTITUTE(SUBSTITUTE(C2682,\"Ə\",\"A\"),\"J\",\"ZH\"),\"C\",\"J\"),\"Ç\",\"CH\"),\"İ\",\"I\"),\"Ğ\",\"GH\"),\"Ö\",\"O\"),\"Ü\",\"U\"),\"Ş\",\"SH\"),\"Q\",\"G\"),\"X\",\"KH\")),\" \",(SUBSTITUTE(SUBSTITUTE(SUBSTITUTE(SUBSTITUTE(SUBSTITUTE(SUBSTITUTE(SUBSTITUTE(SUBSTITUTE(SUBSTITUTE(SUBSTITUTE(SUBSTITUTE(B2682,\"Ə\",\"A\"),\"J\",\"ZH\"),\"C\",\"J\"),\"Ç\",\"CH\"),\"İ\",\"I\"),\"Ğ\",\"GH\"),\"Ö\",\"O\"),\"Ü\",\"U\"),\"Ş\",\"SH\"),\"Q\",\"G\"),\"X\",\"KH\")))","v":" "},"AGHJA_H"]
["",null,null,null,{"$f":"CONCATENATE((SUBSTITUTE(SUBSTITUTE(SUBSTITUTE(SUBSTITUTE(SUBSTITUTE(SUBSTITUTE(SUBSTITUTE(SUBSTITUTE(SUBSTITUTE(SUBSTITUTE(SUBSTITUTE(C2683,\"Ə\",\"A\"),\"J\",\"ZH\"),\"C\",\"J\"),\"Ç\",\"CH\"),\"İ\",\"I\"),\"Ğ\",\"GH\"),\"Ö\",\"O\"),\"Ü\",\"U\"),\"Ş\",\"SH\"),\"Q\",\"G\"),\"X\",\"KH\")),\" \",(SUBSTITUTE(SUBSTITUTE(SUBSTITUTE(SUBSTITUTE(SUBSTITUTE(SUBSTITUTE(SUBSTITUTE(SUBSTITUTE(SUBSTITUTE(SUBSTITUTE(SUBSTITUTE(B2683,\"Ə\",\"A\"),\"J\",\"ZH\"),\"C\",\"J\"),\"Ç\",\"CH\"),\"İ\",\"I\"),\"Ğ\",\"GH\"),\"Ö\",\"O\"),\"Ü\",\"U\"),\"Ş\",\"SH\"),\"Q\",\"G\"),\"X\",\"KH\")),\" \",(SUBSTITUTE(SUBSTITUTE(SUBSTITUTE(SUBSTITUTE(SUBSTITUTE(SUBSTITUTE(SUBSTITUTE(SUBSTITUTE(SUBSTITUTE(SUBSTITUTE(SUBSTITUTE(SUBSTITUTE(SUBSTITUTE(D2683,\" OĞLU\",\"\"),\" QIZI\",\"\"),\"Ə\",\"A\"),\"J\",\"ZH\"),\"C\",\"J\"),\"Ç\",\"CH\"),\"İ\",\"I\"),\"Ğ\",\"GH\"),\"Ö\",\"O\"),\"Ü\",\"U\"),\"Ş\",\"SH\"),\"Q\",\"G\"),\"X\",\"KH\")))","v":"  "},null,null,null,null,null,null,null,null,null,null,null,{"$f":"CONCATENATE((SUBSTITUTE(SUBSTITUTE(SUBSTITUTE(SUBSTITUTE(SUBSTITUTE(SUBSTITUTE(SUBSTITUTE(SUBSTITUTE(SUBSTITUTE(SUBSTITUTE(SUBSTITUTE(O2683,\"Ə\",\"A\"),\"J\",\"ZH\"),\"C\",\"J\"),\"Ç\",\"CH\"),\"İ\",\"I\"),\"Ğ\",\"GH\"),\"Ö\",\"O\"),\"Ü\",\"U\"),\"Ş\",\"SH\"),\"Q\",\"G\"),\"X\",\"KH\")),\", \",(SUBSTITUTE(SUBSTITUTE(SUBSTITUTE(SUBSTITUTE(SUBSTITUTE(SUBSTITUTE(SUBSTITUTE(SUBSTITUTE(SUBSTITUTE(SUBSTITUTE(SUBSTITUTE(M2683,\"Ə\",\"A\"),\"J\",\"ZH\"),\"C\",\"J\"),\"Ç\",\"CH\"),\"İ\",\"I\"),\"Ğ\",\"GH\"),\"Ö\",\"O\"),\"Ü\",\"U\"),\"Ş\",\"SH\"),\"Q\",\"G\"),\"X\",\"KH\")))","v":", "},null,null,null,null,null,"  ",null,null,null,null,null,null,"N/A","N/A","ƏMƏK HAQQI",null,"008",null," ","AGHJA_H"]
["",null,null,null,"  ",null,null,null,null,null,null,null,null,null,null,null,", ",null,null,null,null,null,"  ",null,null,null,null,null,null,"N/A","N/A","ƏMƏK HAQQI",null,"008",null," ","AGHJA_H"]
["",null,null,null,"  ",null,null,null,null,null,null,null,null,null,null,null,", ",null,null,null,null,null,"  ",null,null,null,null,null,null,"N/A","N/A","ƏMƏK HAQQI",null,"008",null," ","AGHJA_H"]
["",null,null,null,"  ",null,null,null,null,null,null,null,null,null,null,null,", ",null,null,null,null,null,"  ",null,null,null,null,null,null,"N/A","N/A","ƏMƏK HAQQI",null,"008",null," ","AGHJA_H"]
["",null,null,null,"  ",null,null,null,null,null,null,null,null,null,null,null,", ",null,null,null,null,null,"  ",null,null,null,null,null,null,"N/A","N/A","ƏMƏK HAQQI",null,"008",null," ","AGHJA_H"]
["",null,null,null,"  ",null,null,null,null,null,null,null,null,null,null,null,", ",null,null,null,null,null,"  ",null,null,null,null,null,null,"N/A","N/A","ƏMƏK HAQQI",null,"008",null," ","AGHJA_H"]
["",null,null,null,"  ",null,null,null,null,null,null,null,null,null,null,null,", ",null,null,null,null,null,"  ",null,null,null,null,null,null,"N/A","N/A","ƏMƏK HAQQI",null,"008",null," ","AGHJA_H"]
["",null,null,null,"  ",null,null,null,null,null,null,null,null,null,null,null,", ",null,null,null,null,null,"  ",null,null,null,null,null,null,"N/A","N/A","ƏMƏK HAQQI",null,"008",null," ","AGHJA_H"]
["",null,null,null,"  ",null,null,null,null,null,null,null,null,null,null,null,", ",null,null,null,null,null,"  ",null,null,null,null,null,null,"N/A","N/A","ƏMƏK HAQQI",null,"008",null," ","AGHJA_H"]
["",null,null,null,"  ",null,null,null,null,null,null,null,null,null,null,null,", ",null,null,null,null,null,"  ",null,null,null,null,null,null,"N/A","N/A","ƏMƏK HAQQI",null,"008",null," ","AGHJA_H"]
["",null,null,null,"  ",null,null,null,null,null,null,null,null,null,null,null,", ",null,null,null,null,null,"  ",null,null,null,null,null,null,"N/A","N/A","ƏMƏK HAQQI",null,"008",null," ","AGHJA_H"]
["",null,null,null,"  ",null,null,null,null,null,null,null,null,null,null,null,", ",null,null,null,null,null,"  ",null,null,null,null,null,null,"N/A","N/A","ƏMƏK HAQQI",null,"008",null," ","AGHJA_H"]
["",null,null,null,"  ",null,null,null,null,null,null,null,null,null,null,null,", ",null,null,null,null,null,"  ",null,null,null,null,null,null,"N/A","N/A","ƏMƏK HAQQI",null,"008",null," ","AGHJA_H"]
["",null,null,null,"  ",null,null,null,null,null,null,null,null,null,null,null,", ",null,null,null,null,null,"  ",null,null,null,null,null,null,"N/A","N/A","ƏMƏK HAQQI",null,"008",null," ","AGHJA_H"]
["",null,null,null,"  ",null,null,null,null,null,null,null,null,null,null,null,", ",null,null,null,null,null,"  ",null,null,null,null,null,null,"N/A","N/A","ƏMƏK HAQQI",null,"008",null," ","AGHJA_H"]
["",null,null,null,"  ",null,null,null,null,null,null,null,null,null,null,null,", ",null,null,null,null,null,"  ",null,null,null,null,null,null,"N/A","N/A","ƏMƏK HAQQI",null,"008",null," ","AGHJA_H"]
["",null,null,null,"  ",null,null,null,null,null,null,null,null,null,null,null,", ",null,null,null,null,null,"  ",null,null,null,null,null,null,"N/A","N/A","ƏMƏK HAQQI",null,"008",null," ","AGHJA_H"]
["",null,null,null,"  ",null,null,null,null,null,null,null,null,null,null,null,", ",null,null,null,null,null,"  ",null,null,null,null,null,null,"N/A","N/A","ƏMƏK HAQQI",null,"008",null," ","AGHJA_H"]
["",null,null,null,"  ",null,null,null,null,null,null,null,null,null,null,null,", ",null,null,null,null,null,"  ",null,null,null,null,null,null,"N/A","N/A","ƏMƏK HAQQI",null,"008",null," ","AGHJA_H"]
["",null,null,null,"  ",null,null,null,null,null,null,null,null,null,null,null,", ",null,null,null,null,null,"  ",null,null,null,null,null,null,"N/A","N/A","ƏMƏK HAQQI",null,"008",null," ","AGHJA_H"]
["",null,null,null,"  ",null,null,null,null,null,null,null,null,null,null,null,", ",null,null,null,null,null,"  ",null,null,null,null,null,null,"N/A","N/A","ƏMƏK HAQQI",null,"008",null," ","AGHJA_H"]
["",null,null,null,"  ",null,null,null,null,null,null,null,null,null,null,null,", ",null,null,null,null,null,"  ",null,null,null,null,null,null,"N/A","N/A","ƏMƏK HAQQI",null,"008",null," ","AGHJA_H"]
["",null,null,null,"  ",null,null,null,null,null,null,null,null,null,null,null,", ",null,null,null,null,null,"  ",null,null,null,null,null,null,"N/A","N/A","ƏMƏK HAQQI",null,"008",null," ","AGHJA_H"]
["",null,null,null,"  ",null,null,null,null,null,null,null,null,null,null,null,", ",null,null,null,null,null,"  ",null,null,null,null,null,null,"N/A","N/A","ƏMƏK HAQQI",null,"008",null," ","AGHJA_H"]
["",null,null,null,"  ",null,null,null,null,null,null,null,null,null,null,null,", ",null,null,null,null,null,"  ",null,null,null,null,null,null,"N/A","N/A","ƏMƏK HAQQI",null,"008",null," ","AGHJA_H"]
["",null,null,null,"  ",null,null,null,null,null,null,null,null,null,null,null,", ",null,null,null,null,null,"  ",null,null,null,null,null,null,"N/A","N/A","ƏMƏK HAQQI",null,"008",null," ","AGHJA_H"]
["",null,null,null,"  ",null,null,null,null,null,null,null,null,null,null,null,", ",null,null,null,null,null,"  ",null,null,null,null,null,null,"N/A","N/A","ƏMƏK HAQQI",null,"008",null," ","AGHJA_H"]
["",null,null,null,"  ",null,null,null,null,null,null,null,null,null,null,null,", ",null,null,null,null,null,"  ",null,null,null,null,null,null,"N/A","N/A","ƏMƏK HAQQI",null,"008",null," ","AGHJA_H"]
["",null,null,null,"  ",null,null,null,null,null,null,null,null,null,null,null,", ",null,null,null,null,null,"  ",null,null,null,null,null,null,"N/A","N/A","ƏMƏK HAQQI",null,"008",null," ","AGHJA_H"]
["",null,null,null,"  ",null,null,null,null,null,null,null,null,null,null,null,", ",null,null,null,null,null,"  ",null,null,null,null,null,null,"N/A","N/A","ƏMƏK HAQQI",null,"008",null," ","AGHJA_H"]
["",null,null,null,"  ",null,null,null,null,null,null,null,null,null,null,null,", ",null,null,null,null,null,"  ",null,null,null,null,null,null,"N/A","N/A","ƏMƏK HAQQI",null,"008",null," ","AGHJA_H"]
["",null,null,null,"  ",null,null,null,null,null,null,null,null,null,null,null,", ",null,null,null,null,null,"  ",null,null,null,null,null,null,"N/A","N/A","ƏMƏK HAQQI",null,"008",null,{"$f":"CONCATENATE((SUBSTITUTE(SUBSTITUTE(SUBSTITUTE(SUBSTITUTE(SUBSTITUTE(SUBSTITUTE(SUBSTITUTE(SUBSTITUTE(SUBSTITUTE(SUBSTITUTE(SUBSTITUTE(C2746,\"Ə\",\"A\"),\"J\",\"ZH\"),\"C\",\"J\"),\"Ç\",\"CH\"),\"İ\",\"I\"),\"Ğ\",\"GH\"),\"Ö\",\"O\"),\"Ü\",\"U\"),\"Ş\",\"SH\"),\"Q\",\"G\"),\"X\",\"KH\")),\" \",(SUBSTITUTE(SUBSTITUTE(SUBSTITUTE(SUBSTITUTE(SUBSTITUTE(SUBSTITUTE(SUBSTITUTE(SUBSTITUTE(SUBSTITUTE(SUBSTITUTE(SUBSTITUTE(B2746,\"Ə\",\"A\"),\"J\",\"ZH\"),\"C\",\"J\"),\"Ç\",\"CH\"),\"İ\",\"I\"),\"Ğ\",\"GH\"),\"Ö\",\"O\"),\"Ü\",\"U\"),\"Ş\",\"SH\"),\"Q\",\"G\"),\"X\",\"KH\")))","v":" "},"AGHJA_H"]
["",null,null,null,{"$f":"CONCATENATE((SUBSTITUTE(SUBSTITUTE(SUBSTITUTE(SUBSTITUTE(SUBSTITUTE(SUBSTITUTE(SUBSTITUTE(SUBSTITUTE(SUBSTITUTE(SUBSTITUTE(SUBSTITUTE(C2747,\"Ə\",\"A\"),\"J\",\"ZH\"),\"C\",\"J\"),\"Ç\",\"CH\"),\"İ\",\"I\"),\"Ğ\",\"GH\"),\"Ö\",\"O\"),\"Ü\",\"U\"),\"Ş\",\"SH\"),\"Q\",\"G\"),\"X\",\"KH\")),\" \",(SUBSTITUTE(SUBSTITUTE(SUBSTITUTE(SUBSTITUTE(SUBSTITUTE(SUBSTITUTE(SUBSTITUTE(SUBSTITUTE(SUBSTITUTE(SUBSTITUTE(SUBSTITUTE(B2747,\"Ə\",\"A\"),\"J\",\"ZH\"),\"C\",\"J\"),\"Ç\",\"CH\"),\"İ\",\"I\"),\"Ğ\",\"GH\"),\"Ö\",\"O\"),\"Ü\",\"U\"),\"Ş\",\"SH\"),\"Q\",\"G\"),\"X\",\"KH\")),\" \",(SUBSTITUTE(SUBSTITUTE(SUBSTITUTE(SUBSTITUTE(SUBSTITUTE(SUBSTITUTE(SUBSTITUTE(SUBSTITUTE(SUBSTITUTE(SUBSTITUTE(SUBSTITUTE(SUBSTITUTE(SUBSTITUTE(D2747,\" OĞLU\",\"\"),\" QIZI\",\"\"),\"Ə\",\"A\"),\"J\",\"ZH\"),\"C\",\"J\"),\"Ç\",\"CH\"),\"İ\",\"I\"),\"Ğ\",\"GH\"),\"Ö\",\"O\"),\"Ü\",\"U\"),\"Ş\",\"SH\"),\"Q\",\"G\"),\"X\",\"KH\")))","v":"  "},null,null,null,null,null,null,null,null,null,null,null,{"$f":"CONCATENATE((SUBSTITUTE(SUBSTITUTE(SUBSTITUTE(SUBSTITUTE(SUBSTITUTE(SUBSTITUTE(SUBSTITUTE(SUBSTITUTE(SUBSTITUTE(SUBSTITUTE(SUBSTITUTE(O2747,\"Ə\",\"A\"),\"J\",\"ZH\"),\"C\",\"J\"),\"Ç\",\"CH\"),\"İ\",\"I\"),\"Ğ\",\"GH\"),\"Ö\",\"O\"),\"Ü\",\"U\"),\"Ş\",\"SH\"),\"Q\",\"G\"),\"X\",\"KH\")),\", \",(SUBSTITUTE(SUBSTITUTE(SUBSTITUTE(SUBSTITUTE(SUBSTITUTE(SUBSTITUTE(SUBSTITUTE(SUBSTITUTE(SUBSTITUTE(SUBSTITUTE(SUBSTITUTE(M2747,\"Ə\",\"A\"),\"J\",\"ZH\"),\"C\",\"J\"),\"Ç\",\"CH\"),\"İ\",\"I\"),\"Ğ\",\"GH\"),\"Ö\",\"O\"),\"Ü\",\"U\"),\"Ş\",\"SH\"),\"Q\",\"G\"),\"X\",\"KH\")))","v":", "},null,null,null,null,null,"  ",null,null,null,null,null,null,"N/A","N/A","ƏMƏK HAQQI",null,"008",null," ","AGHJA_H"]
["",null,null,null,"  ",null,null,null,null,null,null,null,null,null,null,null,", ",null,null,null,null,null,"  ",null,null,null,null,null,null,"N/A","N/A","ƏMƏK HAQQI",null,"008",null," ","AGHJA_H"]
["",null,null,null,"  ",null,null,null,null,null,null,null,null,null,null,null,", ",null,null,null,null,null,"  ",null,null,null,null,null,null,"N/A","N/A","ƏMƏK HAQQI",null,"008",null," ","AGHJA_H"]
["",null,null,null,"  ",null,null,null,null,null,null,null,null,null,null,null,", ",null,null,null,null,null,"  ",null,null,null,null,null,null,"N/A","N/A","ƏMƏK HAQQI",null,"008",null," ","AGHJA_H"]
["",null,null,null,"  ",null,null,null,null,null,null,null,null,null,null,null,", ",null,null,null,null,null,"  ",null,null,null,null,null,null,"N/A","N/A","ƏMƏK HAQQI",null,"008",null," ","AGHJA_H"]
["",null,null,null,"  ",null,null,null,null,null,null,null,null,null,null,null,", ",null,null,null,null,null,"  ",null,null,null,null,null,null,"N/A","N/A","ƏMƏK HAQQI",null,"008",null," ","AGHJA_H"]
["",null,null,null,"  ",null,null,null,null,null,null,null,null,null,null,null,", ",null,null,null,null,null,"  ",null,null,null,null,null,null,"N/A","N/A","ƏMƏK HAQQI",null,"008",null," ","AGHJA_H"]
["",null,null,null,"  ",null,null,null,null,null,null,null,null,null,null,null,", ",null,null,null,null,null,"  ",null,null,null,null,null,null,"N/A","N/A","ƏMƏK HAQQI",null,"008",null," ","AGHJA_H"]
["",null,null,null,"  ",null,null,null,null,null,null,null,null,null,null,null,", ",null,null,null,null,null,"  ",null,null,null,null,null,null,"N/A","N/A","ƏMƏK HAQQI",null,"008",null," ","AGHJA_H"]
["",null,null,null,"  ",null,null,null,null,null,null,null,null,null,null,null,", ",null,null,null,null,null,"  ",null,null,null,null,null,null,"N/A","N/A","ƏMƏK HAQQI",null,"008",null," ","AGHJA_H"]
["",null,null,null,"  ",null,null,null,null,null,null,null,null,null,null,null,", ",null,null,null,null,null,"  ",null,null,null,null,null,null,"N/A","N/A","ƏMƏK HAQQI",null,"008",null," ","AGHJA_H"]
["",null,null,null,"  ",null,null,null,null,null,null,null,null,null,null,null,", ",null,null,null,null,null,"  ",null,null,null,null,null,null,"N/A","N/A","ƏMƏK HAQQI",null,"008",null," ","AGHJA_H"]
["",null,null,null,"  ",null,null,null,null,null,null,null,null,null,null,null,", ",null,null,null,null,null,"  ",null,null,null,null,null,null,"N/A","N/A","ƏMƏK HAQQI",null,"008",null," ","AGHJA_H"]
["",null,null,null,"  ",null,null,null,null,null,null,null,null,null,null,null,", ",null,null,null,null,null,"  ",null,null,null,null,null,null,"N/A","N/A","ƏMƏK HAQQI",null,"008",null," ","AGHJA_H"]
["",null,null,null,"  ",null,null,null,null,null,null,null,null,null,null,null,", ",null,null,null,null,null,"  ",null,null,null,null,null,null,"N/A","N/A","ƏMƏK HAQQI",null,"008",null," ","AGHJA_H"]
["",null,null,null,"  ",null,null,null,null,null,null,null,null,null,null,null,", ",null,null,null,null,null,"  ",null,null,null,null,null,null,"N/A","N/A","ƏMƏK HAQQI",null,"008",null," ","AGHJA_H"]
["",null,null,null,"  ",null,null,null,null,null,null,null,null,null,null,null,", ",null,null,null,null,null,"  ",null,null,null,null,null,null,"N/A","N/A","ƏMƏK HAQQI",null,"008",null," ","AGHJA_H"]
["",null,null,null,"  ",null,null,null,null,null,null,null,null,null,null,null,", ",null,null,null,null,null,"  ",null,null,null,null,null,null,"N/A","N/A","ƏMƏK HAQQI",null,"008",null," ","AGHJA_H"]
["",null,null,null,"  ",null,null,null,null,null,null,null,null,null,null,null,", ",null,null,null,null,null,"  ",null,null,null,null,null,null,"N/A","N/A","ƏMƏK HAQQI",null,"008",null," ","AGHJA_H"]
["",null,null,null,"  ",null,null,null,null,null,null,null,null,null,null,null,", ",null,null,null,null,null,"  ",null,null,null,null,null,null,"N/A","N/A","ƏMƏK HAQQI",null,"008",null," ","AGHJA_H"]
["",null,null,null,"  ",null,null,null,null,null,null,null,null,null,null,null,", ",null,null,null,null,null,"  ",null,null,null,null,null,null,"N/A","N/A","ƏMƏK HAQQI",null,"008",null," ","AGHJA_H"]
["",null,null,null,"  ",null,null,null,null,null,null,null,null,null,null,null,", ",null,null,null,null,null,"  ",null,null,null,null,null,null,"N/A","N/A","ƏMƏK HAQQI",null,"008",null," ","AGHJA_H"]
["",null,null,null,"  ",null,null,null,null,null,null,null,null,null,null,null,", ",null,null,null,null,null,"  ",null,null,null,null,null,null,"N/A","N/A","ƏMƏK HAQQI",null,"008",null," ","AGHJA_H"]
["",null,null,null,"  ",null,null,null,null,null,null,null,null,null,null,null,", ",null,null,null,null,null,"  ",null,null,null,null,null,null,"N/A","N/A","ƏMƏK HAQQI",null,"008",null," ","AGHJA_H"]
["",null,null,null,"  ",null,null,null,null,null,null,null,null,null,null,null,", ",null,null,null,null,null,"  ",null,null,null,null,null,null,"N/A","N/A","ƏMƏK HAQQI",null,"008",null," ","AGHJA_H"]
["",null,null,null,"  ",null,null,null,null,null,null,null,null,null,null,null,", ",null,null,null,null,null,"  ",null,null,null,null,null,null,"N/A","N/A","ƏMƏK HAQQI",null,"008",null," ","AGHJA_H"]
["",null,null,null,"  ",null,null,null,null,null,null,null,null,null,null,null,", ",null,null,null,null,null,"  ",null,null,null,null,null,null,"N/A","N/A","ƏMƏK HAQQI",null,"008",null," ","AGHJA_H"]
["",null,null,null,"  ",null,null,null,null,null,null,null,null,null,null,null,", ",null,null,null,null,null,"  ",null,null,null,null,null,null,"N/A","N/A","ƏMƏK HAQQI",null,"008",null," ","AGHJA_H"]
["",null,null,null,"  ",null,null,null,null,null,null,null,null,null,null,null,", ",null,null,null,null,null,"  ",null,null,null,null,null,null,"N/A","N/A","ƏMƏK HAQQI",null,"008",null," ","AGHJA_H"]
["",null,null,null,"  ",null,null,null,null,null,null,null,null,null,null,null,", ",null,null,null,null,null,"  ",null,null,null,null,null,null,"N/A","N/A","ƏMƏK HAQQI",null,"008",null," ","AGHJA_H"]
["",null,null,null,"  ",null,null,null,null,null,null,null,null,null,null,null,", ",null,null,null,null,null,"  ",null,null,null,null,null,null,"N/A","N/A","ƏMƏK HAQQI",null,"008",null," ","AGHJA_H"]
["",null,null,null,"  ",null,null,null,null,null,null,null,null,null,null,null,", ",null,null,null,null,null,"  ",null,null,null,null,null,null,"N/A","N/A","ƏMƏK HAQQI",null,"008",null,{"$f":"CONCATENATE((SUBSTITUTE(SUBSTITUTE(SUBSTITUTE(SUBSTITUTE(SUBSTITUTE(SUBSTITUTE(SUBSTITUTE(SUBSTITUTE(SUBSTITUTE(SUBSTITUTE(SUBSTITUTE(C2810,\"Ə\",\"A\"),\"J\",\"ZH\"),\"C\",\"J\"),\"Ç\",\"CH\"),\"İ\",\"I\"),\"Ğ\",\"GH\"),\"Ö\",\"O\"),\"Ü\",\"U\"),\"Ş\",\"SH\"),\"Q\",\"G\"),\"X\",\"KH\")),\" \",(SUBSTITUTE(SUBSTITUTE(SUBSTITUTE(SUBSTITUTE(SUBSTITUTE(SUBSTITUTE(SUBSTITUTE(SUBSTITUTE(SUBSTITUTE(SUBSTITUTE(SUBSTITUTE(B2810,\"Ə\",\"A\"),\"J\",\"ZH\"),\"C\",\"J\"),\"Ç\",\"CH\"),\"İ\",\"I\"),\"Ğ\",\"GH\"),\"Ö\",\"O\"),\"Ü\",\"U\"),\"Ş\",\"SH\"),\"Q\",\"G\"),\"X\",\"KH\")))","v":" "},"AGHJA_H"]
["",null,null,null,{"$f":"CONCATENATE((SUBSTITUTE(SUBSTITUTE(SUBSTITUTE(SUBSTITUTE(SUBSTITUTE(SUBSTITUTE(SUBSTITUTE(SUBSTITUTE(SUBSTITUTE(SUBSTITUTE(SUBSTITUTE(C2811,\"Ə\",\"A\"),\"J\",\"ZH\"),\"C\",\"J\"),\"Ç\",\"CH\"),\"İ\",\"I\"),\"Ğ\",\"GH\"),\"Ö\",\"O\"),\"Ü\",\"U\"),\"Ş\",\"SH\"),\"Q\",\"G\"),\"X\",\"KH\")),\" \",(SUBSTITUTE(SUBSTITUTE(SUBSTITUTE(SUBSTITUTE(SUBSTITUTE(SUBSTITUTE(SUBSTITUTE(SUBSTITUTE(SUBSTITUTE(SUBSTITUTE(SUBSTITUTE(B2811,\"Ə\",\"A\"),\"J\",\"ZH\"),\"C\",\"J\"),\"Ç\",\"CH\"),\"İ\",\"I\"),\"Ğ\",\"GH\"),\"Ö\",\"O\"),\"Ü\",\"U\"),\"Ş\",\"SH\"),\"Q\",\"G\"),\"X\",\"KH\")),\" \",(SUBSTITUTE(SUBSTITUTE(SUBSTITUTE(SUBSTITUTE(SUBSTITUTE(SUBSTITUTE(SUBSTITUTE(SUBSTITUTE(SUBSTITUTE(SUBSTITUTE(SUBSTITUTE(SUBSTITUTE(SUBSTITUTE(D2811,\" OĞLU\",\"\"),\" QIZI\",\"\"),\"Ə\",\"A\"),\"J\",\"ZH\"),\"C\",\"J\"),\"Ç\",\"CH\"),\"İ\",\"I\"),\"Ğ\",\"GH\"),\"Ö\",\"O\"),\"Ü\",\"U\"),\"Ş\",\"SH\"),\"Q\",\"G\"),\"X\",\"KH\")))","v":"  "},null,null,null,null,null,null,null,null,null,null,null,{"$f":"CONCATENATE((SUBSTITUTE(SUBSTITUTE(SUBSTITUTE(SUBSTITUTE(SUBSTITUTE(SUBSTITUTE(SUBSTITUTE(SUBSTITUTE(SUBSTITUTE(SUBSTITUTE(SUBSTITUTE(O2811,\"Ə\",\"A\"),\"J\",\"ZH\"),\"C\",\"J\"),\"Ç\",\"CH\"),\"İ\",\"I\"),\"Ğ\",\"GH\"),\"Ö\",\"O\"),\"Ü\",\"U\"),\"Ş\",\"SH\"),\"Q\",\"G\"),\"X\",\"KH\")),\", \",(SUBSTITUTE(SUBSTITUTE(SUBSTITUTE(SUBSTITUTE(SUBSTITUTE(SUBSTITUTE(SUBSTITUTE(SUBSTITUTE(SUBSTITUTE(SUBSTITUTE(SUBSTITUTE(M2811,\"Ə\",\"A\"),\"J\",\"ZH\"),\"C\",\"J\"),\"Ç\",\"CH\"),\"İ\",\"I\"),\"Ğ\",\"GH\"),\"Ö\",\"O\"),\"Ü\",\"U\"),\"Ş\",\"SH\"),\"Q\",\"G\"),\"X\",\"KH\")))","v":", "},null,null,null,null,null,"  ",null,null,null,null,null,null,"N/A","N/A","ƏMƏK HAQQI",null,"008",null," ","AGHJA_H"]
["",null,null,null,"  ",null,null,null,null,null,null,null,null,null,null,null,", ",null,null,null,null,null,"  ",null,null,null,null,null,null,"N/A","N/A","ƏMƏK HAQQI",null,"008",null," ","AGHJA_H"]
["",null,null,null,"  ",null,null,null,null,null,null,null,null,null,null,null,", ",null,null,null,null,null,"  ",null,null,null,null,null,null,"N/A","N/A","ƏMƏK HAQQI",null,"008",null," ","AGHJA_H"]
["",null,null,null,"  ",null,null,null,null,null,null,null,null,null,null,null,", ",null,null,null,null,null,"  ",null,null,null,null,null,null,"N/A","N/A","ƏMƏK HAQQI",null,"008",null," ","AGHJA_H"]
["",null,null,null,"  ",null,null,null,null,null,null,null,null,null,null,null,", ",null,null,null,null,null,"  ",null,null,null,null,null,null,"N/A","N/A","ƏMƏK HAQQI",null,"008",null," ","AGHJA_H"]
["",null,null,null,"  ",null,null,null,null,null,null,null,null,null,null,null,", ",null,null,null,null,null,"  ",null,null,null,null,null,null,"N/A","N/A","ƏMƏK HAQQI",null,"008",null," ","AGHJA_H"]
["",null,null,null,"  ",null,null,null,null,null,null,null,null,null,null,null,", ",null,null,null,null,null,"  ",null,null,null,null,null,null,"N/A","N/A","ƏMƏK HAQQI",null,"008",null," ","AGHJA_H"]
["",null,null,null,"  ",null,null,null,null,null,null,null,null,null,null,null,", ",null,null,null,null,null,"  ",null,null,null,null,null,null,"N/A","N/A","ƏMƏK HAQQI",null,"008",null," ","AGHJA_H"]
["",null,null,null,"  ",null,null,null,null,null,null,null,null,null,null,null,", ",null,null,null,null,null,"  ",null,null,null,null,null,null,"N/A","N/A","ƏMƏK HAQQI",null,"008",null," ","AGHJA_H"]
["",null,null,null,"  ",null,null,null,null,null,null,null,null,null,null,null,", ",null,null,null,null,null,"  ",null,null,null,null,null,null,"N/A","N/A","ƏMƏK HAQQI",null,"008",null," ","AGHJA_H"]
["",null,null,null,"  ",null,null,null,null,null,null,null,null,null,null,null,", ",null,null,null,null,null,"  ",null,null,null,null,null,null,"N/A","N/A","ƏMƏK HAQQI",null,"008",null," ","AGHJA_H"]
["",null,null,null,"  ",null,null,null,null,null,null,null,null,null,null,null,", ",null,null,null,null,null,"  ",null,null,null,null,null,null,"N/A","N/A","ƏMƏK HAQQI",null,"008",null," ","AGHJA_H"]
["",null,null,null,"  ",null,null,null,null,null,null,null,null,null,null,null,", ",null,null,null,null,null,"  ",null,null,null,null,null,null,"N/A","N/A","ƏMƏK HAQQI",null,"008",null," ","AGHJA_H"]
["",null,null,null,"  ",null,null,null,null,null,null,null,null,null,null,null,", ",null,null,null,null,null,"  ",null,null,null,null,null,null,"N/A","N/A","ƏMƏK HAQQI",null,"008",null," ","AGHJA_H"]
["",null,null,null,"  ",null,null,null,null,null,null,null,null,null,null,null,", ",null,null,null,null,null,"  ",null,null,null,null,null,null,"N/A","N/A","ƏMƏK HAQQI",null,"008",null," ","AGHJA_H"]
["",null,null,null,"  ",null,null,null,null,null,null,null,null,null,null,null,", ",null,null,null,null,null,"  ",null,null,null,null,null,null,"N/A","N/A","ƏMƏK HAQQI",null,"008",null," ","AGHJA_H"]
["",null,null,null,"  ",null,null,null,null,null,null,null,null,null,null,null,", ",null,null,null,null,null,"  ",null,null,null,null,null,null,"N/A","N/A","ƏMƏK HAQQI",null,"008",null," ","AGHJA_H"]
["",null,null,null,"  ",null,null,null,null,null,null,null,null,null,null,null,", ",null,null,null,null,null,"  ",null,null,null,null,null,null,"N/A","N/A","ƏMƏK HAQQI",null,"008",null," ","AGHJA_H"]
["",null,null,null,"  ",null,null,null,null,null,null,null,null,null,null,null,", ",null,null,null,null,null,"  ",null,null,null,null,null,null,"N/A","N/A","ƏMƏK HAQQI",null,"008",null," ","AGHJA_H"]
["",null,null,null,"  ",null,null,null,null,null,null,null,null,null,null,null,", ",null,null,null,null,null,"  ",null,null,null,null,null,null,"N/A","N/A","ƏMƏK HAQQI",null,"008",null," ","AGHJA_H"]
["",null,null,null,"  ",null,null,null,null,null,null,null,null,null,null,null,", ",null,null,null,null,null,"  ",null,null,null,null,null,null,"N/A","N/A","ƏMƏK HAQQI",null,"008",null," ","AGHJA_H"]
["",null,null,null,"  ",null,null,null,null,null,null,null,null,null,null,null,", ",null,null,null,null,null,"  ",null,null,null,null,null,null,"N/A","N/A","ƏMƏK HAQQI",null,"008",null," ","AGHJA_H"]
["",null,null,null,"  ",null,null,null,null,null,null,null,null,null,null,null,", ",null,null,null,null,null,"  ",null,null,null,null,null,null,"N/A","N/A","ƏMƏK HAQQI",null,"008",null," ","AGHJA_H"]
["",null,null,null,"  ",null,null,null,null,null,null,null,null,null,null,null,", ",null,null,null,null,null,"  ",null,null,null,null,null,null,"N/A","N/A","ƏMƏK HAQQI",null,"008",null," ","AGHJA_H"]
["",null,null,null,"  ",null,null,null,null,null,null,null,null,null,null,null,", ",null,null,null,null,null,"  ",null,null,null,null,null,null,"N/A","N/A","ƏMƏK HAQQI",null,"008",null," ","AGHJA_H"]
["",null,null,null,"  ",null,null,null,null,null,null,null,null,null,null,null,", ",null,null,null,null,null,"  ",null,null,null,null,null,null,"N/A","N/A","ƏMƏK HAQQI",null,"008",null," ","AGHJA_H"]
["",null,null,null,"  ",null,null,null,null,null,null,null,null,null,null,null,", ",null,null,null,null,null,"  ",null,null,null,null,null,null,"N/A","N/A","ƏMƏK HAQQI",null,"008",null," ","AGHJA_H"]
["",null,null,null,"  ",null,null,null,null,null,null,null,null,null,null,null,", ",null,null,null,null,null,"  ",null,null,null,null,null,null,"N/A","N/A","ƏMƏK HAQQI",null,"008",null," ","AGHJA_H"]
["",null,null,null,"  ",null,null,null,null,null,null,null,null,null,null,null,", ",null,null,null,null,null,"  ",null,null,null,null,null,null,"N/A","N/A","ƏMƏK HAQQI",null,"008",null," ","AGHJA_H"]
["",null,null,null,"  ",null,null,null,null,null,null,null,null,null,null,null,", ",null,null,null,null,null,"  ",null,null,null,null,null,null,"N/A","N/A","ƏMƏK HAQQI",null,"008",null," ","AGHJA_H"]
["",null,null,null,"  ",null,null,null,null,null,null,null,null,null,null,null,", ",null,null,null,null,null,"  ",null,null,null,null,null,null,"N/A","N/A","ƏMƏK HAQQI",null,"008",null," ","AGHJA_H"]
["",null,null,null,"  ",null,null,null,null,null,null,null,null,null,null,null,", ",null,null,null,null,null,"  ",null,null,null,null,null,null,"N/A","N/A","ƏMƏK HAQQI",null,"008",null,{"$f":"CONCATENATE((SUBSTITUTE(SUBSTITUTE(SUBSTITUTE(SUBSTITUTE(SUBSTITUTE(SUBSTITUTE(SUBSTITUTE(SUBSTITUTE(SUBSTITUTE(SUBSTITUTE(SUBSTITUTE(C2874,\"Ə\",\"A\"),\"J\",\"ZH\"),\"C\",\"J\"),\"Ç\",\"CH\"),\"İ\",\"I\"),\"Ğ\",\"GH\"),\"Ö\",\"O\"),\"Ü\",\"U\"),\"Ş\",\"SH\"),\"Q\",\"G\"),\"X\",\"KH\")),\" \",(SUBSTITUTE(SUBSTITUTE(SUBSTITUTE(SUBSTITUTE(SUBSTITUTE(SUBSTITUTE(SUBSTITUTE(SUBSTITUTE(SUBSTITUTE(SUBSTITUTE(SUBSTITUTE(B2874,\"Ə\",\"A\"),\"J\",\"ZH\"),\"C\",\"J\"),\"Ç\",\"CH\"),\"İ\",\"I\"),\"Ğ\",\"GH\"),\"Ö\",\"O\"),\"Ü\",\"U\"),\"Ş\",\"SH\"),\"Q\",\"G\"),\"X\",\"KH\")))","v":" "},"AGHJA_H"]
["",null,null,null,{"$f":"CONCATENATE((SUBSTITUTE(SUBSTITUTE(SUBSTITUTE(SUBSTITUTE(SUBSTITUTE(SUBSTITUTE(SUBSTITUTE(SUBSTITUTE(SUBSTITUTE(SUBSTITUTE(SUBSTITUTE(C2875,\"Ə\",\"A\"),\"J\",\"ZH\"),\"C\",\"J\"),\"Ç\",\"CH\"),\"İ\",\"I\"),\"Ğ\",\"GH\"),\"Ö\",\"O\"),\"Ü\",\"U\"),\"Ş\",\"SH\"),\"Q\",\"G\"),\"X\",\"KH\")),\" \",(SUBSTITUTE(SUBSTITUTE(SUBSTITUTE(SUBSTITUTE(SUBSTITUTE(SUBSTITUTE(SUBSTITUTE(SUBSTITUTE(SUBSTITUTE(SUBSTITUTE(SUBSTITUTE(B2875,\"Ə\",\"A\"),\"J\",\"ZH\"),\"C\",\"J\"),\"Ç\",\"CH\"),\"İ\",\"I\"),\"Ğ\",\"GH\"),\"Ö\",\"O\"),\"Ü\",\"U\"),\"Ş\",\"SH\"),\"Q\",\"G\"),\"X\",\"KH\")),\" \",(SUBSTITUTE(SUBSTITUTE(SUBSTITUTE(SUBSTITUTE(SUBSTITUTE(SUBSTITUTE(SUBSTITUTE(SUBSTITUTE(SUBSTITUTE(SUBSTITUTE(SUBSTITUTE(SUBSTITUTE(SUBSTITUTE(D2875,\" OĞLU\",\"\"),\" QIZI\",\"\"),\"Ə\",\"A\"),\"J\",\"ZH\"),\"C\",\"J\"),\"Ç\",\"CH\"),\"İ\",\"I\"),\"Ğ\",\"GH\"),\"Ö\",\"O\"),\"Ü\",\"U\"),\"Ş\",\"SH\"),\"Q\",\"G\"),\"X\",\"KH\")))","v":"  "},null,null,null,null,null,null,null,null,null,null,null,{"$f":"CONCATENATE((SUBSTITUTE(SUBSTITUTE(SUBSTITUTE(SUBSTITUTE(SUBSTITUTE(SUBSTITUTE(SUBSTITUTE(SUBSTITUTE(SUBSTITUTE(SUBSTITUTE(SUBSTITUTE(O2875,\"Ə\",\"A\"),\"J\",\"ZH\"),\"C\",\"J\"),\"Ç\",\"CH\"),\"İ\",\"I\"),\"Ğ\",\"GH\"),\"Ö\",\"O\"),\"Ü\",\"U\"),\"Ş\",\"SH\"),\"Q\",\"G\"),\"X\",\"KH\")),\", \",(SUBSTITUTE(SUBSTITUTE(SUBSTITUTE(SUBSTITUTE(SUBSTITUTE(SUBSTITUTE(SUBSTITUTE(SUBSTITUTE(SUBSTITUTE(SUBSTITUTE(SUBSTITUTE(M2875,\"Ə\",\"A\"),\"J\",\"ZH\"),\"C\",\"J\"),\"Ç\",\"CH\"),\"İ\",\"I\"),\"Ğ\",\"GH\"),\"Ö\",\"O\"),\"Ü\",\"U\"),\"Ş\",\"SH\"),\"Q\",\"G\"),\"X\",\"KH\")))","v":", "},null,null,null,null,null,"  ",null,null,null,null,null,null,"N/A","N/A","ƏMƏK HAQQI",null,"008",null," ","AGHJA_H"]
["",null,null,null,"  ",null,null,null,null,null,null,null,null,null,null,null,", ",null,null,null,null,null,"  ",null,null,null,null,null,null,"N/A","N/A","ƏMƏK HAQQI",null,"008",null," ","AGHJA_H"]
["",null,null,null,"  ",null,null,null,null,null,null,null,null,null,null,null,", ",null,null,null,null,null,"  ",null,null,null,null,null,null,"N/A","N/A","ƏMƏK HAQQI",null,"008",null," ","AGHJA_H"]
["",null,null,null,"  ",null,null,null,null,null,null,null,null,null,null,null,", ",null,null,null,null,null,"  ",null,null,null,null,null,null,"N/A","N/A","ƏMƏK HAQQI",null,"008",null," ","AGHJA_H"]
["",null,null,null,"  ",null,null,null,null,null,null,null,null,null,null,null,", ",null,null,null,null,null,"  ",null,null,null,null,null,null,"N/A","N/A","ƏMƏK HAQQI",null,"008",null," ","AGHJA_H"]
["",null,null,null,"  ",null,null,null,null,null,null,null,null,null,null,null,", ",null,null,null,null,null,"  ",null,null,null,null,null,null,"N/A","N/A","ƏMƏK HAQQI",null,"008",null," ","AGHJA_H"]
["",null,null,null,"  ",null,null,null,null,null,null,null,null,null,null,null,", ",null,null,null,null,null,"  ",null,null,null,null,null,null,"N/A","N/A","ƏMƏK HAQQI",null,"008",null," ","AGHJA_H"]
["",null,null,null,"  ",null,null,null,null,null,null,null,null,null,null,null,", ",null,null,null,null,null,"  ",null,null,null,null,null,null,"N/A","N/A","ƏMƏK HAQQI",null,"008",null," ","AGHJA_H"]
["",null,null,null,"  ",null,null,null,null,null,null,null,null,null,null,null,", ",null,null,null,null,null,"  ",null,null,null,null,null,null,"N/A","N/A","ƏMƏK HAQQI",null,"008",null," ","AGHJA_H"]
["",null,null,null,"  ",null,null,null,null,null,null,null,null,null,null,null,", ",null,null,null,null,null,"  ",null,null,null,null,null,null,"N/A","N/A","ƏMƏK HAQQI",null,"008",null," ","AGHJA_H"]
["",null,null,null,"  ",null,null,null,null,null,null,null,null,null,null,null,", ",null,null,null,null,null,"  ",null,null,null,null,null,null,"N/A","N/A","ƏMƏK HAQQI",null,"008",null," ","AGHJA_H"]
["",null,null,null,"  ",null,null,null,null,null,null,null,null,null,null,null,", ",null,null,null,null,null,"  ",null,null,null,null,null,null,"N/A","N/A","ƏMƏK HAQQI",null,"008",null," ","AGHJA_H"]
["",null,null,null,"  ",null,null,null,null,null,null,null,null,null,null,null,", ",null,null,null,null,null,"  ",null,null,null,null,null,null,"N/A","N/A","ƏMƏK HAQQI",null,"008",null," ","AGHJA_H"]
["",null,null,null,"  ",null,null,null,null,null,null,null,null,null,null,null,", ",null,null,null,null,null,"  ",null,null,null,null,null,null,"N/A","N/A","ƏMƏK HAQQI",null,"008",null," ","AGHJA_H"]
["",null,null,null,"  ",null,null,null,null,null,null,null,null,null,null,null,", ",null,null,null,null,null,"  ",null,null,null,null,null,null,"N/A","N/A","ƏMƏK HAQQI",null,"008",null," ","AGHJA_H"]
["",null,null,null,"  ",null,null,null,null,null,null,null,null,null,null,null,", ",null,null,null,null,null,"  ",null,null,null,null,null,null,"N/A","N/A","ƏMƏK HAQQI",null,"008",null," ","AGHJA_H"]
["",null,null,null,"  ",null,null,null,null,null,null,null,null,null,null,null,", ",null,null,null,null,null,"  ",null,null,null,null,null,null,"N/A","N/A","ƏMƏK HAQQI",null,"008",null," ","AGHJA_H"]
["",null,null,null,"  ",null,null,null,null,null,null,null,null,null,null,null,", ",null,null,null,null,null,"  ",null,null,null,null,null,null,"N/A","N/A","ƏMƏK HAQQI",null,"008",null," ","AGHJA_H"]
["",null,null,null,"  ",null,null,null,null,null,null,null,null,null,null,null,", ",null,null,null,null,null,"  ",null,null,null,null,null,null,"N/A","N/A","ƏMƏK HAQQI",null,"008",null," ","AGHJA_H"]
["",null,null,null,"  ",null,null,null,null,null,null,null,null,null,null,null,", ",null,null,null,null,null,"  ",null,null,null,null,null,null,"N/A","N/A","ƏMƏK HAQQI",null,"008",null," ","AGHJA_H"]
["",null,null,null,"  ",null,null,null,null,null,null,null,null,null,null,null,", ",null,null,null,null,null,"  ",null,null,null,null,null,null,"N/A","N/A","ƏMƏK HAQQI",null,"008",null," ","AGHJA_H"]
["",null,null,null,"  ",null,null,null,null,null,null,null,null,null,null,null,", ",null,null,null,null,null,"  ",null,null,null,null,null,null,"N/A","N/A","ƏMƏK HAQQI",null,"008",null," ","AGHJA_H"]
["",null,null,null,"  ",null,null,null,null,null,null,null,null,null,null,null,", ",null,null,null,null,null,"  ",null,null,null,null,null,null,"N/A","N/A","ƏMƏK HAQQI",null,"008",null," ","AGHJA_H"]
["",null,null,null,"  ",null,null,null,null,null,null,null,null,null,null,null,", ",null,null,null,null,null,"  ",null,null,null,null,null,null,"N/A","N/A","ƏMƏK HAQQI",null,"008",null," ","AGHJA_H"]
["",null,null,null,"  ",null,null,null,null,null,null,null,null,null,null,null,", ",null,null,null,null,null,"  ",null,null,null,null,null,null,"N/A","N/A","ƏMƏK HAQQI",null,"008",null," ","AGHJA_H"]
["",null,null,null,"  ",null,null,null,null,null,null,null,null,null,null,null,", ",null,null,null,null,null,"  ",null,null,null,null,null,null,"N/A","N/A","ƏMƏK HAQQI",null,"008",null," ","AGHJA_H"]
["",null,null,null,"  ",null,null,null,null,null,null,null,null,null,null,null,", ",null,null,null,null,null,"  ",null,null,null,null,null,null,"N/A","N/A","ƏMƏK HAQQI",null,"008",null," ","AGHJA_H"]
["",null,null,null,"  ",null,null,null,null,null,null,null,null,null,null,null,", ",null,null,null,null,null,"  ",null,null,null,null,null,null,"N/A","N/A","ƏMƏK HAQQI",null,"008",null," ","AGHJA_H"]
["",null,null,null,"  ",null,null,null,null,null,null,null,null,null,null,null,", ",null,null,null,null,null,"  ",null,null,null,null,null,null,"N/A","N/A","ƏMƏK HAQQI",null,"008",null," ","AGHJA_H"]
["",null,null,null,"  ",null,null,null,null,null,null,null,null,null,null,null,", ",null,null,null,null,null,"  ",null,null,null,null,null,null,"N/A","N/A","ƏMƏK HAQQI",null,"008",null," ","AGHJA_H"]
["",null,null,null,"  ",null,null,null,null,null,null,null,null,null,null,null,", ",null,null,null,null,null,"  ",null,null,null,null,null,null,"N/A","N/A","ƏMƏK HAQQI",null,"008",null," ","AGHJA_H"]
["",null,null,null,"  ",null,null,null,null,null,null,null,null,null,null,null,", ",null,null,null,null,null,"  ",null,null,null,null,null,null,"N/A","N/A","ƏMƏK HAQQI",null,"008",null,{"$f":"CONCATENATE((SUBSTITUTE(SUBSTITUTE(SUBSTITUTE(SUBSTITUTE(SUBSTITUTE(SUBSTITUTE(SUBSTITUTE(SUBSTITUTE(SUBSTITUTE(SUBSTITUTE(SUBSTITUTE(C2938,\"Ə\",\"A\"),\"J\",\"ZH\"),\"C\",\"J\"),\"Ç\",\"CH\"),\"İ\",\"I\"),\"Ğ\",\"GH\"),\"Ö\",\"O\"),\"Ü\",\"U\"),\"Ş\",\"SH\"),\"Q\",\"G\"),\"X\",\"KH\")),\" \",(SUBSTITUTE(SUBSTITUTE(SUBSTITUTE(SUBSTITUTE(SUBSTITUTE(SUBSTITUTE(SUBSTITUTE(SUBSTITUTE(SUBSTITUTE(SUBSTITUTE(SUBSTITUTE(B2938,\"Ə\",\"A\"),\"J\",\"ZH\"),\"C\",\"J\"),\"Ç\",\"CH\"),\"İ\",\"I\"),\"Ğ\",\"GH\"),\"Ö\",\"O\"),\"Ü\",\"U\"),\"Ş\",\"SH\"),\"Q\",\"G\"),\"X\",\"KH\")))","v":" "},"AGHJA_H"]
["",null,null,null,{"$f":"CONCATENATE((SUBSTITUTE(SUBSTITUTE(SUBSTITUTE(SUBSTITUTE(SUBSTITUTE(SUBSTITUTE(SUBSTITUTE(SUBSTITUTE(SUBSTITUTE(SUBSTITUTE(SUBSTITUTE(C2939,\"Ə\",\"A\"),\"J\",\"ZH\"),\"C\",\"J\"),\"Ç\",\"CH\"),\"İ\",\"I\"),\"Ğ\",\"GH\"),\"Ö\",\"O\"),\"Ü\",\"U\"),\"Ş\",\"SH\"),\"Q\",\"G\"),\"X\",\"KH\")),\" \",(SUBSTITUTE(SUBSTITUTE(SUBSTITUTE(SUBSTITUTE(SUBSTITUTE(SUBSTITUTE(SUBSTITUTE(SUBSTITUTE(SUBSTITUTE(SUBSTITUTE(SUBSTITUTE(B2939,\"Ə\",\"A\"),\"J\",\"ZH\"),\"C\",\"J\"),\"Ç\",\"CH\"),\"İ\",\"I\"),\"Ğ\",\"GH\"),\"Ö\",\"O\"),\"Ü\",\"U\"),\"Ş\",\"SH\"),\"Q\",\"G\"),\"X\",\"KH\")),\" \",(SUBSTITUTE(SUBSTITUTE(SUBSTITUTE(SUBSTITUTE(SUBSTITUTE(SUBSTITUTE(SUBSTITUTE(SUBSTITUTE(SUBSTITUTE(SUBSTITUTE(SUBSTITUTE(SUBSTITUTE(SUBSTITUTE(D2939,\" OĞLU\",\"\"),\" QIZI\",\"\"),\"Ə\",\"A\"),\"J\",\"ZH\"),\"C\",\"J\"),\"Ç\",\"CH\"),\"İ\",\"I\"),\"Ğ\",\"GH\"),\"Ö\",\"O\"),\"Ü\",\"U\"),\"Ş\",\"SH\"),\"Q\",\"G\"),\"X\",\"KH\")))","v":"  "},null,null,null,null,null,null,null,null,null,null,null,{"$f":"CONCATENATE((SUBSTITUTE(SUBSTITUTE(SUBSTITUTE(SUBSTITUTE(SUBSTITUTE(SUBSTITUTE(SUBSTITUTE(SUBSTITUTE(SUBSTITUTE(SUBSTITUTE(SUBSTITUTE(O2939,\"Ə\",\"A\"),\"J\",\"ZH\"),\"C\",\"J\"),\"Ç\",\"CH\"),\"İ\",\"I\"),\"Ğ\",\"GH\"),\"Ö\",\"O\"),\"Ü\",\"U\"),\"Ş\",\"SH\"),\"Q\",\"G\"),\"X\",\"KH\")),\", \",(SUBSTITUTE(SUBSTITUTE(SUBSTITUTE(SUBSTITUTE(SUBSTITUTE(SUBSTITUTE(SUBSTITUTE(SUBSTITUTE(SUBSTITUTE(SUBSTITUTE(SUBSTITUTE(M2939,\"Ə\",\"A\"),\"J\",\"ZH\"),\"C\",\"J\"),\"Ç\",\"CH\"),\"İ\",\"I\"),\"Ğ\",\"GH\"),\"Ö\",\"O\"),\"Ü\",\"U\"),\"Ş\",\"SH\"),\"Q\",\"G\"),\"X\",\"KH\")))","v":", "},null,null,null,null,null,"  ",null,null,null,null,null,null,"N/A","N/A","ƏMƏK HAQQI",null,"008",null," ","AGHJA_H"]
["",null,null,null,"  ",null,null,null,null,null,null,null,null,null,null,null,", ",null,null,null,null,null,"  ",null,null,null,null,null,null,"N/A","N/A","ƏMƏK HAQQI",null,"008",null," ","AGHJA_H"]
["",null,null,null,"  ",null,null,null,null,null,null,null,null,null,null,null,", ",null,null,null,null,null,"  ",null,null,null,null,null,null,"N/A","N/A","ƏMƏK HAQQI",null,"008",null," ","AGHJA_H"]
["",null,null,null,"  ",null,null,null,null,null,null,null,null,null,null,null,", ",null,null,null,null,null,"  ",null,null,null,null,null,null,"N/A","N/A","ƏMƏK HAQQI",null,"008",null," ","AGHJA_H"]
["",null,null,null,"  ",null,null,null,null,null,null,null,null,null,null,null,", ",null,null,null,null,null,"  ",null,null,null,null,null,null,"N/A","N/A","ƏMƏK HAQQI",null,"008",null," ","AGHJA_H"]
["",null,null,null,"  ",null,null,null,null,null,null,null,null,null,null,null,", ",null,null,null,null,null,"  ",null,null,null,null,null,null,"N/A","N/A","ƏMƏK HAQQI",null,"008",null," ","AGHJA_H"]
["",null,null,null,"  ",null,null,null,null,null,null,null,null,null,null,null,", ",null,null,null,null,null,"  ",null,null,null,null,null,null,"N/A","N/A","ƏMƏK HAQQI",null,"008",null," ","AGHJA_H"]
["",null,null,null,"  ",null,null,null,null,null,null,null,null,null,null,null,", ",null,null,null,null,null,"  ",null,null,null,null,null,null,"N/A","N/A","ƏMƏK HAQQI",null,"008",null," ","AGHJA_H"]
["",null,null,null,"  ",null,null,null,null,null,null,null,null,null,null,null,", ",null,null,null,null,null,"  ",null,null,null,null,null,null,"N/A","N/A","ƏMƏK HAQQI",null,"008",null," ","AGHJA_H"]
["",null,null,null,"  ",null,null,null,null,null,null,null,null,null,null,null,", ",null,null,null,null,null,"  ",null,null,null,null,null,null,"N/A","N/A","ƏMƏK HAQQI",null,"008",null," ","AGHJA_H"]
["",null,null,null,"  ",null,null,null,null,null,null,null,null,null,null,null,", ",null,null,null,null,null,"  ",null,null,null,null,null,null,"N/A","N/A","ƏMƏK HAQQI",null,"008",null," ","AGHJA_H"]
["",null,null,null,"  ",null,null,null,null,null,null,null,null,null,null,null,", ",null,null,null,null,null,"  ",null,null,null,null,null,null,"N/A","N/A","ƏMƏK HAQQI",null,"008",null," ","AGHJA_H"]
["",null,null,null,"  ",null,null,null,null,null,null,null,null,null,null,null,", ",null,null,null,null,null,"  ",null,null,null,null,null,null,"N/A","N/A","ƏMƏK HAQQI",null,"008",null," ","AGHJA_H"]
["",null,null,null,"  ",null,null,null,null,null,null,null,null,null,null,null,", ",null,null,null,null,null,"  ",null,null,null,null,null,null,"N/A","N/A","ƏMƏK HAQQI",null,"008",null," ","AGHJA_H"]
["",null,null,null,"  ",null,null,null,null,null,null,null,null,null,null,null,", ",null,null,null,null,null,"  ",null,null,null,null,null,null,"N/A","N/A","ƏMƏK HAQQI",null,"008",null," ","AGHJA_H"]
["",null,null,null,"  ",null,null,null,null,null,null,null,null,null,null,null,", ",null,null,null,null,null,"  ",null,null,null,null,null,null,"N/A","N/A","ƏMƏK HAQQI",null,"008",null," ","AGHJA_H"]
["",null,null,null,"  ",null,null,null,null,null,null,null,null,null,null,null,", ",null,null,null,null,null,"  ",null,null,null,null,null,null,"N/A","N/A","ƏMƏK HAQQI",null,"008",null," ","AGHJA_H"]
["",null,null,null,"  ",null,null,null,null,null,null,null,null,null,null,null,", ",null,null,null,null,null,"  ",null,null,null,null,null,null,"N/A","N/A","ƏMƏK HAQQI",null,"008",null," ","AGHJA_H"]
["",null,null,null,"  ",null,null,null,null,null,null,null,null,null,null,null,", ",null,null,null,null,null,"  ",null,null,null,null,null,null,"N/A","N/A","ƏMƏK HAQQI",null,"008",null," ","AGHJA_H"]
["",null,null,null,"  ",null,null,null,null,null,null,null,null,null,null,null,", ",null,null,null,null,null,"  ",null,null,null,null,null,null,"N/A","N/A","ƏMƏK HAQQI",null,"008",null," ","AGHJA_H"]
["",null,null,null,"  ",null,null,null,null,null,null,null,null,null,null,null,", ",null,null,null,null,null,"  ",null,null,null,null,null,null,"N/A","N/A","ƏMƏK HAQQI",null,"008",null," ","AGHJA_H"]
["",null,null,null,"  ",null,null,null,null,null,null,null,null,null,null,null,", ",null,null,null,null,null,"  ",null,null,null,null,null,null,"N/A","N/A","ƏMƏK HAQQI",null,"008",null," ","AGHJA_H"]
["",null,null,null,"  ",null,null,null,null,null,null,null,null,null,null,null,", ",null,null,null,null,null,"  ",null,null,null,null,null,null,"N/A","N/A","ƏMƏK HAQQI",null,"008",null," ","AGHJA_H"]
["",null,null,null,"  ",null,null,null,null,null,null,null,null,null,null,null,", ",null,null,null,null,null,"  ",null,null,null,null,null,null,"N/A","N/A","ƏMƏK HAQQI",null,"008",null," ","AGHJA_H"]
["",null,null,null,"  ",null,null,null,null,null,null,null,null,null,null,null,", ",null,null,null,null,null,"  ",null,null,null,null,null,null,"N/A","N/A","ƏMƏK HAQQI",null,"008",null," ","AGHJA_H"]
["",null,null,null,"  ",null,null,null,null,null,null,null,null,null,null,null,", ",null,null,null,null,null,"  ",null,null,null,null,null,null,"N/A","N/A","ƏMƏK HAQQI",null,"008",null," ","AGHJA_H"]
["",null,null,null,"  ",null,null,null,null,null,null,null,null,null,null,null,", ",null,null,null,null,null,"  ",null,null,null,null,null,null,"N/A","N/A","ƏMƏK HAQQI",null,"008",null," ","AGHJA_H"]
["",null,null,null,"  ",null,null,null,null,null,null,null,null,null,null,null,", ",null,null,null,null,null,"  ",null,null,null,null,null,null,"N/A","N/A","ƏMƏK HAQQI",null,"008",null," ","AGHJA_H"]
["",null,null,null,"  ",null,null,null,null,null,null,null,null,null,null,null,", ",null,null,null,null,null,"  ",null,null,null,null,null,null,"N/A","N/A","ƏMƏK HAQQI",null,"008",null," ","AGHJA_H"]
["",null,null,null,"  ",null,null,null,null,null,null,null,null,null,null,null,", ",null,null,null,null,null,"  ",null,null,null,null,null,null,"N/A","N/A","ƏMƏK HAQQI",null,"008",null," ","AGHJA_H"]
["",null,null,null,"  ",null,null,null,null,null,null,null,null,null,null,null,", ",null,null,null,null,null,"  ",null,null,null,null,null,null,"N/A","N/A","ƏMƏK HAQQI",null,"008",null," ","AGHJA_H"]
["",null,null,null,"  ",null,null,null,null,null,null,null,null,null,null,null,", ",null,null,null,null,null,"  ",null,null,null,null,null,null,"N/A","N/A","ƏMƏK HAQQI",null,"008",null," ","AGHJA_H"]
["",null,null,null,"  ",null,null,null,null,null,null,null,null,null,null,null,", ",null,null,null,null,null,"  ",null,null,null,null,null,null,"N/A","N/A","ƏMƏK HAQQI",null,"008",null,{"$f":"CONCATENATE((SUBSTITUTE(SUBSTITUTE(SUBSTITUTE(SUBSTITUTE(SUBSTITUTE(SUBSTITUTE(SUBSTITUTE(SUBSTITUTE(SUBSTITUTE(SUBSTITUTE(SUBSTITUTE(C3002,\"Ə\",\"A\"),\"J\",\"ZH\"),\"C\",\"J\"),\"Ç\",\"CH\"),\"İ\",\"I\"),\"Ğ\",\"GH\"),\"Ö\",\"O\"),\"Ü\",\"U\"),\"Ş\",\"SH\"),\"Q\",\"G\"),\"X\",\"KH\")),\" \",(SUBSTITUTE(SUBSTITUTE(SUBSTITUTE(SUBSTITUTE(SUBSTITUTE(SUBSTITUTE(SUBSTITUTE(SUBSTITUTE(SUBSTITUTE(SUBSTITUTE(SUBSTITUTE(B3002,\"Ə\",\"A\"),\"J\",\"ZH\"),\"C\",\"J\"),\"Ç\",\"CH\"),\"İ\",\"I\"),\"Ğ\",\"GH\"),\"Ö\",\"O\"),\"Ü\",\"U\"),\"Ş\",\"SH\"),\"Q\",\"G\"),\"X\",\"KH\")))","v":" "},"AGHJA_H"]
["",null,null,null,{"$f":"CONCATENATE((SUBSTITUTE(SUBSTITUTE(SUBSTITUTE(SUBSTITUTE(SUBSTITUTE(SUBSTITUTE(SUBSTITUTE(SUBSTITUTE(SUBSTITUTE(SUBSTITUTE(SUBSTITUTE(C3003,\"Ə\",\"A\"),\"J\",\"ZH\"),\"C\",\"J\"),\"Ç\",\"CH\"),\"İ\",\"I\"),\"Ğ\",\"GH\"),\"Ö\",\"O\"),\"Ü\",\"U\"),\"Ş\",\"SH\"),\"Q\",\"G\"),\"X\",\"KH\")),\" \",(SUBSTITUTE(SUBSTITUTE(SUBSTITUTE(SUBSTITUTE(SUBSTITUTE(SUBSTITUTE(SUBSTITUTE(SUBSTITUTE(SUBSTITUTE(SUBSTITUTE(SUBSTITUTE(B3003,\"Ə\",\"A\"),\"J\",\"ZH\"),\"C\",\"J\"),\"Ç\",\"CH\"),\"İ\",\"I\"),\"Ğ\",\"GH\"),\"Ö\",\"O\"),\"Ü\",\"U\"),\"Ş\",\"SH\"),\"Q\",\"G\"),\"X\",\"KH\")),\" \",(SUBSTITUTE(SUBSTITUTE(SUBSTITUTE(SUBSTITUTE(SUBSTITUTE(SUBSTITUTE(SUBSTITUTE(SUBSTITUTE(SUBSTITUTE(SUBSTITUTE(SUBSTITUTE(SUBSTITUTE(SUBSTITUTE(D3003,\" OĞLU\",\"\"),\" QIZI\",\"\"),\"Ə\",\"A\"),\"J\",\"ZH\"),\"C\",\"J\"),\"Ç\",\"CH\"),\"İ\",\"I\"),\"Ğ\",\"GH\"),\"Ö\",\"O\"),\"Ü\",\"U\"),\"Ş\",\"SH\"),\"Q\",\"G\"),\"X\",\"KH\")))","v":"  "},null,null,null,null,null,null,null,null,null,null,null,{"$f":"CONCATENATE((SUBSTITUTE(SUBSTITUTE(SUBSTITUTE(SUBSTITUTE(SUBSTITUTE(SUBSTITUTE(SUBSTITUTE(SUBSTITUTE(SUBSTITUTE(SUBSTITUTE(SUBSTITUTE(O3003,\"Ə\",\"A\"),\"J\",\"ZH\"),\"C\",\"J\"),\"Ç\",\"CH\"),\"İ\",\"I\"),\"Ğ\",\"GH\"),\"Ö\",\"O\"),\"Ü\",\"U\"),\"Ş\",\"SH\"),\"Q\",\"G\"),\"X\",\"KH\")),\", \",(SUBSTITUTE(SUBSTITUTE(SUBSTITUTE(SUBSTITUTE(SUBSTITUTE(SUBSTITUTE(SUBSTITUTE(SUBSTITUTE(SUBSTITUTE(SUBSTITUTE(SUBSTITUTE(M3003,\"Ə\",\"A\"),\"J\",\"ZH\"),\"C\",\"J\"),\"Ç\",\"CH\"),\"İ\",\"I\"),\"Ğ\",\"GH\"),\"Ö\",\"O\"),\"Ü\",\"U\"),\"Ş\",\"SH\"),\"Q\",\"G\"),\"X\",\"KH\")))","v":", "},null,null,null,null,null,"  ",null,null,null,null,null,null,"N/A","N/A","ƏMƏK HAQQI",null,"008",null," ","AGHJA_H"]
[{"$f":"IF(B3004=\"\",\"\",A3003+1)","v":""},null,null,null,"  ",null,null,null,null,null,null,null,null,null,null,null,", ",null,null,null,null,null,{"$f":"(C3004:C3004&\" \"&D3004:D3004&\" \"&B3004:B3004)","v":"  "},null,null,null,null,null,null,"N/A","N/A","ƏMƏK HAQQI",null,"008",null," ","AGHJA_H"]
["",null,null,null,"  ",null,null,null,null,null,null,null,null,null,null,null,", ",null,null,null,null,null,"  ",null,null,null,null,null,null,"N/A","N/A","ƏMƏK HAQQI",null,"008",null," ","AGHJA_H"]
["",null,null,null,"  ",null,null,null,null,null,null,null,null,null,null,null,", ",null,null,null,null,null,"  ",null,null,null,null,null,null,"N/A","N/A","ƏMƏK HAQQI",null,"008",null," ","AGHJA_H"]
["",null,null,null,"  ",null,null,null,null,null,null,null,null,null,null,null,", ",null,null,null,null,null,"  ",null,null,null,null,null,null,"N/A","N/A","ƏMƏK HAQQI",null,"008",null," ","AGHJA_H"]
["",null,null,null,"  ",null,null,null,null,null,null,null,null,null,null,null,", ",null,null,null,null,null,"  ",null,null,null,null,null,null,"N/A","N/A","ƏMƏK HAQQI",null,"008",null," ","AGHJA_H"]
["",null,null,null,"  ",null,null,null,null,null,null,null,null,null,null,null,", ",null,null,null,null,null,"  ",null,null,null,null,null,null,"N/A","N/A","ƏMƏK HAQQI",null,"008",null," ","AGHJA_H"]
["",null,null,null,"  ",null,null,null,null,null,null,null,null,null,null,null,", ",null,null,null,null,null,"  ",null,null,null,null,null,null,"N/A","N/A","ƏMƏK HAQQI",null,"008",null," ","AGHJA_H"]
["",null,null,null,"  ",null,null,null,null,null,null,null,null,null,null,null,", ",null,null,null,null,null,"  ",null,null,null,null,null,null,"N/A","N/A","ƏMƏK HAQQI",null,"008",null," ","AGHJA_H"]
["",null,null,null,"  ",null,null,null,null,null,null,null,null,null,null,null,", ",null,null,null,null,null,"  ",null,null,null,null,null,null,"N/A","N/A","ƏMƏK HAQQI",null,"008",null," ","AGHJA_H"]
["",null,null,null,"  ",null,null,null,null,null,null,null,null,null,null,null,", ",null,null,null,null,null,"  ",null,null,null,null,null,null,"N/A","N/A","ƏMƏK HAQQI",null,"008",null," ","AGHJA_H"]
["",null,null,null,"  ",null,null,null,null,null,null,null,null,null,null,null,", ",null,null,null,null,null,"  ",null,null,null,null,null,null,"N/A","N/A","ƏMƏK HAQQI",null,"008",null," ","AGHJA_H"]
["",null,null,null,"  ",null,null,null,null,null,null,null,null,null,null,null,", ",null,null,null,null,null,"  ",null,null,null,null,null,null,"N/A","N/A","ƏMƏK HAQQI",null,"008",null," ","AGHJA_H"]
["",null,null,null,"  ",null,null,null,null,null,null,null,null,null,null,null,", ",null,null,null,null,null,"  ",null,null,null,null,null,null,"N/A","N/A","ƏMƏK HAQQI",null,"008",null," ","AGHJA_H"]
["",null,null,null,"  ",null,null,null,null,null,null,null,null,null,null,null,", ",null,null,null,null,null,"  ",null,null,null,null,null,null,"N/A","N/A","ƏMƏK HAQQI",null,"008",null," ","AGHJA_H"]
["",null,null,null,"  ",null,null,null,null,null,null,null,null,null,null,null,", ",null,null,null,null,null,"  ",null,null,null,null,null,null,"N/A","N/A","ƏMƏK HAQQI",null,"008",null," ","AGHJA_H"]
["",null,null,null,"  ",null,null,null,null,null,null,null,null,null,null,null,", ",null,null,null,null,null,"  ",null,null,null,null,null,null,"N/A","N/A","ƏMƏK HAQQI",null,"008",null," ","AGHJA_H"]
["",null,null,null,"  ",null,null,null,null,null,null,null,null,null,null,null,", ",null,null,null,null,null,"  ",null,null,null,null,null,null,"N/A","N/A","ƏMƏK HAQQI",null,"008",null," ","AGHJA_H"]
["",null,null,null,"  ",null,null,null,null,null,null,null,null,null,null,null,", ",null,null,null,null,null,"  ",null,null,null,null,null,null,"N/A","N/A","ƏMƏK HAQQI",null,"008",null," ","AGHJA_H"]
["",null,null,null,"  ",null,null,null,null,null,null,null,null,null,null,null,", ",null,null,null,null,null,"  ",null,null,null,null,null,null,"N/A","N/A","ƏMƏK HAQQI",null,"008",null," ","AGHJA_H"]
["",null,null,null,"  ",null,null,null,null,null,null,null,null,null,null,null,", ",null,null,null,null,null,"  ",null,null,null,null,null,null,"N/A","N/A","ƏMƏK HAQQI",null,"008",null," ","AGHJA_H"]
["",null,null,null,"  ",null,null,null,null,null,null,null,null,null,null,null,", ",null,null,null,null,null,"  ",null,null,null,null,null,null,"N/A","N/A","ƏMƏK HAQQI",null,"008",null," ","AGHJA_H"]
["",null,null,null,"  ",null,null,null,null,null,null,null,null,null,null,null,", ",null,null,null,null,null,"  ",null,null,null,null,null,null,"N/A","N/A","ƏMƏK HAQQI",null,"008",null," ","AGHJA_H"]
["",null,null,null,"  ",null,null,null,null,null,null,null,null,null,null,null,", ",null,null,null,null,null,"  ",null,null,null,null,null,null,"N/A","N/A","ƏMƏK HAQQI",null,"008",null," ","AGHJA_H"]
["",null,null,null,"  ",null,null,null,null,null,null,null,null,null,null,null,", ",null,null,null,null,null,"  ",null,null,null,null,null,null,"N/A","N/A","ƏMƏK HAQQI",null,"008",null," ","AGHJA_H"]
["",null,null,null,"  ",null,null,null,null,null,null,null,null,null,null,null,", ",null,null,null,null,null,"  ",null,null,null,null,null,null,"N/A","N/A","ƏMƏK HAQQI",null,"008",null," ","AGHJA_H"]
["",null,null,null,"  ",null,null,null,null,null,null,null,null,null,null,null,", ",null,null,null,null,null,"  ",null,null,null,null,null,null,"N/A","N/A","ƏMƏK HAQQI",null,"008",null," ","AGHJA_H"]
["",null,null,null,"  ",null,null,null,null,null,null,null,null,null,null,null,", ",null,null,null,null,null,"  ",null,null,null,null,null,null,"N/A","N/A","ƏMƏK HAQQI",null,"008",null," ","AGHJA_H"]
["",null,null,null,"  ",null,null,null,null,null,null,null,null,null,null,null,", ",null,null,null,null,null,"  ",null,null,null,null,null,null,"N/A","N/A","ƏMƏK HAQQI",null,"008",null," ","AGHJA_H"]
["",null,null,null,"  ",null,null,null,null,null,null,null,null,null,null,null,", ",null,null,null,null,null,"  ",null,null,null,null,null,null,"N/A","N/A","ƏMƏK HAQQI",null,"008",null," ","AGHJA_H"]
["",null,null,null,"  ",null,null,null,null,null,null,null,null,null,null,null,", ",null,null,null,null,null,"  ",null,null,null,null,null,null,"N/A","N/A","ƏMƏK HAQQI",null,"008",null," ","AGHJA_H"]
["",null,null,null,"  ",null,null,null,null,null,null,null,null,null,null,null,", ",null,null,null,null,null,"  ",null,null,null,null,null,null,"N/A","N/A","ƏMƏK HAQQI",null,"008",null," ","AGHJA_H"]
["",null,null,null,"  ",null,null,null,null,null,null,null,null,null,null,null,", ",null,null,null,null,null,"  ",null,null,null,null,null,null,"N/A","N/A","ƏMƏK HAQQI",null,"008",null," ","AGHJA_H"]
["",null,null,null,"  ",null,null,null,null,null,null,null,null,null,null,null,", ",null,null,null,null,null,"  ",null,null,null,null,null,null,"N/A","N/A","ƏMƏK HAQQI",null,"008",null," ","AGHJA_H"]
["",null,null,null,"  ",null,null,null,null,null,null,null,null,null,null,null,", ",null,null,null,null,null,"  ",null,null,null,null,null,null,"N/A","N/A","ƏMƏK HAQQI",null,"008",null," ","AGHJA_H"]
["",null,null,null,"  ",null,null,null,null,null,null,null,null,null,null,null,", ",null,null,null,null,null,"  ",null,null,null,null,null,null,"N/A","N/A","ƏMƏK HAQQI",null,"008",null," ","AGHJA_H"]
["",null,null,null,"  ",null,null,null,null,null,null,null,null,null,null,null,", ",null,null,null,null,null,"  ",null,null,null,null,null,null,"N/A","N/A","ƏMƏK HAQQI",null,"008",null," ","AGHJA_H"]
["",null,null,null,"  ",null,null,null,null,null,null,null,null,null,null,null,", ",null,null,null,null,null,"  ",null,null,null,null,null,null,"N/A","N/A","ƏMƏK HAQQI",null,"008",null," ","AGHJA_H"]
["",null,null,null,"  ",null,null,null,null,null,null,null,null,null,null,null,", ",null,null,null,null,null,"  ",null,null,null,null,null,null,"N/A","N/A","ƏMƏK HAQQI",null,"008",null," ","AGHJA_H"]
["",null,null,null,"  ",null,null,null,null,null,null,null,null,null,null,null,", ",null,null,null,null,null,"  ",null,null,null,null,null,null,"N/A","N/A","ƏMƏK HAQQI",null,"008",null," ","AGHJA_H"]
["",null,null,null,"  ",null,null,null,null,null,null,null,null,null,null,null,", ",null,null,null,null,null,"  ",null,null,null,null,null,null,"N/A","N/A","ƏMƏK HAQQI",null,"008",null," ","AGHJA_H"]
["",null,null,null,"  ",null,null,null,null,null,null,null,null,null,null,null,", ",null,null,null,null,null,"  ",null,null,null,null,null,null,"N/A","N/A","ƏMƏK HAQQI",null,"008",null," ","AGHJA_H"]
["",null,null,null,"  ",null,null,null,null,null,null,null,null,null,null,null,", ",null,null,null,null,null,"  ",null,null,null,null,null,null,"N/A","N/A","ƏMƏK HAQQI",null,"008",null," ","AGHJA_H"]
["",null,null,null,"  ",null,null,null,null,null,null,null,null,null,null,null,", ",null,null,null,null,null,"  ",null,null,null,null,null,null,"N/A","N/A","ƏMƏK HAQQI",null,"008",null," ","AGHJA_H"]
["",null,null,null,"  ",null,null,null,null,null,null,null,null,null,null,null,", ",null,null,null,null,null,"  ",null,null,null,null,null,null,"N/A","N/A","ƏMƏK HAQQI",null,"008",null," ","AGHJA_H"]
["",null,null,null,"  ",null,null,null,null,null,null,null,null,null,null,null,", ",null,null,null,null,null,"  ",null,null,null,null,null,null,"N/A","N/A","ƏMƏK HAQQI",null,"008",null," ","AGHJA_H"]
["",null,null,null,"  ",null,null,null,null,null,null,null,null,null,null,null,", ",null,null,null,null,null,"  ",null,null,null,null,null,null,"N/A","N/A","ƏMƏK HAQQI",null,"008",null," ","AGHJA_H"]
["",null,null,null,"  ",null,null,null,null,null,null,null,null,null,null,null,", ",null,null,null,null,null,"  ",null,null,null,null,null,null,"N/A","N/A","ƏMƏK HAQQI",null,"008",null," ","AGHJA_H"]
["",null,null,null,"  ",null,null,null,null,null,null,null,null,null,null,null,", ",null,null,null,null,null,"  ",null,null,null,null,null,null,"N/A","N/A","ƏMƏK HAQQI",null,"008",null," ","AGHJA_H"]
["",null,null,null,"  ",null,null,null,null,null,null,null,null,null,null,null,", ",null,null,null,null,null,"  ",null,null,null,null,null,null,"N/A","N/A","ƏMƏK HAQQI",null,"008",null," ","AGHJA_H"]
["",null,null,null,"  ",null,null,null,null,null,null,null,null,null,null,null,", ",null,null,null,null,null,"  ",null,null,null,null,null,null,"N/A","N/A","ƏMƏK HAQQI",null,"008",null," ","AGHJA_H"]
["",null,null,null,"  ",null,null,null,null,null,null,null,null,null,null,null,", ",null,null,null,null,null,"  ",null,null,null,null,null,null,"N/A","N/A","ƏMƏK HAQQI",null,"008",null," ","AGHJA_H"]
["",null,null,null,"  ",null,null,null,null,null,null,null,null,null,null,null,", ",null,null,null,null,null,"  ",null,null,null,null,null,null,"N/A","N/A","ƏMƏK HAQQI",null,"008",null," ","AGHJA_H"]
["",null,null,null,"  ",null,null,null,null,null,null,null,null,null,null,null,", ",null,null,null,null,null,"  ",null,null,null,null,null,null,"N/A","N/A","ƏMƏK HAQQI",null,"008",null," ","AGHJA_H"]
["",null,null,null,"  ",null,null,null,null,null,null,null,null,null,null,null,", ",null,null,null,null,null,"  ",null,null,null,null,null,null,"N/A","N/A","ƏMƏK HAQQI",null,"008",null," ","AGHJA_H"]
["",null,null,null,"  ",null,null,null,null,null,null,null,null,null,null,null,", ",null,null,null,null,null,"  ",null,null,null,null,null,null,"N/A","N/A","ƏMƏK HAQQI",null,"008",null," ","AGHJA_H"]
["",null,null,null,"  ",null,null,null,null,null,null,null,null,null,null,null,", ",null,null,null,null,null,"  ",null,null,null,null,null,null,"N/A","N/A","ƏMƏK HAQQI",null,"008",null," ","AGHJA_H"]
["",null,null,null,"  ",null,null,null,null,null,null,null,null,null,null,null,", ",null,null,null,null,null,"  ",null,null,null,null,null,null,"N/A","N/A","ƏMƏK HAQQI",null,"008",null," ","AGHJA_H"]
["",null,null,null,"  ",null,null,null,null,null,null,null,null,null,null,null,", ",null,null,null,null,null,"  ",null,null,null,null,null,null,"N/A","N/A","ƏMƏK HAQQI",null,"008",null," ","AGHJA_H"]
["",null,null,null,"  ",null,null,null,null,null,null,null,null,null,null,null,", ",null,null,null,null,null,"  ",null,null,null,null,null,null,"N/A","N/A","ƏMƏK HAQQI",null,"008",null," ","AGHJA_H"]
["",null,null,null,"  ",null,null,null,null,null,null,null,null,null,null,null,", ",null,null,null,null,null,"  ",null,null,null,null,null,null,"N/A","N/A","ƏMƏK HAQQI",null,"008",null," ","AGHJA_H"]
["",null,null,null,"  ",null,null,null,null,null,null,null,null,null,null,null,", ",null,null,null,null,null,"  ",null,null,null,null,null,null,"N/A","N/A","ƏMƏK HAQQI",null,"008",null," ","AGHJA_H"]
["",null,null,null,"  ",null,null,null,null,null,null,null,null,null,null,null,", ",null,null,null,null,null,"  ",null,null,null,null,null,null,"N/A","N/A","ƏMƏK HAQQI",null,"008",null," ","AGHJA_H"]
["",null,null,null,"  ",null,null,null,null,null,null,null,null,null,null,null,", ",null,null,null,null,null,"  ",null,null,null,null,null,null,"N/A","N/A","ƏMƏK HAQQI",null,"008",null,{"$f":"CONCATENATE((SUBSTITUTE(SUBSTITUTE(SUBSTITUTE(SUBSTITUTE(SUBSTITUTE(SUBSTITUTE(SUBSTITUTE(SUBSTITUTE(SUBSTITUTE(SUBSTITUTE(SUBSTITUTE(C3066,\"Ə\",\"A\"),\"J\",\"ZH\"),\"C\",\"J\"),\"Ç\",\"CH\"),\"İ\",\"I\"),\"Ğ\",\"GH\"),\"Ö\",\"O\"),\"Ü\",\"U\"),\"Ş\",\"SH\"),\"Q\",\"G\"),\"X\",\"KH\")),\" \",(SUBSTITUTE(SUBSTITUTE(SUBSTITUTE(SUBSTITUTE(SUBSTITUTE(SUBSTITUTE(SUBSTITUTE(SUBSTITUTE(SUBSTITUTE(SUBSTITUTE(SUBSTITUTE(B3066,\"Ə\",\"A\"),\"J\",\"ZH\"),\"C\",\"J\"),\"Ç\",\"CH\"),\"İ\",\"I\"),\"Ğ\",\"GH\"),\"Ö\",\"O\"),\"Ü\",\"U\"),\"Ş\",\"SH\"),\"Q\",\"G\"),\"X\",\"KH\")))","v":" "},"AGHJA_H"]
["",null,null,null,{"$f":"CONCATENATE((SUBSTITUTE(SUBSTITUTE(SUBSTITUTE(SUBSTITUTE(SUBSTITUTE(SUBSTITUTE(SUBSTITUTE(SUBSTITUTE(SUBSTITUTE(SUBSTITUTE(SUBSTITUTE(C3067,\"Ə\",\"A\"),\"J\",\"ZH\"),\"C\",\"J\"),\"Ç\",\"CH\"),\"İ\",\"I\"),\"Ğ\",\"GH\"),\"Ö\",\"O\"),\"Ü\",\"U\"),\"Ş\",\"SH\"),\"Q\",\"G\"),\"X\",\"KH\")),\" \",(SUBSTITUTE(SUBSTITUTE(SUBSTITUTE(SUBSTITUTE(SUBSTITUTE(SUBSTITUTE(SUBSTITUTE(SUBSTITUTE(SUBSTITUTE(SUBSTITUTE(SUBSTITUTE(B3067,\"Ə\",\"A\"),\"J\",\"ZH\"),\"C\",\"J\"),\"Ç\",\"CH\"),\"İ\",\"I\"),\"Ğ\",\"GH\"),\"Ö\",\"O\"),\"Ü\",\"U\"),\"Ş\",\"SH\"),\"Q\",\"G\"),\"X\",\"KH\")),\" \",(SUBSTITUTE(SUBSTITUTE(SUBSTITUTE(SUBSTITUTE(SUBSTITUTE(SUBSTITUTE(SUBSTITUTE(SUBSTITUTE(SUBSTITUTE(SUBSTITUTE(SUBSTITUTE(SUBSTITUTE(SUBSTITUTE(D3067,\" OĞLU\",\"\"),\" QIZI\",\"\"),\"Ə\",\"A\"),\"J\",\"ZH\"),\"C\",\"J\"),\"Ç\",\"CH\"),\"İ\",\"I\"),\"Ğ\",\"GH\"),\"Ö\",\"O\"),\"Ü\",\"U\"),\"Ş\",\"SH\"),\"Q\",\"G\"),\"X\",\"KH\")))","v":"  "},null,null,null,null,null,null,null,null,null,null,null,{"$f":"CONCATENATE((SUBSTITUTE(SUBSTITUTE(SUBSTITUTE(SUBSTITUTE(SUBSTITUTE(SUBSTITUTE(SUBSTITUTE(SUBSTITUTE(SUBSTITUTE(SUBSTITUTE(SUBSTITUTE(O3067,\"Ə\",\"A\"),\"J\",\"ZH\"),\"C\",\"J\"),\"Ç\",\"CH\"),\"İ\",\"I\"),\"Ğ\",\"GH\"),\"Ö\",\"O\"),\"Ü\",\"U\"),\"Ş\",\"SH\"),\"Q\",\"G\"),\"X\",\"KH\")),\", \",(SUBSTITUTE(SUBSTITUTE(SUBSTITUTE(SUBSTITUTE(SUBSTITUTE(SUBSTITUTE(SUBSTITUTE(SUBSTITUTE(SUBSTITUTE(SUBSTITUTE(SUBSTITUTE(M3067,\"Ə\",\"A\"),\"J\",\"ZH\"),\"C\",\"J\"),\"Ç\",\"CH\"),\"İ\",\"I\"),\"Ğ\",\"GH\"),\"Ö\",\"O\"),\"Ü\",\"U\"),\"Ş\",\"SH\"),\"Q\",\"G\"),\"X\",\"KH\")))","v":", "},null,null,null,null,null,"  ",null,null,null,null,null,null,"N/A","N/A","ƏMƏK HAQQI",null,"008",null," ","AGHJA_H"]
[{"$f":"IF(B3068=\"\",\"\",A3067+1)","v":""},null,null,null,"  ",null,null,null,null,null,null,null,null,null,null,null,", ",null,null,null,null,null,{"$f":"(C3068:C3068&\" \"&D3068:D3068&\" \"&B3068:B3068)","v":"  "},null,null,null,null,null,null,"N/A","N/A","ƏMƏK HAQQI",null,"008",null," ","AGHJA_H"]
["",null,null,null,"  ",null,null,null,null,null,null,null,null,null,null,null,", ",null,null,null,null,null,"  ",null,null,null,null,null,null,"N/A","N/A","ƏMƏK HAQQI",null,"008",null," ","AGHJA_H"]
["",null,null,null,"  ",null,null,null,null,null,null,null,null,null,null,null,", ",null,null,null,null,null,"  ",null,null,null,null,null,null,"N/A","N/A","ƏMƏK HAQQI",null,"008",null," ","AGHJA_H"]
["",null,null,null,"  ",null,null,null,null,null,null,null,null,null,null,null,", ",null,null,null,null,null,"  ",null,null,null,null,null,null,"N/A","N/A","ƏMƏK HAQQI",null,"008",null," ","AGHJA_H"]
["",null,null,null,"  ",null,null,null,null,null,null,null,null,null,null,null,", ",null,null,null,null,null,"  ",null,null,null,null,null,null,"N/A","N/A","ƏMƏK HAQQI",null,"008",null," ","AGHJA_H"]
["",null,null,null,"  ",null,null,null,null,null,null,null,null,null,null,null,", ",null,null,null,null,null,"  ",null,null,null,null,null,null,"N/A","N/A","ƏMƏK HAQQI",null,"008",null," ","AGHJA_H"]
["",null,null,null,"  ",null,null,null,null,null,null,null,null,null,null,null,", ",null,null,null,null,null,"  ",null,null,null,null,null,null,"N/A","N/A","ƏMƏK HAQQI",null,"008",null," ","AGHJA_H"]
["",null,null,null,"  ",null,null,null,null,null,null,null,null,null,null,null,", ",null,null,null,null,null,"  ",null,null,null,null,null,null,"N/A","N/A","ƏMƏK HAQQI",null,"008",null," ","AGHJA_H"]
["",null,null,null,"  ",null,null,null,null,null,null,null,null,null,null,null,", ",null,null,null,null,null,"  ",null,null,null,null,null,null,"N/A","N/A","ƏMƏK HAQQI",null,"008",null," ","AGHJA_H"]
["",null,null,null,"  ",null,null,null,null,null,null,null,null,null,null,null,", ",null,null,null,null,null,"  ",null,null,null,null,null,null,"N/A","N/A","ƏMƏK HAQQI",null,"008",null," ","AGHJA_H"]
["",null,null,null,"  ",null,null,null,null,null,null,null,null,null,null,null,", ",null,null,null,null,null,"  ",null,null,null,null,null,null,"N/A","N/A","ƏMƏK HAQQI",null,"008",null," ","AGHJA_H"]
["",null,null,null,"  ",null,null,null,null,null,null,null,null,null,null,null,", ",null,null,null,null,null,"  ",null,null,null,null,null,null,"N/A","N/A","ƏMƏK HAQQI",null,"008",null," ","AGHJA_H"]
["",null,null,null,"  ",null,null,null,null,null,null,null,null,null,null,null,", ",null,null,null,null,null,"  ",null,null,null,null,null,null,"N/A","N/A","ƏMƏK HAQQI",null,"008",null," ","AGHJA_H"]
["",null,null,null,"  ",null,null,null,null,null,null,null,null,null,null,null,", ",null,null,null,null,null,"  ",null,null,null,null,null,null,"N/A","N/A","ƏMƏK HAQQI",null,"008",null," ","AGHJA_H"]
["",null,null,null,"  ",null,null,null,null,null,null,null,null,null,null,null,", ",null,null,null,null,null,"  ",null,null,null,null,null,null,"N/A","N/A","ƏMƏK HAQQI",null,"008",null," ","AGHJA_H"]
["",null,null,null,"  ",null,null,null,null,null,null,null,null,null,null,null,", ",null,null,null,null,null,"  ",null,null,null,null,null,null,"N/A","N/A","ƏMƏK HAQQI",null,"008",null," ","AGHJA_H"]
["",null,null,null,"  ",null,null,null,null,null,null,null,null,null,null,null,", ",null,null,null,null,null,"  ",null,null,null,null,null,null,"N/A","N/A","ƏMƏK HAQQI",null,"008",null," ","AGHJA_H"]
["",null,null,null,"  ",null,null,null,null,null,null,null,null,null,null,null,", ",null,null,null,null,null,"  ",null,null,null,null,null,null,"N/A","N/A","ƏMƏK HAQQI",null,"008",null," ","AGHJA_H"]
["",null,null,null,"  ",null,null,null,null,null,null,null,null,null,null,null,", ",null,null,null,null,null,"  ",null,null,null,null,null,null,"N/A","N/A","ƏMƏK HAQQI",null,"008",null," ","AGHJA_H"]
["",null,null,null,"  ",null,null,null,null,null,null,null,null,null,null,null,", ",null,null,null,null,null,"  ",null,null,null,null,null,null,"N/A","N/A","ƏMƏK HAQQI",null,"008",null," ","AGHJA_H"]
["",null,null,null,"  ",null,null,null,null,null,null,null,null,null,null,null,", ",null,null,null,null,null,"  ",null,null,null,null,null,null,"N/A","N/A","ƏMƏK HAQQI",null,"008",null," ","AGHJA_H"]
["",null,null,null,"  ",null,null,null,null,null,null,null,null,null,null,null,", ",null,null,null,null,null,"  ",null,null,null,null,null,null,"N/A","N/A","ƏMƏK HAQQI",null,"008",null," ","AGHJA_H"]
["",null,null,null,"  ",null,null,null,null,null,null,null,null,null,null,null,", ",null,null,null,null,null,"  ",null,null,null,null,null,null,"N/A","N/A","ƏMƏK HAQQI",null,"008",null," ","AGHJA_H"]
["",null,null,null,"  ",null,null,null,null,null,null,null,null,null,null,null,", ",null,null,null,null,null,"  ",null,null,null,null,null,null,"N/A","N/A","ƏMƏK HAQQI",null,"008",null," ","AGHJA_H"]
["",null,null,null,"  ",null,null,null,null,null,null,null,null,null,null,null,", ",null,null,null,null,null,"  ",null,null,null,null,null,null,"N/A","N/A","ƏMƏK HAQQI",null,"008",null," ","AGHJA_H"]
["",null,null,null,"  ",null,null,null,null,null,null,null,null,null,null,null,", ",null,null,null,null,null,"  ",null,null,null,null,null,null,"N/A","N/A","ƏMƏK HAQQI",null,"008",null," ","AGHJA_H"]
["",null,null,null,"  ",null,null,null,null,null,null,null,null,null,null,null,", ",null,null,null,null,null,"  ",null,null,null,null,null,null,"N/A","N/A","ƏMƏK HAQQI",null,"008",null," ","AGHJA_H"]
["",null,null,null,"  ",null,null,null,null,null,null,null,null,null,null,null,", ",null,null,null,null,null,"  ",null,null,null,null,null,null,"N/A","N/A","ƏMƏK HAQQI",null,"008",null," ","AGHJA_H"]
["",null,null,null,"  ",null,null,null,null,null,null,null,null,null,null,null,", ",null,null,null,null,null,"  ",null,null,null,null,null,null,"N/A","N/A","ƏMƏK HAQQI",null,"008",null," ","AGHJA_H"]
["",null,null,null,"  ",null,null,null,null,null,null,null,null,null,null,null,", ",null,null,null,null,null,"  ",null,null,null,null,null,null,"N/A","N/A","ƏMƏK HAQQI",null,"008",null," ","AGHJA_H"]
["",null,null,null,"  ",null,null,null,null,null,null,null,null,null,null,null,", ",null,null,null,null,null,"  ",null,null,null,null,null,null,"N/A","N/A","ƏMƏK HAQQI",null,"008",null," ","AGHJA_H"]
["",null,null,null,"  ",null,null,null,null,null,null,null,null,null,null,null,", ",null,null,null,null,null,"  ",null,null,null,null,null,null,"N/A","N/A","ƏMƏK HAQQI",null,"008",null," ","AGHJA_H"]
["",null,null,null,"  ",null,null,null,null,null,null,null,null,null,null,null,", ",null,null,null,null,null,"  ",null,null,null,null,null,null,"N/A","N/A","ƏMƏK HAQQI",null,"008",null," ","AGHJA_H"]
["",null,null,null,"  ",null,null,null,null,null,null,null,null,null,null,null,", ",null,null,null,null,null,"  ",null,null,null,null,null,null,"N/A","N/A","ƏMƏK HAQQI",null,"008",null," ","AGHJA_H"]
["",null,null,null,"  ",null,null,null,null,null,null,null,null,null,null,null,", ",null,null,null,null,null,"  ",null,null,null,null,null,null,"N/A","N/A","ƏMƏK HAQQI",null,"008",null," ","AGHJA_H"]
["",null,null,null,"  ",null,null,null,null,null,null,null,null,null,null,null,", ",null,null,null,null,null,"  ",null,null,null,null,null,null,"N/A","N/A","ƏMƏK HAQQI",null,"008",null," ","AGHJA_H"]
["",null,null,null,"  ",null,null,null,null,null,null,null,null,null,null,null,", ",null,null,null,null,null,"  ",null,null,null,null,null,null,"N/A","N/A","ƏMƏK HAQQI",null,"008",null," ","AGHJA_H"]
["",null,null,null,"  ",null,null,null,null,null,null,null,null,null,null,null,", ",null,null,null,null,null,"  ",null,null,null,null,null,null,"N/A","N/A","ƏMƏK HAQQI",null,"008",null," ","AGHJA_H"]
["",null,null,null,"  ",null,null,null,null,null,null,null,null,null,null,null,", ",null,null,null,null,null,"  ",null,null,null,null,null,null,"N/A","N/A","ƏMƏK HAQQI",null,"008",null," ","AGHJA_H"]
["",null,null,null,"  ",null,null,null,null,null,null,null,null,null,null,null,", ",null,null,null,null,null,"  ",null,null,null,null,null,null,"N/A","N/A","ƏMƏK HAQQI",null,"008",null," ","AGHJA_H"]
["",null,null,null,"  ",null,null,null,null,null,null,null,null,null,null,null,", ",null,null,null,null,null,"  ",null,null,null,null,null,null,"N/A","N/A","ƏMƏK HAQQI",null,"008",null," ","AGHJA_H"]
["",null,null,null,"  ",null,null,null,null,null,null,null,null,null,null,null,", ",null,null,null,null,null,"  ",null,null,null,null,null,null,"N/A","N/A","ƏMƏK HAQQI",null,"008",null," ","AGHJA_H"]
["",null,null,null,"  ",null,null,null,null,null,null,null,null,null,null,null,", ",null,null,null,null,null,"  ",null,null,null,null,null,null,"N/A","N/A","ƏMƏK HAQQI",null,"008",null," ","AGHJA_H"]
["",null,null,null,"  ",null,null,null,null,null,null,null,null,null,null,null,", ",null,null,null,null,null,"  ",null,null,null,null,null,null,"N/A","N/A","ƏMƏK HAQQI",null,"008",null," ","AGHJA_H"]
["",null,null,null,"  ",null,null,null,null,null,null,null,null,null,null,null,", ",null,null,null,null,null,"  ",null,null,null,null,null,null,"N/A","N/A","ƏMƏK HAQQI",null,"008",null," ","AGHJA_H"]
["",null,null,null,"  ",null,null,null,null,null,null,null,null,null,null,null,", ",null,null,null,null,null,"  ",null,null,null,null,null,null,"N/A","N/A","ƏMƏK HAQQI",null,"008",null," ","AGHJA_H"]
["",null,null,null,"  ",null,null,null,null,null,null,null,null,null,null,null,", ",null,null,null,null,null,"  ",null,null,null,null,null,null,"N/A","N/A","ƏMƏK HAQQI",null,"008",null," ","AGHJA_H"]
["",null,null,null,"  ",null,null,null,null,null,null,null,null,null,null,null,", ",null,null,null,null,null,"  ",null,null,null,null,null,null,"N/A","N/A","ƏMƏK HAQQI",null,"008",null," ","AGHJA_H"]
["",null,null,null,"  ",null,null,null,null,null,null,null,null,null,null,null,", ",null,null,null,null,null,"  ",null,null,null,null,null,null,"N/A","N/A","ƏMƏK HAQQI",null,"008",null," ","AGHJA_H"]
["",null,null,null,"  ",null,null,null,null,null,null,null,null,null,null,null,", ",null,null,null,null,null,"  ",null,null,null,null,null,null,"N/A","N/A","ƏMƏK HAQQI",null,"008",null," ","AGHJA_H"]
["",null,null,null,"  ",null,null,null,null,null,null,null,null,null,null,null,", ",null,null,null,null,null,"  ",null,null,null,null,null,null,"N/A","N/A","ƏMƏK HAQQI",null,"008",null," ","AGHJA_H"]
["",null,null,null,"  ",null,null,null,null,null,null,null,null,null,null,null,", ",null,null,null,null,null,"  ",null,null,null,null,null,null,"N/A","N/A","ƏMƏK HAQQI",null,"008",null," ","AGHJA_H"]
["",null,null,null,"  ",null,null,null,null,null,null,null,null,null,null,null,", ",null,null,null,null,null,"  ",null,null,null,null,null,null,"N/A","N/A","ƏMƏK HAQQI",null,"008",null," ","AGHJA_H"]
["",null,null,null,"  ",null,null,null,null,null,null,null,null,null,null,null,", ",null,null,null,null,null,"  ",null,null,null,null,null,null,"N/A","N/A","ƏMƏK HAQQI",null,"008",null," ","AGHJA_H"]
["",null,null,null,"  ",null,null,null,null,null,null,null,null,null,null,null,", ",null,null,null,null,null,"  ",null,null,null,null,null,null,"N/A","N/A","ƏMƏK HAQQI",null,"008",null," ","AGHJA_H"]
["",null,null,null,"  ",null,null,null,null,null,null,null,null,null,null,null,", ",null,null,null,null,null,"  ",null,null,null,null,null,null,"N/A","N/A","ƏMƏK HAQQI",null,"008",null," ","AGHJA_H"]
["",null,null,null,"  ",null,null,null,null,null,null,null,null,null,null,null,", ",null,null,null,null,null,"  ",null,null,null,null,null,null,"N/A","N/A","ƏMƏK HAQQI",null,"008",null," ","AGHJA_H"]
["",null,null,null,"  ",null,null,null,null,null,null,null,null,null,null,null,", ",null,null,null,null,null,"  ",null,null,null,null,null,null,"N/A","N/A","ƏMƏK HAQQI",null,"008",null," ","AGHJA_H"]
["",null,null,null,"  ",null,null,null,null,null,null,null,null,null,null,null,", ",null,null,null,null,null,"  ",null,null,null,null,null,null,"N/A","N/A","ƏMƏK HAQQI",null,"008",null," ","AGHJA_H"]
["",null,null,null,"  ",null,null,null,null,null,null,null,null,null,null,null,", ",null,null,null,null,null,"  ",null,null,null,null,null,null,"N/A","N/A","ƏMƏK HAQQI",null,"008",null," ","AGHJA_H"]
["",null,null,null,"  ",null,null,null,null,null,null,null,null,null,null,null,", ",null,null,null,null,null,"  ",null,null,null,null,null,null,"N/A","N/A","ƏMƏK HAQQI",null,"008",null," ","AGHJA_H"]
["",null,null,null,"  ",null,null,null,null,null,null,null,null,null,null,null,", ",null,null,null,null,null,"  ",null,null,null,null,null,null,"N/A","N/A","ƏMƏK HAQQI",null,"008",null," ","AGHJA_H"]
["",null,null,null,"  ",null,null,null,null,null,null,null,null,null,null,null,", ",null,null,null,null,null,"  ",null,null,null,null,null,null,"N/A","N/A","ƏMƏK HAQQI",null,"008",null,{"$f":"CONCATENATE((SUBSTITUTE(SUBSTITUTE(SUBSTITUTE(SUBSTITUTE(SUBSTITUTE(SUBSTITUTE(SUBSTITUTE(SUBSTITUTE(SUBSTITUTE(SUBSTITUTE(SUBSTITUTE(C3130,\"Ə\",\"A\"),\"J\",\"ZH\"),\"C\",\"J\"),\"Ç\",\"CH\"),\"İ\",\"I\"),\"Ğ\",\"GH\"),\"Ö\",\"O\"),\"Ü\",\"U\"),\"Ş\",\"SH\"),\"Q\",\"G\"),\"X\",\"KH\")),\" \",(SUBSTITUTE(SUBSTITUTE(SUBSTITUTE(SUBSTITUTE(SUBSTITUTE(SUBSTITUTE(SUBSTITUTE(SUBSTITUTE(SUBSTITUTE(SUBSTITUTE(SUBSTITUTE(B3130,\"Ə\",\"A\"),\"J\",\"ZH\"),\"C\",\"J\"),\"Ç\",\"CH\"),\"İ\",\"I\"),\"Ğ\",\"GH\"),\"Ö\",\"O\"),\"Ü\",\"U\"),\"Ş\",\"SH\"),\"Q\",\"G\"),\"X\",\"KH\")))","v":" "},"AGHJA_H"]
["",null,null,null,{"$f":"CONCATENATE((SUBSTITUTE(SUBSTITUTE(SUBSTITUTE(SUBSTITUTE(SUBSTITUTE(SUBSTITUTE(SUBSTITUTE(SUBSTITUTE(SUBSTITUTE(SUBSTITUTE(SUBSTITUTE(C3131,\"Ə\",\"A\"),\"J\",\"ZH\"),\"C\",\"J\"),\"Ç\",\"CH\"),\"İ\",\"I\"),\"Ğ\",\"GH\"),\"Ö\",\"O\"),\"Ü\",\"U\"),\"Ş\",\"SH\"),\"Q\",\"G\"),\"X\",\"KH\")),\" \",(SUBSTITUTE(SUBSTITUTE(SUBSTITUTE(SUBSTITUTE(SUBSTITUTE(SUBSTITUTE(SUBSTITUTE(SUBSTITUTE(SUBSTITUTE(SUBSTITUTE(SUBSTITUTE(B3131,\"Ə\",\"A\"),\"J\",\"ZH\"),\"C\",\"J\"),\"Ç\",\"CH\"),\"İ\",\"I\"),\"Ğ\",\"GH\"),\"Ö\",\"O\"),\"Ü\",\"U\"),\"Ş\",\"SH\"),\"Q\",\"G\"),\"X\",\"KH\")),\" \",(SUBSTITUTE(SUBSTITUTE(SUBSTITUTE(SUBSTITUTE(SUBSTITUTE(SUBSTITUTE(SUBSTITUTE(SUBSTITUTE(SUBSTITUTE(SUBSTITUTE(SUBSTITUTE(SUBSTITUTE(SUBSTITUTE(D3131,\" OĞLU\",\"\"),\" QIZI\",\"\"),\"Ə\",\"A\"),\"J\",\"ZH\"),\"C\",\"J\"),\"Ç\",\"CH\"),\"İ\",\"I\"),\"Ğ\",\"GH\"),\"Ö\",\"O\"),\"Ü\",\"U\"),\"Ş\",\"SH\"),\"Q\",\"G\"),\"X\",\"KH\")))","v":"  "},null,null,null,null,null,null,null,null,null,null,null,{"$f":"CONCATENATE((SUBSTITUTE(SUBSTITUTE(SUBSTITUTE(SUBSTITUTE(SUBSTITUTE(SUBSTITUTE(SUBSTITUTE(SUBSTITUTE(SUBSTITUTE(SUBSTITUTE(SUBSTITUTE(O3131,\"Ə\",\"A\"),\"J\",\"ZH\"),\"C\",\"J\"),\"Ç\",\"CH\"),\"İ\",\"I\"),\"Ğ\",\"GH\"),\"Ö\",\"O\"),\"Ü\",\"U\"),\"Ş\",\"SH\"),\"Q\",\"G\"),\"X\",\"KH\")),\", \",(SUBSTITUTE(SUBSTITUTE(SUBSTITUTE(SUBSTITUTE(SUBSTITUTE(SUBSTITUTE(SUBSTITUTE(SUBSTITUTE(SUBSTITUTE(SUBSTITUTE(SUBSTITUTE(M3131,\"Ə\",\"A\"),\"J\",\"ZH\"),\"C\",\"J\"),\"Ç\",\"CH\"),\"İ\",\"I\"),\"Ğ\",\"GH\"),\"Ö\",\"O\"),\"Ü\",\"U\"),\"Ş\",\"SH\"),\"Q\",\"G\"),\"X\",\"KH\")))","v":", "},null,null,null,null,null,"  ",null,null,null,null,null,null,"N/A","N/A","ƏMƏK HAQQI",null,"008",null," ","AGHJA_H"]
[{"$f":"IF(B3132=\"\",\"\",A3131+1)","v":""},null,null,null,"  ",null,null,null,null,null,null,null,null,null,null,null,", ",null,null,null,null,null,{"$f":"(C3132:C3132&\" \"&D3132:D3132&\" \"&B3132:B3132)","v":"  "},null,null,null,null,null,null,"N/A","N/A","ƏMƏK HAQQI",null,"008",null," ","AGHJA_H"]
["",null,null,null,"  ",null,null,null,null,null,null,null,null,null,null,null,", ",null,null,null,null,null,"  ",null,null,null,null,null,null,"N/A","N/A","ƏMƏK HAQQI",null,"008",null," ","AGHJA_H"]
["",null,null,null,"  ",null,null,null,null,null,null,null,null,null,null,null,", ",null,null,null,null,null,"  ",null,null,null,null,null,null,"N/A","N/A","ƏMƏK HAQQI",null,"008",null," ","AGHJA_H"]
["",null,null,null,"  ",null,null,null,null,null,null,null,null,null,null,null,", ",null,null,null,null,null,"  ",null,null,null,null,null,null,"N/A","N/A","ƏMƏK HAQQI",null,"008",null," ","AGHJA_H"]
["",null,null,null,"  ",null,null,null,null,null,null,null,null,null,null,null,", ",null,null,null,null,null,"  ",null,null,null,null,null,null,"N/A","N/A","ƏMƏK HAQQI",null,"008",null," ","AGHJA_H"]
["",null,null,null,"  ",null,null,null,null,null,null,null,null,null,null,null,", ",null,null,null,null,null,"  ",null,null,null,null,null,null,"N/A","N/A","ƏMƏK HAQQI",null,"008",null," ","AGHJA_H"]
["",null,null,null,"  ",null,null,null,null,null,null,null,null,null,null,null,", ",null,null,null,null,null,"  ",null,null,null,null,null,null,"N/A","N/A","ƏMƏK HAQQI",null,"008",null," ","AGHJA_H"]
["",null,null,null,"  ",null,null,null,null,null,null,null,null,null,null,null,", ",null,null,null,null,null,"  ",null,null,null,null,null,null,"N/A","N/A","ƏMƏK HAQQI",null,"008",null," ","AGHJA_H"]
["",null,null,null,"  ",null,null,null,null,null,null,null,null,null,null,null,", ",null,null,null,null,null,"  ",null,null,null,null,null,null,"N/A","N/A","ƏMƏK HAQQI",null,"008",null," ","AGHJA_H"]
["",null,null,null,"  ",null,null,null,null,null,null,null,null,null,null,null,", ",null,null,null,null,null,"  ",null,null,null,null,null,null,"N/A","N/A","ƏMƏK HAQQI",null,"008",null," ","AGHJA_H"]
["",null,null,null,"  ",null,null,null,null,null,null,null,null,null,null,null,", ",null,null,null,null,null,"  ",null,null,null,null,null,null,"N/A","N/A","ƏMƏK HAQQI",null,"008",null," ","AGHJA_H"]
["",null,null,null,"  ",null,null,null,null,null,null,null,null,null,null,null,", ",null,null,null,null,null,"  ",null,null,null,null,null,null,"N/A","N/A","ƏMƏK HAQQI",null,"008",null," ","AGHJA_H"]
["",null,null,null,"  ",null,null,null,null,null,null,null,null,null,null,null,", ",null,null,null,null,null,"  ",null,null,null,null,null,null,"N/A","N/A","ƏMƏK HAQQI",null,"008",null," ","AGHJA_H"]
["",null,null,null,"  ",null,null,null,null,null,null,null,null,null,null,null,", ",null,null,null,null,null,"  ",null,null,null,null,null,null,"N/A","N/A","ƏMƏK HAQQI",null,"008",null," ","AGHJA_H"]
["",null,null,null,"  ",null,null,null,null,null,null,null,null,null,null,null,", ",null,null,null,null,null,"  ",null,null,null,null,null,null,"N/A","N/A","ƏMƏK HAQQI",null,"008",null," ","AGHJA_H"]
["",null,null,null,"  ",null,null,null,null,null,null,null,null,null,null,null,", ",null,null,null,null,null,"  ",null,null,null,null,null,null,"N/A","N/A","ƏMƏK HAQQI",null,"008",null," ","AGHJA_H"]
["",null,null,null,"  ",null,null,null,null,null,null,null,null,null,null,null,", ",null,null,null,null,null,"  ",null,null,null,null,null,null,"N/A","N/A","ƏMƏK HAQQI",null,"008",null," ","AGHJA_H"]
["",null,null,null,"  ",null,null,null,null,null,null,null,null,null,null,null,", ",null,null,null,null,null,"  ",null,null,null,null,null,null,"N/A","N/A","ƏMƏK HAQQI",null,"008",null," ","AGHJA_H"]
["",null,null,null,"  ",null,null,null,null,null,null,null,null,null,null,null,", ",null,null,null,null,null,"  ",null,null,null,null,null,null,"N/A","N/A","ƏMƏK HAQQI",null,"008",null," ","AGHJA_H"]
["",null,null,null,"  ",null,null,null,null,null,null,null,null,null,null,null,", ",null,null,null,null,null,"  ",null,null,null,null,null,null,"N/A","N/A","ƏMƏK HAQQI",null,"008",null," ","AGHJA_H"]
["",null,null,null,"  ",null,null,null,null,null,null,null,null,null,null,null,", ",null,null,null,null,null,"  ",null,null,null,null,null,null,"N/A","N/A","ƏMƏK HAQQI",null,"008",null," ","AGHJA_H"]
["",null,null,null,"  ",null,null,null,null,null,null,null,null,null,null,null,", ",null,null,null,null,null,"  ",null,null,null,null,null,null,"N/A","N/A","ƏMƏK HAQQI",null,"008",null," ","AGHJA_H"]
["",null,null,null,"  ",null,null,null,null,null,null,null,null,null,null,null,", ",null,null,null,null,null,"  ",null,null,null,null,null,null,"N/A","N/A","ƏMƏK HAQQI",null,"008",null," ","AGHJA_H"]
["",null,null,null,"  ",null,null,null,null,null,null,null,null,null,null,null,", ",null,null,null,null,null,"  ",null,null,null,null,null,null,"N/A","N/A","ƏMƏK HAQQI",null,"008",null," ","AGHJA_H"]
["",null,null,null,"  ",null,null,null,null,null,null,null,null,null,null,null,", ",null,null,null,null,null,"  ",null,null,null,null,null,null,"N/A","N/A","ƏMƏK HAQQI",null,"008",null," ","AGHJA_H"]
["",null,null,null,"  ",null,null,null,null,null,null,null,null,null,null,null,", ",null,null,null,null,null,"  ",null,null,null,null,null,null,"N/A","N/A","ƏMƏK HAQQI",null,"008",null," ","AGHJA_H"]
["",null,null,null,"  ",null,null,null,null,null,null,null,null,null,null,null,", ",null,null,null,null,null,"  ",null,null,null,null,null,null,"N/A","N/A","ƏMƏK HAQQI",null,"008",null," ","AGHJA_H"]
["",null,null,null,"  ",null,null,null,null,null,null,null,null,null,null,null,", ",null,null,null,null,null,"  ",null,null,null,null,null,null,"N/A","N/A","ƏMƏK HAQQI",null,"008",null," ","AGHJA_H"]
["",null,null,null,"  ",null,null,null,null,null,null,null,null,null,null,null,", ",null,null,null,null,null,"  ",null,null,null,null,null,null,"N/A","N/A","ƏMƏK HAQQI",null,"008",null," ","AGHJA_H"]
["",null,null,null,"  ",null,null,null,null,null,null,null,null,null,null,null,", ",null,null,null,null,null,"  ",null,null,null,null,null,null,"N/A","N/A","ƏMƏK HAQQI",null,"008",null," ","AGHJA_H"]
["",null,null,null,"  ",null,null,null,null,null,null,null,null,null,null,null,", ",null,null,null,null,null,"  ",null,null,null,null,null,null,"N/A","N/A","ƏMƏK HAQQI",null,"008",null," ","AGHJA_H"]
["",null,null,null,"  ",null,null,null,null,null,null,null,null,null,null,null,", ",null,null,null,null,null,"  ",null,null,null,null,null,null,"N/A","N/A","ƏMƏK HAQQI",null,"008",null," ","AGHJA_H"]
["",null,null,null,"  ",null,null,null,null,null,null,null,null,null,null,null,", ",null,null,null,null,null,"  ",null,null,null,null,null,null,"N/A","N/A","ƏMƏK HAQQI",null,"008",null," ","AGHJA_H"]
["",null,null,null,"  ",null,null,null,null,null,null,null,null,null,null,null,", ",null,null,null,null,null,"  ",null,null,null,null,null,null,"N/A","N/A","ƏMƏK HAQQI",null,"008",null," ","AGHJA_H"]
["",null,null,null,"  ",null,null,null,null,null,null,null,null,null,null,null,", ",null,null,null,null,null,"  ",null,null,null,null,null,null,"N/A","N/A","ƏMƏK HAQQI",null,"008",null," ","AGHJA_H"]
["",null,null,null,"  ",null,null,null,null,null,null,null,null,null,null,null,", ",null,null,null,null,null,"  ",null,null,null,null,null,null,"N/A","N/A","ƏMƏK HAQQI",null,"008",null," ","AGHJA_H"]
["",null,null,null,"  ",null,null,null,null,null,null,null,null,null,null,null,", ",null,null,null,null,null,"  ",null,null,null,null,null,null,"N/A","N/A","ƏMƏK HAQQI",null,"008",null," ","AGHJA_H"]
["",null,null,null,"  ",null,null,null,null,null,null,null,null,null,null,null,", ",null,null,null,null,null,"  ",null,null,null,null,null,null,"N/A","N/A","ƏMƏK HAQQI",null,"008",null," ","AGHJA_H"]
["",null,null,null,"  ",null,null,null,null,null,null,null,null,null,null,null,", ",null,null,null,null,null,"  ",null,null,null,null,null,null,"N/A","N/A","ƏMƏK HAQQI",null,"008",null," ","AGHJA_H"]
["",null,null,null,"  ",null,null,null,null,null,null,null,null,null,null,null,", ",null,null,null,null,null,"  ",null,null,null,null,null,null,"N/A","N/A","ƏMƏK HAQQI",null,"008",null," ","AGHJA_H"]
["",null,null,null,"  ",null,null,null,null,null,null,null,null,null,null,null,", ",null,null,null,null,null,"  ",null,null,null,null,null,null,"N/A","N/A","ƏMƏK HAQQI",null,"008",null," ","AGHJA_H"]
["",null,null,null,"  ",null,null,null,null,null,null,null,null,null,null,null,", ",null,null,null,null,null,"  ",null,null,null,null,null,null,"N/A","N/A","ƏMƏK HAQQI",null,"008",null," ","AGHJA_H"]
["",null,null,null,"  ",null,null,null,null,null,null,null,null,null,null,null,", ",null,null,null,null,null,"  ",null,null,null,null,null,null,"N/A","N/A","ƏMƏK HAQQI",null,"008",null," ","AGHJA_H"]
["",null,null,null,"  ",null,null,null,null,null,null,null,null,null,null,null,", ",null,null,null,null,null,"  ",null,null,null,null,null,null,"N/A","N/A","ƏMƏK HAQQI",null,"008",null," ","AGHJA_H"]
["",null,null,null,"  ",null,null,null,null,null,null,null,null,null,null,null,", ",null,null,null,null,null,"  ",null,null,null,null,null,null,"N/A","N/A","ƏMƏK HAQQI",null,"008",null," ","AGHJA_H"]
["",null,null,null,"  ",null,null,null,null,null,null,null,null,null,null,null,", ",null,null,null,null,null,"  ",null,null,null,null,null,null,"N/A","N/A","ƏMƏK HAQQI",null,"008",null," ","AGHJA_H"]
["",null,null,null,"  ",null,null,null,null,null,null,null,null,null,null,null,", ",null,null,null,null,null,"  ",null,null,null,null,null,null,"N/A","N/A","ƏMƏK HAQQI",null,"008",null," ","AGHJA_H"]
["",null,null,null,"  ",null,null,null,null,null,null,null,null,null,null,null,", ",null,null,null,null,null,"  ",null,null,null,null,null,null,"N/A","N/A","ƏMƏK HAQQI",null,"008",null," ","AGHJA_H"]
["",null,null,null,"  ",null,null,null,null,null,null,null,null,null,null,null,", ",null,null,null,null,null,"  ",null,null,null,null,null,null,"N/A","N/A","ƏMƏK HAQQI",null,"008",null," ","AGHJA_H"]
["",null,null,null,"  ",null,null,null,null,null,null,null,null,null,null,null,", ",null,null,null,null,null,"  ",null,null,null,null,null,null,"N/A","N/A","ƏMƏK HAQQI",null,"008",null," ","AGHJA_H"]
["",null,null,null,"  ",null,null,null,null,null,null,null,null,null,null,null,", ",null,null,null,null,null,"  ",null,null,null,null,null,null,"N/A","N/A","ƏMƏK HAQQI",null,"008",null," ","AGHJA_H"]
["",null,null,null,"  ",null,null,null,null,null,null,null,null,null,null,null,", ",null,null,null,null,null,"  ",null,null,null,null,null,null,"N/A","N/A","ƏMƏK HAQQI",null,"008",null," ","AGHJA_H"]
["",null,null,null,"  ",null,null,null,null,null,null,null,null,null,null,null,", ",null,null,null,null,null,"  ",null,null,null,null,null,null,"N/A","N/A","ƏMƏK HAQQI",null,"008",null," ","AGHJA_H"]
["",null,null,null,"  ",null,null,null,null,null,null,null,null,null,null,null,", ",null,null,null,null,null,"  ",null,null,null,null,null,null,"N/A","N/A","ƏMƏK HAQQI",null,"008",null," ","AGHJA_H"]
["",null,null,null,"  ",null,null,null,null,null,null,null,null,null,null,null,", ",null,null,null,null,null,"  ",null,null,null,null,null,null,"N/A","N/A","ƏMƏK HAQQI",null,"008",null," ","AGHJA_H"]
["",null,null,null,"  ",null,null,null,null,null,null,null,null,null,null,null,", ",null,null,null,null,null,"  ",null,null,null,null,null,null,"N/A","N/A","ƏMƏK HAQQI",null,"008",null," ","AGHJA_H"]
["",null,null,null,"  ",null,null,null,null,null,null,null,null,null,null,null,", ",null,null,null,null,null,"  ",null,null,null,null,null,null,"N/A","N/A","ƏMƏK HAQQI",null,"008",null," ","AGHJA_H"]
["",null,null,null,"  ",null,null,null,null,null,null,null,null,null,null,null,", ",null,null,null,null,null,"  ",null,null,null,null,null,null,"N/A","N/A","ƏMƏK HAQQI",null,"008",null," ","AGHJA_H"]
["",null,null,null,"  ",null,null,null,null,null,null,null,null,null,null,null,", ",null,null,null,null,null,"  ",null,null,null,null,null,null,"N/A","N/A","ƏMƏK HAQQI",null,"008",null," ","AGHJA_H"]
["",null,null,null,"  ",null,null,null,null,null,null,null,null,null,null,null,", ",null,null,null,null,null,"  ",null,null,null,null,null,null,"N/A","N/A","ƏMƏK HAQQI",null,"008",null," ","AGHJA_H"]
["",null,null,null,"  ",null,null,null,null,null,null,null,null,null,null,null,", ",null,null,null,null,null,"  ",null,null,null,null,null,null,"N/A","N/A","ƏMƏK HAQQI",null,"008",null," ","AGHJA_H"]
["",null,null,null,"  ",null,null,null,null,null,null,null,null,null,null,null,", ",null,null,null,null,null,"  ",null,null,null,null,null,null,"N/A","N/A","ƏMƏK HAQQI",null,"008",null," ","AGHJA_H"]
["",null,null,null,"  ",null,null,null,null,null,null,null,null,null,null,null,", ",null,null,null,null,null,"  ",null,null,null,null,null,null,"N/A","N/A","ƏMƏK HAQQI",null,"008",null,{"$f":"CONCATENATE((SUBSTITUTE(SUBSTITUTE(SUBSTITUTE(SUBSTITUTE(SUBSTITUTE(SUBSTITUTE(SUBSTITUTE(SUBSTITUTE(SUBSTITUTE(SUBSTITUTE(SUBSTITUTE(C3194,\"Ə\",\"A\"),\"J\",\"ZH\"),\"C\",\"J\"),\"Ç\",\"CH\"),\"İ\",\"I\"),\"Ğ\",\"GH\"),\"Ö\",\"O\"),\"Ü\",\"U\"),\"Ş\",\"SH\"),\"Q\",\"G\"),\"X\",\"KH\")),\" \",(SUBSTITUTE(SUBSTITUTE(SUBSTITUTE(SUBSTITUTE(SUBSTITUTE(SUBSTITUTE(SUBSTITUTE(SUBSTITUTE(SUBSTITUTE(SUBSTITUTE(SUBSTITUTE(B3194,\"Ə\",\"A\"),\"J\",\"ZH\"),\"C\",\"J\"),\"Ç\",\"CH\"),\"İ\",\"I\"),\"Ğ\",\"GH\"),\"Ö\",\"O\"),\"Ü\",\"U\"),\"Ş\",\"SH\"),\"Q\",\"G\"),\"X\",\"KH\")))","v":" "},"AGHJA_H"]
["",null,null,null,{"$f":"CONCATENATE((SUBSTITUTE(SUBSTITUTE(SUBSTITUTE(SUBSTITUTE(SUBSTITUTE(SUBSTITUTE(SUBSTITUTE(SUBSTITUTE(SUBSTITUTE(SUBSTITUTE(SUBSTITUTE(C3195,\"Ə\",\"A\"),\"J\",\"ZH\"),\"C\",\"J\"),\"Ç\",\"CH\"),\"İ\",\"I\"),\"Ğ\",\"GH\"),\"Ö\",\"O\"),\"Ü\",\"U\"),\"Ş\",\"SH\"),\"Q\",\"G\"),\"X\",\"KH\")),\" \",(SUBSTITUTE(SUBSTITUTE(SUBSTITUTE(SUBSTITUTE(SUBSTITUTE(SUBSTITUTE(SUBSTITUTE(SUBSTITUTE(SUBSTITUTE(SUBSTITUTE(SUBSTITUTE(B3195,\"Ə\",\"A\"),\"J\",\"ZH\"),\"C\",\"J\"),\"Ç\",\"CH\"),\"İ\",\"I\"),\"Ğ\",\"GH\"),\"Ö\",\"O\"),\"Ü\",\"U\"),\"Ş\",\"SH\"),\"Q\",\"G\"),\"X\",\"KH\")),\" \",(SUBSTITUTE(SUBSTITUTE(SUBSTITUTE(SUBSTITUTE(SUBSTITUTE(SUBSTITUTE(SUBSTITUTE(SUBSTITUTE(SUBSTITUTE(SUBSTITUTE(SUBSTITUTE(SUBSTITUTE(SUBSTITUTE(D3195,\" OĞLU\",\"\"),\" QIZI\",\"\"),\"Ə\",\"A\"),\"J\",\"ZH\"),\"C\",\"J\"),\"Ç\",\"CH\"),\"İ\",\"I\"),\"Ğ\",\"GH\"),\"Ö\",\"O\"),\"Ü\",\"U\"),\"Ş\",\"SH\"),\"Q\",\"G\"),\"X\",\"KH\")))","v":"  "},null,null,null,null,null,null,null,null,null,null,null,{"$f":"CONCATENATE((SUBSTITUTE(SUBSTITUTE(SUBSTITUTE(SUBSTITUTE(SUBSTITUTE(SUBSTITUTE(SUBSTITUTE(SUBSTITUTE(SUBSTITUTE(SUBSTITUTE(SUBSTITUTE(O3195,\"Ə\",\"A\"),\"J\",\"ZH\"),\"C\",\"J\"),\"Ç\",\"CH\"),\"İ\",\"I\"),\"Ğ\",\"GH\"),\"Ö\",\"O\"),\"Ü\",\"U\"),\"Ş\",\"SH\"),\"Q\",\"G\"),\"X\",\"KH\")),\", \",(SUBSTITUTE(SUBSTITUTE(SUBSTITUTE(SUBSTITUTE(SUBSTITUTE(SUBSTITUTE(SUBSTITUTE(SUBSTITUTE(SUBSTITUTE(SUBSTITUTE(SUBSTITUTE(M3195,\"Ə\",\"A\"),\"J\",\"ZH\"),\"C\",\"J\"),\"Ç\",\"CH\"),\"İ\",\"I\"),\"Ğ\",\"GH\"),\"Ö\",\"O\"),\"Ü\",\"U\"),\"Ş\",\"SH\"),\"Q\",\"G\"),\"X\",\"KH\")))","v":", "},null,null,null,null,null,"  ",null,null,null,null,null,null,"N/A","N/A","ƏMƏK HAQQI",null,"008",null," ","AGHJA_H"]
[{"$f":"IF(B3196=\"\",\"\",A3195+1)","v":""},null,null,null,"  ",null,null,null,null,null,null,null,null,null,null,null,", ",null,null,null,null,null,{"$f":"(C3196:C3196&\" \"&D3196:D3196&\" \"&B3196:B3196)","v":"  "},null,null,null,null,null,null,"N/A","N/A","ƏMƏK HAQQI",null,"008",null," ","AGHJA_H"]
["",null,null,null,"  ",null,null,null,null,null,null,null,null,null,null,null,", ",null,null,null,null,null,"  ",null,null,null,null,null,null,"N/A","N/A","ƏMƏK HAQQI",null,"008",null," ","AGHJA_H"]
["",null,null,null,"  ",null,null,null,null,null,null,null,null,null,null,null,", ",null,null,null,null,null,"  ",null,null,null,null,null,null,"N/A","N/A","ƏMƏK HAQQI",null,"008",null," ","AGHJA_H"]
["",null,null,null,"  ",null,null,null,null,null,null,null,null,null,null,null,", ",null,null,null,null,null,"  ",null,null,null,null,null,null,"N/A","N/A","ƏMƏK HAQQI",null,"008",null," ","AGHJA_H"]
["",null,null,null,"  ",null,null,null,null,null,null,null,null,null,null,null,", ",null,null,null,null,null,"  ",null,null,null,null,null,null,"N/A","N/A","ƏMƏK HAQQI",null,"008",null," ","AGHJA_H"]
["",null,null,null,"  ",null,null,null,null,null,null,null,null,null,null,null,", ",null,null,null,null,null,"  ",null,null,null,null,null,null,"N/A","N/A","ƏMƏK HAQQI",null,"008",null," ","AGHJA_H"]
["",null,null,null,"  ",null,null,null,null,null,null,null,null,null,null,null,", ",null,null,null,null,null,"  ",null,null,null,null,null,null,"N/A","N/A","ƏMƏK HAQQI",null,"008",null," ","AGHJA_H"]
["",null,null,null,"  ",null,null,null,null,null,null,null,null,null,null,null,", ",null,null,null,null,null,"  ",null,null,null,null,null,null,"N/A","N/A","ƏMƏK HAQQI",null,"008",null," ","AGHJA_H"]
["",null,null,null,"  ",null,null,null,null,null,null,null,null,null,null,null,", ",null,null,null,null,null,"  ",null,null,null,null,null,null,"N/A","N/A","ƏMƏK HAQQI",null,"008",null," ","AGHJA_H"]
["",null,null,null,"  ",null,null,null,null,null,null,null,null,null,null,null,", ",null,null,null,null,null,"  ",null,null,null,null,null,null,"N/A","N/A","ƏMƏK HAQQI",null,"008",null," ","AGHJA_H"]
["",null,null,null,"  ",null,null,null,null,null,null,null,null,null,null,null,", ",null,null,null,null,null,"  ",null,null,null,null,null,null,"N/A","N/A","ƏMƏK HAQQI",null,"008",null," ","AGHJA_H"]
["",null,null,null,"  ",null,null,null,null,null,null,null,null,null,null,null,", ",null,null,null,null,null,"  ",null,null,null,null,null,null,"N/A","N/A","ƏMƏK HAQQI",null,"008",null," ","AGHJA_H"]
["",null,null,null,"  ",null,null,null,null,null,null,null,null,null,null,null,", ",null,null,null,null,null,"  ",null,null,null,null,null,null,"N/A","N/A","ƏMƏK HAQQI",null,"008",null," ","AGHJA_H"]
["",null,null,null,"  ",null,null,null,null,null,null,null,null,null,null,null,", ",null,null,null,null,null,"  ",null,null,null,null,null,null,"N/A","N/A","ƏMƏK HAQQI",null,"008",null," ","AGHJA_H"]
["",null,null,null,"  ",null,null,null,null,null,null,null,null,null,null,null,", ",null,null,null,null,null,"  ",null,null,null,null,null,null,"N/A","N/A","ƏMƏK HAQQI",null,"008",null," ","AGHJA_H"]
["",null,null,null,"  ",null,null,null,null,null,null,null,null,null,null,null,", ",null,null,null,null,null,"  ",null,null,null,null,null,null,"N/A","N/A","ƏMƏK HAQQI",null,"008",null," ","AGHJA_H"]
["",null,null,null,"  ",null,null,null,null,null,null,null,null,null,null,null,", ",null,null,null,null,null,"  ",null,null,null,null,null,null,"N/A","N/A","ƏMƏK HAQQI",null,"008",null," ","AGHJA_H"]
["",null,null,null,"  ",null,null,null,null,null,null,null,null,null,null,null,", ",null,null,null,null,null,"  ",null,null,null,null,null,null,"N/A","N/A","ƏMƏK HAQQI",null,"008",null," ","AGHJA_H"]
["",null,null,null,"  ",null,null,null,null,null,null,null,null,null,null,null,", ",null,null,null,null,null,"  ",null,null,null,null,null,null,"N/A","N/A","ƏMƏK HAQQI",null,"008",null," ","AGHJA_H"]
["",null,null,null,"  ",null,null,null,null,null,null,null,null,null,null,null,", ",null,null,null,null,null,"  ",null,null,null,null,null,null,"N/A","N/A","ƏMƏK HAQQI",null,"008",null," ","AGHJA_H"]
["",null,null,null,"  ",null,null,null,null,null,null,null,null,null,null,null,", ",null,null,null,null,null,"  ",null,null,null,null,null,null,"N/A","N/A","ƏMƏK HAQQI",null,"008",null," ","AGHJA_H"]
["",null,null,null,"  ",null,null,null,null,null,null,null,null,null,null,null,", ",null,null,null,null,null,"  ",null,null,null,null,null,null,"N/A","N/A","ƏMƏK HAQQI",null,"008",null," ","AGHJA_H"]
["",null,null,null,"  ",null,null,null,null,null,null,null,null,null,null,null,", ",null,null,null,null,null,"  ",null,null,null,null,null,null,"N/A","N/A","ƏMƏK HAQQI",null,"008",null," ","AGHJA_H"]
["",null,null,null,"  ",null,null,null,null,null,null,null,null,null,null,null,", ",null,null,null,null,null,"  ",null,null,null,null,null,null,"N/A","N/A","ƏMƏK HAQQI",null,"008",null," ","AGHJA_H"]
["",null,null,null,"  ",null,null,null,null,null,null,null,null,null,null,null,", ",null,null,null,null,null,"  ",null,null,null,null,null,null,"N/A","N/A","ƏMƏK HAQQI",null,"008",null," ","AGHJA_H"]
["",null,null,null,"  ",null,null,null,null,null,null,null,null,null,null,null,", ",null,null,null,null,null,"  ",null,null,null,null,null,null,"N/A","N/A","ƏMƏK HAQQI",null,"008",null," ","AGHJA_H"]
["",null,null,null,"  ",null,null,null,null,null,null,null,null,null,null,null,", ",null,null,null,null,null,"  ",null,null,null,null,null,null,"N/A","N/A","ƏMƏK HAQQI",null,"008",null," ","AGHJA_H"]
["",null,null,null,"  ",null,null,null,null,null,null,null,null,null,null,null,", ",null,null,null,null,null,"  ",null,null,null,null,null,null,"N/A","N/A","ƏMƏK HAQQI",null,"008",null," ","AGHJA_H"]
["",null,null,null,"  ",null,null,null,null,null,null,null,null,null,null,null,", ",null,null,null,null,null,"  ",null,null,null,null,null,null,"N/A","N/A","ƏMƏK HAQQI",null,"008",null," ","AGHJA_H"]
["",null,null,null,"  ",null,null,null,null,null,null,null,null,null,null,null,", ",null,null,null,null,null,"  ",null,null,null,null,null,null,"N/A","N/A","ƏMƏK HAQQI",null,"008",null," ","AGHJA_H"]
["",null,null,null,"  ",null,null,null,null,null,null,null,null,null,null,null,", ",null,null,null,null,null,"  ",null,null,null,null,null,null,"N/A","N/A","ƏMƏK HAQQI",null,"008",null," ","AGHJA_H"]
["",null,null,null,"  ",null,null,null,null,null,null,null,null,null,null,null,", ",null,null,null,null,null,"  ",null,null,null,null,null,null,"N/A","N/A","ƏMƏK HAQQI",null,"008",null," ","AGHJA_H"]
["",null,null,null,"  ",null,null,null,null,null,null,null,null,null,null,null,", ",null,null,null,null,null,"  ",null,null,null,null,null,null,"N/A","N/A","ƏMƏK HAQQI",null,"008",null," ","AGHJA_H"]
["",null,null,null,"  ",null,null,null,null,null,null,null,null,null,null,null,", ",null,null,null,null,null,"  ",null,null,null,null,null,null,"N/A","N/A","ƏMƏK HAQQI",null,"008",null," ","AGHJA_H"]
["",null,null,null,"  ",null,null,null,null,null,null,null,null,null,null,null,", ",null,null,null,null,null,"  ",null,null,null,null,null,null,"N/A","N/A","ƏMƏK HAQQI",null,"008",null," ","AGHJA_H"]
["",null,null,null,"  ",null,null,null,null,null,null,null,null,null,null,null,", ",null,null,null,null,null,"  ",null,null,null,null,null,null,"N/A","N/A","ƏMƏK HAQQI",null,"008",null," ","AGHJA_H"]
["",null,null,null,"  ",null,null,null,null,null,null,null,null,null,null,null,", ",null,null,null,null,null,"  ",null,null,null,null,null,null,"N/A","N/A","ƏMƏK HAQQI",null,"008",null," ","AGHJA_H"]
["",null,null,null,"  ",null,null,null,null,null,null,null,null,null,null,null,", ",null,null,null,null,null,"  ",null,null,null,null,null,null,"N/A","N/A","ƏMƏK HAQQI",null,"008",null," ","AGHJA_H"]
["",null,null,null,"  ",null,null,null,null,null,null,null,null,null,null,null,", ",null,null,null,null,null,"  ",null,null,null,null,null,null,"N/A","N/A","ƏMƏK HAQQI",null,"008",null," ","AGHJA_H"]
["",null,null,null,"  ",null,null,null,null,null,null,null,null,null,null,null,", ",null,null,null,null,null,"  ",null,null,null,null,null,null,"N/A","N/A","ƏMƏK HAQQI",null,"008",null," ","AGHJA_H"]
["",null,null,null,"  ",null,null,null,null,null,null,null,null,null,null,null,", ",null,null,null,null,null,"  ",null,null,null,null,null,null,"N/A","N/A","ƏMƏK HAQQI",null,"008",null," ","AGHJA_H"]
["",null,null,null,"  ",null,null,null,null,null,null,null,null,null,null,null,", ",null,null,null,null,null,"  ",null,null,null,null,null,null,"N/A","N/A","ƏMƏK HAQQI",null,"008",null," ","AGHJA_H"]
["",null,null,null,"  ",null,null,null,null,null,null,null,null,null,null,null,", ",null,null,null,null,null,"  ",null,null,null,null,null,null,"N/A","N/A","ƏMƏK HAQQI",null,"008",null," ","AGHJA_H"]
["",null,null,null,"  ",null,null,null,null,null,null,null,null,null,null,null,", ",null,null,null,null,null,"  ",null,null,null,null,null,null,"N/A","N/A","ƏMƏK HAQQI",null,"008",null," ","AGHJA_H"]
["",null,null,null,"  ",null,null,null,null,null,null,null,null,null,null,null,", ",null,null,null,null,null,"  ",null,null,null,null,null,null,"N/A","N/A","ƏMƏK HAQQI",null,"008",null," ","AGHJA_H"]
["",null,null,null,"  ",null,null,null,null,null,null,null,null,null,null,null,", ",null,null,null,null,null,"  ",null,null,null,null,null,null,"N/A","N/A","ƏMƏK HAQQI",null,"008",null," ","AGHJA_H"]
["",null,null,null,"  ",null,null,null,null,null,null,null,null,null,null,null,", ",null,null,null,null,null,"  ",null,null,null,null,null,null,"N/A","N/A","ƏMƏK HAQQI",null,"008",null," ","AGHJA_H"]
["",null,null,null,"  ",null,null,null,null,null,null,null,null,null,null,null,", ",null,null,null,null,null,"  ",null,null,null,null,null,null,"N/A","N/A","ƏMƏK HAQQI",null,"008",null," ","AGHJA_H"]
["",null,null,null,"  ",null,null,null,null,null,null,null,null,null,null,null,", ",null,null,null,null,null,"  ",null,null,null,null,null,null,"N/A","N/A","ƏMƏK HAQQI",null,"008",null," ","AGHJA_H"]
["",null,null,null,"  ",null,null,null,null,null,null,null,null,null,null,null,", ",null,null,null,null,null,"  ",null,null,null,null,null,null,"N/A","N/A","ƏMƏK HAQQI",null,"008",null," ","AGHJA_H"]
["",null,null,null,"  ",null,null,null,null,null,null,null,null,null,null,null,", ",null,null,null,null,null,"  ",null,null,null,null,null,null,"N/A","N/A","ƏMƏK HAQQI",null,"008",null," ","AGHJA_H"]
["",null,null,null,"  ",null,null,null,null,null,null,null,null,null,null,null,", ",null,null,null,null,null,"  ",null,null,null,null,null,null,"N/A","N/A","ƏMƏK HAQQI",null,"008",null," ","AGHJA_H"]
["",null,null,null,"  ",null,null,null,null,null,null,null,null,null,null,null,", ",null,null,null,null,null,"  ",null,null,null,null,null,null,"N/A","N/A","ƏMƏK HAQQI",null,"008",null," ","AGHJA_H"]
["",null,null,null,"  ",null,null,null,null,null,null,null,null,null,null,null,", ",null,null,null,null,null,"  ",null,null,null,null,null,null,"N/A","N/A","ƏMƏK HAQQI",null,"008",null," ","AGHJA_H"]
["",null,null,null,"  ",null,null,null,null,null,null,null,null,null,null,null,", ",null,null,null,null,null,"  ",null,null,null,null,null,null,"N/A","N/A","ƏMƏK HAQQI",null,"008",null," ","AGHJA_H"]

{"sheet":"Manual","index":2,"n_rows":26,"n_cols":2,"rows_kept":26,"cut":false,"hidden":false,"merged":[[0,0,0,1],[1,0,1,1],[2,0,2,1]]}
["ƏMƏK HAQQI KART HESABLARIN AÇILMASI ÜÇÜN ƏRİZƏNİN  DOLDURULMA QAYDALARI"]
["Sifariş olunan kart sahibləri üzrə məlumatlar “Qeydiyyat” səhifəsində mavi rəngli başlıqlı sütünlarda doldurulmalıdır.\n\n\n"]
["“Ərizə” məlumatlar avtomatik doldurulur.  “Qeydiyyat” səhifəsində məlumatı daxil etdikdən sonra Ərizə səhifəsinə açıb, bir qədər gözləmək lazımdır. Məlumat əks olunduqdan sonra Ərizəni çap edib imzalanmalı, möhürlənməli və Banka təqdim edilməlidir; "]
["Xananın adı","Təsvir"]
["LASTNAME, FIRSTNAME, FATHER_NAME","Bu xanalarda işçinin müvafiq olaraq soyadı, adı və atasının adı Azərbaycan dilində böyük hərflərlə yazılmalıdır;"]
["DOCUMENT_DETAILS bölməsi DOC_TYPE ","Bu xanada işçinin şəxsiyyətini təsdiq edən sənədin növü yazılmalıdır (misal: rezidentlər üçün - National ID, müvəqəti yaşayış icazə vərəqəsi üçün perm permit, daimi yaşayış icazə vərəqəsi üçün term permit, xarici vətəndaşlar üçün isə pasport və s.);"]
["DOCUMENT_DETAILS bölməsi SERIES_AND_NUMBER ","Bu xanada işçinin şəxsiyyətini təsdiq edən sənədin seriya (böyük hərflərlə) və nömrəsi yazılmalıdır;"]
["DOCUMENT_DETAILS bölməsi SERIES və NUMBER ","Bu xanalarda müvafiq olaraq işçinin şəxsiyyətini təsdiq edən sənədin seriyası (böyük hərflərlə) və nömrəsi yazılmalıdır;"]
[" DOCUMENT_DETAILS bölməsi DATE_ISSUED ","Bu xanada işçinin şəxsiyyətini təsdiq edən sənədin verilmə tarixi yazılmalıdır;"]
["DOCUMENT_DETAILS bölməsi PLACE_ISSUED","Bu xanada işçinın şəxsiyyətini təsdiq edən sənədi verən orqanın adı Azərbaycan dilində böyük hərflərlə yazılmalıdır;"]
["DOCUMENT_DETAILS bölməsi EXPIRY_DATE","Bu xanada işçinın şəxsiyyətini təsdiq edən sənədin etibarlılıq müddətinin bitmə tarixi yazılmalıdır. Bu tarix ərizə göndərilən gündən minimum 7 gün sonra olmalıdır;"]
[" DOCUMENT_DETAILS bölməsi PIN_CODE ","Bu xanada işçinın şəxsiyyətini təsdiq edən sənədin PİN kodu göstərilməlidir. Azərbaycan Respublikasına məxsus şəxsiyyət vəsiqələrində PİN kod 7 simvoldan ibarət olur və O hərfini özündə daşımır;"]
["IS_RESIDENT ","Bu xanada işçi Azərbaycan Respublikasının rezidentidirsə -“Yes”, qeyri-rezidentdirsə - “No” yazılmalıdır."]
["REGISTRATION_ADDRESS bölməsi STREET ","Bu xanada işçinın qeydiyyatda olduğu ünvan Azərbaycan dilində böyük hərflərlə yazılmalıdır. Bu xanada maksimum 35 simvol yazıla bilər;"]
["REGISTRATION_ADDRESS bölməsi REGION","Bu xanada işçinin qeydiyyatda olduğu bölgə siyahıdan seçilməlidir"]
["REGISTRATION_ADDRESS bölməsi CITY ","Bu xanada işçinin qeydiyyatda olduğu şəhər siyahıdan seçilməlidir;"]
["CITIZENSHIP ","Bu xanada işçinin vətəndaşlığı ölkə siyahıdan seçilməlidir;"]
["BIRTH_DATE ","Bu xanada müştərinin doğum tarixi aşağıdaki formatda yazılmalıdır: gg/aa/iiii. Minimal yaş həddi 18 yaşdır."]
["BIRTHPLACE ","Bu xanada müştərinin doğulduğu yer Azərbaycan dilində böyük hərflərlə yazılmalıdır;"]
["FAMILY_STATUS ","Bu xanada müştərinin ailə vəziyyəti siyahıdan seçilməlidir;"]
["SEX ","Bu xanada işçinin cinsi göstərilməlidir;"]
["WORKPLACE ","Bu xanada müştərinin işlədiyi müəssisənin adı İngilis dilində böyük hərflərlə yazılmalıdır;"]
["MOBILE_PHONE və WORK_PHONE – ","Bu xanalarda müvafiq olaraq işçinin mobil nömrəsi və iş nömrəsi yazılmalıdır. Nömrə “+” simvolu və ölkə kodu ilə başlamalıdır. Azərbaycan nömrəsidirsə, “+994”-lə başlamalıdır və 13 simvoldan ibarət olmalıdır;"]
["SMS_Banking","Bu xanada əməkdaşən SMS Məlumatlandırma xidmətinə qoşulması haqqında qeyd olunur. Qoşulmaq üşün aylıq xidmət haqqı - 1 AZN"]
["E_MAIL","Bu xanada müştərinin elektron poçt ünvanı yazılmalıdır. Email ünvanı yalnız ingilis hərflərindən ibarət olmalıdır, @ işarəsi istifadə olunmadır. "]
[" PHONE_BANKING_PIN ","Bu xanada işçinin məxfi şifrəsi yazılmalıdır. Şifrə yalnız rəqəmlərdən, minimum 5, maksimum 8 simvoldan ibarət olmalıdır. Məxfi şifrə Əlaqə Mərkəzi tərəfindən hər hansı bir xidmətin alınması üçün operatorlar tərəfindən tələb oluna bilər;"]