Workbook

Sheet CashIn NFC
A1: A0100032 | B1: =VLOOKUP(A1,Sheet2!A:C,3,0) -> BINEQEDI RAY. S.S.AXUNDOV KUCH.3G | C1: =VLOOKUP(A1,Sheet2!A:D,4,0) -> BAKI SH. BINEQEDI RAY. S.S.AXUNDOV KUCH.3G RAHAT MARKET
A2: A0100068 | B2: =VLOOKUP(A2,Sheet2!A:C,3,0) -> BAKI SH. YASAMAL RAY. SHERIFZADE KUCH. 162 INSHAATCILAR BRANCH1 | C2: =VLOOKUP(A2,Sheet2!A:D,4,0) -> BAKI SH. YASAMAL RAY. SHERIFZADE KUCH. INSHAATCILAR BRANCH1
A3: A0100104 | B3: =VLOOKUP(A3,Sheet2!A:C,3,0) -> BAKI SH. YASAMAL RAY. C.CABBARLI KUCH.5A CEFER CABBARLI BRANCH1 | C3: =VLOOKUP(A3,Sheet2!A:D,4,0) -> BAKI SH. YASAMAL RAY. C.CABBARLI KUCH.5A CEFER CABBARLI BRANCH1
A4: A0100122 | B4: =VLOOKUP(A4,Sheet2!A:C,3,0) -> BAKI SH. XATAI RAY. S.ORUCOV KUCH.12 XATAI BRANCH1 | C4: =VLOOKUP(A4,Sheet2!A:D,4,0) -> BAKI SH. XATAI RAY. S.ORUCOV KUCH.12 XATAI BRANCH1
A5: A0100144 | B5: =VLOOKUP(A5,Sheet2!A:C,3,0) -> NARIMANOV RAY. HESEN ELIYEV KUCH.MEH.889/EV82 | C5: =VLOOKUP(A5,Sheet2!A:D,4,0) -> BAKI SH. NARIMANOV RAY. HESEN ELIYEV KUCH.MEH.889/EV82 GENCLIK BRANCH1
A6: A0100210 | B6: =VLOOKUP(A6,Sheet2!A:C,3,0) -> BAKI SH. C.CABBARLI KUCH. GLOBUS PLAZA BRAVO MARKET | C6: =VLOOKUP(A6,Sheet2!A:D,4,0) -> BAKI SH. C.CABBARLI KUCH. GLOBUS PLAZA BRAVO MARKET
A7: A0100230 | B7: =VLOOKUP(A7,Sheet2!A:C,3,0) -> BAKI SH. XEZER RAY. MERDEKAN QES. YENI BUZOVNA-MERDEKAN YOLU 6-CI KM. | C7: =VLOOKUP(A7,Sheet2!A:D,4,0) -> RAHAT MARKET
A8: A0100261 | B8: =VLOOKUP(A8,Sheet2!A:C,3,0) -> BAKI SH. SABUNCHU RAY. BAKIXANOV QES. S.QOCAYEV KUCH.13 BAKIXANOV BRANCH1 | C8: =VLOOKUP(A8,Sheet2!A:D,4,0) -> BAKI SH. SABUNCHU RAY. BAKIXANOV QES. S.QOCAYEV KUCH.13 BAKIXANOV BRANCH1
A9: A0100263 | B9: =VLOOKUP(A9,Sheet2!A:C,3,0) -> SUMGAYIT SH. 9CU MKR. UZEYIR HACIBEYOV KUCH. 2 | C9: =VLOOKUP(A9,Sheet2!A:D,4,0) -> SUMGAYIT BRAVO CENTER
A10: A0100272 | B10: =VLOOKUP(A10,Sheet2!A:C,3,0) -> BAKI SH. NESIMI RAY. NEFTÇİLƏR PR. 153 | C10: =VLOOKUP(A10,Sheet2!A:D,4,0) -> BAKI SH. NESIMI RAY. NEFTÇİLƏR PR. 153 PORT BAKU
A11: A0100274 | B11: =VLOOKUP(A11,Sheet2!A:C,3,0) -> BAKI SH. YASAMAL RAY. YENI YASAMAL MASSIVI ESED EHMEDOV KUCH. BRAVO 2009 | C11: =VLOOKUP(A11,Sheet2!A:D,4,0) -> BAKI SH. YASAMAL RAY. YENI YASAMAL MASSIVI ESED EHMEDOV KUCH. BRAVO 2009
A12: A0100295 | B12: =VLOOKUP(A12,Sheet2!A:C,3,0) -> BAKI SH. QARADAG RAY. SEDEREK TICARET MERKEZI PASHA BANK FILIAL | C12: =VLOOKUP(A12,Sheet2!A:D,4,0) -> BAKI SH. QARADAG RAY. SEDEREK TICARET MERKEZI PASHA BANK FILIAL
... A117: A0100548 | B117: =VLOOKUP(A117,Sheet2!A:C,3,0) -> BAKI SH. M.HADI BRANCH 2 | C117: =VLOOKUP(A117,Sheet2!A:D,4,0) -> BAKI SH. M.HADI BRANCH 2

Sheet Cashout NFC
A1: A0100007 | B1: =VLOOKUP(A1,Sheet2!A:C,3,0) -> XAZAR RAY. ZIRE QES. C.ELIYEV KUCH. | C1: =VLOOKUP(A1,Sheet2!A:D,4,0) -> BAKI SH. XAZAR RAY. ZIRE QES. C.ELIYEV KUCH. MARKET
A2: A0100013 | B2: =VLOOKUP(A2,Sheet2!A:C,3,0) -> XAZAR RAY. ZIRE-PIRALLAHI YOLU | C2: =VLOOKUP(A2,Sheet2!A:D,4,0) -> BAKI SH. XAZAR RAY. ZIRE-PIRALLAHI YOLU MARKET ZIRE-PIRALLAHI YOLU
A3: A0100016 | B3: =VLOOKUP(A3,Sheet2!A:C,3,0) -> XAZAR RAY. BINE QESEBESI ELI ISAZADE KUCH.5 | C3: =VLOOKUP(A3,Sheet2!A:D,4,0) -> BAKI SH. XAZAR RAY. BINE QESEBESI ELI ISAZADE KUCH.5 ARAZ MARKET
A4: A0100021 | B4: =VLOOKUP(A4,Sheet2!A:C,3,0) -> XAZAR RAY. QALA QES. SULH KUCH.36 | C4: =VLOOKUP(A4,Sheet2!A:D,4,0) -> BAKI SH. XAZAR RAY. QALA QES. SULH KUCH.36 MARKET
A5: A0100023 | B5: =VLOOKUP(A5,Sheet2!A:C,3,0) -> XAZAR RAY. TURKAN QES. XANLAR KUCH. OBA MARKET | C5: =VLOOKUP(A5,Sheet2!A:D,4,0) -> XAZAR RAY. TURKAN QES. XANLAR KUCH. OBA MARKET
A6: A0100030 | B6: =VLOOKUP(A6,Sheet2!A:C,3,0) -> QARADAG RAYONU SENGECAL | C6: =VLOOKUP(A6,Sheet2!A:D,4,0) -> BAKI SH. QARADAG RAYONU SENGECAL
A7: A0100035 | B7: =VLOOKUP(A7,Sheet2!A:C,3,0) -> SABUNCHU RAY. BALAXANI QES. M.A.SABIR KUCH.1 MERKEZ | C7: =VLOOKUP(A7,Sheet2!A:D,4,0) -> BAKI SH. SABUNCHU RAY. BALAXANI QES. M.A.SABIR KUCH.1 MERKEZ
A8: A0100041 | B8: =VLOOKUP(A8,Sheet2!A:C,3,0) -> NESIMI RAY. 20 YANVAR KUCH.40B | C8: =VLOOKUP(A8,Sheet2!A:D,4,0) -> BAKIS H. NESIMI RAY. 20 YANVAR KUCH. 19A OBA MARKET
A9: A0100045 | B9: =VLOOKUP(A9,Sheet2!A:C,3,0) -> ABSHERON RAY. CEYRANBATAN QES. HEYDER ELIYEV KUCH. 1 ARAZ MARKET | C9: =VLOOKUP(A9,Sheet2!A:D,4,0) -> ABSHERON RAY. CEYRANBATAN QES. HEYDER ELIYEV KUCH. 1 ARAZ MARKET
A10: A0100046 | B10: =VLOOKUP(A10,Sheet2!A:C,3,0) -> SURAXANI RAY.Y.GUNESHLI QES.D MASSIVI 12-CI BIN.ARXASI | C10: =VLOOKUP(A10,Sheet2!A:D,4,0) -> BAKI SH/ SURAXANI RAY.Y.GUNESHLI QES.D MASSIVI 12-CI BIN.ARXASI BALLI MARKET
A11: A0100057 | B11: =VLOOKUP(A11,Sheet2!A:C,3,0) -> BAKI SH. SUMQAYIT SH. 3-CU MKR. SULH KUCH. 33D FERHAD FERHADLI BRANCH1 | C11: =VLOOKUP(A11,Sheet2!A:D,4,0) -> BAKI SH. SUMQAYIT SH. 3-CU MKR. SULH KUCH. 33D FERHAD FERHADLI BRANCH1
A12: A0100060 | B12: =VLOOKUP(A12,Sheet2!A:C,3,0) -> SURAXANI RAY. HOVSAN QES. E.QASIMOV KUCH.15A | C12: =VLOOKUP(A12,Sheet2!A:D,4,0) -> BAKI SH. SURAXANI RAY. HOVSAN QES. E.QASIMOV KUCH.15A BALLI MARKET
... A232: A0100502 | B232: =VLOOKUP(A232,Sheet2!A:C,3,0) -> BAKI SH. YASAMAL RAY. GENERAL AKIM ABBASOV KUCH. 73E | C232: =VLOOKUP(A232,Sheet2!A:D,4,0) -> EMBAFINANS

Sheet PASHA Bank Filial ATM cash in
A1: A0100257 | B1: BAKI SH. YUSIF MAMMADALIYEV KUCH. 13 PASHABANK HEAD OFICE 2 PB BRANCH | C1: BAKI SH. YUSIF MAMMADALIYEV KUCH. 13 HEAD OFICE 2 PB BRANCH
A2: A0100298 | B2: BAKI SH. NESIMI RAY. NEFCHILER PR. 153 | C2: BAKI SH. NESIMI RAY. NEFCHILER PR. 153 PB PORT BAKU 2
A3: A0100300 | B3: BAKI SH. YUSIF MAMMADALIYEV KUCH. 13 | C3: BAKI SH. YUSIF MAMMADALIYEV KUCH. 13 PB HEAD OFFICE
A4: A0100307 | B4: BAKI SH. NIZAMI KUCH.96E LAND MARK | C4: BAKI SH. NIZAMI KUCH.96E LAND MARK
A5: A0166027 | B5: XURSUDBANU NATAVAN 15 | C5: XURSUDBANU NATAVAN 15 PASHA BANK QUBA FILIALI
A6: A0100414 | B6: BAKI SH. NESIMI RAY. BAKIXANOV KUCH. 24 PB BRIDGE PLAZA | C6: BAKI SH. NESIMI RAY. BAKIXANOV KUCH. 24 PB BRIDGE PLAZA
A7: A0100295 | B7: BAKI SH. QARADAG RAY. SEDEREK TICARET MERKEZI PASHA BANK FILIAL | C7: BAKI SH. QARADAG RAY. SEDEREK TICARET MERKEZI PASHA BANK FILIAL

Sheet Sheet2
A1: A0100003 | B1: ATM03 KAP(100) ARAZ MARKET (XIRDALAN) | C1: ABSHERON RAY. XIRDALAN SHEH.28MEHELLE M.HUSEYNZADE KUCH.7 | D1: ABSHERON RAY. XIRDALAN SHEH.28MEHELLE M.HUSEYNZADE KUCH.7 ARAZ MARKET
A2: A0100004 | B2: ATM04 KAP(100) XIRDALAN BRANCH1 | C2: XIRDALAN SH. H.ELIYEV PR. 31 MEHELLE EV 3 XIRDALAN BRANCH1 | D2: XIRDALAN SH. H.ELIYEV PR. 31 MEHELLE EV 3 XIRDALAN BRANCH1
A3: A0100005 | B3: ATM05 KAP(100) YENI RAMANI PETEK | C3: BAKI SH. RAMANI QES. SHUSHA SHEHERCIYI | D3: BAKI SH. RAMANI QES. SHUSHA SHEHERCIYI PETEK MARKET
A4: A0100006 | B4: ATM06 KAP(100) AZERNESHRIYYAT (G) | C4: YASAMAL RAY. METBUAT PR.529-CU MEHELLE | D4: BAKI SH. YASAMAL RAY. METBUAT PR.529-CU MEHELLE AZERBAYCAN NESHRIYYATI
A5: A0100007 | B5: ATM07 KAP(100) ZIRE QES. C.ELIYEV KUCH. | C5: XAZAR RAY. ZIRE QES. C.ELIYEV KUCH. | D5: BAKI SH. XAZAR RAY. ZIRE QES. C.ELIYEV KUCH. MARKET
A6: A0100008 | B6: ATM08 KAP(100) BASH OFIS 1 | C6: NESIMI RAY. FUZULI KUCH.71 | D6: BAKI SH. NESIMI RAY. FUZULI KUCH.71 KAPITAL BANK BASH OFIS 1
A7: A0100009 | B7: ATM09 KAP(100) BASH OFIS 2 | C7: NESIMI RAY. FUZULI KUCH.71 | D7: BAKI SH. NESIMI RAY. FUZULI KUCH.71 KAPITAL BANK BASH OFIS 2
A8: A0100010 | B8: ATM10 KAP(100) KOROGLU M/S (G) | C8: NIZAMI RAY. KOROGLU METRO STANSIYASI | D8: BAKI SH. NIZAMI RAY. KOROGLU METRO STANSIYASI KOROGLU METRO STANSIYASI
A9: A0100011 | B9: ATM11 KAP(100) BASH OFIS 3 | C9: NESIMI RAY. FUZULI KUCH.71 | D9: BAKI SH. NESIMI RAY. FUZULI KUCH.71 KAPITAL BANK BASH OFIS 3
A10: A0100012 | B10: ATM12 KAP(100) XAZAR BRANCH1 | C10: BAKI SH. XAZAR RAY. SHUVALAN QES. A.ILDIRIM KUCH.16 XAZAR BRANCH1 | D10: BAKI SH. XAZAR RAY. SHUVALAN QES. A.ILDIRIM KUCH.16 XAZAR BRANCH1
A11: A0100013 | B11: ATM13 KAP(100) ZIRE-PIRALLAHI YOLU | C11: XAZAR RAY. ZIRE-PIRALLAHI YOLU | D11: BAKI SH. XAZAR RAY. ZIRE-PIRALLAHI YOLU MARKET ZIRE-PIRALLAHI YOLU
A12: A0100014 | B12: ATM14 KAP(100) 28 MALL 1-CI MERTEBE | C12: NESIMI RAY. FUZULI KUCH.ILE AZADLIQ PR.KESISHME | D12: BAKI SH. NESIMI RAY. FUZULI KUCH.ILE AZADLIQ PR.KESISHME 28 MALL 1-CI MERTEBE
... A1074: A0182040 | B1074: ATM40 KAP(182) TOVUZ CERDAXAN BROMART | C1074: TOVUZ RAY. CERDAXAN KENDI BROMART | D1074: BROMART
